{"text_format":"1","workbook":"xlsx","n_sheets":42,"sheets":["Cover","Marketplace","RE Index | Ranking inputs","RE Index | Results Summary","Antigua_Barbuda","Bahamas","Barbados","Belize","Bermuda","Bonaire","Cayman_Islands","Curacao","Dominica","Dominican_Republic","Grenada","Guadeloupe","Haiti","Jamaica","Montserrat","Nevis","St_Kitts","St_Lucia","Turks_and_Caicos","St_Vincent_Grenadines","Suriname","Trinidad_Tobago","2019 Response Template","USVI","Anguilla","Aruba","BVI","Cuba","Guyana","Martinique","Puerto_Rico","Saint_Martin","Sint_Marteen","Jurisdictions | Generation","Jurisdictions | RE targets","Market. | Juris capex&capacity","Capex by RE tech","Graphics"],"not_rendered":{"charts":3,"images":3,"macros":1,"external_links":1,"defined_names":3,"comments":35,"pivot_tables":0},"unopened":[],"bounds":{"document_bytes":16777216,"sheet_cells":100000,"rows_first":2000,"rows_last":500,"rows_between":2000,"halvings":0,"cell_chars":16384,"cell_head_chars":4096},"cells_cut":0,"cells_raw":0,"read":"whole","date_system":"1900"}

{"sheet":"Cover","index":0,"n_rows":12,"n_cols":2,"rows_kept":12,"cut":false,"hidden":false,"merged":[]}
[]
[]
[]
[]
[]
[]
[]
["CREF-Castalia RE Island Ranking and RE Marketplace"]
["Year Presented",2019]
["Author","Castalia Advisors"]
["Last Updated","2019-10-16"]
["Website","www.castalia-advisors.com"]

{"sheet":"Marketplace","index":1,"n_rows":423,"n_cols":39,"rows_kept":423,"cut":false,"hidden":false,"merged":[]}
[null,"Project Number","Jurisdiction","Project Name","City or Province","Project Developer","Technology Type","Number of Projects (GU)","Scenario","Distributed or Utility","Status","Project Developer","Project Offtaker","Capacity (KW)","System Units","Size Per Unit","Generation","Generation Actual","Generation Reported Estimate","Generation Technology Estimate","Capacity Factor","Capacity Factor Actual","Capacity Factor Reported Estimate","Capacity Factor Technology Estimate","CAPEX","CAPEX Actual","CAPEX Reported Estimate","CAPEX Technology Estimate","CAPEX/kW","Fuel Cost","LRMC","Commercial Operation Date","Commercial Operation Date (Actual)","Additional Notes","Date Updated","Status"]
[{"$f":"H2","v":1},"P0001","Anguilla",null,"Rendezvous Bay","Inovateus Solar","Solar PV",1,{"$f":"IF(K2=\"Planned\",\"3.0\",IF(AG2<DATE(2009,12,31),\"1.0\",IF(AND(AG2>=DATE(2010,1,1)+0,AG2<=DATE(2012,12,31)),\"1.0\",IF(AND(AG2>=DATE(2013,1,1),AG2<=DATE(2015,12,31)),\"2.0\",IF(AG2>=DATE(2016,1,1),\"3.0\",\"\")))))","v":"1.0"},"Distributed","Operational","Inovateus Solar","CuisinArt Golf and Resort Spa ",1000,3322,{"$f":"N2/O2","v":0.30102347983142685},{"$f":"IF(ISNUMBER(R2),R2,IF(ISNUMBER(S2),S2, IF(ISNUMBER(T2), T2,\"NA\")))","v":1850},1850,null,{"$f":" (N2 * 8760 * U2)/1000","v":1850},{"$f":"IF(AND(V2=\"NA\",ISBLANK(W2)),X2,IF(V2<>\"NA\",V2,IF(ISNUMBER(W2),W2,X2)))","v":0.21118721461187215},{"$f":"IF(OR(ISBLANK(N2),ISBLANK(R2)),\"NA\",(R2*1000)/(N2*8760))","v":0.21118721461187215},null,0.254,{"$f":" IF(ISNUMBER(Z2), Z2,IF(ISNUMBER(AA2),AA2,IF(ISNUMBER(AB2), AB2, \"NA\")))","v":2578000},null,null,2578000,{"$f":" IF(AND(ISNUMBER(N2), ISNUMBER(Y2)),Y2/N2,\"NA\")","v":2578},null,{"$f":"SUM(AD2:AD2)","v":0},{"$f":"IF(ISNUMBER(AG2),AG2,IF(ISNUMBER(AH2),AH2,\"NA\"))","v":2014},2014,"In operation","2017-08-03"]
[{"$f":"H3","v":1},"P0002","Anguilla",null,"Corito","Anguilla Electricity Company Limited (ANGLEC)","Solar PV",1,null,"Utility/IPP","Out","Anguilla Electricity Company Limited (ANGLEC)","Anguilla Electricity Company Limited (ANGLEC)",1000,4452,{"$f":"N3/O3","v":0.22461814914645103},2233.8000000000002,null,null,2233.8000000000002,{"$f":"IF(AND(V3=\"NA\",ISBLANK(W3)),X3,IF(V3<>\"NA\",V3,IF(ISNUMBER(W3),W3,X3)))","v":0.255},"NA",null,0.255,2341000,null,2341000,2578000,{"$f":" IF(AND(ISNUMBER(N3), ISNUMBER(Y3)),Y3/N3,\"NA\")","v":2341},null,0,2016,2016,"Solar farm Corito was destroyed by Hurricane. Has been seeking developer to rebuild","2019-08-06","Confident"]
[{"$f":"H4","v":1},null,"Anguilla",null,"Meads Bay",null,"Solar PV",1,null,"Distributed","Operational",null,"Frangipani Beach Resort",350,null,null,705.18,null,null,705.18,{"$f":"IF(AND(V4=\"NA\",ISBLANK(W4)),X4,IF(V4<>\"NA\",V4,IF(ISNUMBER(W4),W4,X4)))","v":0.23},"NA",null,{"$f":"IF(OR(K4=\"Under development\",K4=\"Planned\"),VLOOKUP(G4,'Capex by RE tech'!$A$4:$D$18,4,TRUE),IF(AND(K4=\"Operational\",G4=\"Solar PV\"),VLOOKUP(AG4,'Capex by RE tech'!$C$11:$D$13,2,TRUE),IF(AND(K4=\"Operational\",G4=\"Wind\"),VLOOKUP(AG4,'Capex by RE tech'!$C$17:$D$19,2,TRUE),IF(AND(K4=\"Operational\",G4=\"Biomass\"),VLOOKUP(AG4,'Capex by RE tech'!$C$2:$D$4,2,TRUE),IF(AND(K4=\"Operational\",G4=\"Geothermal\"),VLOOKUP(AG4,'Capex by RE tech'!$C$2:$D$4,2,TRUE),IF(AND(K4=\"Operational\",G4=\"Hydro\"),VLOOKUP(AG4,'Capex by RE tech'!$C$8:$D$10,2,TRUE),IF(AND(K4=\"Operational\",G4=\"Waste-to-Energy\"),VLOOKUP(AG4,'Capex by RE tech'!$C$14:$D$16,2,TRUE),IF(AND(K4=\"Operational\",AG4<2010),VLOOKUP(G4,'Capex by RE tech'!$A$2:$D$19,4,FALSE),NA))))))))","v":0.23},507500,null,null,{"$f":"AC4*N4","v":507500},{"$f":"VLOOKUP(G4,'Capex by RE tech'!$A$2:$F$19,6,TRUE)","v":1450},null,0,2019,2019,"Will power 70% of resort","2019-08-06","Confident"]
[1,"P0003","Antigua & Barbuda",null,"TBD","PV Energy Limited ","Solar PV",2,null,"Utility/IPP","Planned","PV Energy Limited ","Antigua Public Utilities Authority (APUA)",7000,null,null,10885,null,null,10885,{"$f":" U6","v":0.17751141552511415},"NA",null,0.254,14322786.705260007,null,{"$f":" 20500000 * N5/(N6+N5)","v":14322786.705260007},null,{"$f":" IF(AND(ISNUMBER(N5), ISNUMBER(Y5)),Y5/N5,\"NA\")","v":2046.1123864657152},null,0,"NA",null,"Agreement for remaining  7MW reached in 2018. ADFD issued US$15 million loan for solar/wind generation project. Project's first phase will have capacity of 10 MW, expanding to 25 MW in later phases.  ","2019-08-07","Confident"]
[{"$f":"H6","v":1},"P0003","Antigua & Barbuda",null,"Osbourn","PV Energy Limited ","Solar PV",1,{"$f":"IF(K6=\"Planned\",\"3.0\",IF(AG6<DATE(2009,12,31),\"1.0\",IF(AND(AG6>=DATE(2010,1,1)+0,AG6<=DATE(2012,12,31)),\"1.0\",IF(AND(AG6>=DATE(2013,1,1),AG6<=DATE(2015,12,31)),\"2.0\",IF(AG6>=DATE(2016,1,1),\"3.0\",\"\")))))","v":"1.0"},"Utility/IPP","Operational","PV Energy Limited ","Antigua Public Utilities Authority (APUA)",3019,12000,{"$f":"N6/O6","v":0.25158333333333333},4665,null,4665,4694.5450000000001,{"$f":"IF(AND(V6=\"NA\",ISBLANK(W6)),X6,IF(V6<>\"NA\",V6,IF(ISNUMBER(W6),W6,X6)))","v":0.17751141552511415},"NA",{"$f":" S6/(3 * 8760)","v":0.17751141552511415},0.254,6177213.2947399942,null,{"$f":" 20500000 * N6/(N6+N5)","v":6177213.2947399942},7782982,2046.1123864657152,null,0,2016,2016,null,"2019-08-07","Confident"]
[1,"P0004","Antigua & Barbuda",null,null,"Gearing Up Limited (GUL)","Solar PV",1,{"$f":"IF(K7=\"Planned\",\"3.0\",IF(AG7<DATE(2009,12,31),\"1.0\",IF(AND(AG7>=DATE(2010,1,1)+0,AG7<=DATE(2012,12,31)),\"1.0\",IF(AND(AG7>=DATE(2013,1,1),AG7<=DATE(2015,12,31)),\"2.0\",IF(AG7>=DATE(2016,1,1),\"3.0\",\"\")))))","v":"1.0"},"Distributed","Operational","Gearing Up Limited (GUL)","Shirley Heights Lookout",6,null,null,10.512,10.512,null,10.512,0.2,0.2,null,0.254,15468,null,null,15468,2578,null,0,2013,2013,"Provides Solar PV  for premier tourist locale. ","2017-08-03"]
[1,"P0005","Antigua & Barbuda",null,null,null,"Solar PV",1,{"$f":"IF(K8=\"Planned\",\"3.0\",IF(AG8<DATE(2009,12,31),\"1.0\",IF(AND(AG8>=DATE(2010,1,1)+0,AG8<=DATE(2012,12,31)),\"1.0\",IF(AND(AG8>=DATE(2013,1,1),AG8<=DATE(2015,12,31)),\"2.0\",IF(AG8>=DATE(2016,1,1),\"3.0\",\"\")))))","v":"1.0"},"Distributed","Operational",null,"Antigua Public Utilities Authority (APUA)",150,600,{"$f":"N8/O8","v":0.25},229.9,229.9,null,229.89999999999998,0.17496194824961947,0.17496194824961947,null,0.254,386700,null,null,386700,2578,null,0,"NA",null,null,"2017-08-03"]
[1,"P0006","Antigua & Barbuda",null,"Jumby Bay","PV Energy Limited","Solar PV",1,{"$f":"IF(K9=\"Planned\",\"3.0\",IF(AG9<DATE(2009,12,31),\"1.0\",IF(AND(AG9>=DATE(2010,1,1)+0,AG9<=DATE(2012,12,31)),\"1.0\",IF(AND(AG9>=DATE(2013,1,1),AG9<=DATE(2015,12,31)),\"2.0\",IF(AG9>=DATE(2016,1,1),\"3.0\",\"\")))))","v":"1.0"},"Distributed","Operational","PV Energy Limited",null,404,11,{"$f":"N9/O9","v":36.727272727272727},626,626,null,626,0.17688412676884127,0.17688412676884127,null,0.254,1041512,null,null,1041512,2578,null,0,2017,2017,"11 solar installations on the small private island Jumby Bay in the north of Antigua by the renewable energy provider PV Energy Limited. ","2017-08-03"]
[1,null,"Antigua & Barbuda",null,null,"GreenTech Solar","Solar PV",1,null,"Distributed","Planned","GreenTech Solar","Government buildings, hospitals, schools",10000,null,null,20148,null,null,20148,0.23,"NA",null,{"$f":"IF(OR(K10=\"Under development\",K10=\"Planned\"),VLOOKUP(G10,'Capex by RE tech'!$A$4:$D$18,4,TRUE),IF(AND(K10=\"Operational\",G10=\"Solar PV\"),VLOOKUP(AG10,'Capex by RE tech'!$C$11:$D$13,2,TRUE),IF(AND(K10=\"Operational\",G10=\"Wind\"),VLOOKUP(AG10,'Capex by RE tech'!$C$17:$D$19,2,TRUE),IF(AND(K10=\"Operational\",G10=\"Biomass\"),VLOOKUP(AG10,'Capex by RE tech'!$C$2:$D$4,2,TRUE),IF(AND(K10=\"Operational\",G10=\"Geothermal\"),VLOOKUP(AG10,'Capex by RE tech'!$C$2:$D$4,2,TRUE),IF(AND(K10=\"Operational\",G10=\"Hydro\"),VLOOKUP(AG10,'Capex by RE tech'!$C$8:$D$10,2,TRUE),IF(AND(K10=\"Operational\",G10=\"Waste-to-Energy\"),VLOOKUP(AG10,'Capex by RE tech'!$C$14:$D$16,2,TRUE),IF(AND(K10=\"Operational\",AG10<2010),VLOOKUP(G10,'Capex by RE tech'!$A$2:$D$19,4,FALSE),NA))))))))","v":0.23},20000000,null,20000000,null,2000,null,0,"NA",null,"Retroactively fitting gov't buildings, hospitals, schools, car parks with wind and solar","2019-08-07","Confident"]
[1,"P0008","Aruba"," Sunrise Solar Park","San Nicolas","Water- en Energiebedrijf Arbua N.V (WEB Aruba)","Solar PV",1,null,"Utility/IPP","Under development","Water- en Energiebedrijf Arbua N.V (WEB Aruba)","Water- en Energiebedrijf Arbua N.V (WEB Aruba)",5900,null,null,11800,null,null,11800,0.22831050228310501,"NA",{"$f":" W12","v":0.22831050228310501},0.254,8900000,null,8900000,null,1508.4745762711864,0,0,"NA",null,"Project is a part of the island's \"Aruba Renewable Energy Strategy\" (ARES). Solar Project Launches","2019-08-05","Confident"]
[1,"P0010","Aruba","Reina Beatrix International Airport Solar Park","Oranjestad","Pfixx Solar System","Solar PV",1,{"$f":"IF(K12=\"Planned\",\"3.0\",IF(AG12<DATE(2009,12,31),\"1.0\",IF(AND(AG12>=DATE(2010,1,1)+0,AG12<=DATE(2012,12,31)),\"1.0\",IF(AND(AG12>=DATE(2013,1,1),AG12<=DATE(2015,12,31)),\"2.0\",IF(AG12>=DATE(2016,1,1),\"3.0\",\"\")))))","v":"1.0"},"Utility/IPP","Operational","Pfixx Solar System","N.V. Electriciteit-Maatschappij Aruba (NV Elmar)",3474,13896,{"$f":"N12/O12","v":0.25},6000,null,{"$f":" 6000","v":6000},6948,0.22831050228310501,"NA",{"$f":" S12/(3 * 8760)","v":0.22831050228310501},0.254,8955972,null,null,8955972,2578,null,0,2017,2017,"Project operational since May 23rd 2017","2018-07-18","Confident"]
[0,"P0009","Aruba",null,null,"Carbon War Room, TNO, and Utilities Aruba NV","Solar PV","Various",{"$f":"IF(K13=\"Planned\",\"3.0\",IF(AG13<DATE(2009,12,31),\"1.0\",IF(AND(AG13>=DATE(2010,1,1)+0,AG13<=DATE(2012,12,31)),\"1.0\",IF(AND(AG13>=DATE(2013,1,1),AG13<=DATE(2015,12,31)),\"2.0\",IF(AG13>=DATE(2016,1,1),\"3.0\",\"\")))))","v":"1.0"},"Distributed","Operational","Carbon War Room, TNO, and Utilities Aruba NV","WEB Aruba & NV Elmar",4000,null,null,8900.16,null,null,8900.16,0.254,"NA",null,0.254,10312000,null,null,10312000,2578,0,0,2015,2015,"Solar panels are spread out over school rooftops. ","2017-08-03"]
[{"$f":"H14","v":1},"P0011","Aruba",null,"Oranjestad","Ecological Technologies ","Waste-to-Energy",1,{"$f":"IF(K14=\"Planned\",\"3.0\",IF(AG14<DATE(2009,12,31),\"1.0\",IF(AND(AG14>=DATE(2010,1,1)+0,AG14<=DATE(2012,12,31)),\"1.0\",IF(AND(AG14>=DATE(2013,1,1),AG14<=DATE(2015,12,31)),\"2.0\",IF(AG14>=DATE(2016,1,1),\"3.0\",\"\")))))","v":"1.0"},"Utility/IPP","Operational","Ecological Technologies ","Water- en Energiebedrijf Arbua N.V (WEB Aruba)",2000,null,null,12322.399999999998,null,null,12322.399999999998,0.70333333333333325,"NA",null,0.70333333333333325,6000000,null,null,{"$f":" 3000 * N14","v":6000000},3000,null,0,2015,2015,null,"2018-07-18","Confident"]
[2,"P0007","Aruba",null,"San Nicolas","NuCapital & Vestas Benelux B.V.","Wind",2,{"$f":"IF(K15=\"Planned\",\"3.0\",IF(AG15<DATE(2009,12,31),\"1.0\",IF(AND(AG15>=DATE(2010,1,1)+0,AG15<=DATE(2012,12,31)),\"1.0\",IF(AND(AG15>=DATE(2013,1,1),AG15<=DATE(2015,12,31)),\"2.0\",IF(AG15>=DATE(2016,1,1),\"3.0\",\"\")))))","v":"1.0"},"Utility/IPP","Operational","NuCapital & Vestas Benelux B.V.","Water- en Energiebedrijf Arbua N.V (WEB Aruba)",30000,10,{"$f":"N15/O15","v":3000},128700,null,128700,165564,0.63,"NA",0.63,0.46,75000000,null,75000000,47270000,2500,0,0,2009,2009,null,"2018-07-18","Confident"]
[1,2018,"Aruba",null,null,"Pfixx Solar System","Solar PV",1,{"$f":"IF(K16=\"Planned\",\"3.0\",IF(AG16<DATE(2009,12,31),\"1.0\",IF(AND(AG16>=DATE(2010,1,1)+0,AG16<=DATE(2012,12,31)),\"1.0\",IF(AND(AG16>=DATE(2013,1,1),AG16<=DATE(2015,12,31)),\"2.0\",IF(AG16>=DATE(2016,1,1),\"3.0\",\"\")))))","v":"1.0"},"Distributed","Operational","Pfixx Solar System","St. Michael Paviljoen Elderly",20,null,null,30.66,null,30.66,30.659999999999997,0.17499999999999999,"NA",0.17499999999999999,0.254,50000,null,50000,51560,2500,null,0,"NA",null,"PV system will power elderly home's cooling system.","2017-08-03"]
[1,null,"Aruba","Microgrid",null,"ABB","Microgrid",1,null,null,"Planned","ABB",null,null,null,null,0,null,null,0,0,null,null,{"$f":"IF(OR(K17=\"Under development\",K17=\"Planned\"),VLOOKUP(G17,'Capex by RE tech'!$A$4:$D$18,4,TRUE),IF(AND(K17=\"Operational\",G17=\"Solar PV\"),VLOOKUP(AG17,'Capex by RE tech'!$C$11:$D$13,2,TRUE),IF(AND(K17=\"Operational\",G17=\"Wind\"),VLOOKUP(AG17,'Capex by RE tech'!$C$17:$D$19,2,TRUE),IF(AND(K17=\"Operational\",G17=\"Biomass\"),VLOOKUP(AG17,'Capex by RE tech'!$C$2:$D$4,2,TRUE),IF(AND(K17=\"Operational\",G17=\"Geothermal\"),VLOOKUP(AG17,'Capex by RE tech'!$C$2:$D$4,2,TRUE),IF(AND(K17=\"Operational\",G17=\"Hydro\"),VLOOKUP(AG17,'Capex by RE tech'!$C$8:$D$10,2,TRUE),IF(AND(K17=\"Operational\",G17=\"Waste-to-Energy\"),VLOOKUP(AG17,'Capex by RE tech'!$C$14:$D$16,2,TRUE),IF(AND(K17=\"Operational\",AG17<2010),VLOOKUP(G17,'Capex by RE tech'!$A$2:$D$19,4,FALSE),NA))))))))","v":0.40600000000000003},0,null,null,{"$f":"AC17*N17","v":0},{"$f":"VLOOKUP(G17,'Capex by RE tech'!$A$2:$F$19,6,TRUE)","v":2813},null,null,null,null,null,"2019-08-07","Not confident"]
[1,null,"Barbados",null,"Lamberts, St. Lucy","Barbados Light and Power Company Ltd. (BL&P)","Wind",1,null,"Utility/IPP","Planned","Barbados Light and Power Company Ltd. (BL&P)","Barbados Light and Power Company Ltd. (BL&P)",10000,11,{"$f":"N18/O18","v":909.09090909090912},40296,null,null,40296,0.46,{"$f":"IF(OR(ISBLANK(N18),ISBLANK(R18)),\"NA\",(R18*1000)/(N18*8760))","v":"NA"},null,0.46,15756666.666666668,null,null,15756666.666666668,{"$f":" IF(AND(ISNUMBER(N18), ISNUMBER(Y18)),Y18/N18,\"NA\")","v":1575.6666666666667},null,{"$f":"SUM(AD18:AD18)","v":0},null,null,"Plans to develop it, as of 2018 still in the works, appear to be problems with land lease. ","2019-08-05","Confident"]
[1,"P0018","Barbados","Trents PV","Trent, St. Lucy","Barbados Light and Power Company Ltd. (BL&P)","Solar PV",1,{"$f":"IF(K19=\"Planned\",\"3.0\",IF(AG19<DATE(2009,12,31),\"1.0\",IF(AND(AG19>=DATE(2010,1,1)+0,AG19<=DATE(2012,12,31)),\"1.0\",IF(AND(AG19>=DATE(2013,1,1),AG19<=DATE(2015,12,31)),\"2.0\",IF(AG19>=DATE(2016,1,1),\"3.0\",\"\")))))","v":"1.0"},"Utility/IPP","Operational","Barbados Light and Power Company Ltd. (BL&P)","Barbados Light and Power Company Ltd. (BL&P)",10000,44496,{"$f":"N19/O19","v":0.22473930240920531},20200,null,20200,17520,0.2,"NA",0.2,0.254,21500000,21500000,null,25780000,2150,null,0,{"$f":"IF(ISNUMBER(AG19),AG19,IF(ISNUMBER(AH19),AH19,\"NA\"))","v":2016},2016,"The Barbados Light & Power (BL&P) solar farm in Trents, St Lucy, is saving the country an estimated $10 million a year.","2019-09-17","Confident"]
[1,"P0019","Barbados",null,null,"Williams Solar","Solar PV",1,"1.0","Distributed","Operational","Williams Solar","Armstrong Agencies Ltd. ",62.68,null,null,139.46550720000002,null,null,139.46550720000002,0.254,"NA",null,0.254,161589.04,null,null,161589.04,2578,null,0,2012,2012,"Commissioned 10/11/12. System comprised of 246 x 256 W solar panels. ","2017-08-03"]
[1,"P0020","Barbados",null,"St. Thomas",null,"Solar PV",1,"1.0","Distributed","Operational",null,"Footprint Environmental",60.1,null,null,133.72490400000001,null,"1,561 ",133.72490400000001,0.254,"NA",null,0.254,154937.80000000002,null,null,154937.80000000002,2578.0000000000005,null,0,2010,2010,"Premier tourist attraction utilizing PV system to power lighting. ","2017-08-03"]
[1,"P0021","Barbados",null,null,null,"Solar PV",1,"1.0","Distributed","Operational",null,null,11.1,null,null,24.697944,null,null,24.697944,0.254,"NA",null,0.254,28615.8,null,null,28615.8,2578,null,0,2001,2001,"In 2001, solar PV installed to power a solar icemaker for fishers.","2017-08-03"]
[1,"P0022","Barbados",null,null,null,"Solar PV",1,"1.0","Distributed","Operational",null,"Combermere School ",3,null,null,6.6751199999999997,null,null,6.6751199999999997,0.254,"NA",null,0.254,7734,null,null,7734,2578,null,0,2001,2001,"School uses solar PV to power computer laboratory. ","2017-08-03"]
[1,"P0023","Barbados",null,null,null,"Solar PV",1,"1.0","Distributed","Operational",null,null,2,null,null,4.4500799999999998,null,null,4.4500799999999998,0.254,"NA",null,0.254,5156,null,null,5156,2578,null,0,2001,2001,"Building relies on solar PV to operate lighting and provide emergency power. ","2017-08-03"]
[1,"P0024","Barbados",null,null,null,"Solar PV",1,"1.0","Distributed","Operational",null,null,1.1000000000000001,null,null,2.4475439999999997,null,null,2.4475439999999997,0.254,"NA",null,0.254,2835.8,null,null,2835.8,2578,null,0,2001,2001,"UWI first university outside the US to get EBSCO solar grant","2017-08-03"]
[1,"P0025","Barbados",null,null,null,"Wind",1,"1.0","Distributed","Operational",null,null,20,null,null,80.591999999999999,null,null,80.591999999999999,0.46,"NA",null,0.46,31513.333333333336,null,null,31513.333333333336,1575.6666666666667,null,0,2016,2016,"U.S. Embassy Bridgetown Installs Wind Turbin","2017-08-03"]
[1,null,"Barbados","Part of Public Sector Smart Energy Programme","Bridgetown","Solar Watt Systems ","Solar PV",1,"1.0","Distributed","Operational","Solar Watt Systems ","Samuel Jackman Prescod Institute of Technology",109,null,null,219.61320000000001,null,null,219.61320000000001,0.23,"NA",null,{"$f":"IF(OR(K27=\"Under development\",K27=\"Planned\"),VLOOKUP(G27,'Capex by RE tech'!$A$4:$D$18,4,TRUE),IF(AND(K27=\"Operational\",G27=\"Solar PV\"),VLOOKUP(AG27,'Capex by RE tech'!$C$11:$D$13,2,TRUE),IF(AND(K27=\"Operational\",G27=\"Wind\"),VLOOKUP(AG27,'Capex by RE tech'!$C$17:$D$19,2,TRUE),IF(AND(K27=\"Operational\",G27=\"Biomass\"),VLOOKUP(AG27,'Capex by RE tech'!$C$2:$D$4,2,TRUE),IF(AND(K27=\"Operational\",G27=\"Geothermal\"),VLOOKUP(AG27,'Capex by RE tech'!$C$2:$D$4,2,TRUE),IF(AND(K27=\"Operational\",G27=\"Hydro\"),VLOOKUP(AG27,'Capex by RE tech'!$C$8:$D$10,2,TRUE),IF(AND(K27=\"Operational\",G27=\"Waste-to-Energy\"),VLOOKUP(AG27,'Capex by RE tech'!$C$14:$D$16,2,TRUE),IF(AND(K27=\"Operational\",AG27<2010),VLOOKUP(G27,'Capex by RE tech'!$A$2:$D$19,4,FALSE),NA))))))))","v":0.23},158050,null,null,{"$f":"AC27*N27","v":158050},{"$f":"VLOOKUP(G27,'Capex by RE tech'!$A$2:$F$19,6,TRUE)","v":1450},null,0,2019,2019,"This row is for 1 of the 16 public buildings as part of the Public Sector Smart Energy Programme funded through IDB and EU grants (USD 17 million and EUR 5.8 million respectively) ","2019-08-08","Confident"]
[4,null,"Barbados","Part of Public Sector Smart Energy Programme",null,null,"Solar PV",4,null,"Distributed","Operational",null,"Bayley's Primary School, St. Catherine's Primary School, Selah Primary School, Half Moon Fort Primary School",70,null,null,141.036,null,null,141.036,0.23,"NA",null,{"$f":"IF(OR(K28=\"Under development\",K28=\"Planned\"),VLOOKUP(G28,'Capex by RE tech'!$A$4:$D$18,4,TRUE),IF(AND(K28=\"Operational\",G28=\"Solar PV\"),VLOOKUP(AG28,'Capex by RE tech'!$C$11:$D$13,2,TRUE),IF(AND(K28=\"Operational\",G28=\"Wind\"),VLOOKUP(AG28,'Capex by RE tech'!$C$17:$D$19,2,TRUE),IF(AND(K28=\"Operational\",G28=\"Biomass\"),VLOOKUP(AG28,'Capex by RE tech'!$C$2:$D$4,2,TRUE),IF(AND(K28=\"Operational\",G28=\"Geothermal\"),VLOOKUP(AG28,'Capex by RE tech'!$C$2:$D$4,2,TRUE),IF(AND(K28=\"Operational\",G28=\"Hydro\"),VLOOKUP(AG28,'Capex by RE tech'!$C$8:$D$10,2,TRUE),IF(AND(K28=\"Operational\",G28=\"Waste-to-Energy\"),VLOOKUP(AG28,'Capex by RE tech'!$C$14:$D$16,2,TRUE),IF(AND(K28=\"Operational\",AG28<2010),VLOOKUP(G28,'Capex by RE tech'!$A$2:$D$19,4,FALSE),NA))))))))","v":0.23},101500,null,null,101500,{"$f":"VLOOKUP(G28,'Capex by RE tech'!$A$2:$F$19,6,TRUE)","v":1450},null,0,2018,2018,"This row refers to retrofitted rooftops of elemenatry schools as part of the Public Sector Smart Energy Programme","2019-08-08","Confident"]
[{"$error":"#REF!"},null,"Barbados","Public Sector Smart Energy Programme",null,null,"Solar PV",{"$f":"16-(#REF!+H28)","v":{"$error":"#REF!"}},null,"Distributed","Under development",null,"Various public buildings",{"$f":"2600-(N27+N28)","v":2421},null,null,4.5,null,4.5,0,0,"NA",null,null,3510450,null,null,3510450,{"$f":"VLOOKUP(G29,'Capex by RE tech'!$A$2:$F$19,6,TRUE)","v":1450},null,0,"NA",null,"This row refers to the remaining public buildings as part of the Public Sector Smart Energy Programme. 12 of the 16 \"substantially completed\" as of Sept 2018","2019-08-08","Confident"]
[1,null,"Barbados",null,null,"MPC Capital","Solar PV",1,null,"Distributed","Planned","MPC Capital","Guinea Estates Inc. ",5,null,null,10.074,null,null,10.074,0.23,"NA",null,{"$f":"IF(OR(K30=\"Under development\",K30=\"Planned\"),VLOOKUP(G30,'Capex by RE tech'!$A$4:$D$18,4,TRUE),IF(AND(K30=\"Operational\",G30=\"Solar PV\"),VLOOKUP(AG30,'Capex by RE tech'!$C$11:$D$13,2,TRUE),IF(AND(K30=\"Operational\",G30=\"Wind\"),VLOOKUP(AG30,'Capex by RE tech'!$C$17:$D$19,2,TRUE),IF(AND(K30=\"Operational\",G30=\"Biomass\"),VLOOKUP(AG30,'Capex by RE tech'!$C$2:$D$4,2,TRUE),IF(AND(K30=\"Operational\",G30=\"Geothermal\"),VLOOKUP(AG30,'Capex by RE tech'!$C$2:$D$4,2,TRUE),IF(AND(K30=\"Operational\",G30=\"Hydro\"),VLOOKUP(AG30,'Capex by RE tech'!$C$8:$D$10,2,TRUE),IF(AND(K30=\"Operational\",G30=\"Waste-to-Energy\"),VLOOKUP(AG30,'Capex by RE tech'!$C$14:$D$16,2,TRUE),IF(AND(K30=\"Operational\",AG30<2010),VLOOKUP(G30,'Capex by RE tech'!$A$2:$D$19,4,FALSE),NA))))))))","v":0.23},7250,null,null,7250,{"$f":"VLOOKUP(G30,'Capex by RE tech'!$A$2:$F$19,6,TRUE)","v":1450},null,0,"NA",null,"Construction expected to start 2020","2019-08-08","Confident"]
["Multiple",null,"Barbados",null,null,null,"Solar PV","Multiple",null,"Distributed","Operational",null,"Various",18000,null,null,36266.400000000001,null,null,36266.400000000001,0.23,"NA",null,0.23,26100000,null,null,26100000,{"$f":"VLOOKUP(G31,'Capex by RE tech'!$A$2:$F$19,6,TRUE)","v":1450},null,0,"NA",null,"Supply 3% of electricity demands. 2% is from solar PV farm in St. Lucy according to BL&P MD Roger Blackman","2019-08-08","Confident"]
[1,null,"Barbados",null,"Portvale Sugar Factory",null,"Biomass",1,null,"Utility/IPP","Planned",null,null,null,null,null,0,null,null,0,0.9,"NA",null,{"$f":"IF(OR(K32=\"Under development\",K32=\"Planned\"),VLOOKUP(G32,'Capex by RE tech'!$A$4:$D$18,4,TRUE),IF(AND(K32=\"Operational\",G32=\"Solar PV\"),VLOOKUP(AG32,'Capex by RE tech'!$C$11:$D$13,2,TRUE),IF(AND(K32=\"Operational\",G32=\"Wind\"),VLOOKUP(AG32,'Capex by RE tech'!$C$17:$D$19,2,TRUE),IF(AND(K32=\"Operational\",G32=\"Biomass\"),VLOOKUP(AG32,'Capex by RE tech'!$C$2:$D$4,2,TRUE),IF(AND(K32=\"Operational\",G32=\"Geothermal\"),VLOOKUP(AG32,'Capex by RE tech'!$C$2:$D$4,2,TRUE),IF(AND(K32=\"Operational\",G32=\"Hydro\"),VLOOKUP(AG32,'Capex by RE tech'!$C$8:$D$10,2,TRUE),IF(AND(K32=\"Operational\",G32=\"Waste-to-Energy\"),VLOOKUP(AG32,'Capex by RE tech'!$C$14:$D$16,2,TRUE),IF(AND(K32=\"Operational\",AG32<2010),VLOOKUP(G32,'Capex by RE tech'!$A$2:$D$19,4,FALSE),NA))))))))","v":0.9},0,null,null,0,{"$f":"VLOOKUP(G32,'Capex by RE tech'!$A$2:$F$19,6,TRUE)","v":3000},null,0,"NA",null,"Project under consideration. \"If stakeholders come together, the project could be in place by 2020 said the Minister\"","2019-08-08","Confident"]
[1,"P0026","Belize",null,"Tower Hill Sugar Factory, Orange Walk","Belize Co-Generation Energy Limited (Belcogen)","Biomass",1,{"$f":"IF(K33=\"Planned\",\"3.0\",IF(AG33<DATE(2009,12,31),\"1.0\",IF(AND(AG33>=DATE(2010,1,1)+0,AG33<=DATE(2012,12,31)),\"1.0\",IF(AND(AG33>=DATE(2013,1,1),AG33<=DATE(2015,12,31)),\"2.0\",IF(AG33>=DATE(2016,1,1),\"3.0\",\"\")))))","v":"1.0"},"Utility/IPP","Operational","Belize Co-Generation Energy Limited (Belcogen)","Belize Electricity Ltd. (BEL) & Belize Sugar Inudstries",32500,null,null,37933,37933,null,37933,0.13323849666315421,0.13323849666315421,null,0.69633333333333336,35500000,null,35500000,115754166.66666666,{"$f":" IF(AND(ISNUMBER(N33), ISNUMBER(Y33)),Y33/N33,\"NA\")","v":1092.3076923076924},null,0,2010,2010,"13MW are for the national grid","2018-07-18","Confident"]
[1,"P0027","Belize","Mollejon hydroelectric facility","Macal River (Cayo)","Belize Electricity Company Ltd. (BECOL)","Hydro",1,"1.0","Utility/IPP","Operational","Belize Electricity Company Ltd. (BECOL)","Belize Electricity Ltd. (BEL)",25200,3,{"$f":"N34/O34","v":8400},79470.720000000001,null,null,79470.720000000001,0.36,"NA",0.36,null,59000000,null,59000000,77515200,2341.2698412698414,null,0,1996,1996,"American Hydro will enhance the efficiency and performance of the Mollejon hydroelectric generating plant (2017)","2018-07-18","Confident"]
[1,"P0028","Belize","Vaca hydroelectric facility","Macal River (Cayo)","BECOL & Sinohydro Corporation Ltd","Hydro",1,"1.0","Utility/IPP","Operational","BECOL & Sinohydro Corporation Ltd","Belize Electricity Ltd. (BEL)",19000,3,{"$f":"N35/O35","v":6333.333333333333},79521,null,79521,79558.320000000007,0.47799999999999998,"NA",{"$f":" S35 * 1000/(N35 * 8760)","v":0.47777577505407354},0.85,39000000,null,39000000,58444000,2052.6315789473683,null,0,2010,2010,null,"2018-07-18","Confident"]
[1,"P0029","Belize",null,"Santander Sugar Mill, Cayo","Santander Sugar Energy Ltd. (SSEL)","Biomass",1,"1.0","Utility/IPP","Operational","Santander Sugar Energy Ltd. (SSEL)","Belize Electricity Ltd. (BEL)",16000,null,null,46252.800000000003,null,null,46252.800000000003,{"$f":"IF(AND(V36=\"NA\",ISBLANK(W36)),X36,IF(V36<>\"NA\",V36,IF(ISNUMBER(W36),W36,X36)))","v":0.33},"NA",0.33,0.69633333333333336,20000000,null,20000000,56986666.666666664,1250,null,0,"NA",null,"S.S. Energy Ltd., a subsidiary of the Santander Sugar Group, signed PPA with Belize Electricity Limited on December 13, 2016.   ","2018-07-10","Confident"]
[1,"P0030","Belize","Chalillo hydroelectric facility","Macal River (Cayo)","BECOL, Sinohydro Corporation Ltd., & Gilbert-Green Associates Inc.","Hydro",1,"1.0","Utility/IPP","Operational","BECOL, Sinohydro Corporation Ltd., & Gilbert-Green Associates Inc.","Belize Electricity Ltd. (BEL)",7300,2,{"$f":"N37/O37","v":3650},30161,null,30161,30161,{"$f":"IF(AND(V37=\"NA\",ISBLANK(W37)),X37,IF(V37<>\"NA\",V37,IF(ISNUMBER(W37),W37,X37)))","v":0.4716488396822418},"NA",{"$f":" (S37* 1000)/(N37 * 8760)","v":0.4716488396822418},0.85,100000000,null,100000000,22454800,13698.630136986301,null,0,2005,2005,null,"2018-07-18","Confident"]
[1,"P0031","Belize","Hydro Maya","San Miguel","Bradley Engineering ,Cisco Construction Ltd., & Sorenson Engineering","Hydro",1,"1.0","Utility/IPP","Operational","Bradley Engineering ,Cisco Construction Ltd., & Sorenson Engineering","Belize Electricity Ltd. (BEL)",3400,2,{"$f":"N38/O38","v":1700},14500,14500,null,14500,{"$f":"IF(AND(V38=\"NA\",ISBLANK(W38)),X38,IF(V38<>\"NA\",V38,IF(ISNUMBER(W38),W38,X38)))","v":0.48683857104485628},0.48683857104485628,0.51883561643835618,0.85,10458400,null,null,10458400,3076,null,0,2006,2006,null,"2018-07-18","Confident"]
[1,null,"Belize","BECOL 30 MW Solar Farm",null,"BECOL","Solar PV",1,null,"Utility/IPP","Planned","BECOL","Belize Electricity Ltd. (BEL)",30000,null,null,60444,null,null,60444,{"$f":"IF(AND(V39=\"NA\",ISBLANK(W39)),X39,IF(V39<>\"NA\",V39,IF(ISNUMBER(W39),W39,X39)))","v":0.23},"NA",null,{"$f":"'Capex by RE tech'!D13","v":0.23},43500000,null,null,{"$f":"AC39*N39","v":43500000},{"$f":"VLOOKUP(G39,'Capex by RE tech'!$A$2:$F$19,6,TRUE)","v":1450},null,null,null,null,"Commercial operation expected 2021. Details from CREF 2019 survey response from Belize Electricity Ltd. ","2019-09-17","Confident"]
[1,null,"Belize","BAPCOL 10MW Solar Farm",null,"BECOL","Solar PV",1,null,"Utility/IPP","Planned","BECOL","Belize Electricity Ltd. (BEL)",10000,null,null,20148,null,null,20148,{"$f":"IF(AND(V40=\"NA\",ISBLANK(W40)),X40,IF(V40<>\"NA\",V40,IF(ISNUMBER(W40),W40,X40)))","v":0.23},"NA",null,{"$f":"'Capex by RE tech'!D13","v":0.23},14500000,null,null,{"$f":"AC40*N40","v":14500000},{"$f":"VLOOKUP(G40,'Capex by RE tech'!$A$2:$F$19,6,TRUE)","v":1450},null,null,null,null,"Commercial operation expected 2021. Details from CREF 2019 survey response from Belize Electricity Ltd.","2019-09-17","Confident"]
[1,"P0032","Belize",null,null,null,"Solar PV",1,{"$f":"IF(K41=\"Planned\",\"3.0\",IF(AG41<DATE(2009,12,31),\"1.0\",IF(AND(AG41>=DATE(2010,1,1)+0,AG41<=DATE(2012,12,31)),\"1.0\",IF(AND(AG41>=DATE(2013,1,1),AG41<=DATE(2015,12,31)),\"2.0\",IF(AG41>=DATE(2016,1,1),\"3.0\",\"\")))))","v":"1.0"},"Distributed","Operational",null,null,450,null,null,128700,null,128700,500.63400000000001,0.127,"NA",{"$f":"R41/4205","v":0},0.254,20000000,null,20000000,1160100,{"$f":" IF(AND(ISNUMBER(N41), ISNUMBER(Y41)),Y41/N41,\"NA\")","v":44444.444444444445},null,{"$f":"SUM(AD41:AD41)","v":0},{"$f":"IF(ISNUMBER(AG41),AG41,IF(ISNUMBER(AH41),AH41,\"NA\"))","v":2012},2012,null,"2017-08-03"]
[1,null,"Belize","Belcogen power plant",null,null,"Biomass",1,null,"Utility/IPP","Operational",null,"Belize Electricity Ltd. (BEL)",31500,null,null,150000,null,{"$f":"106000+44000","v":150000},35044.379999999997,0.127,"NA",null,null,126000000,null,null,{"$f":"AC42*N42","v":126000000},{"$f":"'Capex by RE tech'!F2","v":4000},null,0,2009,2009,null,"2017-08-03","Confident"]
[1,"P0033","Bermuda","\"The Finger\" (airport) solar project","L.F. Wade International Airport","Saturn","Solar PV",1,null,"Utility/IPP","Under development","TBD","Bermuda Electric Light Company Ltd. (BELCO)",6000,null,null,13350.24,null,null,13350.24,{"$f":"IF(AND(V43=\"NA\",ISBLANK(W43)),X43,IF(V43<>\"NA\",V43,IF(ISNUMBER(W43),W43,X43)))","v":0.254},"NA",null,0.254,15468000,null,null,15468000,{"$f":" IF(AND(ISNUMBER(N43), ISNUMBER(Y43)),Y43/N43,\"NA\")","v":2578},null,0,"NA",null,"Solar Power Plant Deal Signed. Completion expected end of 2019. ","2019-08-05","Confident"]
[1,"P0034","Bermuda",null,"Tynes Bay","Von Roll Ltd. ","Waste-to-Energy",1,{"$f":"IF(K44=\"Planned\",\"3.0\",IF(AG44<DATE(2009,12,31),\"1.0\",IF(AND(AG44>=DATE(2010,1,1)+0,AG44<=DATE(2012,12,31)),\"1.0\",IF(AND(AG44>=DATE(2013,1,1),AG44<=DATE(2015,12,31)),\"2.0\",IF(AG44>=DATE(2016,1,1),\"3.0\",\"\")))))","v":"1.0"},"Utility/IPP","Operational","Von Roll Ltd. ","Bermuda Electric Light Company Ltd. (BELCO)",5000,null,null,30805.999999999996,null,null,30805.999999999996,0.70333333333333325,"NA",null,0.70333333333333325,70000000,null,70000000,{"$error":"#DIV/0!"},{"$f":" IF(AND(ISNUMBER(N44), ISNUMBER(Y44)),Y44/N44,\"NA\")","v":14000},null,0,1994,1994,null,"2018-07-18","Confident"]
[1,"P0035","Bermuda",null,null,null,"Solar PV",1,{"$f":"IF(K45=\"Planned\",\"3.0\",IF(AG45<DATE(2009,12,31),\"1.0\",IF(AND(AG45>=DATE(2010,1,1)+0,AG45<=DATE(2012,12,31)),\"1.0\",IF(AND(AG45>=DATE(2013,1,1),AG45<=DATE(2015,12,31)),\"2.0\",IF(AG45>=DATE(2016,1,1),\"3.0\",\"\")))))","v":"1.0"},"Distributed","Operational",null,null,416,null,null,925.61663999999996,null,null,925.61663999999996,0.254,"NA",null,0.254,1072448,null,null,1072448,{"$f":" IF(AND(ISNUMBER(N45), ISNUMBER(Y45)),Y45/N45,\"NA\")","v":2578},null,0,"NA",null,null,"2017-08-03"]
[{"$f":"H46","v":73},"P0036","Bermuda",null,null,null,"Solar PV",73,{"$f":"IF(K46=\"Planned\",\"3.0\",IF(AG46<DATE(2009,12,31),\"1.0\",IF(AND(AG46>=DATE(2010,1,1)+0,AG46<=DATE(2012,12,31)),\"1.0\",IF(AND(AG46>=DATE(2013,1,1),AG46<=DATE(2015,12,31)),\"2.0\",IF(AG46>=DATE(2016,1,1),\"3.0\",\"\")))))","v":"1.0"},"Distributed","Operational",null,null,360,null,null,801.01440000000002,null,null,801.01440000000002,0.254,"NA",null,0.254,928080,null,null,928080,{"$f":" IF(AND(ISNUMBER(N46), ISNUMBER(Y46)),Y46/N46,\"NA\")","v":2578},null,0,"NA",null,null,"2017-08-03"]
[1,"P0037","Bermuda",null,null,null,"Solar PV",1,{"$f":"IF(K47=\"Planned\",\"3.0\",IF(AG47<DATE(2009,12,31),\"1.0\",IF(AND(AG47>=DATE(2010,1,1)+0,AG47<=DATE(2012,12,31)),\"1.0\",IF(AND(AG47>=DATE(2013,1,1),AG47<=DATE(2015,12,31)),\"2.0\",IF(AG47>=DATE(2016,1,1),\"3.0\",\"\")))))","v":"1.0"},"Distributed","Operational",null,null,106.52,null,null,237.0112608,null,null,237.0112608,0.254,"NA",null,0.254,274608.56,null,null,274608.56,{"$f":" IF(AND(ISNUMBER(N47), ISNUMBER(Y47)),Y47/N47,\"NA\")","v":2578},null,0,"NA",null,null,"2017-08-03"]
["Multiple",null,"Bermuda",null,null,null,"Solar PV","Multiple",null,"Utility/IPP","Planned",null,null,15000,null,null,30222,null,null,30222,0.23,"NA",null,{"$f":"IF(OR(K48=\"Under development\",K48=\"Planned\"),VLOOKUP(G48,'Capex by RE tech'!$A$4:$D$18,4,TRUE),IF(AND(K48=\"Operational\",G48=\"Solar PV\"),VLOOKUP(AG48,'Capex by RE tech'!$C$11:$D$13,2,TRUE),IF(AND(K48=\"Operational\",G48=\"Wind\"),VLOOKUP(AG48,'Capex by RE tech'!$C$17:$D$19,2,TRUE),IF(AND(K48=\"Operational\",G48=\"Biomass\"),VLOOKUP(AG48,'Capex by RE tech'!$C$2:$D$4,2,TRUE),IF(AND(K48=\"Operational\",G48=\"Geothermal\"),VLOOKUP(AG48,'Capex by RE tech'!$C$2:$D$4,2,TRUE),IF(AND(K48=\"Operational\",G48=\"Hydro\"),VLOOKUP(AG48,'Capex by RE tech'!$C$8:$D$10,2,TRUE),IF(AND(K48=\"Operational\",G48=\"Waste-to-Energy\"),VLOOKUP(AG48,'Capex by RE tech'!$C$14:$D$16,2,TRUE),IF(AND(K48=\"Operational\",AG48<2010),VLOOKUP(G48,'Capex by RE tech'!$A$2:$D$19,4,FALSE),NA))))))))","v":0.23},21750000,null,null,{"$f":"AC48*N48","v":21750000},{"$f":"VLOOKUP(G48,'Capex by RE tech'!$A$2:$F$19,6,TRUE)","v":1450},null,0,"NA",null,"Planned as part of IRP, to be installed around 2023","2019-08-08","Not confident"]
["Multiple",null,"Bermuda",null,null,null,"Wind","Multiple",null,"Utility/IPP","Planned",null,null,60000,null,null,165564,null,null,165564,0.315,"NA",null,{"$f":"IF(OR(K49=\"Under development\",K49=\"Planned\"),VLOOKUP(G49,'Capex by RE tech'!$A$4:$D$18,4,TRUE),IF(AND(K49=\"Operational\",G49=\"Solar PV\"),VLOOKUP(AG49,'Capex by RE tech'!$C$11:$D$13,2,TRUE),IF(AND(K49=\"Operational\",G49=\"Wind\"),VLOOKUP(AG49,'Capex by RE tech'!$C$17:$D$19,2,TRUE),IF(AND(K49=\"Operational\",G49=\"Biomass\"),VLOOKUP(AG49,'Capex by RE tech'!$C$2:$D$4,2,TRUE),IF(AND(K49=\"Operational\",G49=\"Geothermal\"),VLOOKUP(AG49,'Capex by RE tech'!$C$2:$D$4,2,TRUE),IF(AND(K49=\"Operational\",G49=\"Hydro\"),VLOOKUP(AG49,'Capex by RE tech'!$C$8:$D$10,2,TRUE),IF(AND(K49=\"Operational\",G49=\"Waste-to-Energy\"),VLOOKUP(AG49,'Capex by RE tech'!$C$14:$D$16,2,TRUE),IF(AND(K49=\"Operational\",AG49<2010),VLOOKUP(G49,'Capex by RE tech'!$A$2:$D$19,4,FALSE),NA))))))))","v":0.315},88500000,null,null,{"$f":"AC49*N49","v":88500000},{"$f":"VLOOKUP(G49,'Capex by RE tech'!$A$2:$F$19,6,TRUE)","v":1475},null,0,"NA",null,"Planned as part of IRP, to be installed around 2026","2019-08-08","Not confident"]
[1,null,"Bermuda",null,null,null,"Battery",1,null,"Utility/IPP","Operational",null,"Bermuda Electric Light Company Ltd. (BELCO)",10000,null,null,"NA",null,null,null,null,null,null,null,null,null,null,{"$f":"AC50*N50","v":{"$error":"#N/A"}},{"$f":"VLOOKUP(G50,'Capex by RE tech'!$A$2:$F$19,6,TRUE)","v":{"$error":"#N/A"}},null,null,null,null,"Battery","2019-08-08","Confident"]
[1,"P0287","Bonaire",null,"Barcadera","Contour Global/Caribbean Energies","Solar PV",1,{"$f":"IF(K51=\"Planned\",\"3.0\",IF(AG51<DATE(2009,12,31),\"1.0\",IF(AND(AG51>=DATE(2010,1,1)+0,AG51<=DATE(2012,12,31)),\"1.0\",IF(AND(AG51>=DATE(2013,1,1),AG51<=DATE(2015,12,31)),\"2.0\",IF(AG51>=DATE(2016,1,1),\"3.0\",\"\")))))","v":"1.0"},"Utility/IPP","Operational","Contour Global/Caribbean Energies","Water-en Energie Bedrijf Bonaire ",null,792,{"$f":"N51/O51","v":0},"NA",null,null,{"$error":"#N/A"},{"$error":"#N/A"},{"$f":"IF(OR(ISBLANK(N51),ISBLANK(R51)),\"NA\",(R51*1000)/(N51*8760))","v":"NA"},null,{"$f":"IF(OR(K51=\"Under development\",K51=\"Planned\"),VLOOKUP(G51,'Capex by RE tech'!$A$4:$D$18,4,TRUE),IF(AND(K51=\"Operational\",G51=\"Solar PV\"),VLOOKUP(AG51,'Capex by RE tech'!$C$11:$D$13,2,TRUE),IF(AND(K51=\"Operational\",G51=\"Wind\"),VLOOKUP(AG51,'Capex by RE tech'!$C$17:$D$19,2,TRUE),IF(AND(K51=\"Operational\",G51=\"Biomass\"),VLOOKUP(AG51,'Capex by RE tech'!$C$2:$D$4,2,TRUE),IF(AND(K51=\"Operational\",G51=\"Geothermal\"),VLOOKUP(AG51,'Capex by RE tech'!$C$2:$D$4,2,TRUE),IF(AND(K51=\"Operational\",G51=\"Hydro\"),VLOOKUP(AG51,'Capex by RE tech'!$C$8:$D$10,2,TRUE),IF(AND(K51=\"Operational\",G51=\"Waste-to-Energy\"),VLOOKUP(AG51,'Capex by RE tech'!$C$14:$D$16,2,TRUE),IF(AND(K51=\"Operational\",AG51<2010),VLOOKUP(G51,'Capex by RE tech'!$A$2:$D$19,4,FALSE),NA))))))))","v":{"$error":"#N/A"}},0,null,null,{"$f":"AC51*N51","v":0},{"$f":"VLOOKUP(G51,'Capex by RE tech'!$A$2:$F$19,6,TRUE)","v":1450},null,null,null,null,"This is a test setup of 792 solar panels on the Barcadera grounds","2018-07-18","Not confident"]
[1,"P0038","Bonaire",null,"Kralendjik","Evelop","Wind",1,{"$f":"IF(K52=\"Planned\",\"3.0\",IF(AG52<DATE(2009,12,31),\"1.0\",IF(AND(AG52>=DATE(2010,1,1)+0,AG52<=DATE(2012,12,31)),\"1.0\",IF(AND(AG52>=DATE(2013,1,1),AG52<=DATE(2015,12,31)),\"2.0\",IF(AG52>=DATE(2016,1,1),\"3.0\",\"\")))))","v":"1.0"},"Utility/IPP","Operational","Evelop","Water-en Energie Bedrijf Bonaire ",11130,12,{"$f":"N52/O52","v":927.5},35000,null,35000,35000,0.35897877717469345,"NA",{"$f":" S52 * 1000/(N52 * 8760)","v":0.35897877717469345},0.46,60000000,null,60000000,17537170,{"$f":" IF(AND(ISNUMBER(N52), ISNUMBER(Y52)),Y52/N52,\"NA\")","v":5390.8355795148245},null,{"$f":"SUM(AD52:AD52)","v":0},{"$f":"IF(ISNUMBER(AG52),AG52,IF(ISNUMBER(AH52),AH52,\"NA\"))","v":2010},2010,null,"2018-07-18","Confident"]
[1,"P0039","Bonaire",null,null,null,"Wind",1,{"$f":"IF(K53=\"Planned\",\"3.0\",IF(AG53<DATE(2009,12,31),\"1.0\",IF(AND(AG53>=DATE(2010,1,1)+0,AG53<=DATE(2012,12,31)),\"1.0\",IF(AND(AG53>=DATE(2013,1,1),AG53<=DATE(2015,12,31)),\"2.0\",IF(AG53>=DATE(2016,1,1),\"3.0\",\"\")))))","v":"1.0"},"Distributed","Operational",null,null,330,null,null,1329.768,null,null,1329.768,0.46,"NA",null,0.46,519970,null,null,519970,{"$f":" IF(AND(ISNUMBER(N53), ISNUMBER(Y53)),Y53/N53,\"NA\")","v":1575.6666666666667},null,{"$f":"SUM(AD53:AD53)","v":0},{"$f":"IF(ISNUMBER(AG53),AG53,IF(ISNUMBER(AH53),AH53,\"NA\"))","v":"NA"},null,null,"2017-08-03"]
[1,"P0040","Bonaire",null,null,null,"Solar PV",1,{"$f":"IF(K54=\"Planned\",\"3.0\",IF(AG54<DATE(2009,12,31),\"1.0\",IF(AND(AG54>=DATE(2010,1,1)+0,AG54<=DATE(2012,12,31)),\"1.0\",IF(AND(AG54>=DATE(2013,1,1),AG54<=DATE(2015,12,31)),\"2.0\",IF(AG54>=DATE(2016,1,1),\"3.0\",\"\")))))","v":"1.0"},"Distributed","Operational",null,null,65,null,null,144.6276,null,null,144.6276,0.254,"NA",null,0.254,167570,null,null,167570,{"$f":" IF(AND(ISNUMBER(N54), ISNUMBER(Y54)),Y54/N54,\"NA\")","v":2578},null,{"$f":"SUM(AD54:AD54)","v":0},{"$f":"IF(ISNUMBER(AG54),AG54,IF(ISNUMBER(AH54),AH54,\"NA\"))","v":"NA"},null,null,"2017-08-03"]
[1,null,"Bonaire",null,null,"Wärtsilä",null,1,null,"Utility/IPP","Operational","Wärtsilä","ContourGlobal Bonaire",6000,null,null,null,null,null,null,null,null,null,null,null,null,null,{"$f":"AC55*N55","v":{"$error":"#N/A"}},{"$f":"VLOOKUP(G55,'Capex by RE tech'!$A$2:$F$19,6,TRUE)","v":{"$error":"#N/A"}},null,{"$f":"SUM(AD55:AD55)","v":0},{"$f":"IF(ISNUMBER(AG55),AG55,IF(ISNUMBER(AH55),AH55,\"NA\"))","v":"NA"},null,"Battery","2019-08-08","Confident"]
[1,"P0268","British Virgin Islands",null,null,null,"Wind",1,null,"Utility/IPP","Under development",null,null,500,null,null,1752,null,null,1752,0.4,"NA",null,0.4,737500,null,null,{"$f":"AC56*N56","v":737500},{"$f":"VLOOKUP(G56,'Capex by RE tech'!$A$2:$F$19,6,TRUE)","v":1475},null,null,null,null,"2 Turbines, Total 500 KW","2019-08-05","Not confident"]
[1,"P0041","British Virgin Islands",null,"Necker Island",null,"Wind",1,null,"Distributed","Operational",null,null,900,null,null,3626.64,null,null,3626.64,0.46,"NA",null,0.46,1418100,null,null,1418100,{"$f":" IF(AND(ISNUMBER(N57), ISNUMBER(Y57)),Y57/N57,\"NA\")","v":1575.6666666666667},null,{"$f":"SUM(AD57:AD57)","v":0},{"$f":"IF(ISNUMBER(AG57),AG57,IF(ISNUMBER(AH57),AH57,\"NA\"))","v":2016},2016,"Privately owned by billionaire entrepreneur Richard Branson on  Necker Island, working with NRG Energy. Microgrid includes 350kW solar PV and 500 kWh battery . See P0034","2019-08-05","Confident"]
[3,"P0042","British Virgin Islands",null,"Necker Island",null,"Wind",3,{"$f":"IF(K58=\"Planned\",\"3.0\",IF(AG58<DATE(2009,12,31),\"1.0\",IF(AND(AG58>=DATE(2010,1,1)+0,AG58<=DATE(2012,12,31)),\"1.0\",IF(AND(AG58>=DATE(2013,1,1),AG58<=DATE(2015,12,31)),\"2.0\",IF(AG58>=DATE(2016,1,1),\"3.0\",\"\")))))","v":"1.0"},"Distributed","Operational",null,null,750,null,null,3022.2,null,null,3022.2,0.46,"NA",null,0.46,1181750,null,null,1181750,1575.6666666666667,null,0,"NA",null,null,"2017-08-03"]
[1,"P0043","British Virgin Islands",null,"Necker Island",null,"Solar PV",1,null,"Distributed","Operational",null,null,300,null,null,667.51199999999994,null,null,667.51199999999994,0.254,"NA",null,0.254,773400,null,null,773400,2578,null,0,"NA",null,"Privately owned by billionaire entrepreneur Richard Branson on  Necker Island, working with NRG Energy. Microgrid includes 350kW solar PV and 500 kWh battery. See P0041","2019-08-05","Confident"]
[1,"P0044","British Virgin Islands",null,null,null,"Solar PV",1,{"$f":"IF(K60=\"Planned\",\"3.0\",IF(AG60<DATE(2009,12,31),\"1.0\",IF(AND(AG60>=DATE(2010,1,1)+0,AG60<=DATE(2012,12,31)),\"1.0\",IF(AND(AG60>=DATE(2013,1,1),AG60<=DATE(2015,12,31)),\"2.0\",IF(AG60>=DATE(2016,1,1),\"3.0\",\"\")))))","v":"1.0"},"Distributed","Operational",null,null,32,null,null,71.201279999999997,null,null,71.201279999999997,0.254,"NA",null,0.254,82496,null,null,82496,2578,null,0,"NA",null,null,"2017-08-03"]
[2,"P0045","British Virgin Islands",null,null,null,"Solar PV",2,{"$f":"IF(K61=\"Planned\",\"3.0\",IF(AG61<DATE(2009,12,31),\"1.0\",IF(AND(AG61>=DATE(2010,1,1)+0,AG61<=DATE(2012,12,31)),\"1.0\",IF(AND(AG61>=DATE(2013,1,1),AG61<=DATE(2015,12,31)),\"2.0\",IF(AG61>=DATE(2016,1,1),\"3.0\",\"\")))))","v":"1.0"},"Distributed","Operational",null,null,6,null,null,13.350239999999999,null,null,13.350239999999999,0.254,"NA",null,0.254,15468,null,null,15468,2578,null,0,"NA",null,null,"2017-08-03"]
[1,"P0046","British Virgin Islands",null,null,null,"Wind",1,{"$f":"IF(K62=\"Planned\",\"3.0\",IF(AG62<DATE(2009,12,31),\"1.0\",IF(AND(AG62>=DATE(2010,1,1)+0,AG62<=DATE(2012,12,31)),\"1.0\",IF(AND(AG62>=DATE(2013,1,1),AG62<=DATE(2015,12,31)),\"2.0\",IF(AG62>=DATE(2016,1,1),\"3.0\",\"\")))))","v":"1.0"},"Distributed","Operational",null,null,3.7,null,null,14.909520000000001,null,null,14.909520000000001,0.46,"NA",null,0.46,5829.9666666666672,null,null,5829.9666666666672,1575.6666666666667,null,0,"NA",null,null,"2017-08-03"]
[1,null,"British Virgin Islands","Cox Heath Solar Project","Tortola",null,"Solar PV",1,null,"Utility/IPP","Planned",null,"British Vigin Islands Electricity Corporation (BVIEC)",null,null,null,0,null,null,0,0.23,"NA",null,{"$f":"IF(OR(K63=\"Under development\",K63=\"Planned\"),VLOOKUP(G63,'Capex by RE tech'!$A$4:$D$18,4,TRUE),IF(AND(K63=\"Operational\",G63=\"Solar PV\"),VLOOKUP(AG63,'Capex by RE tech'!$C$11:$D$13,2,TRUE),IF(AND(K63=\"Operational\",G63=\"Wind\"),VLOOKUP(AG63,'Capex by RE tech'!$C$17:$D$19,2,TRUE),IF(AND(K63=\"Operational\",G63=\"Biomass\"),VLOOKUP(AG63,'Capex by RE tech'!$C$2:$D$4,2,TRUE),IF(AND(K63=\"Operational\",G63=\"Geothermal\"),VLOOKUP(AG63,'Capex by RE tech'!$C$2:$D$4,2,TRUE),IF(AND(K63=\"Operational\",G63=\"Hydro\"),VLOOKUP(AG63,'Capex by RE tech'!$C$8:$D$10,2,TRUE),IF(AND(K63=\"Operational\",G63=\"Waste-to-Energy\"),VLOOKUP(AG63,'Capex by RE tech'!$C$14:$D$16,2,TRUE),IF(AND(K63=\"Operational\",AG63<2010),VLOOKUP(G63,'Capex by RE tech'!$A$2:$D$19,4,FALSE),NA))))))))","v":0.23},0,null,null,{"$f":"AC63*N63","v":0},{"$f":"VLOOKUP(G63,'Capex by RE tech'!$A$2:$F$19,6,TRUE)","v":1450},null,0,"NA",null,"Part of Resilient National Energy Transition Strategy","2019-08-08","Confident"]
[0,null,"British Virgin Islands","Ground-Mount and Rooftop Solar",null,null,"Solar PV",null,null,"Utility/IPP","Planned",null,"British Vigin Islands Electricity Corporation (BVIEC)",5000,null,null,10074,null,null,10074,0.23,"NA",null,{"$f":"IF(OR(K64=\"Under development\",K64=\"Planned\"),VLOOKUP(G64,'Capex by RE tech'!$A$4:$D$18,4,TRUE),IF(AND(K64=\"Operational\",G64=\"Solar PV\"),VLOOKUP(AG64,'Capex by RE tech'!$C$11:$D$13,2,TRUE),IF(AND(K64=\"Operational\",G64=\"Wind\"),VLOOKUP(AG64,'Capex by RE tech'!$C$17:$D$19,2,TRUE),IF(AND(K64=\"Operational\",G64=\"Biomass\"),VLOOKUP(AG64,'Capex by RE tech'!$C$2:$D$4,2,TRUE),IF(AND(K64=\"Operational\",G64=\"Geothermal\"),VLOOKUP(AG64,'Capex by RE tech'!$C$2:$D$4,2,TRUE),IF(AND(K64=\"Operational\",G64=\"Hydro\"),VLOOKUP(AG64,'Capex by RE tech'!$C$8:$D$10,2,TRUE),IF(AND(K64=\"Operational\",G64=\"Waste-to-Energy\"),VLOOKUP(AG64,'Capex by RE tech'!$C$14:$D$16,2,TRUE),IF(AND(K64=\"Operational\",AG64<2010),VLOOKUP(G64,'Capex by RE tech'!$A$2:$D$19,4,FALSE),NA))))))))","v":0.23},7250000,null,null,7250000,{"$f":"VLOOKUP(G64,'Capex by RE tech'!$A$2:$F$19,6,TRUE)","v":1450},null,0,"NA",null,"Part of Resilient National Energy Transition Strategy. Need to identify sites. \"can be structured as a PPA where BVIEC purchases the electricity generated from the solar PV\"","2019-08-08","Confident"]
[0,null,"British Virgin Islands","Solar for Schools and Gov't Buildings Project",null,null,"Solar PV",null,null,"Utility/IPP","Planned",null,null,null,null,null,0,null,null,0,0.23,"NA",null,{"$f":"IF(OR(K65=\"Under development\",K65=\"Planned\"),VLOOKUP(G65,'Capex by RE tech'!$A$4:$D$18,4,TRUE),IF(AND(K65=\"Operational\",G65=\"Solar PV\"),VLOOKUP(AG65,'Capex by RE tech'!$C$11:$D$13,2,TRUE),IF(AND(K65=\"Operational\",G65=\"Wind\"),VLOOKUP(AG65,'Capex by RE tech'!$C$17:$D$19,2,TRUE),IF(AND(K65=\"Operational\",G65=\"Biomass\"),VLOOKUP(AG65,'Capex by RE tech'!$C$2:$D$4,2,TRUE),IF(AND(K65=\"Operational\",G65=\"Geothermal\"),VLOOKUP(AG65,'Capex by RE tech'!$C$2:$D$4,2,TRUE),IF(AND(K65=\"Operational\",G65=\"Hydro\"),VLOOKUP(AG65,'Capex by RE tech'!$C$8:$D$10,2,TRUE),IF(AND(K65=\"Operational\",G65=\"Waste-to-Energy\"),VLOOKUP(AG65,'Capex by RE tech'!$C$14:$D$16,2,TRUE),IF(AND(K65=\"Operational\",AG65<2010),VLOOKUP(G65,'Capex by RE tech'!$A$2:$D$19,4,FALSE),NA))))))))","v":0.23},0,null,null,0,{"$f":"VLOOKUP(G65,'Capex by RE tech'!$A$2:$F$19,6,TRUE)","v":1450},null,0,"NA",null,"Part of Resilient National Energy Transition Strategy, pg. 55","2019-08-08","Confident"]
[0,null,"British Virgin Islands","Paraquita Bay Integrated Energy Project",null,null,"Solar PV",null,null,null,null,null,null,null,null,null,{"$f":"IF(ISNUMBER(R66),R66,IF(ISNUMBER(S66),S66, IF(ISNUMBER(T66), T66,\"NA\")))","v":"NA"},null,null,{"$f":" (N66 * 8760 * U66)/1000","v":{"$error":"#NAME?"}},{"$error":"#NAME?"},"NA",null,{"$f":"IF(OR(K66=\"Under development\",K66=\"Planned\"),VLOOKUP(G66,'Capex by RE tech'!$A$4:$D$18,4,TRUE),IF(AND(K66=\"Operational\",G66=\"Solar PV\"),VLOOKUP(AG66,'Capex by RE tech'!$C$11:$D$13,2,TRUE),IF(AND(K66=\"Operational\",G66=\"Wind\"),VLOOKUP(AG66,'Capex by RE tech'!$C$17:$D$19,2,TRUE),IF(AND(K66=\"Operational\",G66=\"Biomass\"),VLOOKUP(AG66,'Capex by RE tech'!$C$2:$D$4,2,TRUE),IF(AND(K66=\"Operational\",G66=\"Geothermal\"),VLOOKUP(AG66,'Capex by RE tech'!$C$2:$D$4,2,TRUE),IF(AND(K66=\"Operational\",G66=\"Hydro\"),VLOOKUP(AG66,'Capex by RE tech'!$C$8:$D$10,2,TRUE),IF(AND(K66=\"Operational\",G66=\"Waste-to-Energy\"),VLOOKUP(AG66,'Capex by RE tech'!$C$14:$D$16,2,TRUE),IF(AND(K66=\"Operational\",AG66<2010),VLOOKUP(G66,'Capex by RE tech'!$A$2:$D$19,4,FALSE),NA))))))))","v":{"$error":"#NAME?"}},{"$f":" IF(ISNUMBER(Z66), Z66,IF(ISNUMBER(AA66),AA66,IF(ISNUMBER(AB66), AB66, \"NA\")))","v":0},null,null,0,{"$f":"VLOOKUP(G66,'Capex by RE tech'!$A$2:$F$19,6,TRUE)","v":1450},null,0,"NA"]
[0,null,"British Virgin Islands","Anegada Hybrid Microgrid Project","Anegada Island",null,null,null,null,null,"Planned",null,null,null,null,null,"NA",null,null,null,null,null,null,null,null,null,null,{"$error":"#N/A"},{"$f":"VLOOKUP(G67,'Capex by RE tech'!$A$2:$F$19,6,TRUE)","v":{"$error":"#N/A"}},null,0,"NA",null,"Part of Resilient National Energy Transiation Strategy. Anegada island not connected to rest of BVI grid","2019-08-08","Confident"]
[0,null,"British Virgin Islands","Anegada Generation Expansion Project","Anegada Island",null,null,null,null,null,"Planned",null,null,null,null,null,"NA",null,null,null,null,null,null,null,null,null,null,{"$error":"#N/A"},{"$f":"VLOOKUP(G68,'Capex by RE tech'!$A$2:$F$19,6,TRUE)","v":{"$error":"#N/A"}},null,0,"NA",null,"Part of Resilient National Energy Transiation Strategy. Anegada island not connected to rest of BVI grid","2019-08-08","Confident"]
[79,"P0047","Cayman Islands",null,"Various Residential and Commercial Customers","Caribbean Utilities Company Ltd. (CUC)","Solar PV",79,{"$f":"IF(K69=\"Planned\",\"3.0\",IF(AG69<DATE(2009,12,31),\"1.0\",IF(AND(AG69>=DATE(2010,1,1)+0,AG69<=DATE(2012,12,31)),\"1.0\",IF(AND(AG69>=DATE(2013,1,1),AG69<=DATE(2015,12,31)),\"2.0\",IF(AG69>=DATE(2016,1,1),\"3.0\",\"\")))))","v":"1.0"},"Distributed","Operational","Caribbean Utilities Company Ltd. (CUC)","Caribbean Utilities Company Ltd. (CUC)",8000,null,null,17800.32,null,null,17800.32,0.254,"NA",null,0.254,20624000,null,null,20624000,{"$f":" IF(AND(ISNUMBER(N69), ISNUMBER(Y69)),Y69/N69,\"NA\")","v":2578},null,0,2009,2009,"CUC approved the allocation of two more MW of capacity for CUC's Core Programme in May 2017, however, customers will have only have access to 1 MW until December 2017. ","2017-08-03"]
[1,"P0048","Cayman Islands","Bodden Town Solar Farm","Bodden Town","BMR Energy LLC","Solar PV",1,{"$f":"IF(K70=\"Planned\",\"3.0\",IF(AG70<DATE(2009,12,31),\"1.0\",IF(AND(AG70>=DATE(2010,1,1)+0,AG70<=DATE(2012,12,31)),\"1.0\",IF(AND(AG70>=DATE(2013,1,1),AG70<=DATE(2015,12,31)),\"2.0\",IF(AG70>=DATE(2016,1,1),\"3.0\",\"\")))))","v":"1.0"},"Utility/IPP","Operational","BMR Energy LLC","Caribbean Utilities Company Ltd. (CUC)",5000,null,null,11125.2,null,null,11125.2,0.254,"NA",null,0.254,12890000,null,null,12890000,{"$f":" IF(AND(ISNUMBER(N70), ISNUMBER(Y70)),Y70/N70,\"NA\")","v":2578},null,0,2017,2017,"Project in operation since 2017. BMR Energy aquired the plant from Entropy Cayman Solar I in Januray 2019. ","2019-09-17","Confident"]
[1,"P0049","Cayman Islands",null,"George Town ","TBD","Waste-to-Energy",1,null,"Utility/IPP","Planned","TBD","Caribbean Utilities Company Ltd. (CUC)",2700,null,null,16635.239999999998,null,null,16635.239999999998,0.70333333333333325,"NA",null,0.70333333333333325,7000000,null,7000000,null,{"$f":" IF(AND(ISNUMBER(N71), ISNUMBER(Y71)),Y71/N71,\"NA\")","v":2592.5925925925926},null,0,"NA",null,"In 2016, government announced George Town landfill will be capped and a WtE plant will be constructed on the site. Companies are currently being shortlisted to construct and operate the plant over a 25-year-period. Still waiting on Environmental Impact Assessment expected to be completed June 2019. ","2019-08-05","Confident"]
[1,"P0050","Cayman Islands",null,null,null,"Solar PV",1,{"$f":"IF(K72=\"Planned\",\"3.0\",IF(AG72<DATE(2009,12,31),\"1.0\",IF(AND(AG72>=DATE(2010,1,1)+0,AG72<=DATE(2012,12,31)),\"1.0\",IF(AND(AG72>=DATE(2013,1,1),AG72<=DATE(2015,12,31)),\"2.0\",IF(AG72>=DATE(2016,1,1),\"3.0\",\"\")))))","v":"1.0"},"Distributed","Operational",null,null,58.5,null,null,130.16484,null,null,130.16484,0.254,"NA",null,0.254,250000,null,250000,150813,{"$f":" IF(AND(ISNUMBER(N72), ISNUMBER(Y72)),Y72/N72,\"NA\")","v":4273.5042735042734},null,0,"NA",null,"Completed at end of July 2014.","2017-08-03"]
[1,"P0051","Cayman Islands",null,null,null,"Solar PV",1,{"$f":"IF(K73=\"Planned\",\"3.0\",IF(AG73<DATE(2009,12,31),\"1.0\",IF(AND(AG73>=DATE(2010,1,1)+0,AG73<=DATE(2012,12,31)),\"1.0\",IF(AND(AG73>=DATE(2013,1,1),AG73<=DATE(2015,12,31)),\"2.0\",IF(AG73>=DATE(2016,1,1),\"3.0\",\"\")))))","v":"1.0"},"Distributed","Operational",null,null,3.4,null,null,7.5651360000000007,null,null,7.5651360000000007,0.254,"NA",null,0.254,8765.1999999999989,null,null,8765.1999999999989,{"$f":" IF(AND(ISNUMBER(N73), ISNUMBER(Y73)),Y73/N73,\"NA\")","v":2577.9999999999995},null,0,"NA",null,null,"2017-08-03"]
[1,null,"Cayman Islands",null,null,null,"Waste-to-Energy",1,null,"Utility/IPP","Planned",null,"Caribbean Utilities Company Ltd. (CUC)",5000,null,null,30966.6,null,null,30966.6,0.70699999999999996,"NA",null,{"$f":"IF(OR(K74=\"Under development\",K74=\"Planned\"),VLOOKUP(G74,'Capex by RE tech'!$A$4:$D$18,4,TRUE),IF(AND(K74=\"Operational\",G74=\"Solar PV\"),VLOOKUP(AG74,'Capex by RE tech'!$C$11:$D$13,2,TRUE),IF(AND(K74=\"Operational\",G74=\"Wind\"),VLOOKUP(AG74,'Capex by RE tech'!$C$17:$D$19,2,TRUE),IF(AND(K74=\"Operational\",G74=\"Biomass\"),VLOOKUP(AG74,'Capex by RE tech'!$C$2:$D$4,2,TRUE),IF(AND(K74=\"Operational\",G74=\"Geothermal\"),VLOOKUP(AG74,'Capex by RE tech'!$C$2:$D$4,2,TRUE),IF(AND(K74=\"Operational\",G74=\"Hydro\"),VLOOKUP(AG74,'Capex by RE tech'!$C$8:$D$10,2,TRUE),IF(AND(K74=\"Operational\",G74=\"Waste-to-Energy\"),VLOOKUP(AG74,'Capex by RE tech'!$C$14:$D$16,2,TRUE),IF(AND(K74=\"Operational\",AG74<2010),VLOOKUP(G74,'Capex by RE tech'!$A$2:$D$19,4,FALSE),NA))))))))","v":0.70699999999999996},41360000,null,null,{"$f":"AC74*N74","v":41360000},{"$f":"VLOOKUP(G74,'Capex by RE tech'!$A$2:$F$19,6,TRUE)","v":8272},null,0,"NA",null,"Part of IRP designed in 2017 and approved in 2019. Expected to be operational 2020","2019-08-08","Confident"]
[1,null,"Cayman Islands",null,null,null,"Biomass",1,null,"Utility/IPP","Planned",null,"Caribbean Utilities Company Ltd. (CUC)",1000,null,null,7884,null,null,7884,0.9,"NA",null,{"$f":"IF(OR(K75=\"Under development\",K75=\"Planned\"),VLOOKUP(G75,'Capex by RE tech'!$A$4:$D$18,4,TRUE),IF(AND(K75=\"Operational\",G75=\"Solar PV\"),VLOOKUP(AG75,'Capex by RE tech'!$C$11:$D$13,2,TRUE),IF(AND(K75=\"Operational\",G75=\"Wind\"),VLOOKUP(AG75,'Capex by RE tech'!$C$17:$D$19,2,TRUE),IF(AND(K75=\"Operational\",G75=\"Biomass\"),VLOOKUP(AG75,'Capex by RE tech'!$C$2:$D$4,2,TRUE),IF(AND(K75=\"Operational\",G75=\"Geothermal\"),VLOOKUP(AG75,'Capex by RE tech'!$C$2:$D$4,2,TRUE),IF(AND(K75=\"Operational\",G75=\"Hydro\"),VLOOKUP(AG75,'Capex by RE tech'!$C$8:$D$10,2,TRUE),IF(AND(K75=\"Operational\",G75=\"Waste-to-Energy\"),VLOOKUP(AG75,'Capex by RE tech'!$C$14:$D$16,2,TRUE),IF(AND(K75=\"Operational\",AG75<2010),VLOOKUP(G75,'Capex by RE tech'!$A$2:$D$19,4,FALSE),NA))))))))","v":0.9},3000000,null,null,{"$f":"AC75*N75","v":3000000},{"$f":"VLOOKUP(G75,'Capex by RE tech'!$A$2:$F$19,6,TRUE)","v":3000},null,0,"NA",null,"Part of IRP designed in 2017 and approved in 2019. Expected to be operational 2020","2019-08-08","Confident"]
[1,"P0076","Cuba",null,null,"Ecotècnia S.c.c.l.","Wind",1,{"$f":"IF(K76=\"Planned\",\"3.0\",IF(AG76<DATE(2009,12,31),\"1.0\",IF(AND(AG76>=DATE(2010,1,1)+0,AG76<=DATE(2012,12,31)),\"1.0\",IF(AND(AG76>=DATE(2013,1,1),AG76<=DATE(2015,12,31)),\"2.0\",IF(AG76>=DATE(2016,1,1),\"3.0\",\"\")))))","v":"1.0"},"Utility/IPP","Operational","Ecotècnia S.c.c.l.","Unión Eléctrica de Cuba (UNE)",450,null,null,1813.32,null,null,1813.32,0.46,"NA",null,0.46,709050,null,null,709050,{"$f":" IF(AND(ISNUMBER(N76), ISNUMBER(Y76)),Y76/N76,\"NA\")","v":1575.6666666666667},null,0,1997,1997,"Turiguano Island Wind Park commissioned in 1997 as Cuba's first wind project. Plans to add 1000 kW in the future.","2018-07-18","Confident"]
[180,"P0052","Cuba",null,"Various","Various","Hydro",180,{"$f":"IF(K77=\"Planned\",\"3.0\",IF(AG77<DATE(2009,12,31),\"1.0\",IF(AND(AG77>=DATE(2010,1,1)+0,AG77<=DATE(2012,12,31)),\"1.0\",IF(AND(AG77>=DATE(2013,1,1),AG77<=DATE(2015,12,31)),\"2.0\",IF(AG77>=DATE(2016,1,1),\"3.0\",\"\")))))","v":"1.0"},"Utility/IPP","Operational","Various","Unión Eléctrica de Cuba (UNE)",62100,null,null,64200,64200,null,64200,0.11801557364392386,0.11801557364392386,null,null,174687300,null,null,{"$f":"AC77*N77","v":174687300},{"$f":"VLOOKUP(G77,'Capex by RE tech'!$A$2:$F$19,6,TRUE)","v":2813},null,0,{"$f":"IF(ISNUMBER(AG77),AG77,IF(ISNUMBER(AH94),AH94,\"NA\"))","v":"NA"},null,null,"2018-07-18","Not confident"]
[{"$f":"H78","v":1},"P0053","Cuba",null,"Ciro Redondo Sugar Mill, Ciego de Avila","Biopower S.A. (Joint venture between Zerus S.A. and Havana Energy)","Biomass",1,null,"Utility/IPP","Under development","Biopower S.A. (Joint venture between Zerus S.A. and Havana Energy)","Unión Eléctrica de Cuba (UNE)",62000,null,null,378192.56,null,null,378192.56,0.69633333333333336,"NA",null,0.69633333333333336,186000000,null,186000000,220823333.33333331,{"$f":" IF(AND(ISNUMBER(N78), ISNUMBER(Y78)),Y78/N78,\"NA\")","v":3000},null,0,{"$f":"IF(ISNUMBER(AG78),AG78,IF(ISNUMBER(AH78),AH78,\"NA\"))","v":"NA"},null,"Biopower, joint venture between Azcuba's subsidiary Zerus SA and Havana Energy, began construction in April 2017 and hopes to complete inaugral project by 2019 (delayed to November). Using Marabu as the fuel. First PPA signed in Cuba","2019-08-05","Confident"]
[74,"P0054","Cuba",null,"Various","TBD","Hydro",74,null,"Utility/IPP","Under development","TBD","Unión Eléctrica de Cuba (UNE)",56000,null,null,350000,null,350000,350000,0.7134703196347032,"NA",{"$f":" S79 * 1000/(N79 * 8760)","v":0.7134703196347032},0.85,172256000,null,null,172256000,3076,null,0,2030,null,"Part of Cuban government's plan to generate 2.1 GW of renewable energy by 2030.","2019-08-05","Confident"]
[1,"P0055","Cuba","La Herradura-1 Wind Farm","Las Tunas Province","Empresa de Construccion y Montaje","Wind",1,null,"Utility/IPP","Under development","Unión Eléctrica de Cuba (UNE)","Unión Eléctrica de Cuba (UNE)",51000,null,null,205509.6,null,null,205509.6,0.46,"NA",null,0.46,81934666.666666672,null,null,81934666.666666672,1606.562091503268,null,0,{"$f":"IF(ISNUMBER(AG80),AG80,IF(ISNUMBER(AH80),AH80,\"NA\"))","v":"NA"},null,"Construction started March 2019. Construction of Wind Farms in Las Tunas Enters into New Stage ","2019-08-08","Confident"]
[1,"P0056","Cuba","La Herradura-2 Wind Farm","Las Tunas Province","Empresa de Construccion y Montaje","Wind",1,null,"Utility/IPP","Under development","Unión Eléctrica de Cuba (UNE)","Unión Eléctrica de Cuba (UNE)",50000,null,null,201480,null,null,201480,0.46,"NA",null,0.46,81934666.666666672,null,null,81934666.666666672,1638.6933333333334,null,0,"NA",null,"Construction has been underway. The company is also planning a third wind park. Construction of Wind Farms in Las Tunas Enters into New Stage ","2019-08-08","Confident"]
[1,"P0057","Cuba",null,"Cabo Lucrecia","Unión Eléctrica de Cuba (UNE)","Wind",1,null,"Utility/IPP","Planned","Unión Eléctrica de Cuba (UNE)","Unión Eléctrica de Cuba (UNE)",51000,null,null,205509.6,null,null,205509.6,0.46,{"$f":"IF(OR(ISBLANK(N82),ISBLANK(R82)),\"NA\",(R82*1000)/(N82*8760))","v":"NA"},null,0.46,80359000,null,null,80359000,1575.6666666666667,null,0,"NA",null,"Prospective wind farm site identified by Ministry of Energy and Mining. ","2018-07-10","Confident"]
[1,"P0058","Cuba",null,"Camagüey Province","Unión Eléctrica de Cuba (UNE)","Wind",1,null,"Utility/IPP","Planned","Unión Eléctrica de Cuba (UNE)","Unión Eléctrica de Cuba (UNE)",51000,null,null,205509.6,null,null,205509.6,0.46,"NA",null,0.46,80359000,null,null,80359000,1575.6666666666667,null,0,"NA",null,"Prospective wind farm site identified by Ministry of Energy and Mining. ","2018-07-10","Confident"]
[1,"P0059","Cuba",null,"Camagüey Province","Unión Eléctrica de Cuba (UNE)","Wind",1,null,"Utility/IPP","Planned","Unión Eléctrica de Cuba (UNE)","Unión Eléctrica de Cuba (UNE)",51000,null,null,205509.6,null,null,205509.6,0.46,"NA",null,0.46,80359000,null,null,80359000,1575.6666666666667,null,0,"NA",null,"Continued work in  Nuevas grandes, Manati","2018-07-10","Confident"]
[1,"P0060","Cuba",null,"Punta de Maisi","Unión Eléctrica de Cuba (UNE)","Wind",1,null,"Utility/IPP","Planned","Unión Eléctrica de Cuba (UNE)","Unión Eléctrica de Cuba (UNE)",51000,null,null,205509.6,null,null,205509.6,0.46,"NA",null,0.46,80359000,null,null,80359000,1575.6666666666667,null,0,"NA",null,"Prospective wind farm site identified by Ministry of Energy and Mining. ","2018-07-10","Confident"]
[1,"P0061","Cuba",null,"Punta de Maisi","Unión Eléctrica de Cuba (UNE)","Wind",1,null,"Utility/IPP","Planned","Unión Eléctrica de Cuba (UNE)","Unión Eléctrica de Cuba (UNE)",51000,null,null,205509.6,null,null,205509.6,0.46,"NA",null,0.46,80359000,null,null,80359000,1575.6666666666667,null,0,"NA",null,"Prospective wind farm site identified by Ministry of Energy and Mining. ","2018-07-10","Confident"]
[1,"P0062","Cuba",null,"Mayabeque Province","Unión Eléctrica de Cuba (UNE)","Wind",1,null,"Utility/IPP","Planned","Unión Eléctrica de Cuba (UNE)","Unión Eléctrica de Cuba (UNE)",51000,null,null,205509.6,null,null,205509.6,0.46,"NA",null,0.46,80359000,null,null,80359000,1575.6666666666667,null,0,"NA",null,"Prospective wind farm site identified by Ministry of Energy and Mining. ","2018-07-10","Confident"]
[3,"P0063","Cuba","Mariel Solar PV Park","Mariel Special Development Zone","Hive Energy","Solar PV",3,null,"Utility/IPP","Under development","Hive Energy","Unión Eléctrica de Cuba (UNE)",50000,null,null,108897,null,108897,438000,1,"NA",{"$f":"93000/438000","v":0.21232876712328766},0.254,100000000,null,100000000,150452080,2000,null,0,"NA",null,"Expected to be completed 4Q2019. ","2019-08-05","Confident"]
[1,"P0064","Cuba",null,"Punta de Maisi","Unión Eléctrica de Cuba (UNE)","Wind",1,null,"Utility/IPP","Planned","Unión Eléctrica de Cuba (UNE)","Unión Eléctrica de Cuba (UNE)",36000,null,null,145065.60000000001,null,null,145065.60000000001,{"$f":"IF(AND(V89=\"NA\",ISBLANK(W89)),X89,IF(V89<>\"NA\",V89,IF(ISNUMBER(W89),W89,X89)))","v":0.46},"NA",null,0.46,56724000,null,null,56724000,1575.6666666666667,null,0,"NA",null,"Prospective wind farm site identified by Ministry of Energy and Mining. ","2018-07-10","Not confident"]
[1,"P0065","Cuba",null,"Punta de Maisi","Unión Eléctrica de Cuba (UNE)","Wind",1,null,"Utility/IPP","Planned","Unión Eléctrica de Cuba (UNE)","Unión Eléctrica de Cuba (UNE)",36000,null,null,145065.60000000001,null,null,145065.60000000001,0.46,"NA",null,0.46,56724000,null,null,56724000,1575.6666666666667,null,0,"NA",null,"Prospective wind farm site identified by Ministry of Energy and Mining. ","2018-07-10","Not confident"]
[1,"P0066","Cuba",null,"Punta de Mulas","Unión Eléctrica de Cuba (UNE)","Wind",1,null,"Utility/IPP","Planned","Unión Eléctrica de Cuba (UNE)","Unión Eléctrica de Cuba (UNE)",36000,null,null,145065.60000000001,null,null,145065.60000000001,0.46,"NA",null,0.46,56724000,null,null,56724000,1575.6666666666667,null,0,"NA",null,"Prospective wind farm site identified by Ministry of Energy and Mining. ","2018-07-10","Not confident"]
[1,"P0067","Cuba",null,"Matanzas Province","Shandong Electric Power Engineering Consulting Institute Corp., Ltd.","Biomass",1,null,"Utility/IPP","Under development","Shandong Electric Power Engineering Consulting Institute Corp., Ltd.","Unión Eléctrica de Cuba (UNE)",20000,null,null,90000,null,90000,90000.000000000015,0.51369863013698636,"NA",{"$f":"90000/175200","v":0.51369863013698636},0.69633333333333336,71233333.333333328,null,null,71233333.333333328,3561.6666666666665,null,0,"NA",null,"British-Chinese group invests in second biomass power plant in Cuba","2019-08-05","Not confident"]
[1,"P0290","Cuba",null,null,"ACIMUT","Wind",1,null,"Utility/IPP","Planned","ACIMUT","Unión Eléctrica de Cuba (UNE)",null,null,null,0,null,null,0,0.315,"NA",null,{"$f":"IF(OR(K93=\"Under development\",K93=\"Planned\"),VLOOKUP(G93,'Capex by RE tech'!$A$4:$D$18,4,TRUE),IF(AND(K93=\"Operational\",G93=\"Solar PV\"),VLOOKUP(AG93,'Capex by RE tech'!$C$11:$D$13,2,TRUE),IF(AND(K93=\"Operational\",G93=\"Wind\"),VLOOKUP(AG93,'Capex by RE tech'!$C$17:$D$19,2,TRUE),IF(AND(K93=\"Operational\",G93=\"Biomass\"),VLOOKUP(AG93,'Capex by RE tech'!$C$2:$D$4,2,TRUE),IF(AND(K93=\"Operational\",G93=\"Geothermal\"),VLOOKUP(AG93,'Capex by RE tech'!$C$2:$D$4,2,TRUE),IF(AND(K93=\"Operational\",G93=\"Hydro\"),VLOOKUP(AG93,'Capex by RE tech'!$C$8:$D$10,2,TRUE),IF(AND(K93=\"Operational\",G93=\"Waste-to-Energy\"),VLOOKUP(AG93,'Capex by RE tech'!$C$14:$D$16,2,TRUE),IF(AND(K93=\"Operational\",AG93<2010),VLOOKUP(G93,'Capex by RE tech'!$A$2:$D$19,4,FALSE),NA))))))))","v":0.315},0,null,null,{"$f":"AC93*N93","v":0},{"$f":"VLOOKUP(G93,'Capex by RE tech'!$A$2:$F$19,6,TRUE)","v":1475},null,null,null,null,null,"2018-07-18","Not confident"]
[1,"P0070","Cuba",null,"Guantanamo","Ministerio de la Industria Basica (MINBAS) & Unión Eléctrica de Cuba (UNE)\n ","Solar PV",1,{"$f":"IF(K94=\"Planned\",\"3.0\",IF(AG94<DATE(2009,12,31),\"1.0\",IF(AND(AG94>=DATE(2010,1,1)+0,AG94<=DATE(2012,12,31)),\"1.0\",IF(AND(AG94>=DATE(2013,1,1),AG94<=DATE(2015,12,31)),\"2.0\",IF(AG94>=DATE(2016,1,1),\"3.0\",\"\")))))","v":"1.0"},"Utility/IPP","Operational","Ministerio de la Industria Basica (MINBAS) & Unión Eléctrica de Cuba (UNE)\n ","Unión Eléctrica de Cuba (UNE)",2500,null,null,3000,null,3000,3000,0.13698630136986301,"NA",{"$f":" S94 * 1000/(N94 * 8760)","v":0.13698630136986301},null,5000000,null,null,{"$f":" 2000 * N94","v":5000000},{"$f":" IF(AND(ISNUMBER(N94), ISNUMBER(Y94)),Y94/N94,\"NA\")","v":2000},null,{"$f":"SUM(AD94:AD94)","v":0},{"$f":"IF(ISNUMBER(AG94),AG94,IF(ISNUMBER(#REF!),#REF!,\"NA\"))","v":2013},2013,"Back on track after Hurricane","2018-07-18","Confident"]
[1,"P0072","Cuba",null,"Cienfuegos Province","Hidroenergia","Solar PV",1,"1.0","Utility/IPP","Operational","Hidroenergia","Unión Eléctrica de Cuba (UNE)",2600,14000,{"$f":"N95/O95","v":0.18571428571428572},5785.1040000000003,null,null,5785.1040000000003,0.254,"NA",null,0.254,6702800,null,null,6702800,2578,null,0,{"$f":"IF(ISNUMBER(AG95),AG95,IF(ISNUMBER(AH95),AH95,\"NA\"))","v":2013},2013,null,"2018-07-18","Confident"]
[280,"P0071","Cuba",null,"Various",null,"Solar PV",280,"1.0","Distributed","Operational",null,"Unión Eléctrica de Cuba (UNE)",2800,null,null,6230.1120000000001,null,null,6230.1120000000001,0.254,"NA",null,0.254,7218400,null,null,7218400,2578,null,0,"NA",null,"Number of installations estimated assuming 10kW average size of installation.","2017-08-03"]
[1,"P0073","Cuba",null,"Moa","Unión Eléctrica de Cuba (UNE)","Hydro",1,"1.0","Utility/IPP","Operational","Unión Eléctrica de Cuba (UNE)","Unión Eléctrica de Cuba (UNE)",2000,2,{"$f":"N97/O97","v":1000},16000,null,16000,16000,0.91324200913242004,"NA",{"$f":" S97 * 1000/(N97 * 8760)","v":0.91324200913242004},0.85,6400000,null,6400000,6152000,3200,null,0,2010,2010,null,"2018-07-18","Confident"]
[1,"P0075","Cuba",null,null,null,"Solar PV",1,"1.0","Utility/IPP","Operational",null,null,962,5200,{"$f":"N98/O98","v":0.185},2140.48848,null,null,2140.48848,0.254,"NA",null,0.254,2480036,null,null,2480036,2578,null,0,2013,2013,null,"2018-07-18","Confident"]
[1,"P0074","Cuba",null,"Isla de la Juventud","Vergnet","Wind",1,"1.0","Utility/IPP","Operational","Vergnet","Unión Eléctrica de Cuba (UNE)",1650,6,{"$f":"N99/O99","v":275},1800,null,1800,1800,0.12453300124533001,"NA",{"$f":" S99 * 1000/(N99 * 8760)","v":0.12453300124533001},0.46,3400000,null,3400000,2599850,2060.6060606060605,null,0,2007,2007,null,"2018-07-18","Confident"]
[1,"P0068","Cuba",null,"Holguín","Ministerio de la Industria Basica (MINBAS) & Unión Eléctrica de Cuba (UNE)\n ","Wind",1,"1.0","Utility/IPP","Operational","Ministerio de la Industria Basica (MINBAS) & Unión Eléctrica de Cuba (UNE)\n ","Unión Eléctrica de Cuba (UNE)",5100,6,{"$f":"N100/O100","v":850},11000,null,11000,11000,0.24621720834452501,"NA",{"$f":" S100 * 1000/(N100 * 8760)","v":0.24621720834452501},0.46,8035900,null,null,8035900,1575.6666666666667,null,0,2008,2008,null,"2018-07-18","Confident"]
[1,"P0069","Cuba",null,"Punta Rasa","Goldwind Global ","Wind",1,"1.0","Utility/IPP","Operational","Goldwind Global ","Unión Eléctrica de Cuba (UNE)",4500,6,{"$f":"N101/O101","v":750},10000,null,10000,10000,0.25367833587011668,"NA",{"$f":" S101 * 1000/(N101 * 8760)","v":0.25367833587011668},0.46,7090500,null,null,7090500,1575.6666666666667,null,0,2011,2011,"Construction of Wind Farm","2018-07-18","Confident"]
[1,null,"Cuba",null,"Mario Munoz sugar mill","Havana Energy","Biomass",1,null,null,"Under development","Havana Energy",null,62000,null,null,488808,null,null,488808,0.9,"NA",null,{"$f":"IF(OR(K102=\"Under development\",K102=\"Planned\"),VLOOKUP(G102,'Capex by RE tech'!$A$4:$D$18,4,TRUE),IF(AND(K102=\"Operational\",G102=\"Solar PV\"),VLOOKUP(AG102,'Capex by RE tech'!$C$11:$D$13,2,TRUE),IF(AND(K102=\"Operational\",G102=\"Wind\"),VLOOKUP(AG102,'Capex by RE tech'!$C$17:$D$19,2,TRUE),IF(AND(K102=\"Operational\",G102=\"Biomass\"),VLOOKUP(AG102,'Capex by RE tech'!$C$2:$D$4,2,TRUE),IF(AND(K102=\"Operational\",G102=\"Geothermal\"),VLOOKUP(AG102,'Capex by RE tech'!$C$2:$D$4,2,TRUE),IF(AND(K102=\"Operational\",G102=\"Hydro\"),VLOOKUP(AG102,'Capex by RE tech'!$C$8:$D$10,2,TRUE),IF(AND(K102=\"Operational\",G102=\"Waste-to-Energy\"),VLOOKUP(AG102,'Capex by RE tech'!$C$14:$D$16,2,TRUE),IF(AND(K102=\"Operational\",AG102<2010),VLOOKUP(G102,'Capex by RE tech'!$A$2:$D$19,4,FALSE),NA))))))))","v":0.9},140000000,null,null,140000000,2258.0645161290322,null,null,null,2020,"Expected to be operational 2020","2019-08-07","Confident"]
[1,null,"Cuba","Cardenas I","Matanzas",null,"Solar PV",1,null,"Utility/IPP","Operational",null,null,3750,null,null,7555.5,null,null,7555.5,0.23,"NA",null,{"$f":"IF(OR(K103=\"Under development\",K103=\"Planned\"),VLOOKUP(G103,'Capex by RE tech'!$A$4:$D$18,4,TRUE),IF(AND(K103=\"Operational\",G103=\"Solar PV\"),VLOOKUP(AG103,'Capex by RE tech'!$C$11:$D$13,2,TRUE),IF(AND(K103=\"Operational\",G103=\"Wind\"),VLOOKUP(AG103,'Capex by RE tech'!$C$17:$D$19,2,TRUE),IF(AND(K103=\"Operational\",G103=\"Biomass\"),VLOOKUP(AG103,'Capex by RE tech'!$C$2:$D$4,2,TRUE),IF(AND(K103=\"Operational\",G103=\"Geothermal\"),VLOOKUP(AG103,'Capex by RE tech'!$C$2:$D$4,2,TRUE),IF(AND(K103=\"Operational\",G103=\"Hydro\"),VLOOKUP(AG103,'Capex by RE tech'!$C$8:$D$10,2,TRUE),IF(AND(K103=\"Operational\",G103=\"Waste-to-Energy\"),VLOOKUP(AG103,'Capex by RE tech'!$C$14:$D$16,2,TRUE),IF(AND(K103=\"Operational\",AG103<2010),VLOOKUP(G103,'Capex by RE tech'!$A$2:$D$19,4,FALSE),NA))))))))","v":0.23},5437500,null,null,{"$f":"AC103*N103","v":5437500},{"$f":"VLOOKUP(G103,'Capex by RE tech'!$A$2:$F$19,6,TRUE)","v":1450},null,{"$f":"SUM(AD103:AD103)","v":0},{"$f":"IF(ISNUMBER(AG103),AG103,IF(ISNUMBER(AH103),AH103,\"NA\"))","v":2019},2019,"Opened July 2019, financed by IRENA and Bud Dhabi Fund for Development","2019-08-08","Confident"]
[1,null,"Cuba",null,null,"EFF Solar SA","Solar PV",1,null,"Utility/IPP","Under development","EFF Solar SA",null,5000,null,null,10074,null,null,10074,0.23,"NA",null,{"$f":"IF(OR(K104=\"Under development\",K104=\"Planned\"),VLOOKUP(G104,'Capex by RE tech'!$A$4:$D$18,4,TRUE),IF(AND(K104=\"Operational\",G104=\"Solar PV\"),VLOOKUP(AG104,'Capex by RE tech'!$C$11:$D$13,2,TRUE),IF(AND(K104=\"Operational\",G104=\"Wind\"),VLOOKUP(AG104,'Capex by RE tech'!$C$17:$D$19,2,TRUE),IF(AND(K104=\"Operational\",G104=\"Biomass\"),VLOOKUP(AG104,'Capex by RE tech'!$C$2:$D$4,2,TRUE),IF(AND(K104=\"Operational\",G104=\"Geothermal\"),VLOOKUP(AG104,'Capex by RE tech'!$C$2:$D$4,2,TRUE),IF(AND(K104=\"Operational\",G104=\"Hydro\"),VLOOKUP(AG104,'Capex by RE tech'!$C$8:$D$10,2,TRUE),IF(AND(K104=\"Operational\",G104=\"Waste-to-Energy\"),VLOOKUP(AG104,'Capex by RE tech'!$C$14:$D$16,2,TRUE),IF(AND(K104=\"Operational\",AG104<2010),VLOOKUP(G104,'Capex by RE tech'!$A$2:$D$19,4,FALSE),NA))))))))","v":0.23},7250000,null,null,7250000,{"$f":"VLOOKUP(G104,'Capex by RE tech'!$A$2:$F$19,6,TRUE)","v":1450},null,0,"NA",null,null,"2019-08-08","Confident"]
[1,null,"Cuba",null,"Sancti Spiritus Province",null,"Solar PV",1,null,"Utility/IPP","Operational",null,null,1250,null,null,1875,null,1875,0,0,"NA",null,null,1812500,null,null,1812500,{"$f":"VLOOKUP(G105,'Capex by RE tech'!$A$2:$F$19,6,TRUE)","v":1450},null,0,2019,2019,"Inaugurated February 2019","2019-08-08","Confident"]
[1,null,"Cuba","Parada II Solar Park","Puerto Padre, Las Tunas",null,"Solar PV",1,null,"Utility/IPP","Operational",null,null,4400,null,null,9125,null,{"$f":"25*365","v":9125},0,0,"NA",null,null,6380000,null,null,6380000,{"$f":"VLOOKUP(G106,'Capex by RE tech'!$A$2:$F$19,6,TRUE)","v":1450},null,0,2018,2018,"Operational since July 2018","2019-08-08","Confident"]
[1,null,"Cuba","Parada I Solar Park","Puerto Padre, Las Tunas",null,"Solar PV",1,null,"Utility/IPP","Operational",null,null,2200,null,null,4432.5600000000004,null,null,4432.5600000000004,0.23,"NA",null,{"$f":"IF(OR(K107=\"Under development\",K107=\"Planned\"),VLOOKUP(G107,'Capex by RE tech'!$A$4:$D$18,4,TRUE),IF(AND(K107=\"Operational\",G107=\"Solar PV\"),VLOOKUP(AG107,'Capex by RE tech'!$C$11:$D$13,2,TRUE),IF(AND(K107=\"Operational\",G107=\"Wind\"),VLOOKUP(AG107,'Capex by RE tech'!$C$17:$D$19,2,TRUE),IF(AND(K107=\"Operational\",G107=\"Biomass\"),VLOOKUP(AG107,'Capex by RE tech'!$C$2:$D$4,2,TRUE),IF(AND(K107=\"Operational\",G107=\"Geothermal\"),VLOOKUP(AG107,'Capex by RE tech'!$C$2:$D$4,2,TRUE),IF(AND(K107=\"Operational\",G107=\"Hydro\"),VLOOKUP(AG107,'Capex by RE tech'!$C$8:$D$10,2,TRUE),IF(AND(K107=\"Operational\",G107=\"Waste-to-Energy\"),VLOOKUP(AG107,'Capex by RE tech'!$C$14:$D$16,2,TRUE),IF(AND(K107=\"Operational\",AG107<2010),VLOOKUP(G107,'Capex by RE tech'!$A$2:$D$19,4,FALSE),NA))))))))","v":0.23},3190000,null,null,3190000,{"$f":"VLOOKUP(G107,'Capex by RE tech'!$A$2:$F$19,6,TRUE)","v":1450},null,0,2017,2017,"Operational since September 2017","2019-08-08","Confident"]
[1,null,"Cuba",null,"Ciego de Avlia, Ceballos",null,"Solar PV",1,"Utility/IPP","Utility/IPP","Operational",null,null,4400,null,null,8865.1200000000008,null,null,8865.1200000000008,0.23,"NA",null,{"$f":"IF(OR(K108=\"Under development\",K108=\"Planned\"),VLOOKUP(G108,'Capex by RE tech'!$A$4:$D$18,4,TRUE),IF(AND(K108=\"Operational\",G108=\"Solar PV\"),VLOOKUP(AG108,'Capex by RE tech'!$C$11:$D$13,2,TRUE),IF(AND(K108=\"Operational\",G108=\"Wind\"),VLOOKUP(AG108,'Capex by RE tech'!$C$17:$D$19,2,TRUE),IF(AND(K108=\"Operational\",G108=\"Biomass\"),VLOOKUP(AG108,'Capex by RE tech'!$C$2:$D$4,2,TRUE),IF(AND(K108=\"Operational\",G108=\"Geothermal\"),VLOOKUP(AG108,'Capex by RE tech'!$C$2:$D$4,2,TRUE),IF(AND(K108=\"Operational\",G108=\"Hydro\"),VLOOKUP(AG108,'Capex by RE tech'!$C$8:$D$10,2,TRUE),IF(AND(K108=\"Operational\",G108=\"Waste-to-Energy\"),VLOOKUP(AG108,'Capex by RE tech'!$C$14:$D$16,2,TRUE),IF(AND(K108=\"Operational\",AG108<2010),VLOOKUP(G108,'Capex by RE tech'!$A$2:$D$19,4,FALSE),NA))))))))","v":0.23},6380000,null,null,6380000,{"$f":"VLOOKUP(G108,'Capex by RE tech'!$A$2:$F$19,6,TRUE)","v":1450},null,0,2017,2017,"Operational since August 2017","2019-08-08","Confident"]
[1,null,"Cuba",null,"Chambras",null,"Solar PV",1,"Utility/IPP","Utility/IPP","Operational",null,null,5500,null,null,11081.4,null,null,11081.4,0.23,"NA",null,{"$f":"IF(OR(K109=\"Under development\",K109=\"Planned\"),VLOOKUP(G109,'Capex by RE tech'!$A$4:$D$18,4,TRUE),IF(AND(K109=\"Operational\",G109=\"Solar PV\"),VLOOKUP(AG109,'Capex by RE tech'!$C$11:$D$13,2,TRUE),IF(AND(K109=\"Operational\",G109=\"Wind\"),VLOOKUP(AG109,'Capex by RE tech'!$C$17:$D$19,2,TRUE),IF(AND(K109=\"Operational\",G109=\"Biomass\"),VLOOKUP(AG109,'Capex by RE tech'!$C$2:$D$4,2,TRUE),IF(AND(K109=\"Operational\",G109=\"Geothermal\"),VLOOKUP(AG109,'Capex by RE tech'!$C$2:$D$4,2,TRUE),IF(AND(K109=\"Operational\",G109=\"Hydro\"),VLOOKUP(AG109,'Capex by RE tech'!$C$8:$D$10,2,TRUE),IF(AND(K109=\"Operational\",G109=\"Waste-to-Energy\"),VLOOKUP(AG109,'Capex by RE tech'!$C$14:$D$16,2,TRUE),IF(AND(K109=\"Operational\",AG109<2010),VLOOKUP(G109,'Capex by RE tech'!$A$2:$D$19,4,FALSE),NA))))))))","v":0.23},7975000,null,null,7975000,{"$f":"VLOOKUP(G109,'Capex by RE tech'!$A$2:$F$19,6,TRUE)","v":1450},null,null,2018,2018,"Operational since March 2018","2019-08-08","Confident"]
[{"$f":"H110","v":15},null,"Cuba",null,null,null,"Solar PV",15,null,"Utility/IPP","Under development",null,null,42000,null,null,84621.6,null,null,84621.6,0.23,"NA",null,{"$f":"IF(OR(K110=\"Under development\",K110=\"Planned\"),VLOOKUP(G110,'Capex by RE tech'!$A$4:$D$18,4,TRUE),IF(AND(K110=\"Operational\",G110=\"Solar PV\"),VLOOKUP(AG110,'Capex by RE tech'!$C$11:$D$13,2,TRUE),IF(AND(K110=\"Operational\",G110=\"Wind\"),VLOOKUP(AG110,'Capex by RE tech'!$C$17:$D$19,2,TRUE),IF(AND(K110=\"Operational\",G110=\"Biomass\"),VLOOKUP(AG110,'Capex by RE tech'!$C$2:$D$4,2,TRUE),IF(AND(K110=\"Operational\",G110=\"Geothermal\"),VLOOKUP(AG110,'Capex by RE tech'!$C$2:$D$4,2,TRUE),IF(AND(K110=\"Operational\",G110=\"Hydro\"),VLOOKUP(AG110,'Capex by RE tech'!$C$8:$D$10,2,TRUE),IF(AND(K110=\"Operational\",G110=\"Waste-to-Energy\"),VLOOKUP(AG110,'Capex by RE tech'!$C$14:$D$16,2,TRUE),IF(AND(K110=\"Operational\",AG110<2010),VLOOKUP(G110,'Capex by RE tech'!$A$2:$D$19,4,FALSE),NA))))))))","v":0.23},60900000,null,null,60900000,{"$f":"VLOOKUP(G110,'Capex by RE tech'!$A$2:$F$19,6,TRUE)","v":1450},null,null,null,null,null,"2019-08-08","Confident"]
[13,null,"Cuba",null,null,null,"Wind",13,"Utility/IPP","Utility/IPP","Planned",null,null,688000,null,null,1898467.2,null,null,1898467.2,0.315,"NA",null,{"$f":"IF(OR(K111=\"Under development\",K111=\"Planned\"),VLOOKUP(G111,'Capex by RE tech'!$A$4:$D$18,4,TRUE),IF(AND(K111=\"Operational\",G111=\"Solar PV\"),VLOOKUP(AG111,'Capex by RE tech'!$C$11:$D$13,2,TRUE),IF(AND(K111=\"Operational\",G111=\"Wind\"),VLOOKUP(AG111,'Capex by RE tech'!$C$17:$D$19,2,TRUE),IF(AND(K111=\"Operational\",G111=\"Biomass\"),VLOOKUP(AG111,'Capex by RE tech'!$C$2:$D$4,2,TRUE),IF(AND(K111=\"Operational\",G111=\"Geothermal\"),VLOOKUP(AG111,'Capex by RE tech'!$C$2:$D$4,2,TRUE),IF(AND(K111=\"Operational\",G111=\"Hydro\"),VLOOKUP(AG111,'Capex by RE tech'!$C$8:$D$10,2,TRUE),IF(AND(K111=\"Operational\",G111=\"Waste-to-Energy\"),VLOOKUP(AG111,'Capex by RE tech'!$C$14:$D$16,2,TRUE),IF(AND(K111=\"Operational\",AG111<2010),VLOOKUP(G111,'Capex by RE tech'!$A$2:$D$19,4,FALSE),NA))))))))","v":0.315},1014800000,null,null,1014800000,{"$f":"VLOOKUP(G111,'Capex by RE tech'!$A$2:$F$19,6,TRUE)","v":1475},null,null,null,null,null,"2019-08-08","Confident"]
[1,"P0291","Curaҫao",null,null,null,"Solar PV",1,null,"Utility/IPP","Planned",null,"Aqualectra",10000,null,null,17520,null,null,17520,0.2,"NA",null,0.2,14500000,null,null,14500000,{"$f":"VLOOKUP(G112,'Capex by RE tech'!$A$2:$F$19,6,TRUE)","v":1450},null,null,{"$f":"IF(ISNUMBER(AG112),AG112,IF(ISNUMBER(AH112),AH112,\"NA\"))","v":"NA"},null,"National Policy for Curacao, Pg. 76 ","2019-09-16","Confident"]
[1,"P0078","Curaҫao","Playa Kanoa Wind Farm","Playa Kanoa","NuCapital, Inc.","Wind",1,{"$f":"IF(K113=\"Planned\",\"3.0\",IF(AG113<DATE(2009,12,31),\"1.0\",IF(AND(AG113>=DATE(2010,1,1)+0,AG113<=DATE(2012,12,31)),\"1.0\",IF(AND(AG113>=DATE(2013,1,1),AG113<=DATE(2015,12,31)),\"2.0\",IF(AG113>=DATE(2016,1,1),\"3.0\",\"\")))))","v":"1.0"},"Utility/IPP","Operational","NuCapital, Inc.","Aqualectra",15000,5,{"$f":"N113/O113","v":3000},65000,null,65000,65700,0.5,"NA",0.5,0.46,32727272.72727273,null,null,{"$f":" N113 * AC113","v":32727272.72727273},{"$f":" AC114","v":2181.818181818182},null,{"$f":"SUM(AD113:AD113)","v":0},2012,2012,"Confirmed in survey response from Aqualectra. Operational in 1999, purchased by NuCapital, Inc. in 2012 and repowered with five 3-MW turbines. ","2019-09-16","Confident"]
[1,"P0079","Curaҫao","Tera Kora Wind Farm (5X3MW)","Tera Kora","NuCapital, Inc.","Wind",1,"1.0","Utility/IPP","Operational","NuCapital, Inc.","Aqualectra",15000,5,{"$f":"N114/O114","v":3000},65000,null,65000,65700,0.5,{"$f":"IF(OR(ISBLANK(N114),ISBLANK(R114)),\"NA\",(R114*1000)/(N114*8760))","v":"NA"},0.5,null,32727272.72727273,null,null,{"$f":" N114 * AC114","v":32727272.72727273},{"$f":" AC115","v":2181.818181818182},null,0,2012,2012,"Confirmed in survey response from Aqualectra. Operational in 1999, purchased by NuCapital, Inc. in 2012 and repowered with five 3-MW turbines. ","2019-09-16","Confident"]
[1,"P0077","Curaҫao","Tera Kora Wind Farm (5X3.3MW)","Tera Kora","NuCuraҫao Windparken II B.V.","Wind",1,"1.0","Utility/IPP","Operational","NuCuraҫao Windparken II B.V.","Aqualectra",16500,5,{"$f":"N115/O115","v":3300},103000,null,103000,101178,0.7,"NA",0.7,0.46,36000000,null,36000000,27180250,{"$f":" IF(AND(ISNUMBER(N115), ISNUMBER(Y115)),Y115/N115,\"NA\")","v":2181.818181818182},null,0,2017,2017,"Confirmed in survey response from Aqualectra. Completed in August 2017","2019-09-16","Confident"]
[700,"P0080","Curaҫao",null,"Various",null,"Solar PV",700,"1.0","Distributed","Operational",null,null,8000,null,null,17800.32,null,null,17800.32,0.254,"NA",null,0.254,20624000,null,null,20624000,2578,null,0,"NA",null,"Part of net metering program, 8 MW of grid-connected solar systems by February 2014.","2017-08-03"]
[1,"P0081","Curaҫao",null,null,null,"Solar PV",1,"1.0","Distributed","Operational",null,null,734,null,null,1633.1793600000001,null,null,1633.1793600000001,0.254,"NA",null,0.254,1892252,null,null,1892252,2578,null,0,2013,2013,"Eco Energy installs 2669 panels  at Naval Base Parera in 2013.","2017-08-03"]
[1,"P0082","Curaҫao",null,null,null,"Solar PV",1,"1.0","Distributed","Operational",null,null,715,null,null,1590.9036000000001,null,null,1590.9036000000001,0.254,"NA",null,0.254,1843270,null,null,1843270,2578,null,0,2013,2013,"Eco Energy installs 2803 panels  at Central Bank in 2013.","2017-08-03"]
[1,"P0083","Dominica",null,"Roseau Valley","TBD","Geothermal",1,null,"Utility/IPP","Planned","TBD","Dominica Electricity Services Ltd. (DOMLEC)",100000,null,null,716860,null,null,716860,0.81833333333333336,"NA",null,0.81833333333333336,484700000,null,null,484700000,4847,null,0,"NA",null,"A small geothermal power plant with capacity of 7 MW will first (see P0269) be developed to produce at a domestic level, then a large power plant with capacity of up to 100 will be developed to export energy to other islands (Guadeloupe and Martinique). ","2019-10-09","Confident"]
[1,"P0085","Dominica",null,"Trafalgar Falls","Dominica Electricity Services Ltd. (DOMLEC)","Hydro",1,{"$f":"IF(K120=\"Planned\",\"3.0\",IF(AG120<DATE(2009,12,31),\"1.0\",IF(AND(AG120>=DATE(2010,1,1)+0,AG120<=DATE(2012,12,31)),\"1.0\",IF(AND(AG120>=DATE(2013,1,1),AG120<=DATE(2015,12,31)),\"2.0\",IF(AG120>=DATE(2016,1,1),\"3.0\",\"\")))))","v":"1.0"},"Utility/IPP","Operational","Dominica Electricity Services Ltd. (DOMLEC)","Dominica Electricity Services Ltd. (DOMLEC)",3520,2,{"$f":"N120/O120","v":1760},26209.919999999998,null,null,26209.919999999998,0.85,"NA",null,0.85,10827520,null,null,10827520,3076,null,0,1991,1991,"Damaged by the hurricane Maria but operating","2018-07-18","Confident"]
[1,"P0086","Dominica",null,"Roseau River","Dominica Electricity Services Ltd. (DOMLEC)","Hydro",1,{"$f":"IF(K121=\"Planned\",\"3.0\",IF(AG121<DATE(2009,12,31),\"1.0\",IF(AND(AG121>=DATE(2010,1,1)+0,AG121<=DATE(2012,12,31)),\"1.0\",IF(AND(AG121>=DATE(2013,1,1),AG121<=DATE(2015,12,31)),\"2.0\",IF(AG121>=DATE(2016,1,1),\"3.0\",\"\")))))","v":"1.0"},"Utility/IPP","Operational","Dominica Electricity Services Ltd. (DOMLEC)","Dominica Electricity Services Ltd. (DOMLEC)",1800,2,{"$f":"N121/O121","v":900},13402.8,null,null,13402.8,0.85,"NA",null,0.85,5536800,null,null,5536800,3076,null,0,1990,1990,"Hydro Power Plants – Padu power station suffered extensive damage to the turbine house and generating units.","2018-07-18","Confident"]
[1,"P0269","Dominica",null,"Roseau Valley",null,"Geothermal",1,null,"Utility/IPP","Planned",null,"Dominica Electricity Services Ltd. (DOMLEC)",7000,2,{"$f":"N122/O122","v":3500},50180.2,null,null,50180.2,0.81833333333333336,"NA",null,null,48000000,null,48000000,33929000,6857.1428571428569,null,null,null,null,"Secured $27 million in funding from the World Bank in March 2019. Testing on well began October 2019. Construction was set for 3Q 2019","2019-08-06","Confident"]
[1,"P0087","Dominica",null,"Laudat","Dominica Electricity Services Ltd. (DOMLEC)","Hydro",1,{"$f":"IF(K123=\"Planned\",\"3.0\",IF(AG123<DATE(2009,12,31),\"1.0\",IF(AND(AG123>=DATE(2010,1,1)+0,AG123<=DATE(2012,12,31)),\"1.0\",IF(AND(AG123>=DATE(2013,1,1),AG123<=DATE(2015,12,31)),\"2.0\",IF(AG123>=DATE(2016,1,1),\"3.0\",\"\")))))","v":"1.0"},"Utility/IPP","Operational","Dominica Electricity Services Ltd. (DOMLEC)","Dominica Electricity Services Ltd. (DOMLEC)",1300,1,{"$f":"N123/O123","v":1300},9679.7999999999993,null,null,9679.7999999999993,{"$f":"IF(AND(V123=\"NA\",ISBLANK(W123)),X123,IF(V123<>\"NA\",V123,IF(ISNUMBER(W123),W123,X123)))","v":0.85},"NA",null,0.85,3998800,null,null,3998800,3076,null,{"$f":"SUM(AD123:AD123)","v":0},{"$f":"IF(ISNUMBER(AG123),AG123,IF(ISNUMBER(AH123),AH123,\"NA\"))","v":1967},1967,null,"2018-07-18","Confident"]
[1,"P0088","Dominica",null,null,null,"Solar PV",1,{"$f":"IF(K124=\"Planned\",\"3.0\",IF(AG124<DATE(2009,12,31),\"1.0\",IF(AND(AG124>=DATE(2010,1,1)+0,AG124<=DATE(2012,12,31)),\"1.0\",IF(AND(AG124>=DATE(2013,1,1),AG124<=DATE(2015,12,31)),\"2.0\",IF(AG124>=DATE(2016,1,1),\"3.0\",\"\")))))","v":"1.0"},"Distributed","Operational",null,null,225,null,null,500.63400000000001,null,null,500.63400000000001,{"$f":"IF(AND(V124=\"NA\",ISBLANK(W124)),X124,IF(V124<>\"NA\",V124,IF(ISNUMBER(W124),W124,X124)))","v":0.254},"NA",null,0.254,580050,null,null,580050,2578,null,{"$f":"SUM(AD124:AD124)","v":0},2014,2014,"Eco Resort in Dominica got closed after hurricane","2018-08-06"]
[1,"P0089","Dominica",null,null,null,"Wind",1,{"$f":"IF(K125=\"Planned\",\"3.0\",IF(AG125<DATE(2009,12,31),\"1.0\",IF(AND(AG125>=DATE(2010,1,1)+0,AG125<=DATE(2012,12,31)),\"1.0\",IF(AND(AG125>=DATE(2013,1,1),AG125<=DATE(2015,12,31)),\"2.0\",IF(AG125>=DATE(2016,1,1),\"3.0\",\"\")))))","v":"1.0"},"Distributed","Operational",null,null,225,null,null,906.66,null,null,906.66,{"$f":"IF(AND(V125=\"NA\",ISBLANK(W125)),X125,IF(V125<>\"NA\",V125,IF(ISNUMBER(W125),W125,X125)))","v":0.46},"NA",null,0.46,354525,null,null,354525,1575.6666666666667,null,{"$f":"SUM(AD125:AD125)","v":0},2014,2014,"Additional 1-kW turbine operational, but not connected to the grid.","2017-08-03"]
[1,"P0299","Dominica",null,null,null,"Solar PV",1,null,"Distributed","Planned",null,null,null,null,null,0,null,null,0,0.2,"NA",null,{"$f":"IF(OR(K126=\"Under development\",K126=\"Planned\"),VLOOKUP(G126,'Capex by RE tech'!$A$4:$D$18,4,TRUE),IF(AND(K126=\"Operational\",G126=\"Solar PV\"),VLOOKUP(AG126,'Capex by RE tech'!$C$11:$D$13,2,TRUE),IF(AND(K126=\"Operational\",G126=\"Wind\"),VLOOKUP(AG126,'Capex by RE tech'!$C$17:$D$19,2,TRUE),IF(AND(K126=\"Operational\",G126=\"Biomass\"),VLOOKUP(AG126,'Capex by RE tech'!$C$2:$D$4,2,TRUE),IF(AND(K126=\"Operational\",G126=\"Geothermal\"),VLOOKUP(AG126,'Capex by RE tech'!$C$2:$D$4,2,TRUE),IF(AND(K126=\"Operational\",G126=\"Hydro\"),VLOOKUP(AG126,'Capex by RE tech'!$C$8:$D$10,2,TRUE),IF(AND(K126=\"Operational\",G126=\"Waste-to-Energy\"),VLOOKUP(AG126,'Capex by RE tech'!$C$14:$D$16,2,TRUE),IF(AND(K126=\"Operational\",AG126<2010),VLOOKUP(G126,'Capex by RE tech'!$A$2:$D$19,4,FALSE),NA))))))))","v":0.23},6000000,null,6000000,null,"NA",null,null,"NA",null,"Incorporation of 4 Renewable  Distributed Generation Systems with Storm resilient Solar PV (6 Million US$)","2018-09-19","Confident"]
[1,"P0300","Dominica",null,null,null,"Solar PV",1,null,"Utility/IPP","Planned",null,null,null,null,null,0,null,null,0,0.2,"NA",null,{"$f":"IF(OR(K127=\"Under development\",K127=\"Planned\"),VLOOKUP(G127,'Capex by RE tech'!$A$4:$D$18,4,TRUE),IF(AND(K127=\"Operational\",G127=\"Solar PV\"),VLOOKUP(AG127,'Capex by RE tech'!$C$11:$D$13,2,TRUE),IF(AND(K127=\"Operational\",G127=\"Wind\"),VLOOKUP(AG127,'Capex by RE tech'!$C$17:$D$19,2,TRUE),IF(AND(K127=\"Operational\",G127=\"Biomass\"),VLOOKUP(AG127,'Capex by RE tech'!$C$2:$D$4,2,TRUE),IF(AND(K127=\"Operational\",G127=\"Geothermal\"),VLOOKUP(AG127,'Capex by RE tech'!$C$2:$D$4,2,TRUE),IF(AND(K127=\"Operational\",G127=\"Hydro\"),VLOOKUP(AG127,'Capex by RE tech'!$C$8:$D$10,2,TRUE),IF(AND(K127=\"Operational\",G127=\"Waste-to-Energy\"),VLOOKUP(AG127,'Capex by RE tech'!$C$14:$D$16,2,TRUE),IF(AND(K127=\"Operational\",AG127<2010),VLOOKUP(G127,'Capex by RE tech'!$A$2:$D$19,4,FALSE),NA))))))))","v":0.23},2400000,null,2400000,null,"NA",null,null,"NA",null,"Microgrid for airport and Castle Bruce Area (2.4 Million US$) ","2018-09-19","Not confident"]
[1,"P0301","Dominica",null,null,null,"Solar PV",1,{"$f":"IF(K128=\"Planned\",\"3.0\",IF(AG128<DATE(2009,12,31),\"1.0\",IF(AND(AG128>=DATE(2010,1,1)+0,AG128<=DATE(2012,12,31)),\"1.0\",IF(AND(AG128>=DATE(2013,1,1),AG128<=DATE(2015,12,31)),\"2.0\",IF(AG128>=DATE(2016,1,1),\"3.0\",\"\")))))","v":"1.0"},"Utility/IPP","Operational",null,null,3000,null,null,5256,null,null,5256,{"$f":"IF(AND(V128=\"NA\",ISBLANK(W128)),X128,IF(V128<>\"NA\",V128,IF(ISNUMBER(W128),W128,X128)))","v":0.2},"NA",null,0.2,8000000,null,8000000,null,2666.6666666666665,null,null,2018,2018,"Large Scale Solar PV3 1MW Solar Installed during 2018/19, resilient to withstand cat 4 and 5 / Cost 8 M US$","2018-09-19","Confident"]
[1,"P0302","Dominica",null,null,null,"Solar PV",1,null,"Distributed","Planned",null,null,null,null,null,0,null,null,0,0.23,"NA",null,{"$f":"IF(OR(K129=\"Under development\",K129=\"Planned\"),VLOOKUP(G129,'Capex by RE tech'!$A$4:$D$18,4,TRUE),IF(AND(K129=\"Operational\",G129=\"Solar PV\"),VLOOKUP(AG129,'Capex by RE tech'!$C$11:$D$13,2,TRUE),IF(AND(K129=\"Operational\",G129=\"Wind\"),VLOOKUP(AG129,'Capex by RE tech'!$C$17:$D$19,2,TRUE),IF(AND(K129=\"Operational\",G129=\"Biomass\"),VLOOKUP(AG129,'Capex by RE tech'!$C$2:$D$4,2,TRUE),IF(AND(K129=\"Operational\",G129=\"Geothermal\"),VLOOKUP(AG129,'Capex by RE tech'!$C$2:$D$4,2,TRUE),IF(AND(K129=\"Operational\",G129=\"Hydro\"),VLOOKUP(AG129,'Capex by RE tech'!$C$8:$D$10,2,TRUE),IF(AND(K129=\"Operational\",G129=\"Waste-to-Energy\"),VLOOKUP(AG129,'Capex by RE tech'!$C$14:$D$16,2,TRUE),IF(AND(K129=\"Operational\",AG129<2010),VLOOKUP(G129,'Capex by RE tech'!$A$2:$D$19,4,FALSE),NA))))))))","v":0.23},5000000,null,5000000,null,"NA",null,null,"NA",null,"Aggregated Battery Storage of 15MWh for Commercial and Home","2018-09-19","Confident"]
[10,"P0090","Dominica",null,null,null,"Solar PV",10,{"$f":"IF(K130=\"Planned\",\"3.0\",IF(AG130<DATE(2009,12,31),\"1.0\",IF(AND(AG130>=DATE(2010,1,1)+0,AG130<=DATE(2012,12,31)),\"1.0\",IF(AND(AG130>=DATE(2013,1,1),AG130<=DATE(2015,12,31)),\"2.0\",IF(AG130>=DATE(2016,1,1),\"3.0\",\"\")))))","v":"1.0"},"Distributed","Operational",null,null,195.7,null,null,{"$f":"IF(ISNUMBER(R130),R130,IF(ISNUMBER(S130),S130, IF(ISNUMBER(T130), T130,\"NA\")))","v":435.44032799999997},null,null,{"$f":" (N130 * 8760 * U130)/1000","v":435.44032799999997},0.254,"NA",null,0.254,{"$f":" IF(ISNUMBER(Z130), Z130,IF(ISNUMBER(AA130),AA130,IF(ISNUMBER(AB130), AB130, \"NA\")))","v":504514.6},null,null,504514.6,2578,null,{"$f":"SUM(AD130:AD130)","v":0},"NA",null,null,"2017-08-03"]
[1,"P0091","Dominica",null,null,null,"Wind",1,{"$f":"IF(K131=\"Planned\",\"3.0\",IF(AG131<DATE(2009,12,31),\"1.0\",IF(AND(AG131>=DATE(2010,1,1)+0,AG131<=DATE(2012,12,31)),\"1.0\",IF(AND(AG131>=DATE(2013,1,1),AG131<=DATE(2015,12,31)),\"2.0\",IF(AG131>=DATE(2016,1,1),\"3.0\",\"\")))))","v":"1.0"},"Distributed","Operational",null,null,1.5,null,null,6.0444000000000004,null,null,6.0444000000000004,0.46,"NA",null,0.46,2363.5,null,null,2363.5,1575.6666666666667,null,{"$f":"SUM(AD131:AD131)","v":0},2003,2003,"Lodge is powered by completely clean energy (extra 800 watts of solar).","2017-08-03"]
[1,"P0292","Dominican Republic","Parque Eolico Tierra Nueva",null,"EGEHID","Wind",1,null,"Utility/IPP","Planned","EGEHID","Corporación Dominicana de Empresas Eléctricas Estatales",50000,null,null,116000,null,{"$f":" 116000","v":116000},116000,0.26484018264840181,"NA",{"$f":" S132 * 1000/(N132 * 8760)","v":0.26484018264840181},null,144450000,null,null,{"$f":" AC141 * N132","v":144450000},2889,null,null,null,null,"CDEEE Strategic Plan 2017-2020","2019-09-16","Confident"]
[1,"P0293","Dominican Republic","Proyecto Hidroeléctrico La Diferencia",null,"Generacion Hidroelectirca Dominicana","Hydro",1,null,"Utility/IPP","Planned","Generacion Hidroelectirca Dominicana","Corporación Dominicana de Empresas Eléctricas Estatales",11000,null,null,30400,null,30400,30400,0.31548360315483603,"NA",{"$f":" S133 * 1000/(N133 * 8760)","v":0.31548360315483603},null,30943000,null,null,{"$f":"AC133*N133","v":30943000},{"$f":"VLOOKUP(G133,'Capex by RE tech'!$A$2:$F$19,6,TRUE)","v":2813},null,null,null,null,"CDEEE Strategic Plan 2017-2020","2019-09-16","Confident"]
[1,"P0294","Dominican Republic","Proyecto Hidroeléctrico Expansión Hatillo",null,"Generacion Hidroelectirca Dominicana","Hydro",1,null,"Utility/IPP","Under development","Generacion Hidroelectirca Dominicana","Corporación Dominicana de Empresas Eléctricas Estatales",10700,null,null,70350,null,{"$f":" 70.35 * 1000","v":70350},70350,0.75054410446805786,"NA",{"$f":" S134 * 1000/(N134 * 8760)","v":0.75054410446805786},null,30099100,null,null,{"$f":"AC134*N134","v":30099100},{"$f":"VLOOKUP(G134,'Capex by RE tech'!$A$2:$F$19,6,TRUE)","v":2813},null,null,null,null,"CDEEE Strategic Plan 2017-2020","2019-09-16","Confident"]
[null,null,"Dominican Republic","Proyecto Hidroelectrico Artibonito","Pedro Santana, Elias Pina",null,"Hydro",1,null,"Utility/IPP","Planned","EGEHID",null,50000,null,null,130000,null,130000,177828,0.40600000000000003,"NA",null,{"$f":"IF(OR(K135=\"Under development\",K135=\"Planned\"),VLOOKUP(G135,'Capex by RE tech'!$A$4:$D$18,4,TRUE),IF(AND(K135=\"Operational\",G135=\"Solar PV\"),VLOOKUP(AG135,'Capex by RE tech'!$C$11:$D$13,2,TRUE),IF(AND(K135=\"Operational\",G135=\"Wind\"),VLOOKUP(AG135,'Capex by RE tech'!$C$17:$D$19,2,TRUE),IF(AND(K135=\"Operational\",G135=\"Biomass\"),VLOOKUP(AG135,'Capex by RE tech'!$C$2:$D$4,2,TRUE),IF(AND(K135=\"Operational\",G135=\"Geothermal\"),VLOOKUP(AG135,'Capex by RE tech'!$C$2:$D$4,2,TRUE),IF(AND(K135=\"Operational\",G135=\"Hydro\"),VLOOKUP(AG135,'Capex by RE tech'!$C$8:$D$10,2,TRUE),IF(AND(K135=\"Operational\",G135=\"Waste-to-Energy\"),VLOOKUP(AG135,'Capex by RE tech'!$C$14:$D$16,2,TRUE),IF(AND(K135=\"Operational\",AG135<2010),VLOOKUP(G135,'Capex by RE tech'!$A$2:$D$19,4,FALSE),NA))))))))","v":0.40600000000000003},140650000,null,null,{"$f":"AC135*N135","v":140650000},{"$f":"VLOOKUP(G135,'Capex by RE tech'!$A$2:$F$19,6,TRUE)","v":2813},null,null,null,null,"CDEEE Strategic Plan 2017-2020","2019-09-16","Confident"]
[{"$f":"H136","v":26},"P0092","Dominican Republic",null,null,"Various","Hydro",26,{"$f":"IF(K136=\"Planned\",\"3.0\",IF(AG136<DATE(2009,12,31),\"1.0\",IF(AND(AG136>=DATE(2010,1,1)+0,AG136<=DATE(2012,12,31)),\"1.0\",IF(AND(AG136>=DATE(2013,1,1),AG136<=DATE(2015,12,31)),\"2.0\",IF(AG136>=DATE(2016,1,1),\"3.0\",\"\")))))","v":"1.0"},"Utility/IPP","Operational","Various","Various",613000,null,null,231263.84232120006,null,231263.84232120006,4564398,0.85,{"$f":"IF(OR(ISBLANK(N136),ISBLANK(R136)),\"NA\",(R136*1000)/(N136*8760))","v":"NA"},null,0.85,1885588000,null,null,1885588000,{"$f":" IF(AND(ISNUMBER(N136), ISNUMBER(Y136)),Y136/N136,\"NA\")","v":3076},null,{"$f":"SUM(AD136:AD136)","v":0},{"$f":"IF(ISNUMBER(AG136),AG136,IF(ISNUMBER(AH136),AH136,\"NA\"))","v":"NA"},null,null,"2018-07-18","Confident"]
[1,"P0096","Dominican Republic","Parque Montecristi Solar Phase I","Monte Cristi Province","Montecristi Solar FV SAS (F&S Solar)","Solar PV",1,null,"Utility/IPP","Operational","Montecristi Solar FV SAS (F&S Solar)","Corporación Dominicana de Empresas Eléctricas Estatales",57960,null,null,90122,null,90122,90122,0.17749999212179082,"NA",{"$f":" S137 * 1000/(N137 * 8760)","v":0.17749999212179082},0.254,100000000,null,100000000,149420880,1725.327812284334,null,0,2018,2018,"CDEEE Strategic Plan 2017-2020 pg. 37. Will add additional another 58 MW of capacity in Phase II","2019-09-16","Confident"]
[0,null,"Dominican Republic","Parque Montecristi Solar Phase II","Monte Cristi Province","F&S Solar","Solar PV",null,null,"Utility/IPP","Under development","F&S Solar","Corporación Dominicana de Empresas Eléctricas Estatales",57960,null,null,116777.808,null,null,116777.808,0.23,"NA",null,{"$f":"IF(OR(K138=\"Under development\",K138=\"Planned\"),VLOOKUP(G138,'Capex by RE tech'!$A$4:$D$18,4,TRUE),IF(AND(K138=\"Operational\",G138=\"Solar PV\"),VLOOKUP(AG138,'Capex by RE tech'!$C$11:$D$13,2,TRUE),IF(AND(K138=\"Operational\",G138=\"Wind\"),VLOOKUP(AG138,'Capex by RE tech'!$C$17:$D$19,2,TRUE),IF(AND(K138=\"Operational\",G138=\"Biomass\"),VLOOKUP(AG138,'Capex by RE tech'!$C$2:$D$4,2,TRUE),IF(AND(K138=\"Operational\",G138=\"Geothermal\"),VLOOKUP(AG138,'Capex by RE tech'!$C$2:$D$4,2,TRUE),IF(AND(K138=\"Operational\",G138=\"Hydro\"),VLOOKUP(AG138,'Capex by RE tech'!$C$8:$D$10,2,TRUE),IF(AND(K138=\"Operational\",G138=\"Waste-to-Energy\"),VLOOKUP(AG138,'Capex by RE tech'!$C$14:$D$16,2,TRUE),IF(AND(K138=\"Operational\",AG138<2010),VLOOKUP(G138,'Capex by RE tech'!$A$2:$D$19,4,FALSE),NA))))))))","v":0.23},150000000,null,150000000,null,2587.9917184265009,null,0,"NA",null,"Provisional CNE concession","2019-08-06","Confident"]
[1,"P0097","Dominican Republic","Parque Fotovoltaico WCG","Mata de Palma, San Antonio de Guerra","WCG Energy Ltd.","Solar PV",1,null,"Utility/IPP","Under development","WCG Energy Ltd.","Corporación Dominicana de Empresas Eléctricas Estatales",50000,null,null,110000,null,110000,110000,0.25114155251141551,"NA",0.25114155251141551,0.254,78000000,null,78000000,128900000,1560,null,0,"NA",null,"CDEEE Strategic Plan 2017-2020 pg. 37. Broke ground February 2019. Developed by WCG Energy LTD. One of eight renewable energy projects announced by the Dominican Corporation of State Electric Companies in April 2017, projects will add a combined capacity of 361.2 MW by 2018.","2019-08-12","Confident"]
[1,"P0098","Dominican Republic","Parque Éolico Agua Clara","Monte Cristi Province","IC Power DR Operations, S.A.S","Wind",1,null,"Utility/IPP","Operational","IC Power DR Operations, S.A.S","Corporación Dominicana de Empresas Eléctricas Estatales",50000,null,null,170000,null,170000,170000,0.38812785388127852,"NA",0.38812785388127852,0.46,90000000,null,90000000,78783333.333333343,1800,null,0,2019,2019,"CDEEE Strategic Plan 2017-2020 pg. 37. Began operations April 2019. Developed by ICC Power DR Operations. One of eight renewable energy projects announced by the Dominican Corporation of State Electric Companies in April 2017, projects will add a combined capacity of 361.2 MW by 2018.","2019-08-06","Confident"]
[1,"P0099","Dominican Republic","Parque Éolico Guanillo","Monte Cristi Province","Parques Eolicos del Caribe (PECASA S.A.)","Wind",1,null,"Utility/IPP","Operational","Parques Eolicos del Caribe (PECASA S.A.)","Corporación Dominicana de Empresas Eléctricas Estatales",50000,null,null,144540,null,144540,144540,0.33,"NA",0.33,0.46,144450000,null,144450000,78783333.333333343,2889,null,0,"NA",null,"CDEEE Strategic Plan 2017-2020 pg. 37. Inaugurated June 2019. Developed by Parques Eolicos del Caribe (PECASA S.A.). One of eight renewable energy projects announced by the Dominican Corporation of State Electric Companies in April 2017, projects will add a combined capacity of 361.2 MW by 2018. PPA : 115 USD","2019-09-16","Confident"]
[1,"P0101","Dominican Republic","Parque Éolico Puerto Plata-Imbert","Puerto Plata","Jasper Caribbean Wind Power LLC","Wind",1,null,"Utility/IPP","Under development","Jasper Caribbean Wind Power LLC","Corporación Dominicana de Empresas Eléctricas Estatales",46000,8,{"$f":"N142/O142","v":5750},132976,null,132976,132976,0.32999801469128448,"NA",0.32999801469128448,0.46,100800000,null,100800000,72480666.666666672,2191.304347826087,null,0,"NA",null,"CDEEE Strategic Plan 2017-2020 pg. 37. Set to be completed 2020. This would be the first of three phases bringing on a total of 115MW. Alberto:Developed by Jasper Caribbean Wind Power LLC. One of eight renewable energy projects announced by the Dominican Corporation of State Electric Companies in April 2017, projects will add a combined capacity of 361.2 MW by 2018.","2019-08-06","Confident"]
[0,null,"Dominican Republic","Parque Eolico Puerto Plata-Imbert Phase II & III","Puerto Plata","Jasper Caribbean Wind Power LLC","Wind",null,null,"Utility/IPP","Under development","Jasper Caribbean Wind Power LLC","Corporación Dominicana de Empresas Eléctricas Estatales",69000,null,null,0,null,null,0,0,"NA",0,{"$f":"IF(OR(K143=\"Under development\",K143=\"Planned\"),VLOOKUP(G143,'Capex by RE tech'!$A$4:$D$18,4,TRUE),IF(AND(K143=\"Operational\",G143=\"Solar PV\"),VLOOKUP(AG143,'Capex by RE tech'!$C$11:$D$13,2,TRUE),IF(AND(K143=\"Operational\",G143=\"Wind\"),VLOOKUP(AG143,'Capex by RE tech'!$C$17:$D$19,2,TRUE),IF(AND(K143=\"Operational\",G143=\"Biomass\"),VLOOKUP(AG143,'Capex by RE tech'!$C$2:$D$4,2,TRUE),IF(AND(K143=\"Operational\",G143=\"Geothermal\"),VLOOKUP(AG143,'Capex by RE tech'!$C$2:$D$4,2,TRUE),IF(AND(K143=\"Operational\",G143=\"Hydro\"),VLOOKUP(AG143,'Capex by RE tech'!$C$8:$D$10,2,TRUE),IF(AND(K143=\"Operational\",G143=\"Waste-to-Energy\"),VLOOKUP(AG143,'Capex by RE tech'!$C$14:$D$16,2,TRUE),IF(AND(K143=\"Operational\",AG143<2010),VLOOKUP(G143,'Capex by RE tech'!$A$2:$D$19,4,FALSE),NA))))))))","v":0.315},140000000,null,140000000,null,2028.9855072463768,null,0,"NA",null,null,"2019-08-06"]
[1,"P0102","Dominican Republic","Parque Éolico Los Guzmancito","Villa Vázquez","Poseidon Renewable Energy","Wind",1,null,"Utility/IPP","Under development","Poseidon Renewable Energy","Corporación Dominicana de Empresas Eléctricas Estatales",{"$f":"O144*P144","v":57600},16,3600,139625,null,139625,139625,0.27671748160832066,"NA",0.27671748160832066,0.46,139625600,null,139625600,76104700,2424.0555555555557,null,0,"NA",null,"CDEEE Strategic Plan 2017-2020 pg. 37. Under constuction. As of September 2019, set to enter operations in coming months. ","2019-08-06","Confident"]
[1,"P0103","Dominican Republic","Parque Monte Plata Solar I","Monte Plata Province","Phanes Group, General Energy Solutions, and Soventix ","Solar PV",1,{"$f":"IF(K145=\"Planned\",\"3.0\",IF(AG145<DATE(2009,12,31),\"1.0\",IF(AND(AG145>=DATE(2010,1,1)+0,AG145<=DATE(2012,12,31)),\"1.0\",IF(AND(AG145>=DATE(2013,1,1),AG145<=DATE(2015,12,31)),\"2.0\",IF(AG145>=DATE(2016,1,1),\"3.0\",\"\")))))","v":"1.0"},"Utility/IPP","Operational","Phanes Group, General Energy Solutions, and Soventix ","Corporación Dominicana de Empresas Eléctricas Estatales",33400,null,null,50000,null,50000,50000.000000000007,0.17089109452328222,"NA",0.17089109452328222,0.254,60000000,null,60000000,86105200,1796.4071856287426,null,0,2016,2016,"CDEEE Strategic Plan 2017-2020 pg. 37. Got financing in April 2018","2019-08-07","Confident"]
[1,"P0104","Dominican Republic","Parque Éolico Matafongo","Baní","Grupo Eolico Dominicano, SA (GEDEOM)","Wind",1,null,"Utility/IPP","Operational","Grupo Eolico Dominicano, SA (GEDEOM)","Corporación Dominicana de Empresas Eléctricas Estatales",34000,null,null,98287,null,98287,98287,0.3299993284985227,"NA",0.3299993284985227,0.46,98287200,null,98287200,53572666.666666672,2890.8,null,0,2019,2019,"CDEEE Strategic Plan 2017-2020 pg. 37. Became operational September 2019.  Developed by Grupo Eolico Dominicano, SA (GEDEOM). One of eight renewable energy projects announced by the Dominican Corporation of State Electric Companies in April 2017, projects will add a combined capacity of 361.2 MW by 2018.","2019-08-06","Confident"]
[0,"P0105","Dominican Republic","Parque Monte Plata Solar II","Monte Plata Province","General Energy Solutions and Phanes Group","Solar PV",null,null,"Utility/IPP","Under development","General Energy Solutions and Phanes Group","Corporación Dominicana de Empresas Eléctricas Estatales",30000,null,null,46647,null,46647,46647,0.17749999999999999,"NA",0.17749999999999999,0.254,55000000,null,55000000,77340000,1833.3333333333333,null,0,"NA",null,"CDEEE Strategic Plan 2017-2020 pg. 37.. First phase completed/inaugurated 2016. Second phase underway - altogether the park will total 68-69MW. Previous: Expansion to bring it to From 2007 - 2013, over 60 customers connected to the RE Interconnection Programme to generate 352.97 kW. After achieving full subscription, GRENLEC has increased the cap to 500 kW in the second phase of the project.","2019-08-07","Confident"]
[1,"P0106","Dominican Republic","Central de Biomasa San Pedro BioEnergy","San Pedro de Macoris","Grupo Inicia","Biomass",1,{"$f":"IF(K148=\"Planned\",\"3.0\",IF(AG148<DATE(2009,12,31),\"1.0\",IF(AND(AG148>=DATE(2010,1,1)+0,AG148<=DATE(2012,12,31)),\"1.0\",IF(AND(AG148>=DATE(2013,1,1),AG148<=DATE(2015,12,31)),\"2.0\",IF(AG148>=DATE(2016,1,1),\"3.0\",\"\")))))","v":"1.0"},"Utility/IPP","Operational","Grupo Inicia","Corporación Dominicana de Empresas Eléctricas Estatales",30000,null,null,236520,null,236520,236520,0.9,"NA",0.9,0.69633333333333336,90000000,null,90000000,106850000,3000,null,0,2015,2015,"CDEEE Strategic Plan 2017-2020 pg. 37. ","2018-07-18","Confident"]
[1,"P0108","Dominican Republic","Parque Solar Canoa","Barahona Province","Emerald Solar Energy","Solar PV",1,null,"Utility/IPP","Under development","Emerald Solar Energy","Corporación Dominicana de Empresas Eléctricas Estatales",25000,null,null,38872.5,null,38872.5,38872.5,0.17749999999999999,"NA",0.17749999999999999,0.254,41200000,null,41200000,64450000,1648,null,0,"NA",null,"CDEEE Strategic Plan 2017-2020 pg. 37.  Broke ground in early 2018, expected to take a year but there have been delays. Developed by Emerald Solar Energy. One of eight renewable energy projects announced by the Dominican Corporation of State Electric Companies in April 2017","2019-08-06","Confident"]
[1,"P0111","Dominican Republic","Parque Quisqueya Solar Fotovoltaico",null,"EGE Haina","Solar PV",1,{"$f":"IF(K150=\"Planned\",\"3.0\",IF(AG150<DATE(2009,12,31),\"1.0\",IF(AND(AG150>=DATE(2010,1,1)+0,AG150<=DATE(2012,12,31)),\"1.0\",IF(AND(AG150>=DATE(2013,1,1),AG150<=DATE(2015,12,31)),\"2.0\",IF(AG150>=DATE(2016,1,1),\"3.0\",\"\")))))","v":"1.0"},"Utility/IPP","Operational",null,null,1500,null,null,2332.35,null,null,2332.35,0.17749999999999999,"NA",null,{"$f":" W149","v":0.17749999999999999},3200000,null,3200000,3867000,2133.3333333333335,null,0,"NA",null,"Located next to Quisqueya II fuel plant.","2018-07-18","Confident"]
[1,"P0295","Dominican Republic","Quilvio Cabrera",null,"CEPM","Wind",1,"1.0","Utility/IPP","Operational","CEPM","Corporación Dominicana de Empresas Eléctricas Estatales",8250,null,null,33244.199999999997,null,null,33244.199999999997,0.46,"NA",null,0.46,275000000,null,{"$f":" 100000000 * N151/(N$127+N$128)","v":275000000},12999250,33333.333333333336,null,null,2011,2011,"CDEEE Strategic Plan 2017-2020 pg. 37. ","2019-09-16","Confident"]
[1,"P0093","Dominican Republic","Los Cocos I","Pedernales","EGE Haina","Wind",1,"1.0","Utility/IPP","Operational","Empresa Generadora de Electridicad Haina (EGE Haina)","Empresas Distribuidoras de Electricidad (EdeSur, EdeEste, EdeNorte)",25200,14,{"$f":"N152/O152","v":1800},3311950.4333948744,null,{"$f":" 420000 * N152/SUM($N$128:$N$130)","v":3311950.4333948744},101545.92,0.46,"NA",null,0.46,840000000,null,{"$f":" 100000000 * N152/(N$127+N$128)","v":840000000},39391666.666666672,33333.333333333336,null,{"$f":"SUM(AD152:AD152)","v":0},2011,2011,"CDEEE Strategic Plan 2017-2020 pg. 37. ","2019-09-16","Confident"]
[1,"P0094","Dominican Republic","Los Cocos II","Pedernales","EGE Haina","Wind",1,"1.0","Utility/IPP","Operational","Empresa Generadora de Electricidad Haina (EGE Haina)","Empresas Distribuidoras de Electricidad (EdeSur, EdeEste, EdeNorte)",52000,null,null,6834183.4339894233,null,{"$f":" 420000 * N153/SUM($N$128:$N$130)","v":6834183.4339894233},209539.20000000001,0.46,"NA",null,0.46,1733333333.3333335,null,null,{"$f":" N153 * AC152","v":1733333333.3333335},33333.333333333336,null,{"$f":"SUM(AD153:AD153)","v":0},2013,2013," CDEEE Strategic Plan 2017-2020 pg. 37. An additional 52MW in installed capacity entered operation in January 2013, which increased generation at the site to about 220,000MWh.","2019-09-16","Confident"]
[1,"P0100","Dominican Republic","Larimar I","Larimar","EGE Haina","Wind",1,"1.0","Utility/IPP","Operational","Empresa Generadora de Electridicad Haina (EGE Haina)","Corporación Dominicana de Empresas Eléctricas Estatales",49500,null,null,6505616.9227399323,null,{"$f":" 420000 * N154/SUM($N$128:$N$130)","v":6505616.9227399323},199465.2,0.46,"NA",null,0.46,120000000,120000000,null,77995500,2424.242424242424,null,{"$f":"SUM(AD154:AD154)","v":0},2016,2016,"CDEEE Strategic Plan 2017-2020 pg. 37. ","2019-09-16","Confident"]
[660,"P0109","Dominican Republic",null,null,null,"Solar PV",660,"1.0","Distributed","Operational",null,null,15477,null,null,34436.944080000001,null,null,34436.944080000001,0.254,"NA",null,0.254,39899706,null,null,39899706,2578,null,{"$f":"SUM(AD155:AD155)","v":0},"NA",null,"Aggregate sum of various local projects in different regions of the Dominican Republican.","2017-08-03"]
[1,"P0110","Dominican Republic",null,null,"Banco Popular Dominicano","Solar PV",1,"1.0","Distributed","Operational","Banco Popular Dominicano","Banco Popular Dominicano",1900,null,null,4227.576,null,null,4227.576,0.254,"NA",null,0.254,4898200,null,null,4898200,2578,null,{"$f":"SUM(AD156:AD156)","v":0},"NA",null,"40 of the bank's office utilize solar pv energy, and bank plans to add 32 offices (1.9 MW to 3.4 MW).","2017-08-03"]
[1,"P0270","Dominican Republic","Larimar II","Larimar","EGE Haina","Wind",1,"1.0","Utility/IPP","Operational","Empresa Generadora de Electridicad Haina (EGE Haina)","Corporación Dominicana de Empresas Eléctricas Estatales",48300,null,null,169243.2,null,169243.2,194629.68,0.46,"NA",null,0.46,117090909.09090908,null,null,{"$f":" AC154 * N157","v":117090909.09090908},2424.242424242424,null,null,2018,2018,"CDEEE Strategic Plan 2017-2020 pg. 37. ","2019-09-16","Confident"]
[1,"P0112","Dominican Republic",null,"Santiago de los Caballeros","Trace Solar RL ","Solar PV",1,"1.0","Distributed","Operational","Trace Solar RL ","Empresas Distribuidoras de Electricidad (EdeSur, EdeEste, EdeNorte)",1500,5880,{"$f":"N158/O158","v":0.25510204081632654},3337.56,null,null,3337.56,0.254,"NA",null,0.254,3867000,null,null,3867000,2578,null,{"$f":"SUM(AD158:AD158)","v":0},2013,2013,null,"2017-08-03"]
[1,"P0113","Dominican Republic",null,"Santiago de los Caballeros","CEMEX and Empresa Generadora de Electridicad Haina (EGE Haina)\n","Solar PV",1,"1.0","Distributed","Operational","CEMEX and Empresa Generadora de Electridicad Haina (EGE Haina)\n",null,1500,5040,{"$f":"N159/O159","v":0.29761904761904762},3337.56,null,null,3337.56,0.254,"NA",null,0.254,3867000,null,null,3867000,2578,null,0,2016,2016,null,"2017-08-03"]
[1,"P0114","Dominican Republic",null,null,null,"Biomass",1,"1.0","Distributed","Operational",null,null,200,null,null,157.68,null,null,157.68,{"$f":"IF(AND(V160=\"NA\",ISBLANK(W160)),X160,IF(V160<>\"NA\",V160,IF(ISNUMBER(W160),W160,X160)))","v":0.09},"NA",0.09,0.69633333333333336,712333.33333333326,null,null,712333.33333333326,3561.6666666666661,null,0,"NA",null,null,"2017-08-03"]
[1,"P0115","Dominican Republic",null,null,null,"Solar PV",1,"1.0","Distributed","Operational",null,null,72,null,null,160.20287999999999,null,null,160.20287999999999,0.254,"NA",null,0.254,185616,null,null,185616,2578,null,0,"NA",null,"Grid-connected solar array at solar developer's headquarters. ","2017-08-03"]
[1,"P0116","Dominican Republic",null,null,null,"Wind",1,"1.0","Distributed","Operational",null,null,70,null,null,282.072,null,null,282.072,0.46,"NA",null,0.46,110296.66666666667,null,null,110296.66666666667,1575.6666666666667,null,0,"NA",null,"Provides energy to about 1,160 families in the area. ","2017-08-03"]
[1,"P0117","Dominican Republic",null,null,null,"Wind",1,"1.0","Distributed","Operational",null,null,50,null,null,201.48,null,null,201.48,0.46,"NA",null,0.46,78783.333333333343,null,null,78783.333333333343,1575.666666666667,null,0,"NA",null,null,"2017-08-03"]
[1,null,"Dominican Republic","Villarpando Solar Park","Villarpando, Azua","Natural World Energy Corporation (NWEC)","Solar PV",1,"3.0","Utility/IPP","Planned","Natural World Energy Corporation (NWEC)","Empresas Distribuidoras de Electricidad (EdeSur, EdeEste, EdeNorte)",100000,null,null,201480,null,null,201480,0.23,"NA",null,{"$f":"IF(OR(K164=\"Under development\",K164=\"Planned\"),VLOOKUP(G164,'Capex by RE tech'!$A$4:$D$18,4,TRUE),IF(AND(K164=\"Operational\",G164=\"Solar PV\"),VLOOKUP(AG164,'Capex by RE tech'!$C$11:$D$13,2,TRUE),IF(AND(K164=\"Operational\",G164=\"Wind\"),VLOOKUP(AG164,'Capex by RE tech'!$C$17:$D$19,2,TRUE),IF(AND(K164=\"Operational\",G164=\"Biomass\"),VLOOKUP(AG164,'Capex by RE tech'!$C$2:$D$4,2,TRUE),IF(AND(K164=\"Operational\",G164=\"Geothermal\"),VLOOKUP(AG164,'Capex by RE tech'!$C$2:$D$4,2,TRUE),IF(AND(K164=\"Operational\",G164=\"Hydro\"),VLOOKUP(AG164,'Capex by RE tech'!$C$8:$D$10,2,TRUE),IF(AND(K164=\"Operational\",G164=\"Waste-to-Energy\"),VLOOKUP(AG164,'Capex by RE tech'!$C$14:$D$16,2,TRUE),IF(AND(K164=\"Operational\",AG164<2010),VLOOKUP(G164,'Capex by RE tech'!$A$2:$D$19,4,FALSE),NA))))))))","v":0.23},110000000,null,110000000,null,1100,null,0,"NA",null,"Approved by regulator in June 2019","2019-08-07","Confident"]
[1,null,"Dominican Republic","Proyecto Energy Solar del Este Cabreto I","Santo Domingo","Energy Solar del Este Cabreto I","Solar PV",1,null,"Utility/IPP","Planned","Energy Solar del Este Cabreto I",null,55400,null,null,111619.92,null,null,111619.92,0.23,"NA",null,{"$f":"IF(OR(K165=\"Under development\",K165=\"Planned\"),VLOOKUP(G165,'Capex by RE tech'!$A$4:$D$18,4,TRUE),IF(AND(K165=\"Operational\",G165=\"Solar PV\"),VLOOKUP(AG165,'Capex by RE tech'!$C$11:$D$13,2,TRUE),IF(AND(K165=\"Operational\",G165=\"Wind\"),VLOOKUP(AG165,'Capex by RE tech'!$C$17:$D$19,2,TRUE),IF(AND(K165=\"Operational\",G165=\"Biomass\"),VLOOKUP(AG165,'Capex by RE tech'!$C$2:$D$4,2,TRUE),IF(AND(K165=\"Operational\",G165=\"Geothermal\"),VLOOKUP(AG165,'Capex by RE tech'!$C$2:$D$4,2,TRUE),IF(AND(K165=\"Operational\",G165=\"Hydro\"),VLOOKUP(AG165,'Capex by RE tech'!$C$8:$D$10,2,TRUE),IF(AND(K165=\"Operational\",G165=\"Waste-to-Energy\"),VLOOKUP(AG165,'Capex by RE tech'!$C$14:$D$16,2,TRUE),IF(AND(K165=\"Operational\",AG165<2010),VLOOKUP(G165,'Capex by RE tech'!$A$2:$D$19,4,FALSE),NA))))))))","v":0.23},80330000,null,null,{"$f":"AC165*N165","v":80330000},{"$f":"VLOOKUP(G165,'Capex by RE tech'!$A$2:$F$19,6,TRUE)","v":1450},null,0,"NA",null,"Received provisional concession from CNE in May","2019-08-07","Confident"]
[1,null,"Dominican Republic","EDP-Bani Solar","Fundacion, Peravia (near Bani)","Energias Renovables Dominicana (EDP)","Solar PV",1,"Utility/IPP","Utility/IPP","Planned","Energias Renovables Dominicana (EDP)","Empresas Distribuidoras de Electricidad (EdeSur, EdeEste, EdeNorte)",200000,null,null,402960,null,null,402960,0.23,"NA",null,{"$f":"IF(OR(K166=\"Under development\",K166=\"Planned\"),VLOOKUP(G166,'Capex by RE tech'!$A$4:$D$18,4,TRUE),IF(AND(K166=\"Operational\",G166=\"Solar PV\"),VLOOKUP(AG166,'Capex by RE tech'!$C$11:$D$13,2,TRUE),IF(AND(K166=\"Operational\",G166=\"Wind\"),VLOOKUP(AG166,'Capex by RE tech'!$C$17:$D$19,2,TRUE),IF(AND(K166=\"Operational\",G166=\"Biomass\"),VLOOKUP(AG166,'Capex by RE tech'!$C$2:$D$4,2,TRUE),IF(AND(K166=\"Operational\",G166=\"Geothermal\"),VLOOKUP(AG166,'Capex by RE tech'!$C$2:$D$4,2,TRUE),IF(AND(K166=\"Operational\",G166=\"Hydro\"),VLOOKUP(AG166,'Capex by RE tech'!$C$8:$D$10,2,TRUE),IF(AND(K166=\"Operational\",G166=\"Waste-to-Energy\"),VLOOKUP(AG166,'Capex by RE tech'!$C$14:$D$16,2,TRUE),IF(AND(K166=\"Operational\",AG166<2010),VLOOKUP(G166,'Capex by RE tech'!$A$2:$D$19,4,FALSE),NA))))))))","v":0.23},200000000,null,200000000,null,{"$f":" IF(AND(ISNUMBER(N166), ISNUMBER(Y166)),Y166/N166,\"NA\")","v":1000},null,0,"NA",null,"Received provisional concession from CNE in May","2019-08-08","Confident"]
[1,null,"Dominican Republic","Parque Eolico Sajoma","Santiago","Empresa Generadora de Electricidad de Haina, S.A. (EGE-HAINA)","Wind",1,null,"Utility/IPP","Planned","Empresa Generadora de Electricidad de Haina, S.A. (EGE-HAINA)",null,50000,null,null,137970,null,null,137970,0.315,"NA",null,{"$f":"IF(OR(K167=\"Under development\",K167=\"Planned\"),VLOOKUP(G167,'Capex by RE tech'!$A$4:$D$18,4,TRUE),IF(AND(K167=\"Operational\",G167=\"Solar PV\"),VLOOKUP(AG167,'Capex by RE tech'!$C$11:$D$13,2,TRUE),IF(AND(K167=\"Operational\",G167=\"Wind\"),VLOOKUP(AG167,'Capex by RE tech'!$C$17:$D$19,2,TRUE),IF(AND(K167=\"Operational\",G167=\"Biomass\"),VLOOKUP(AG167,'Capex by RE tech'!$C$2:$D$4,2,TRUE),IF(AND(K167=\"Operational\",G167=\"Geothermal\"),VLOOKUP(AG167,'Capex by RE tech'!$C$2:$D$4,2,TRUE),IF(AND(K167=\"Operational\",G167=\"Hydro\"),VLOOKUP(AG167,'Capex by RE tech'!$C$8:$D$10,2,TRUE),IF(AND(K167=\"Operational\",G167=\"Waste-to-Energy\"),VLOOKUP(AG167,'Capex by RE tech'!$C$14:$D$16,2,TRUE),IF(AND(K167=\"Operational\",AG167<2010),VLOOKUP(G167,'Capex by RE tech'!$A$2:$D$19,4,FALSE),NA))))))))","v":0.315},73750000,null,null,{"$f":"AC167*N167","v":73750000},{"$f":"VLOOKUP(G167,'Capex by RE tech'!$A$2:$F$19,6,TRUE)","v":1475},null,0,"NA",null,"Received provisional concession from CNE in May","2019-08-12","Confident"]
[1,null,"Dominican Republic","Parque Eolico Esperanza","Valverde","Empresa Generadora de Electricidad de Haina, S.A. (EGE-HAINA)","Wind",1,null,"Utility/IPP","Planned","Empresa Generadora de Electricidad de Haina, S.A. (EGE-HAINA)",null,50000,null,null,137970,null,null,137970,0.315,"NA",null,{"$f":"IF(OR(K168=\"Under development\",K168=\"Planned\"),VLOOKUP(G168,'Capex by RE tech'!$A$4:$D$18,4,TRUE),IF(AND(K168=\"Operational\",G168=\"Solar PV\"),VLOOKUP(AG168,'Capex by RE tech'!$C$11:$D$13,2,TRUE),IF(AND(K168=\"Operational\",G168=\"Wind\"),VLOOKUP(AG168,'Capex by RE tech'!$C$17:$D$19,2,TRUE),IF(AND(K168=\"Operational\",G168=\"Biomass\"),VLOOKUP(AG168,'Capex by RE tech'!$C$2:$D$4,2,TRUE),IF(AND(K168=\"Operational\",G168=\"Geothermal\"),VLOOKUP(AG168,'Capex by RE tech'!$C$2:$D$4,2,TRUE),IF(AND(K168=\"Operational\",G168=\"Hydro\"),VLOOKUP(AG168,'Capex by RE tech'!$C$8:$D$10,2,TRUE),IF(AND(K168=\"Operational\",G168=\"Waste-to-Energy\"),VLOOKUP(AG168,'Capex by RE tech'!$C$14:$D$16,2,TRUE),IF(AND(K168=\"Operational\",AG168<2010),VLOOKUP(G168,'Capex by RE tech'!$A$2:$D$19,4,FALSE),NA))))))))","v":0.315},73750000,null,null,73750000,{"$f":"VLOOKUP(G168,'Capex by RE tech'!$A$2:$F$19,6,TRUE)","v":1475},null,0,{"$f":"IF(ISNUMBER(AG168),AG168,IF(ISNUMBER(AH168),AH168,\"NA\"))","v":"NA"},null,"Received provisional concession from CNE in May","2019-08-12","Confident"]
[1,null,"Dominican Republic","Planta Solar Pizarrete","Peravia","AES Andres DR, S.A.","Solar PV",1,null,"Utility/IPP","Planned","AES Andres DR, S.A.",null,65250,null,null,131465.70000000001,null,null,131465.70000000001,0.23,"NA",null,{"$f":"IF(OR(K169=\"Under development\",K169=\"Planned\"),VLOOKUP(G169,'Capex by RE tech'!$A$4:$D$18,4,TRUE),IF(AND(K169=\"Operational\",G169=\"Solar PV\"),VLOOKUP(AG169,'Capex by RE tech'!$C$11:$D$13,2,TRUE),IF(AND(K169=\"Operational\",G169=\"Wind\"),VLOOKUP(AG169,'Capex by RE tech'!$C$17:$D$19,2,TRUE),IF(AND(K169=\"Operational\",G169=\"Biomass\"),VLOOKUP(AG169,'Capex by RE tech'!$C$2:$D$4,2,TRUE),IF(AND(K169=\"Operational\",G169=\"Geothermal\"),VLOOKUP(AG169,'Capex by RE tech'!$C$2:$D$4,2,TRUE),IF(AND(K169=\"Operational\",G169=\"Hydro\"),VLOOKUP(AG169,'Capex by RE tech'!$C$8:$D$10,2,TRUE),IF(AND(K169=\"Operational\",G169=\"Waste-to-Energy\"),VLOOKUP(AG169,'Capex by RE tech'!$C$14:$D$16,2,TRUE),IF(AND(K169=\"Operational\",AG169<2010),VLOOKUP(G169,'Capex by RE tech'!$A$2:$D$19,4,FALSE),NA))))))))","v":0.23},94612500,null,null,94612500,{"$f":"VLOOKUP(G169,'Capex by RE tech'!$A$2:$F$19,6,TRUE)","v":1450},null,0,"NA",null,"Received provisional concession from CNE in May","2019-08-12","Confident"]
[1,null,"Dominican Republic","Proyecto Peravia Solar I","Peravia","I.E. DR Projects I, SRL","Solar PV",1,"Utility/IPP","Utility/IPP","Planned","I.E. DR Projects I, SRL",null,70000,null,null,141036,null,null,141036,0.23,"NA",null,{"$f":"IF(OR(K170=\"Under development\",K170=\"Planned\"),VLOOKUP(G170,'Capex by RE tech'!$A$4:$D$18,4,TRUE),IF(AND(K170=\"Operational\",G170=\"Solar PV\"),VLOOKUP(AG170,'Capex by RE tech'!$C$11:$D$13,2,TRUE),IF(AND(K170=\"Operational\",G170=\"Wind\"),VLOOKUP(AG170,'Capex by RE tech'!$C$17:$D$19,2,TRUE),IF(AND(K170=\"Operational\",G170=\"Biomass\"),VLOOKUP(AG170,'Capex by RE tech'!$C$2:$D$4,2,TRUE),IF(AND(K170=\"Operational\",G170=\"Geothermal\"),VLOOKUP(AG170,'Capex by RE tech'!$C$2:$D$4,2,TRUE),IF(AND(K170=\"Operational\",G170=\"Hydro\"),VLOOKUP(AG170,'Capex by RE tech'!$C$8:$D$10,2,TRUE),IF(AND(K170=\"Operational\",G170=\"Waste-to-Energy\"),VLOOKUP(AG170,'Capex by RE tech'!$C$14:$D$16,2,TRUE),IF(AND(K170=\"Operational\",AG170<2010),VLOOKUP(G170,'Capex by RE tech'!$A$2:$D$19,4,FALSE),NA))))))))","v":0.23},101500000,null,null,101500000,{"$f":"VLOOKUP(G170,'Capex by RE tech'!$A$2:$F$19,6,TRUE)","v":1450},null,0,"NA",null,"Received provisional concession from CNE in May","2019-08-12","Confident"]
[1,null,"Dominican Republic","Proyecto Peravia Solar II","Peravia","I.E. DR Projects I, SRL","Solar PV",1,null,"Utility/IPP","Planned","I.E. DR Projects I, SRL",null,70000,null,null,141036,null,null,141036,0.23,"NA",null,{"$f":"IF(OR(K171=\"Under development\",K171=\"Planned\"),VLOOKUP(G171,'Capex by RE tech'!$A$4:$D$18,4,TRUE),IF(AND(K171=\"Operational\",G171=\"Solar PV\"),VLOOKUP(AG171,'Capex by RE tech'!$C$11:$D$13,2,TRUE),IF(AND(K171=\"Operational\",G171=\"Wind\"),VLOOKUP(AG171,'Capex by RE tech'!$C$17:$D$19,2,TRUE),IF(AND(K171=\"Operational\",G171=\"Biomass\"),VLOOKUP(AG171,'Capex by RE tech'!$C$2:$D$4,2,TRUE),IF(AND(K171=\"Operational\",G171=\"Geothermal\"),VLOOKUP(AG171,'Capex by RE tech'!$C$2:$D$4,2,TRUE),IF(AND(K171=\"Operational\",G171=\"Hydro\"),VLOOKUP(AG171,'Capex by RE tech'!$C$8:$D$10,2,TRUE),IF(AND(K171=\"Operational\",G171=\"Waste-to-Energy\"),VLOOKUP(AG171,'Capex by RE tech'!$C$14:$D$16,2,TRUE),IF(AND(K171=\"Operational\",AG171<2010),VLOOKUP(G171,'Capex by RE tech'!$A$2:$D$19,4,FALSE),NA))))))))","v":0.23},101500000,null,null,101500000,{"$f":"VLOOKUP(G171,'Capex by RE tech'!$A$2:$F$19,6,TRUE)","v":1450},null,0,"NA",null,"Received provisional concession from CNE in May","2019-08-12","Confident"]
[1,null,"Dominican Republic","Planta Solar Noroeste","Montecristi","AES Renewable Power Group","Solar PV",1,null,"Utility/IPP","Planned","AES Renewable Power Group",null,136800,null,null,275624.64,null,null,275624.64,0.23,"NA",null,{"$f":"IF(OR(K172=\"Under development\",K172=\"Planned\"),VLOOKUP(G172,'Capex by RE tech'!$A$4:$D$18,4,TRUE),IF(AND(K172=\"Operational\",G172=\"Solar PV\"),VLOOKUP(AG172,'Capex by RE tech'!$C$11:$D$13,2,TRUE),IF(AND(K172=\"Operational\",G172=\"Wind\"),VLOOKUP(AG172,'Capex by RE tech'!$C$17:$D$19,2,TRUE),IF(AND(K172=\"Operational\",G172=\"Biomass\"),VLOOKUP(AG172,'Capex by RE tech'!$C$2:$D$4,2,TRUE),IF(AND(K172=\"Operational\",G172=\"Geothermal\"),VLOOKUP(AG172,'Capex by RE tech'!$C$2:$D$4,2,TRUE),IF(AND(K172=\"Operational\",G172=\"Hydro\"),VLOOKUP(AG172,'Capex by RE tech'!$C$8:$D$10,2,TRUE),IF(AND(K172=\"Operational\",G172=\"Waste-to-Energy\"),VLOOKUP(AG172,'Capex by RE tech'!$C$14:$D$16,2,TRUE),IF(AND(K172=\"Operational\",AG172<2010),VLOOKUP(G172,'Capex by RE tech'!$A$2:$D$19,4,FALSE),NA))))))))","v":0.23},198360000,null,null,198360000,{"$f":"VLOOKUP(G172,'Capex by RE tech'!$A$2:$F$19,6,TRUE)","v":1450},null,0,"NA",null,"Received provisional concession from CNE in May","2019-08-12","Confident"]
[1,null,"Dominican Republic","Planta Solar Marti","Santo Domingo","Tropigas Dominicana","Solar PV",1,null,"Utility/IPP","Planned","Tropigas Dominicana",null,50320,null,null,101384.736,null,null,101384.736,0.23,"NA",null,{"$f":"IF(OR(K173=\"Under development\",K173=\"Planned\"),VLOOKUP(G173,'Capex by RE tech'!$A$4:$D$18,4,TRUE),IF(AND(K173=\"Operational\",G173=\"Solar PV\"),VLOOKUP(AG173,'Capex by RE tech'!$C$11:$D$13,2,TRUE),IF(AND(K173=\"Operational\",G173=\"Wind\"),VLOOKUP(AG173,'Capex by RE tech'!$C$17:$D$19,2,TRUE),IF(AND(K173=\"Operational\",G173=\"Biomass\"),VLOOKUP(AG173,'Capex by RE tech'!$C$2:$D$4,2,TRUE),IF(AND(K173=\"Operational\",G173=\"Geothermal\"),VLOOKUP(AG173,'Capex by RE tech'!$C$2:$D$4,2,TRUE),IF(AND(K173=\"Operational\",G173=\"Hydro\"),VLOOKUP(AG173,'Capex by RE tech'!$C$8:$D$10,2,TRUE),IF(AND(K173=\"Operational\",G173=\"Waste-to-Energy\"),VLOOKUP(AG173,'Capex by RE tech'!$C$14:$D$16,2,TRUE),IF(AND(K173=\"Operational\",AG173<2010),VLOOKUP(G173,'Capex by RE tech'!$A$2:$D$19,4,FALSE),NA))))))))","v":0.23},72964000,null,null,72964000,{"$f":"VLOOKUP(G173,'Capex by RE tech'!$A$2:$F$19,6,TRUE)","v":1450},null,0,"NA",null,"Received provisional concession from CNE in May","2019-08-12","Confident"]
[1,null,"Dominican Republic","Projecto EDP Energia Renovables Dominicana SA","Peravia","EDP Energias Renovables Dominicana","Solar PV",1,null,"Utility/IPP","Planned","EDP Energias Renovables Dominicana",null,200200,null,null,403362.96,null,null,403362.96,0.23,"NA",null,{"$f":"IF(OR(K174=\"Under development\",K174=\"Planned\"),VLOOKUP(G174,'Capex by RE tech'!$A$4:$D$18,4,TRUE),IF(AND(K174=\"Operational\",G174=\"Solar PV\"),VLOOKUP(AG174,'Capex by RE tech'!$C$11:$D$13,2,TRUE),IF(AND(K174=\"Operational\",G174=\"Wind\"),VLOOKUP(AG174,'Capex by RE tech'!$C$17:$D$19,2,TRUE),IF(AND(K174=\"Operational\",G174=\"Biomass\"),VLOOKUP(AG174,'Capex by RE tech'!$C$2:$D$4,2,TRUE),IF(AND(K174=\"Operational\",G174=\"Geothermal\"),VLOOKUP(AG174,'Capex by RE tech'!$C$2:$D$4,2,TRUE),IF(AND(K174=\"Operational\",G174=\"Hydro\"),VLOOKUP(AG174,'Capex by RE tech'!$C$8:$D$10,2,TRUE),IF(AND(K174=\"Operational\",G174=\"Waste-to-Energy\"),VLOOKUP(AG174,'Capex by RE tech'!$C$14:$D$16,2,TRUE),IF(AND(K174=\"Operational\",AG174<2010),VLOOKUP(G174,'Capex by RE tech'!$A$2:$D$19,4,FALSE),NA))))))))","v":0.23},290290000,null,null,290290000,{"$f":"VLOOKUP(G174,'Capex by RE tech'!$A$2:$F$19,6,TRUE)","v":1450},null,0,"NA",null,"Received provisional concession from CNE in May","2019-08-12","Confident"]
[1,null,"Dominican Republic","Parque Solar Girasol","San Cristobal","Empresa Generadora de Electricidad de Haina, S.A. (EGE-HAINA)","Solar PV",1,null,"Utility/IPP","Planned","Empresa Generadora de Electricidad de Haina, S.A. (EGE-HAINA)",null,120000,null,null,241776,null,null,241776,0.23,"NA",null,{"$f":"IF(OR(K175=\"Under development\",K175=\"Planned\"),VLOOKUP(G175,'Capex by RE tech'!$A$4:$D$18,4,TRUE),IF(AND(K175=\"Operational\",G175=\"Solar PV\"),VLOOKUP(AG175,'Capex by RE tech'!$C$11:$D$13,2,TRUE),IF(AND(K175=\"Operational\",G175=\"Wind\"),VLOOKUP(AG175,'Capex by RE tech'!$C$17:$D$19,2,TRUE),IF(AND(K175=\"Operational\",G175=\"Biomass\"),VLOOKUP(AG175,'Capex by RE tech'!$C$2:$D$4,2,TRUE),IF(AND(K175=\"Operational\",G175=\"Geothermal\"),VLOOKUP(AG175,'Capex by RE tech'!$C$2:$D$4,2,TRUE),IF(AND(K175=\"Operational\",G175=\"Hydro\"),VLOOKUP(AG175,'Capex by RE tech'!$C$8:$D$10,2,TRUE),IF(AND(K175=\"Operational\",G175=\"Waste-to-Energy\"),VLOOKUP(AG175,'Capex by RE tech'!$C$14:$D$16,2,TRUE),IF(AND(K175=\"Operational\",AG175<2010),VLOOKUP(G175,'Capex by RE tech'!$A$2:$D$19,4,FALSE),NA))))))))","v":0.23},174000000,null,null,174000000,{"$f":"VLOOKUP(G175,'Capex by RE tech'!$A$2:$F$19,6,TRUE)","v":1450},null,0,"NA",null,"Received provisional concession from CNE in May","2019-08-12","Confident"]
[1,null,"Dominican Republic","Proyecto Esperanza Solar","Valverde","Empresa Generadora de Electricidad de Haina, S.A. (EGE-HAINA)","Solar PV",1,null,"Utility/IPP","Planned","Empresa Generadora de Electricidad de Haina, S.A. (EGE-HAINA)",null,61000,null,null,122902.8,null,null,122902.8,0.23,"NA",null,{"$f":"IF(OR(K176=\"Under development\",K176=\"Planned\"),VLOOKUP(G176,'Capex by RE tech'!$A$4:$D$18,4,TRUE),IF(AND(K176=\"Operational\",G176=\"Solar PV\"),VLOOKUP(AG176,'Capex by RE tech'!$C$11:$D$13,2,TRUE),IF(AND(K176=\"Operational\",G176=\"Wind\"),VLOOKUP(AG176,'Capex by RE tech'!$C$17:$D$19,2,TRUE),IF(AND(K176=\"Operational\",G176=\"Biomass\"),VLOOKUP(AG176,'Capex by RE tech'!$C$2:$D$4,2,TRUE),IF(AND(K176=\"Operational\",G176=\"Geothermal\"),VLOOKUP(AG176,'Capex by RE tech'!$C$2:$D$4,2,TRUE),IF(AND(K176=\"Operational\",G176=\"Hydro\"),VLOOKUP(AG176,'Capex by RE tech'!$C$8:$D$10,2,TRUE),IF(AND(K176=\"Operational\",G176=\"Waste-to-Energy\"),VLOOKUP(AG176,'Capex by RE tech'!$C$14:$D$16,2,TRUE),IF(AND(K176=\"Operational\",AG176<2010),VLOOKUP(G176,'Capex by RE tech'!$A$2:$D$19,4,FALSE),NA))))))))","v":0.23},88450000,null,null,88450000,{"$f":"VLOOKUP(G176,'Capex by RE tech'!$A$2:$F$19,6,TRUE)","v":1450},null,0,"NA",null,"Received provisional concession from CNE in May","2019-08-12","Confident"]
[1,null,"Dominican Republic","Montecristi Solar Domita","Montecristi","Domita Group SRL","Solar PV",1,null,"Utility/IPP","Planned","Domita Group SRL",null,50000,null,null,100740,null,null,100740,0.23,"NA",null,{"$f":"IF(OR(K177=\"Under development\",K177=\"Planned\"),VLOOKUP(G177,'Capex by RE tech'!$A$4:$D$18,4,TRUE),IF(AND(K177=\"Operational\",G177=\"Solar PV\"),VLOOKUP(AG177,'Capex by RE tech'!$C$11:$D$13,2,TRUE),IF(AND(K177=\"Operational\",G177=\"Wind\"),VLOOKUP(AG177,'Capex by RE tech'!$C$17:$D$19,2,TRUE),IF(AND(K177=\"Operational\",G177=\"Biomass\"),VLOOKUP(AG177,'Capex by RE tech'!$C$2:$D$4,2,TRUE),IF(AND(K177=\"Operational\",G177=\"Geothermal\"),VLOOKUP(AG177,'Capex by RE tech'!$C$2:$D$4,2,TRUE),IF(AND(K177=\"Operational\",G177=\"Hydro\"),VLOOKUP(AG177,'Capex by RE tech'!$C$8:$D$10,2,TRUE),IF(AND(K177=\"Operational\",G177=\"Waste-to-Energy\"),VLOOKUP(AG177,'Capex by RE tech'!$C$14:$D$16,2,TRUE),IF(AND(K177=\"Operational\",AG177<2010),VLOOKUP(G177,'Capex by RE tech'!$A$2:$D$19,4,FALSE),NA))))))))","v":0.23},72500000,null,null,72500000,{"$f":"VLOOKUP(G177,'Capex by RE tech'!$A$2:$F$19,6,TRUE)","v":1450},null,0,"NA",null,"Received provisional concession from CNE in May","2019-08-12","Confident"]
[1,null,"Dominican Republic","Projecto Grupo Energetico del Este SRL (GEDE)","La Altagracia","Grupo Energetico del Este SRL (GEDE)","Biomass",1,null,"Utility/IPP","Planned","Grupo Energetico del Este SRL (GEDE)",null,26450,null,null,208531.8,null,null,208531.8,0.9,"NA",null,{"$f":"IF(OR(K178=\"Under development\",K178=\"Planned\"),VLOOKUP(G178,'Capex by RE tech'!$A$4:$D$18,4,TRUE),IF(AND(K178=\"Operational\",G178=\"Solar PV\"),VLOOKUP(AG178,'Capex by RE tech'!$C$11:$D$13,2,TRUE),IF(AND(K178=\"Operational\",G178=\"Wind\"),VLOOKUP(AG178,'Capex by RE tech'!$C$17:$D$19,2,TRUE),IF(AND(K178=\"Operational\",G178=\"Biomass\"),VLOOKUP(AG178,'Capex by RE tech'!$C$2:$D$4,2,TRUE),IF(AND(K178=\"Operational\",G178=\"Geothermal\"),VLOOKUP(AG178,'Capex by RE tech'!$C$2:$D$4,2,TRUE),IF(AND(K178=\"Operational\",G178=\"Hydro\"),VLOOKUP(AG178,'Capex by RE tech'!$C$8:$D$10,2,TRUE),IF(AND(K178=\"Operational\",G178=\"Waste-to-Energy\"),VLOOKUP(AG178,'Capex by RE tech'!$C$14:$D$16,2,TRUE),IF(AND(K178=\"Operational\",AG178<2010),VLOOKUP(G178,'Capex by RE tech'!$A$2:$D$19,4,FALSE),NA))))))))","v":0.9},79350000,null,null,79350000,{"$f":"VLOOKUP(G178,'Capex by RE tech'!$A$2:$F$19,6,TRUE)","v":3000},null,0,"NA",null,"Provisional CNE concession","2019-08-12","Confident"]
[1,null,"Dominican Republic","Proyecto Ridge Partners Linea Noreste SRL","Valverde","Ridge Partners Linea Noreste SRL","Biomass",1,null,"Utility/IPP","Planned","Ridge Partners Linea Noreste SRL",null,null,null,null,0,null,null,0,0.9,"NA",null,{"$f":"IF(OR(K179=\"Under development\",K179=\"Planned\"),VLOOKUP(G179,'Capex by RE tech'!$A$4:$D$18,4,TRUE),IF(AND(K179=\"Operational\",G179=\"Solar PV\"),VLOOKUP(AG179,'Capex by RE tech'!$C$11:$D$13,2,TRUE),IF(AND(K179=\"Operational\",G179=\"Wind\"),VLOOKUP(AG179,'Capex by RE tech'!$C$17:$D$19,2,TRUE),IF(AND(K179=\"Operational\",G179=\"Biomass\"),VLOOKUP(AG179,'Capex by RE tech'!$C$2:$D$4,2,TRUE),IF(AND(K179=\"Operational\",G179=\"Geothermal\"),VLOOKUP(AG179,'Capex by RE tech'!$C$2:$D$4,2,TRUE),IF(AND(K179=\"Operational\",G179=\"Hydro\"),VLOOKUP(AG179,'Capex by RE tech'!$C$8:$D$10,2,TRUE),IF(AND(K179=\"Operational\",G179=\"Waste-to-Energy\"),VLOOKUP(AG179,'Capex by RE tech'!$C$14:$D$16,2,TRUE),IF(AND(K179=\"Operational\",AG179<2010),VLOOKUP(G179,'Capex by RE tech'!$A$2:$D$19,4,FALSE),NA))))))))","v":0.9},0,null,null,0,{"$f":"VLOOKUP(G179,'Capex by RE tech'!$A$2:$F$19,6,TRUE)","v":3000},null,0,"NA",null,"Provisional CNE concession","2019-08-12","Confident"]
[1,null,"Dominican Republic","Phase I of Solar PV plant in Sabana Grande de Palenque","San Cristobal","Escala Solar, Consorcio Ecoterra","Solar PV",1,null,"Utility/IPP","Operational","Escala Solar, Consorcio Ecoterra",null,1500,null,null,3022.2,null,null,3022.2,0.23,"NA",null,{"$f":"IF(OR(K180=\"Under development\",K180=\"Planned\"),VLOOKUP(G180,'Capex by RE tech'!$A$4:$D$18,4,TRUE),IF(AND(K180=\"Operational\",G180=\"Solar PV\"),VLOOKUP(AG180,'Capex by RE tech'!$C$11:$D$13,2,TRUE),IF(AND(K180=\"Operational\",G180=\"Wind\"),VLOOKUP(AG180,'Capex by RE tech'!$C$17:$D$19,2,TRUE),IF(AND(K180=\"Operational\",G180=\"Biomass\"),VLOOKUP(AG180,'Capex by RE tech'!$C$2:$D$4,2,TRUE),IF(AND(K180=\"Operational\",G180=\"Geothermal\"),VLOOKUP(AG180,'Capex by RE tech'!$C$2:$D$4,2,TRUE),IF(AND(K180=\"Operational\",G180=\"Hydro\"),VLOOKUP(AG180,'Capex by RE tech'!$C$8:$D$10,2,TRUE),IF(AND(K180=\"Operational\",G180=\"Waste-to-Energy\"),VLOOKUP(AG180,'Capex by RE tech'!$C$14:$D$16,2,TRUE),IF(AND(K180=\"Operational\",AG180<2010),VLOOKUP(G180,'Capex by RE tech'!$A$2:$D$19,4,FALSE),NA))))))))","v":0.23},2175000,null,null,2175000,{"$f":"VLOOKUP(G180,'Capex by RE tech'!$A$2:$F$19,6,TRUE)","v":1450},null,0,2018,2018,"Inaugurated December 2018","2019-08-12","Confident"]
[1,null,"Dominican Republic","Phase II of Solar PV plant in Sabana Grande de Palenque",null,"Escala Solar, Consorcio Ecoterra","Solar PV",1,"Utility/IPP","Utility/IPP","Under development","Escala Solar, Consorcio Ecoterra",null,4500,null,null,9066.6,null,null,9066.6,0.23,"NA",null,{"$f":"IF(OR(K181=\"Under development\",K181=\"Planned\"),VLOOKUP(G181,'Capex by RE tech'!$A$4:$D$18,4,TRUE),IF(AND(K181=\"Operational\",G181=\"Solar PV\"),VLOOKUP(AG181,'Capex by RE tech'!$C$11:$D$13,2,TRUE),IF(AND(K181=\"Operational\",G181=\"Wind\"),VLOOKUP(AG181,'Capex by RE tech'!$C$17:$D$19,2,TRUE),IF(AND(K181=\"Operational\",G181=\"Biomass\"),VLOOKUP(AG181,'Capex by RE tech'!$C$2:$D$4,2,TRUE),IF(AND(K181=\"Operational\",G181=\"Geothermal\"),VLOOKUP(AG181,'Capex by RE tech'!$C$2:$D$4,2,TRUE),IF(AND(K181=\"Operational\",G181=\"Hydro\"),VLOOKUP(AG181,'Capex by RE tech'!$C$8:$D$10,2,TRUE),IF(AND(K181=\"Operational\",G181=\"Waste-to-Energy\"),VLOOKUP(AG181,'Capex by RE tech'!$C$14:$D$16,2,TRUE),IF(AND(K181=\"Operational\",AG181<2010),VLOOKUP(G181,'Capex by RE tech'!$A$2:$D$19,4,FALSE),NA))))))))","v":0.23},6525000,null,null,6525000,{"$f":"VLOOKUP(G181,'Capex by RE tech'!$A$2:$F$19,6,TRUE)","v":1450},null,0,"NA",null,"Construction began December 2018","2019-08-12","Confident"]
[null,"P0118","Grenada",null,null,null,"Solar PV","Various",{"$f":"IF(K182=\"Planned\",\"3.0\",IF(AG182<DATE(2009,12,31),\"1.0\",IF(AND(AG182>=DATE(2010,1,1)+0,AG182<=DATE(2012,12,31)),\"1.0\",IF(AND(AG182>=DATE(2013,1,1),AG182<=DATE(2015,12,31)),\"2.0\",IF(AG182>=DATE(2016,1,1),\"3.0\",\"\")))))","v":"1.0"},"Distributed","Operational",null,null,1066.43,null,null,2372.8494072000003,null,null,2372.8494072000003,0.254,{"$f":"IF(OR(ISBLANK(N182),ISBLANK(R182)),\"NA\",(R182*1000)/(N182*8760))","v":"NA"},null,0.254,2749256.54,null,null,2749256.54,{"$f":" IF(AND(ISNUMBER(N182), ISNUMBER(Y182)),Y182/N182,\"NA\")","v":2578},null,0,2013,2013,"From 2007 - 2013, over 60 customers connected to the RE Interconnection Programme to generate 352.97 kW. After achieving full subscription, GRENLEC has increased the cap to 500 kW in the second phase of the project.","2017-08-03"]
[{"$f":"H183","v":1},"P0119","Grenada",null,null,null,"Solar PV",1,"1.0","Distributed","Operational",null,null,300,null,null,667.51199999999994,null,null,667.51199999999994,0.254,"NA",null,0.254,2100000,null,2100000,773400,{"$f":" IF(AND(ISNUMBER(N183), ISNUMBER(Y183)),Y183/N183,\"NA\")","v":7000},null,0,2014,2014,"Grenada completed PV system to power reverse osmosis plant in June 2014.","2018-07-18","Confident"]
[1,"P0120","Grenada",null,null,null,"Solar PV",1,"1.0","Distributed","Operational",null,null,263.38,null,null,586.03103519999991,null,null,586.03103519999991,0.254,"NA",null,0.254,678993.64,null,null,678993.64,{"$f":" IF(AND(ISNUMBER(N184), ISNUMBER(Y184)),Y184/N184,\"NA\")","v":2578},null,0,2016,2016,"Commissioned in August 2016.","2017-08-03"]
[1,"P0121","Grenada",null,null,null,"Solar PV",1,"1.0","Distributed","Operational",null,null,201.4,null,null,448.12305599999996,null,null,448.12305599999996,0.254,"NA",null,0.254,519209.2,null,null,519209.2,{"$f":" IF(AND(ISNUMBER(N185), ISNUMBER(Y185)),Y185/N185,\"NA\")","v":2578},null,0,2016,2016,"148.48 kW commisioned in September 2013. An additional 52.92 kW installed in June 2016. ","2018-08-03","Confident"]
[1,"P0297","Grenada",null,null,"GRENLEC","Solar PV",1,"1.0","Utility/IPP","Operational","GRENLEC","GRENLEC",400,null,null,700.8,null,null,700.8,0.2,"NA",null,0.2,800000,null,null,{"$f":" N186 * AC186","v":800000},2000,null,null,2016,2016,null,"2018-07-18","Confident"]
[1,"P0122","Grenada",null,null,null,"Solar PV",1,"1.0","Distributed","Operational",null,null,148.5,null,null,330.41843999999998,null,null,330.41843999999998,0.254,"NA",null,0.254,382833,null,null,382833,{"$f":" IF(AND(ISNUMBER(N187), ISNUMBER(Y187)),Y187/N187,\"NA\")","v":2578},null,{"$f":"SUM(AD187:AD187)","v":0},2013,2013,null,"2018-08-03","Confident"]
[1,"P0271","Grenada",null,null,null,"Geothermal",1,null,"Utility/IPP","Planned",null,null,15000,null,null,111690,null,null,111690,0.85,"NA",null,null,63750000,null,null,{"$f":"AC188*N188","v":63750000},{"$f":"VLOOKUP(G188,'Capex by RE tech'!$A$2:$F$19,6,TRUE)","v":4250},null,null,"NA",null,"Commissioning expected 2022/2023. ","2019-08-12","Confident"]
[1,"P0123","Grenada",null,null,"GRENLEC","Solar PV",1,{"$f":"IF(K189=\"Planned\",\"3.0\",IF(AG189<DATE(2009,12,31),\"1.0\",IF(AND(AG189>=DATE(2010,1,1)+0,AG189<=DATE(2012,12,31)),\"1.0\",IF(AND(AG189>=DATE(2013,1,1),AG189<=DATE(2015,12,31)),\"2.0\",IF(AG189>=DATE(2016,1,1),\"3.0\",\"\")))))","v":"1.0"},"Distributed","Operational","GRENLEC",null,{"$f":" 149 + 53 + 144","v":346},null,null,769.86383999999998,null,null,769.86383999999998,{"$f":"IF(AND(V189=\"NA\",ISBLANK(W189)),X189,IF(V189<>\"NA\",V189,IF(ISNUMBER(W189),W189,X189)))","v":0.254},"NA",null,0.254,891988,null,null,891988,{"$f":" IF(AND(ISNUMBER(N189), ISNUMBER(Y189)),Y189/N189,\"NA\")","v":2578},null,{"$f":"SUM(AD189:AD189)","v":0},2013,2013,"Commissioned in August 2016.","2017-08-03"]
[1,"P0124","Grenada",null,null,null,"Wind",1,"1.0","Distributed","Operational",null,null,80,null,null,322.36799999999999,null,null,322.36799999999999,0.46,"NA",null,0.46,126053.33333333334,null,null,126053.33333333334,1575.6666666666667,null,0,2007,2007,"One of first installations in the world in which energy is generated almost completely by wind.","2017-08-03"]
[1,"P0125","Grenada",null,null,null,"Solar PV",1,"1.0","Distributed","Operational",null,null,31.59,null,null,70.289013600000004,null,null,70.289013600000004,0.254,"NA",null,0.254,81439.02,null,null,81439.02,2578,null,0,2013,2013,"Commisioned in October 2013.","2017-08-03"]
[1,"P0126","Grenada",null,null,"GRENLEC","Solar PV",1,"1.0","Distributed","Operational","GRENLEC",null,{"$f":" 102 + 30 + 268","v":400},null,null,890.01599999999996,null,null,890.01599999999996,0.254,"NA",null,0.254,1031200,null,null,1031200,2578,null,0,2016,2016,"Commissioned in June 2016.","2017-08-03"]
[1,"P0127","Grenada",null,null,null,"Solar PV",1,"1.0","Distributed","Operational",null,null,13.9,null,null,30.928056000000002,null,null,30.928056000000002,0.254,"NA",null,0.254,35834.200000000004,null,null,35834.200000000004,2578.0000000000005,null,0,2014,2014,"Commisioned in May 2014.","2017-08-03"]
[1,"P0128","Grenada",null,null,null,"Solar PV",1,"1.0","Distributed","Operational",null,null,10,null,null,{"$f":"IF(ISNUMBER(R194),R194,IF(ISNUMBER(S194),S194, IF(ISNUMBER(T194), T194,\"NA\")))","v":22.250400000000003},null,null,{"$f":" (N194 * 8760 * U194)/1000","v":22.250400000000003},0.254,"NA",null,0.254,{"$f":" IF(ISNUMBER(Z194), Z194,IF(ISNUMBER(AA194),AA194,IF(ISNUMBER(AB194), AB194, \"NA\")))","v":25780},null,null,25780,2578,null,0,2009,2009,"111 solar photovoltaic panels.","2017-08-03"]
[1,"P0129","Grenada",null,null,null,"Solar PV",1,"1.0","Distributed","Operational",null,null,1.84,null,null,4.0940736000000006,null,null,4.0940736000000006,0.254,"NA",null,0.254,4743.5200000000004,null,null,4743.5200000000004,2578,null,0,2012,2012,"Commisioned in October 2012.","2017-08-03"]
[1,"P0130","Grenada",null,null,null,"Wind",1,"1.0","Distributed","Operational",null,null,1,null,null,4.0296000000000003,null,null,4.0296000000000003,0.46,"NA",null,0.46,1575.6666666666667,null,null,1575.6666666666667,1575.6666666666667,null,0,2012,2012,"Commisioned in October 2012.","2017-08-03"]
["Multiple",null,"Grenada",null,null,null,"Solar PV","Multiple",null,"Distributed","Operational",null,null,300,null,null,0,null,null,0,0,null,null,{"$f":"IF(OR(K197=\"Under development\",K197=\"Planned\"),VLOOKUP(G197,'Capex by RE tech'!$A$4:$D$18,4,TRUE),IF(AND(K197=\"Operational\",G197=\"Solar PV\"),VLOOKUP(AG197,'Capex by RE tech'!$C$11:$D$13,2,TRUE),IF(AND(K197=\"Operational\",G197=\"Wind\"),VLOOKUP(AG197,'Capex by RE tech'!$C$17:$D$19,2,TRUE),IF(AND(K197=\"Operational\",G197=\"Biomass\"),VLOOKUP(AG197,'Capex by RE tech'!$C$2:$D$4,2,TRUE),IF(AND(K197=\"Operational\",G197=\"Geothermal\"),VLOOKUP(AG197,'Capex by RE tech'!$C$2:$D$4,2,TRUE),IF(AND(K197=\"Operational\",G197=\"Hydro\"),VLOOKUP(AG197,'Capex by RE tech'!$C$8:$D$10,2,TRUE),IF(AND(K197=\"Operational\",G197=\"Waste-to-Energy\"),VLOOKUP(AG197,'Capex by RE tech'!$C$14:$D$16,2,TRUE),IF(AND(K197=\"Operational\",AG197<2010),VLOOKUP(G197,'Capex by RE tech'!$A$2:$D$19,4,FALSE),NA))))))))","v":{"$error":"#N/A"}},435000,null,null,{"$f":"AC197*N197","v":435000},{"$f":"VLOOKUP(G197,'Capex by RE tech'!$A$2:$F$19,6,TRUE)","v":1450}]
["Multiple",null,"Grenada",null,null,null,"Wind","Multiple",null,"Distributed","Operational",null,null,80,null,null,0,null,null,0,0,null,null,{"$f":"IF(OR(K198=\"Under development\",K198=\"Planned\"),VLOOKUP(G198,'Capex by RE tech'!$A$4:$D$18,4,TRUE),IF(AND(K198=\"Operational\",G198=\"Solar PV\"),VLOOKUP(AG198,'Capex by RE tech'!$C$11:$D$13,2,TRUE),IF(AND(K198=\"Operational\",G198=\"Wind\"),VLOOKUP(AG198,'Capex by RE tech'!$C$17:$D$19,2,TRUE),IF(AND(K198=\"Operational\",G198=\"Biomass\"),VLOOKUP(AG198,'Capex by RE tech'!$C$2:$D$4,2,TRUE),IF(AND(K198=\"Operational\",G198=\"Geothermal\"),VLOOKUP(AG198,'Capex by RE tech'!$C$2:$D$4,2,TRUE),IF(AND(K198=\"Operational\",G198=\"Hydro\"),VLOOKUP(AG198,'Capex by RE tech'!$C$8:$D$10,2,TRUE),IF(AND(K198=\"Operational\",G198=\"Waste-to-Energy\"),VLOOKUP(AG198,'Capex by RE tech'!$C$14:$D$16,2,TRUE),IF(AND(K198=\"Operational\",AG198<2010),VLOOKUP(G198,'Capex by RE tech'!$A$2:$D$19,4,FALSE),NA))))))))","v":{"$error":"#N/A"}},118000,null,null,{"$f":"AC198*N198","v":118000},{"$f":"VLOOKUP(G198,'Capex by RE tech'!$A$2:$F$19,6,TRUE)","v":1475}]
[70,"P0131","Guadeloupe",null,"Various","Various","Solar PV",70,{"$f":"IF(K199=\"Planned\",\"3.0\",IF(AG199<DATE(2009,12,31),\"1.0\",IF(AND(AG199>=DATE(2010,1,1)+0,AG199<=DATE(2012,12,31)),\"1.0\",IF(AND(AG199>=DATE(2013,1,1),AG199<=DATE(2015,12,31)),\"2.0\",IF(AG199>=DATE(2016,1,1),\"3.0\",\"\")))))","v":"1.0"},"Distributed","Operational","Various","Various",65410,null,null,93794,null,93794,145539.8664,0.254,{"$f":"IF(OR(ISBLANK(N199),ISBLANK(R199)),\"NA\",(R199*1000)/(N199*8760))","v":"NA"},null,0.254,168626980,null,null,168626980,{"$f":" IF(AND(ISNUMBER(N199), ISNUMBER(Y199)),Y199/N199,\"NA\")","v":2578},null,{"$f":"SUM(AD199:AD199)","v":0},{"$f":"IF(ISNUMBER(AG199),AG199,IF(ISNUMBER(AH199),AH199,\"NA\"))","v":2016},2016,null,"2017-08-03"]
[{"$f":"H200","v":1},"P0146","Guadeloupe",null,"Petit-Canal","Quadran Caraïbes\n","Wind",1,"1.0","Utility/IPP","Operational","Quadran Caraïbes\n","EDF Énergies Nouvelles S.A.",1440,24,{"$f":"N200/O200","v":60},2720,null,null,2720,0.21562658548959918,"NA",{"$f":" 51000/(27 * 8760)","v":0.21562658548959918},0.46,2268960,null,null,2268960,1575.6666666666667,null,0,1999,1999,null,"2018-08-20","Confident"]
[1,"P0147","Guadeloupe",null,"Capesterre-de-Marie-Galante","Quadran Caraïbes\n","Wind",1,"1.0","Utility/IPP","Operational","Quadran Caraïbes\n","Électricité de France S.A. (EDF)",1380,23,60,2606.6666666666665,null,null,2606.6666666666665,0.21562658548959918,"NA",0.21562658548959918,0.46,2174420,null,null,2174420,1575.6666666666667,null,0,2000,2000,null,"2018-08-20","Confident"]
[1,"P0138","Guadeloupe",null,"Petit-Canal","EDF Énergies Nouvelles S.A.","Wind",1,"1.0","Utility/IPP","Operational","EDF Énergies Nouvelles S.A.",null,3300,15,220,6233.333333333333,null,null,6233.333333333333,0.21562658548959918,"NA",0.21562658548959918,0.46,5199700,null,null,5199700,1575.6666666666667,null,0,2001,2001,null,"2018-08-20","Confident"]
[1,"P0141","Guadeloupe",null,"Petit-Canal","EDF Énergies Nouvelles S.A.","Wind",1,"1.0","Utility/IPP","Operational","EDF Énergies Nouvelles S.A.","Électricité de France S.A. (EDF)",2200,10,220,4155.5555555555557,null,null,4155.5555555555557,0.21562658548959918,"NA",0.21562658548959918,0.46,3466466.666666667,null,null,3466466.666666667,1575.6666666666667,null,0,2002,2002,null,"2018-08-20","Confident"]
[1,"P0145","Guadeloupe",null,"Petit-Canal","EDF Énergies Nouvelles S.A.","Wind",1,"1.0","Utility/IPP","Operational","EDF Énergies Nouvelles S.A.",null,1540,7,220,2908.8888888888887,null,null,2908.8888888888887,0.21562658548959918,"NA",0.21562658548959918,0.46,2426526.666666667,null,null,2426526.666666667,1575.666666666667,null,0,2002,2002,null,"2018-08-20","Confident"]
[1,"P0136","Guadeloupe",null,"Saint-François","Quadran Caraïbes\n","Wind",1,"1.0","Utility/IPP","Operational","Quadran Caraïbes\n","Électricité de France S.A. (EDF)",4400,20,220,8311.1111111111113,null,null,8311.1111111111113,0.21562658548959918,"NA",0.21562658548959918,0.46,6932933.333333334,null,null,6932933.333333334,1575.6666666666667,null,0,2003,2003,null,"2018-08-03","Confident"]
[1,"P0139","Guadeloupe",null,"Anse-Bertrand","Société Eolienne Caribéenne","Wind",1,"1.0","Utility/IPP","Operational","Société Eolienne Caribéenne","Électricité de France S.A. (EDF)",3025,11,275,5713.8888888888887,null,null,5713.8888888888887,0.21562658548959918,"NA",0.21562658548959918,0.46,4766391.666666667,null,null,4766391.666666667,1575.6666666666667,null,0,2006,2006,null,"2018-08-20","Confident"]
[1,"P0143","Guadeloupe",null,"Les Saintes","Quadran Caraïbes\n","Wind",1,"1.0","Utility/IPP","Operational","Quadran Caraïbes\n","Électricité de France S.A. (EDF)",1925,7,275,3636.1111111111109,null,null,3636.1111111111109,0.21562658548959918,"NA",0.21562658548959918,0.46,3033158.3333333335,null,null,3033158.3333333335,1575.6666666666667,null,0,2006,2006,null,"2018-08-20","Confident"]
[1,"P0148","Guadeloupe",null,"Petit-Canal","Quadran Caraïbes\n","Wind",1,"1.0","Utility/IPP","Operational","Quadran Caraïbes\n","Électricité de France S.A. (EDF)",1375,5,275,2597.2222222222222,null,null,2597.2222222222222,0.21562658548959918,"NA",0.21562658548959918,0.46,2166541.666666667,null,null,2166541.666666667,1575.666666666667,null,0,2007,2007,null,"2018-08-20","Confident"]
[1,"P0132","Guadeloupe","Centrale Thermique du Moule","Le Moule","Albioma Caraïbes","Biomass",1,"1.0","Utility/IPP","Operational","Albioma Caraïbes","Électricité de France S.A. (EDF)",6900,null,null,66300,66300,null,66300.000000000015,1.0968830653166568,1.0968830653166568,null,0.69633333333333336,20700000,null,null,{"$f":" 3000 * N209","v":20700000},3000,null,0,1998,1998,null,"2018-08-03","Confident"]
[1,"P0133","Guadeloupe","Albioma Caraibes Plant Conversion","Marie-Galante Island ","Albioma Caraïbes","Biomass",1,null,"Utility/IPP","Under development","Albioma Caraïbes","Électricité de France S.A. (EDF)",34000,null,null,207395.92,null,null,207395.92,0.69633333333333336,"NA",null,0.69633333333333336,92444800,null,92444800,42740000,2718.964705882353,null,0,"NA",null,"Conversion from coal to biomass to begin 2019, plant set to operate 100% biomass before 2020. Albioma secured loan in March 2019 for 76.8 milllion USD","2019-08-07","Confident"]
[1,"P0134","Guadeloupe",null,"Bouillante","Bureau de Recherches Géologiques et Minières (BRGM)","Geothermal",1,{"$f":"IF(K211=\"Planned\",\"3.0\",IF(AG211<DATE(2009,12,31),\"1.0\",IF(AND(AG211>=DATE(2010,1,1)+0,AG211<=DATE(2012,12,31)),\"1.0\",IF(AND(AG211>=DATE(2013,1,1),AG211<=DATE(2015,12,31)),\"2.0\",IF(AG211>=DATE(2016,1,1),\"3.0\",\"\")))))","v":"1.0"},"Utility/IPP","Operational","Bureau de Recherches Géologiques et Minières (BRGM)","Électricité de France S.A. (EDF)",14700,null,null,112000,112000,null,112000,0.86975429441182861,0.86975429441182861,null,0.81833333333333336,70000000,null,null,{"$f":" 70000000","v":70000000},4761.9047619047615,null,0,2005,2005,"Ormat Techonologies purchased 85% stake in Geothermie Bouillante SA on July 5, 2016, plan to expand plant from 15 MW to 20 MW by end of 2017. ","2018-08-03","Confident"]
[16,"P0135","Guadeloupe",null,"Various","Various","Hydro",16,{"$f":"IF(K212=\"Planned\",\"3.0\",IF(AG212<DATE(2009,12,31),\"1.0\",IF(AND(AG212>=DATE(2010,1,1)+0,AG212<=DATE(2012,12,31)),\"1.0\",IF(AND(AG212>=DATE(2013,1,1),AG212<=DATE(2015,12,31)),\"2.0\",IF(AG212>=DATE(2016,1,1),\"3.0\",\"\")))))","v":"1.0"},"Utility/IPP","Operational","Various","Various",9610,null,null,38000,38000,null,38000,0.45139433333808487,0.45139433333808487,null,0.85,29560360,null,null,29560360,3076,null,0,2008,2008,"Guadeloupe's hydroelectric power is produced by 14 mini-hydro power stations owned by the EDF: Carbet (4.5 MW), Bananier Amont (1.2 MW), Bananier Aval (1.8 MW), Partiteur I and II (0.5 MW), Gaschet (0.2 MW), Letaye (0.2 MW), Bellevue (0.1 MW), Clairefontaine (0.2 MW), Saint Sauveur (0.07 MW), Schoelecher (0.07 MW), Le Bouchu (0.2 MW), Dolé (0.2 MW), Valeau (0.2), Bovis (0.25).","2018-08-03","Confident"]
[1,"P0142","Guadeloupe","Désirade III Montagne","La Désirade\n","Quadran Caraïbes\n","Wind",1,{"$f":"IF(K213=\"Planned\",\"3.0\",IF(AG213<DATE(2009,12,31),\"1.0\",IF(AND(AG213>=DATE(2010,1,1)+0,AG213<=DATE(2012,12,31)),\"1.0\",IF(AND(AG213>=DATE(2013,1,1),AG213<=DATE(2015,12,31)),\"2.0\",IF(AG213>=DATE(2016,1,1),\"3.0\",\"\")))))","v":"1.0"},"Utility/IPP","Operational","Quadran Caraïbes\n","Électricité de France S.A. (EDF)",2100,35,{"$f":"N213/O213","v":60},3966.6666666666665,null,null,3966.6666666666665,0.21562658548959918,"NA",{"$f":" 51000/(27 * 8760)","v":0.21562658548959918},0.46,3308900,null,null,3308900,1575.6666666666667,null,0,2010,2010,null,"2018-08-20","Confident"]
[1,"P0144","Guadeloupe","Désirade IV Souffleur","La Désirade\n","Quadran Caraïbes\n","Wind",1,{"$f":"IF(K214=\"Planned\",\"3.0\",IF(AG214<DATE(2009,12,31),\"1.0\",IF(AND(AG214>=DATE(2010,1,1)+0,AG214<=DATE(2012,12,31)),\"1.0\",IF(AND(AG214>=DATE(2013,1,1),AG214<=DATE(2015,12,31)),\"2.0\",IF(AG214>=DATE(2016,1,1),\"3.0\",\"\")))))","v":"1.0"},"Utility/IPP","Operational","Quadran Caraïbes\n","Électricité de France S.A. (EDF)",1650,6,{"$f":"N214/O214","v":275},3116.6666666666665,null,null,3116.6666666666665,0.21562658548959918,"NA",{"$f":" 51000/(27 * 8760)","v":0.21562658548959918},0.46,2599850,null,null,2599850,1575.6666666666667,null,0,2010,2010,null,"2018-08-20","Confident"]
[1,null,"Guadeloupe",null,"Sainte-Rose","Albioma Energipole Solaire","Solar PV",1,null,"Utility/IPP","Operational","Albioma Energipole Solaire","Électricité de France S.A. (EDF)",3300,null,null,4530,null,4530,6233.333333333333,0.21562658548959918,"NA",{"$f":" 51000/(27 * 8760)","v":0.21562658548959918},null,4785000,null,null,{"$f":"AC215*N215","v":4785000},{"$f":"VLOOKUP(G215,'Capex by RE tech'!$A$2:$F$19,6,TRUE)","v":1450},null,0,null,2019,"Industrial comissioning began June 2019, tender won in 2015","2019-08-07","Confident"]
[1,"P0140","Guadeloupe",null,"Capesterre-de-Marie-Galante","Quadran Caraïbes and Vergnet","Wind",1,{"$f":"IF(K216=\"Planned\",\"3.0\",IF(AG216<DATE(2009,12,31),\"1.0\",IF(AND(AG216>=DATE(2010,1,1)+0,AG216<=DATE(2012,12,31)),\"1.0\",IF(AND(AG216>=DATE(2013,1,1),AG216<=DATE(2015,12,31)),\"2.0\",IF(AG216>=DATE(2016,1,1),\"3.0\",\"\")))))","v":"1.0"},"Utility/IPP","Operational","Quadran Caraïbes and Vergnet","Électricité de France S.A. (EDF)",2475,9,{"$f":"N216/O216","v":275},4675,null,null,4675,0.21562658548959918,"NA",{"$f":" 51000/(27 * 8760)","v":0.21562658548959918},0.46,11900000,null,11900000,3899775,{"$f":" IF(AND(ISNUMBER(N216), ISNUMBER(Y216)),Y216/N216,\"NA\")","v":4808.0808080808083},null,0,{"$f":"IF(ISNUMBER(AG216),AG216,IF(ISNUMBER(AH216),AH216,\"NA\"))","v":2016},2016,"Vergnet recomissioned plant in 2016 to provide an additional 975 kW.","2018-08-20","Confident"]
[1,"P0149","Guyana",null,"Kuribong River","TBD","Hydro",1,null,"Utility/IPP","Out","TBD","Guyana Power and Light Inc. (GLP)",165000,null,null,1228590,null,null,1228590,0.85,"NA",null,0.85,1000000000,null,1000000000,507540000,{"$f":" IF(AND(ISNUMBER(N217), ISNUMBER(Y217)),Y217/N217,\"NA\")","v":6060.606060606061},null,0,"NA",null,"NorConsult confirmed Amalia Falls Hydropower station is most efficient method of achieving 100% RE in Guyana. If political consensus regarding the project is reached, then NorConsult estimates a 3.5 year construction period until commerical operation of the project. As of June 2017, Amalia Falls project's outlook is poor as there are growing concerns over securing the necessary capital to finance the hydro-power development.","2018-07-18","Not confident"]
[1,"P0152","Guyana",null,null,null,"Solar PV",1,{"$f":"IF(K218=\"Planned\",\"3.0\",IF(AG218<DATE(2009,12,31),\"1.0\",IF(AND(AG218>=DATE(2010,1,1)+0,AG218<=DATE(2012,12,31)),\"1.0\",IF(AND(AG218>=DATE(2013,1,1),AG218<=DATE(2015,12,31)),\"2.0\",IF(AG218>=DATE(2016,1,1),\"3.0\",\"\")))))","v":"1.0"},"Distributed","Operational",null,null,43,null,null,95.676720000000003,null,null,95.676720000000003,0.254,"NA",null,0.254,70000,null,70000,110854,{"$f":" IF(AND(ISNUMBER(N218), ISNUMBER(Y218)),Y218/N218,\"NA\")","v":1627.9069767441861},null,0,"NA",null,"Government of the Co-operative Republic of Guyana awarded The meeco Group a tender to install a solar PV system at the Ministry of the Presidency building. Joint venture company oursun Guyanaa will oversee the development of the project. ","2017-08-03"]
[1,"P0153","Guyana",null,null,null,"Solar PV",1,{"$f":"IF(K219=\"Planned\",\"3.0\",IF(AG219<DATE(2009,12,31),\"1.0\",IF(AND(AG219>=DATE(2010,1,1)+0,AG219<=DATE(2012,12,31)),\"1.0\",IF(AND(AG219>=DATE(2013,1,1),AG219<=DATE(2015,12,31)),\"2.0\",IF(AG219>=DATE(2016,1,1),\"3.0\",\"\")))))","v":"1.0"},"Distributed","Operational",null,null,8.4600000000000009,null,null,18.8238384,null,null,18.8238384,0.254,"NA",null,0.254,21809.88,null,null,21809.88,{"$f":" IF(AND(ISNUMBER(N219), ISNUMBER(Y219)),Y219/N219,\"NA\")","v":2578},null,0,"NA",null,null,"2018-07-19"]
["Multiple",null,"Guyana","Various Solar PV + storage projects in cooperation with Norway","Bartica, Lethem, Mabaruma, Mahdia, and others",null,"Solar PV","Multiple",null,"Utility/IPP","Planned",null,null,30000,null,null,60444,null,null,60444,0.23,"NA",null,{"$f":"IF(OR(K220=\"Under development\",K220=\"Planned\"),VLOOKUP(G220,'Capex by RE tech'!$A$4:$D$18,4,TRUE),IF(AND(K220=\"Operational\",G220=\"Solar PV\"),VLOOKUP(AG220,'Capex by RE tech'!$C$11:$D$13,2,TRUE),IF(AND(K220=\"Operational\",G220=\"Wind\"),VLOOKUP(AG220,'Capex by RE tech'!$C$17:$D$19,2,TRUE),IF(AND(K220=\"Operational\",G220=\"Biomass\"),VLOOKUP(AG220,'Capex by RE tech'!$C$2:$D$4,2,TRUE),IF(AND(K220=\"Operational\",G220=\"Geothermal\"),VLOOKUP(AG220,'Capex by RE tech'!$C$2:$D$4,2,TRUE),IF(AND(K220=\"Operational\",G220=\"Hydro\"),VLOOKUP(AG220,'Capex by RE tech'!$C$8:$D$10,2,TRUE),IF(AND(K220=\"Operational\",G220=\"Waste-to-Energy\"),VLOOKUP(AG220,'Capex by RE tech'!$C$14:$D$16,2,TRUE),IF(AND(K220=\"Operational\",AG220<2010),VLOOKUP(G220,'Capex by RE tech'!$A$2:$D$19,4,FALSE),NA))))))))","v":0.23},43500000,null,null,{"$f":"AC220*N220","v":43500000},{"$f":"VLOOKUP(G220,'Capex by RE tech'!$A$2:$F$19,6,TRUE)","v":1450},null,0,"NA",null,"Funding from Norway secured (US$77 million)","2019-08-12","Confident"]
[null,null,"Guyana",null,"Lethem",null,"Solar PV",null,null,"Utility/IPP","Planned",null,null,1000,null,null,2014.8,null,null,2014.8,{"$f":"IF(AND(V221=\"NA\",ISBLANK(W221)),X221,IF(V221<>\"NA\",V221,IF(ISNUMBER(W221),W221,X221)))","v":0.23},"NA",null,{"$f":"IF(OR(K221=\"Under development\",K221=\"Planned\"),VLOOKUP(G221,'Capex by RE tech'!$A$4:$D$18,4,TRUE),IF(AND(K221=\"Operational\",G221=\"Solar PV\"),VLOOKUP(AG221,'Capex by RE tech'!$C$11:$D$13,2,TRUE),IF(AND(K221=\"Operational\",G221=\"Wind\"),VLOOKUP(AG221,'Capex by RE tech'!$C$17:$D$19,2,TRUE),IF(AND(K221=\"Operational\",G221=\"Biomass\"),VLOOKUP(AG221,'Capex by RE tech'!$C$2:$D$4,2,TRUE),IF(AND(K221=\"Operational\",G221=\"Geothermal\"),VLOOKUP(AG221,'Capex by RE tech'!$C$2:$D$4,2,TRUE),IF(AND(K221=\"Operational\",G221=\"Hydro\"),VLOOKUP(AG221,'Capex by RE tech'!$C$8:$D$10,2,TRUE),IF(AND(K221=\"Operational\",G221=\"Waste-to-Energy\"),VLOOKUP(AG221,'Capex by RE tech'!$C$14:$D$16,2,TRUE),IF(AND(K221=\"Operational\",AG221<2010),VLOOKUP(G221,'Capex by RE tech'!$A$2:$D$19,4,FALSE),NA))))))))","v":0.23},564000000,null,564000000,null,{"$f":" IF(AND(ISNUMBER(N221), ISNUMBER(Y221)),Y221/N221,\"NA\")","v":564000},null,0,"NA",null,"Call for tenders April 2019","2019-08-12","Confident"]
[{"$f":"H222","v":1},null,"Guyana","Marabuma Solar Farm","Mabaruma",null,"Solar PV",1,null,"Utility/IPP","Under development",null,null,400,null,null,805.92,null,null,805.92,0.23,"NA",null,{"$f":"IF(OR(K222=\"Under development\",K222=\"Planned\"),VLOOKUP(G222,'Capex by RE tech'!$A$4:$D$18,4,TRUE),IF(AND(K222=\"Operational\",G222=\"Solar PV\"),VLOOKUP(AG222,'Capex by RE tech'!$C$11:$D$13,2,TRUE),IF(AND(K222=\"Operational\",G222=\"Wind\"),VLOOKUP(AG222,'Capex by RE tech'!$C$17:$D$19,2,TRUE),IF(AND(K222=\"Operational\",G222=\"Biomass\"),VLOOKUP(AG222,'Capex by RE tech'!$C$2:$D$4,2,TRUE),IF(AND(K222=\"Operational\",G222=\"Geothermal\"),VLOOKUP(AG222,'Capex by RE tech'!$C$2:$D$4,2,TRUE),IF(AND(K222=\"Operational\",G222=\"Hydro\"),VLOOKUP(AG222,'Capex by RE tech'!$C$8:$D$10,2,TRUE),IF(AND(K222=\"Operational\",G222=\"Waste-to-Energy\"),VLOOKUP(AG222,'Capex by RE tech'!$C$14:$D$16,2,TRUE),IF(AND(K222=\"Operational\",AG222<2010),VLOOKUP(G222,'Capex by RE tech'!$A$2:$D$19,4,FALSE),NA))))))))","v":0.23},564000000,null,564000000,null,1410000,null,0,"NA",null,null,"2019-08-12","Not confident"]
[1,"P0150","Guyana ","Hope Beach Windfarm","Hope Beach","Guyana Windfarm Inc.","Wind",1,null,"Utility/IPP","Planned","Guyana Windfarm Inc.","Guyana Power and Light Inc. (GLP)",13000,null,null,52384.800000000003,null,null,52384.800000000003,0.46,"NA",null,0.46,50000000,null,50000000,20483666.666666668,3846.1538461538462,null,0,"NA",null,"Environmental application submitted May 2019. ","2019-10-09","Confident"]
[1,"P0151","Guyana ",null,"Berbice","Guyana Sugar Corporation (GUYSUCO)","Biomass",1,{"$f":"IF(K224=\"Planned\",\"3.0\",IF(AG224<DATE(2009,12,31),\"1.0\",IF(AND(AG224>=DATE(2010,1,1)+0,AG224<=DATE(2012,12,31)),\"1.0\",IF(AND(AG224>=DATE(2013,1,1),AG224<=DATE(2015,12,31)),\"2.0\",IF(AG224>=DATE(2016,1,1),\"3.0\",\"\")))))","v":"1.0"},"Utility/IPP","Operational","Guyana Sugar Corporation (GUYSUCO)","Guyana Power and Light Inc. (GLP)",13000,null,null,79298.44,null,null,79298.44,0.69633333333333336,"NA",null,0.69633333333333336,32200000,32200000,null,46301666.666666664,2476.9230769230771,null,0,{"$f":"IF(ISNUMBER(AG224),AG224,IF(ISNUMBER(AH224),AH224,\"NA\"))","v":2008},2008,"\"The Skeldon Co-generation Plant is a ‘ticking time bomb’ that currently requires US$2.5 million in immediate expenditure as a stop gap measure in order to restart the 30MW bagasse fuelled component of the facility and an additional US$17 million in order to fix the deficiencies identified a few months after the generators were turned on\".","2018-07-18","Confident"]
[1,"P0154","Haiti",null,"Artibonite Valley","Alstom and Compagnie de Montages Electriques a l'Exportation","Hydro",1,"1.0","Utility/IPP","Operational","Alstom and Compagnie de Montages Electriques a l'Exportation","Electricite d’Haiti",54000,3,{"$f":"N225/O225","v":18000},402084,null,null,402084,0.85,"NA",null,0.85,48800000,null,48800000,166104000,903.7037037037037,null,0,2017,2017,"Commissioning of the 3rd turbine of the Péligre hydroelectric plant","2018-07-19","Confident"]
[1,"P0155","Haiti",null,"Artibonite Valley","SINOHYDRO","Hydro",1,"1.0","Utility/IPP","Operational","SINOHYDRO","Electricite d’Haiti",32000,null,null,238272,null,null,238272,0.85,"NA",null,0.85,192000000,null,192000000,98432000,6000,null,0,"NA",null,"Secured loans from IDB, government of Brazil, and Chinese investors. Project is currently awaiting construction decision.","2018-07-19","Not confident"]
[1,"P0156","Haiti",null,null,null,"Hydro",1,"1.0","Utility/IPP","Operational",null,null,2650,5,{"$f":"N227/O227","v":530},19731.900000000001,null,null,19731.900000000001,0.85,"NA",null,0.85,8151400,null,null,8151400,3076,null,0,"NA",null,null,"2018-07-19","Confident"]
[1,"P0157","Haiti",null,null,null,"Hydro",1,"1.0","Utility/IPP","Operational",null,null,2400,2,{"$f":"N228/O228","v":1200},8000,null,8000,21024,1,"NA",null,1,7382400,null,null,7382400,3076,null,0,"NA",null,null,"2018-07-19","Confident"]
[1,"P0158","Haiti",null,null,null,"Hydro",1,"1.0","Utility/IPP","Operational",null,null,1100,null,null,1425,null,1425,1425,0.1478829389788294,"NA",0.1478829389788294,0.85,3383600,null,null,3383600,3076,null,0,"NA",null,"One of the four oldest micro-hydropower projects in Haiti.","2018-08-20","Confident"]
[1,"P0159","Haiti",null,null,null,"Hydro",1,null,"Utility/IPP","Planned",null,null,null,null,null,0,null,null,0,0.85,"NA",null,0.85,0,null,null,0,{"$f":"VLOOKUP(G230,'Capex by RE tech'!$A$2:$F$19,6,TRUE)","v":2813},null,0,"NA",null,null,"2018-07-11","Not confident"]
[1,"P0160","Haiti",null,null,null,"Hydro",1,{"$f":"IF(K231=\"Planned\",\"3.0\",IF(AG231<DATE(2009,12,31),\"1.0\",IF(AND(AG231>=DATE(2010,1,1)+0,AG231<=DATE(2012,12,31)),\"1.0\",IF(AND(AG231>=DATE(2013,1,1),AG231<=DATE(2015,12,31)),\"2.0\",IF(AG231>=DATE(2016,1,1),\"3.0\",\"\")))))","v":"1.0"},"Utility/IPP","Operational",null,null,850,null,null,410.5500000918102,null,410.5500000918102,410.55000009181026,5.5136986313700002E-2,"NA",5.5136986313700002E-2,0.85,2780000,null,2780000,2614600,{"$f":" IF(AND(ISNUMBER(N231), ISNUMBER(Y231)),Y231/N231,\"NA\")","v":3270.5882352941176},null,0,"NA",null,"One of the four oldest micro-hydropower projects in Haiti.","2018-07-10","Confident"]
[1,"P0161","Haiti",null,null,null,"Hydro",1,"1.0","Utility/IPP","Operational",null,null,520,null,null,3428.0064002246645,null,3428.0064002246645,3428.0064002246645,0.75254794525479995,"NA",0.75254794525479995,0.85,1599520,null,null,1599520,3076,null,0,"NA",null,"One of the four oldest micro-hydropower projects in Haiti.","2018-08-20","Confident"]
[1,"P0162","Haiti",null,null,null,"Solar PV",1,"1.0","Distributed","Operational",null,null,400,null,null,700.80000000000007,null,700.80000000000007,890.01599999999996,0.254,"NA",null,0.254,1031200,null,null,1031200,2578,null,0,"NA",null,"Constructed as part of Clinton Global Initiative.","2017-08-03"]
[1,"P0163","Haiti",null,null,null,"Hydro",1,"1.0","Distributed","Operational",null,null,300,null,null,675.75007559999915,null,675.75007559999915,675.75007559999904,0.25713473196346998,"NA",0.25713473196346998,0.85,922800,null,null,922800,3076,null,0,"NA",null,null,"2018-08-20","Confident"]
[1,"P0164","Haiti",null,null,null,"Solar PV",1,"1.0","Distributed","Operational",null,null,100,null,null,177,null,177,222.50399999999999,0.254,"NA",null,0.254,257800,null,null,257800,2578,null,0,"NA",null,"Project completed by Sunora Solar Energy.","2017-08-03"]
[1,"P0165","Haiti",null,null,null,"Solar PV",1,"1.0","Distributed","Operational",null,null,52,null,null,91.103999999999999,null,91.103999999999999,115.70208,0.254,"NA",null,0.254,134056,null,null,134056,2578,null,0,"NA",null,"Constructed through an NRG volunteer program.","2017-08-03"]
[1,"P0166","Haiti",null,null,null,"Solar PV",1,"1.0","Distributed","Operational",null,null,15,null,null,26.28,null,26.28,33.375599999999999,0.254,"NA",null,0.254,38670,null,null,38670,2578,null,0,"NA",null,"Utilizes 63 solar PV panels, funded through NRG's $1 million commitment to Clinton Global Initiative.","2017-08-03"]
[1,"P0167","Haiti",null,null,null,"Solar PV",1,"1.0","Distributed","Operational",null,null,7.2,null,null,12.6144,null,12.6144,16.020288000000001,0.254,"NA",null,0.254,18561.600000000002,null,null,18561.600000000002,2578.0000000000005,null,0,"NA",null,"First large solar powered school in Haiti.","2017-08-03"]
[1,"P0168","Haiti",null,null,null,"Solar PV",1,"1.0","Distributed","Operational",null,null,2.76,null,null,4.8355199999999998,null,4.8355199999999998,6.1411103999999996,0.254,"NA",null,0.254,7115.28,null,null,7115.28,2578,null,0,"NA",null,"Utilizes 12 solar PV panels, funded through NRG's $1 million commitment to Clinton Global Initiative.","2017-08-03"]
[1,"P0169","Haiti",null,null,null,"Solar PV",1,"1.0","Distributed","Operational",null,null,1.2,null,null,2.1023999999999998,null,2.1023999999999998,2.6700480000000004,0.254,"NA",null,0.254,3093.6,null,null,3093.6,2578,null,0,"NA",null,"Off grid system in the town of Bony. ","2017-08-03"]
[1,"P0285","Haiti",null,null,null,"Hydro",1,"1.0","Utility/IPP","Operational",null,null,650,null,null,"NA",null,null,{"$error":"#N/A"},{"$error":"#N/A"},"NA",null,{"$f":"IF(OR(K241=\"Under development\",K241=\"Planned\"),VLOOKUP(G241,'Capex by RE tech'!$A$4:$D$18,4,TRUE),IF(AND(K241=\"Operational\",G241=\"Solar PV\"),VLOOKUP(AG241,'Capex by RE tech'!$C$11:$D$13,2,TRUE),IF(AND(K241=\"Operational\",G241=\"Wind\"),VLOOKUP(AG241,'Capex by RE tech'!$C$17:$D$19,2,TRUE),IF(AND(K241=\"Operational\",G241=\"Biomass\"),VLOOKUP(AG241,'Capex by RE tech'!$C$2:$D$4,2,TRUE),IF(AND(K241=\"Operational\",G241=\"Geothermal\"),VLOOKUP(AG241,'Capex by RE tech'!$C$2:$D$4,2,TRUE),IF(AND(K241=\"Operational\",G241=\"Hydro\"),VLOOKUP(AG241,'Capex by RE tech'!$C$8:$D$10,2,TRUE),IF(AND(K241=\"Operational\",G241=\"Waste-to-Energy\"),VLOOKUP(AG241,'Capex by RE tech'!$C$14:$D$16,2,TRUE),IF(AND(K241=\"Operational\",AG241<2010),VLOOKUP(G241,'Capex by RE tech'!$A$2:$D$19,4,FALSE),NA))))))))","v":{"$error":"#N/A"}},0,null,null,{"$f":"AC241*N241","v":0},null,null,null,null,null,null,"2018-08-20","Not confident"]
[1,"P0174-1","Jamaica","Wigton Windfarm Phase I","Manchester ","Wigton Windfarm Ltd","Wind",1,"1.0","Utility/IPP","Operational","Wigton Windfarm Ltd","Jamaica Public Service Company (JPS)",{"$f":" 20700","v":20700},null,null,54399.6,null,null,54399.6,0.3,"NA",0.3,0.46,32616300,null,null,32616300,{"$f":" IF(AND(ISNUMBER(N242), ISNUMBER(Y242)),Y242/N242,\"NA\")","v":1575.6666666666667},null,{"$f":"SUM(AD242:AD242)","v":0},{"$f":"IF(ISNUMBER(AG242),AG242,IF(ISNUMBER(AH242),AH242,\"NA\"))","v":2004},2004,null,"2019-09-17","Confident"]
[1,"P0181","Jamaica","Munro Wind Farm","Munro ","UNISON Co., Ltd.","Wind",1,"1.0","Utility/IPP","Operational","UNISON Co., Ltd.","Jamaica Public Service Company (JPS)",3200,4,{"$f":"N243/O243","v":800},4204.8,null,null,4204.8,0.15,"NA",0.15,0.46,9300000,9300000,null,4727000,2906.25,null,0,2009,2009,null,"2019-09-17","Confident"]
[1,"P0174-2","Jamaica","Wigton Windfarm Phase II","Manchester ","Wigton Windfarm Ltd","Wind",1,"1.0","Utility/IPP","Operational","Wigton Windfarm Ltd","Jamaica Public Service Company (JPS)",{"$f":" 18000","v":18000},null,null,55188,null,null,55188,0.35,"NA",0.35,0.46,28362000,null,null,28362000,1575.6666666666667,null,0,2010,2010,null,"2019-09-17","Confident"]
[1,"P0170","Jamaica","Paradise Park ","Paradise Park, Westmoreland Parish","Eight Rivers Energy Company","Solar PV",1,null,"Utility/IPP","Operational","Eight Rivers Energy Company","Jamaica Public Service Company (JPS)",37000,null,null,97236,null,null,97236,0.3,0.3,null,0.254,95386000,null,null,95386000,2578,null,0,2019,2019,"Began operations 2019. 51.5MWp, 37MW","2019-09-17","Confident"]
[1,"P0172","Jamaica",null,"Riverton City ","TBD","Waste-to-Energy",1,null,"Utility/IPP","Planned","TBD","TBD",35000,null,null,215641.99999999997,null,null,215641.99999999997,0.70333333333333325,{"$f":"IF(OR(ISBLANK(N246),ISBLANK(R246)),\"NA\",(R246*1000)/(N246*8760))","v":"NA"},null,0.70333333333333325,143000000,null,143000000,{"$error":"#DIV/0!"},4085.7142857142858,null,0,"NA",null,"No new developments as of last update. Several firms have expressed interest in integrating a waste-to-energy system at the landfill. October 31, 2016, Prime Minister Holness appointed a nine-man enterprise team to evaluate proposals for the dump.","2019-08-12","Not confident"]
[1,"P0173","Jamaica","Content Solar PV Plant","Clarendon Parish ","WRB Enterprises","Solar PV",1,{"$f":"IF(K247=\"Planned\",\"3.0\",IF(AG247<DATE(2009,12,31),\"1.0\",IF(AND(AG247>=DATE(2010,1,1)+0,AG247<=DATE(2012,12,31)),\"1.0\",IF(AND(AG247>=DATE(2013,1,1),AG247<=DATE(2015,12,31)),\"2.0\",IF(AG247>=DATE(2016,1,1),\"3.0\",\"\")))))","v":"1.0"},"Utility/IPP","Operational","WRB Enterprises","Jamaica Public Service Company (JPS)",20000,97000,{"$f":"N247/O247","v":0.20618556701030927},44000,{"$f":" 44 * 1000","v":44000},null,40296,0.23,0.23,null,0.254,63000000,63000000,null,51560000,3150,null,0,2016,2016,"WRB Energy’s Content Solar in Jamaica: Resiliency","2018-08-20","Confident"]
[8,"P0175","Jamaica",null,"Various","Jamaica Public Service Company (JPS)","Hydro",8,{"$f":"IF(K248=\"Planned\",\"3.0\",IF(AG248<DATE(2009,12,31),\"1.0\",IF(AND(AG248>=DATE(2010,1,1)+0,AG248<=DATE(2012,12,31)),\"1.0\",IF(AND(AG248>=DATE(2013,1,1),AG248<=DATE(2015,12,31)),\"2.0\",IF(AG248>=DATE(2016,1,1),\"3.0\",\"\")))))","v":"1.0"},"Utility/IPP","Operational","Jamaica Public Service Company (JPS)",null,{"$f":"29000-7200","v":21800},null,null,162322.79999999999,null,null,162322.79999999999,0.85,{"$f":"IF(OR(ISBLANK(N248),ISBLANK(R248)),\"NA\",(R248*1000)/(N248*8760))","v":"NA"},null,0.85,67056800,null,null,67056800,3076,null,0,"NA",null,"Maggotty accounts for about 30% of total hydroelectric generation, capacity factor calculated by averaging capacity factors of nine JPS hydroelectric plants.","2019-09-17","Not confident"]
[382,"P0178","Jamaica",null,null,null,"Solar PV",382,{"$f":"IF(K249=\"Planned\",\"3.0\",IF(AG249<DATE(2009,12,31),\"1.0\",IF(AND(AG249>=DATE(2010,1,1)+0,AG249<=DATE(2012,12,31)),\"1.0\",IF(AND(AG249>=DATE(2013,1,1),AG249<=DATE(2015,12,31)),\"2.0\",IF(AG249>=DATE(2016,1,1),\"3.0\",\"\")))))","v":"1.0"},"Distributed","Operational",null,null,11350,null,null,25254.204000000002,null,null,25254.204000000002,0.254,"NA",null,0.254,29260300,null,null,29260300,2578,null,0,"NA",null,"Customer-owned renewable energy systems interconnected with the grid. ","2017-08-03"]
[1,null,"Jamaica","Upper White River","St. Ann","Jamaica Public Service Company (JPS)","Hydro",1,"Utility/IPP","Utility/IPP","Operational","Jamaica Public Service Company (JPS)",null,3200,null,null,13819.776,null,null,13819.776,0.49299999999999999,"NA",0.49299999999999999,null,9843200,null,null,{"$f":"AC250*N250","v":9843200},{"$f":"'Capex by RE tech'!$F$8","v":3076},null,null,null,1945,"Energy Division CREF 2019 Survey response","2019-09-17","Confident"]
[1,null,"Jamaica","Lower White River","St. Ann","Jamaica Public Service Company (JPS)","Hydro",1,null,"Utility/IPP","Operational","Jamaica Public Service Company (JPS)",null,4750,null,null,17351.37,null,null,17351.37,0.41699999999999998,"NA",0.41699999999999998,null,14611000,null,null,{"$f":"AC251*N251","v":14611000},{"$f":"'Capex by RE tech'!$F$8","v":3076},null,null,null,1952,"Energy Division CREF 2019 Survey response","2019-09-17","Confident"]
[1,null,"Jamaica","Roaring River","St. Ann","Jamaica Public Service Company (JPS)","Hydro",1,null,"Utility/IPP","Operational","Jamaica Public Service Company (JPS)",null,4050,null,null,30404.646000000001,null,null,30404.646000000001,0.85699999999999998,"NA",0.85699999999999998,null,12457800,null,null,{"$f":"AC252*N252","v":12457800},{"$f":"'Capex by RE tech'!$F$8","v":3076},null,null,null,1949,"Energy Division CREF 2019 Survey response","2019-09-17","Confident"]
[1,null,"Jamaica","Rio Bueno A&B","Trelawny","Jamaica Public Service Company (JPS)","Hydro",1,null,"Utility/IPP","Operational","Jamaica Public Service Company (JPS)",null,3600,null,null,18227.808000000001,null,null,18227.808000000001,{"$f":"IF(AND(V253=\"NA\",ISBLANK(W253)),X253,IF(V253<>\"NA\",V253,IF(ISNUMBER(W253),W253,X253)))","v":0.57799999999999996},"NA",0.57799999999999996,null,11073600,null,null,{"$f":"AC253*N253","v":11073600},{"$f":"'Capex by RE tech'!$F$8","v":3076},null,null,null,1966,"Energy Division CREF 2019 Survey response","2019-09-17","Confident"]
[{"$f":"H254","v":1},null,"Jamaica","Constant Spring","St. Andrew","Jamaica Public Service Company (JPS)","Hydro",1,null,"Utility/IPP","Operational","Jamaica Public Service Company (JPS)",null,770,null,null,3325.3836000000001,null,null,3325.3836000000001,0.49299999999999999,"NA",0.49299999999999999,null,2368520,null,null,{"$f":"AC254*N254","v":2368520},{"$f":"'Capex by RE tech'!$F$8","v":3076},null,null,null,1988,"Energy Division CREF 2019 Survey response","2019-09-17","Confident"]
[1,"P0179","Jamaica","JPS Maggotty Falls","St. Elizabeth ","Jamaica Public Service Company (JPS)","Hydro",1,{"$f":"IF(K255=\"Planned\",\"3.0\",IF(AG255<DATE(2009,12,31),\"1.0\",IF(AND(AG255>=DATE(2010,1,1)+0,AG255<=DATE(2012,12,31)),\"1.0\",IF(AND(AG255>=DATE(2013,1,1),AG255<=DATE(2015,12,31)),\"2.0\",IF(AG255>=DATE(2016,1,1),\"3.0\",\"\")))))","v":"1.0"},"Utility/IPP","Operational","Jamaica Public Service Company (JPS)",null,7200,2,{"$f":"N255/O255","v":3600},30274.559999999998,null,30274.559999999998,47871.648000000001,0.75900000000000001,"NA",0.75900000000000001,0.85,36000000,null,36000000,19378800,{"$f":" IF(AND(ISNUMBER(N255), ISNUMBER(Y255)),Y255/N255,\"NA\")","v":5000},null,{"$f":"SUM(AD255:AD255)","v":0},{"$f":"IF(ISNUMBER(AG255),AG255,IF(ISNUMBER(AH255),AH255,\"NA\"))","v":2014},2014,null,"2019-09-17","Confident",null,null," "]
[67,"P0180","Jamaica",null,"Various Texaco Jamaica Sites","Texaco Jamaica ","Solar PV",67,"1.0","Distributed","Operational","Texaco Jamaica ",null,3350,null,null,5869.2000000000007,null,5869.2000000000007,7453.884,0.254,"NA",null,0.254,2613000,null,{"$f":"39000*67","v":2613000},8636300,780,null,0,2014,2014,"Operational in 2015. Castalia estimated capacity based on the assumption of 50kW per gas station on all 67 service stations.","2017-08-03"]
[1,"P0171","Jamaica","BMR Energy Jamaica Wind Project","Malvern","BMR Energy LLC","Wind",1,"1.0","Utility/IPP","Operational","BMR Energy LLC","Jamaica Public Service Company (JPS)",36300,11,{"$f":"N257/O257","v":3300},120000,null,{"$f":" 120000","v":120000},81086.94,0.255,"NA",0.255,0.46,89600000,null,{"$f":" (62.7 + 26.9) * 10^6","v":89600000},57196700,2468.3195592286502,null,0,2016,2016,null,"2019-09-17","Confident"]
[1,"P0182","Jamaica",null,null,null,"Solar PV",1,"1.0","Distributed","Operational",null,null,1600,null,null,{"$f":"IF(ISNUMBER(R258),R258,IF(ISNUMBER(S258),S258, IF(ISNUMBER(T258), T258,\"NA\")))","v":3560.0639999999999},null,null,{"$f":" (N258 * 8760 * U258)/1000","v":3560.0639999999999},0.254,"NA",null,0.254,{"$f":" IF(ISNUMBER(Z258), Z258,IF(ISNUMBER(AA258),AA258,IF(ISNUMBER(AB258), AB258, \"NA\")))","v":3400000},null,3400000,4124800,2125,null,0,2014,2014,"Largest solar PV roof plant in Jamaica.","2017-08-03"]
[1,"P0183","Jamaica",null,"St. Catherine","Wisynco Group ","Solar PV",1,"1.0","Distributed","Operational","Wisynco Group ",null,1000,null,null,2225.04,null,null,2225.04,0.254,"NA",null,0.254,2578000,null,null,2578000,2578,null,0,2015,2015,"Commissioned in September 2015, Jamaica's largest ground mounted system.","2017-08-03"]
[1,"P0185","Jamaica",null,null,null,"Solar PV",1,"1.0","Distributed","Operational",null,null,600,null,null,1335.0239999999999,null,null,1335.0239999999999,0.254,"NA",null,0.254,10000000,null,10000000,1546800,16666.666666666668,null,0,2014,2014,"Operational in March 2014, 15 kW systems installed in 40 chicken houses.","2017-08-03"]
[1,"P0186","Jamaica",null,null,null,"Solar PV",1,"1.0","Distributed","Operational",null,null,500,null,null,1112.52,null,null,1112.52,0.254,"NA",null,0.254,1000000,null,1000000,1289000,2000,null,0,2015,2015,"Operational in December 2015. ","2017-08-03"]
[1,"P0187","Jamaica",null,null,null,"Solar PV",1,"1.0","Distributed","Operational",null,null,460,null,null,1023.5184,null,null,1023.5184,0.254,"NA",null,0.254,1000000,null,1000000,1185880,2173.913043478261,null,0,2015,2015,"Commissioned in May 2015.","2017-08-03"]
[1,"P0188","Jamaica",null,null,null,"Solar PV",1,"1.0","Distributed","Operational",null,null,450,null,null,1001.268,null,null,1001.268,0.254,"NA",null,0.254,1160100,null,null,1160100,2578,null,0,2015,2015,"Commissioned in October 2015. ","2017-08-03"]
[1,"P0189","Jamaica",null,null,null,"Solar PV",1,"1.0","Distributed","Operational",null,null,330,null,null,734.26319999999998,null,null,734.26319999999998,0.254,"NA",null,0.254,500000,null,500000,850740,1515.1515151515152,null,0,2017,2017,"Commissioned in April 2017. ","2017-08-03"]
[1,"P0190","Jamaica",null,null,null,"Solar PV",1,"1.0","Distributed","Operational",null,null,300,null,null,667.51199999999994,null,null,667.51199999999994,0.254,"NA",null,0.254,773400,null,null,773400,2578,null,0,2015,2015,"Commissioned in 2015.","2017-08-03"]
[18,"P0191","Jamaica",null,null,null,"Solar PV",18,"1.0","Distributed","Operational",null,null,232,null,null,516.20928000000004,null,null,516.20928000000004,0.254,"NA",null,0.254,598096,null,null,598096,2578,null,0,"NA",null,"Solar systems will be provided to 15 schools and three government institutions.","2017-08-03"]
[1,"P0192","Jamaica",null,null,null,"Wind",1,"1.0","Distributed","Operational",null,null,225,null,null,906.66,null,null,906.66,0.46,"NA",null,0.46,354525,null,null,354525,1575.6666666666667,null,0,1996,1996,"Commissioned in 1996, first grid-connected wind energy source in English-speaking Caribbean.","2017-08-03"]
[1,"P0193","Jamaica",null,null,null,"Solar PV",1,"1.0","Distributed","Operational",null,null,200,null,null,445.00799999999998,null,null,445.00799999999998,0.254,"NA",null,0.254,515600,null,null,515600,2578,null,0,2012,2012,"Developed by Element Solar. Sites in Seawad Drive and Rio Bueno commissioned in 2012.","2017-08-03"]
[1,"P0194","Jamaica",null,null,null,"Solar PV",1,"1.0","Distributed","Operational",null,null,170,null,null,378.2568,null,null,378.2568,0.254,"NA",null,0.254,438260,null,null,438260,2578,null,0,"NA",null,"Building is 100% solar powered during daytime operations. ","2017-08-03"]
[1,"P0195","Jamaica",null,null,null,"Solar PV",1,"1.0","Distributed","Operational",null,null,143,null,null,318.18072000000001,null,null,318.18072000000001,0.254,"NA",null,0.254,368654,null,null,368654,2578,null,0,2015,2015,"Operational in 2015.","2017-08-03"]
[1,"P0196","Jamaica",null,null,null,"Solar PV",1,"1.0","Distributed","Operational",null,null,125,null,null,278.13,null,null,278.13,0.254,"NA",null,0.254,1240000,null,1240000,322250,9920,null,0,2015,2015,"Commissioned in June 2015.","2017-08-03"]
[1,"P0197","Jamaica",null,null,null,"Solar PV",1,"1.0","Distributed","Operational",null,null,100,null,null,222.50399999999999,null,null,222.50399999999999,0.254,"NA",null,0.254,257800,null,null,257800,2578,null,0,2013,2013,"Commissioned in June 2013.","2017-08-03"]
[1,"P0198","Jamaica",null,null,null,"Solar PV",1,"1.0","Distributed","Operational",null,null,100,null,null,222.50399999999999,null,null,222.50399999999999,0.254,"NA",null,0.254,257800,null,null,257800,2578,null,0,"NA",null,"Villas Keela Wee and Whispering Waters are 100% solar powered.","2017-08-03"]
[1,"P0199","Jamaica",null,null,null,"Solar PV",1,"Version","Distributed","Operational",null,null,100,null,null,222.50399999999999,null,null,222.50399999999999,0.254,"NA",null,0.254,257800,null,null,257800,2578,null,0,2015,2015,"Developed by Solaris Energy, commissioned in April 2015. System comprised of 384 x 260 W ReneSola solar panels.","2017-08-03"]
[1,"P0200","Jamaica",null,null,null,"Solar PV",1,{"$f":"IF(K275=\"Planned\",\"3.0\",IF(AG275<DATE(2009,12,31),\"1.0\",IF(AND(AG275>=DATE(2010,1,1)+0,AG275<=DATE(2012,12,31)),\"1.0\",IF(AND(AG275>=DATE(2013,1,1),AG275<=DATE(2015,12,31)),\"2.0\",IF(AG275>=DATE(2016,1,1),\"3.0\",\"\")))))","v":"1.0"},"Distributed","Operational",null,null,100,null,null,222.50399999999999,null,null,222.50399999999999,0.254,"NA",null,0.254,257800,null,null,257800,2578,null,0,2015,2015,"Developed by Isratech Energy Solutions, commissioned in 2015.","2017-08-03"]
[1,"P0201","Jamaica",null,null,null,"Solar PV",1,"1.0","Distributed","Operational",null,null,100,null,null,222.50399999999999,null,null,222.50399999999999,0.254,"NA",null,0.254,310000,null,310000,257800,3100,null,0,2014,2014,"Commissioned in July 2014, partnership between Utech and JPS.","2017-08-03"]
[1,"P0202","Jamaica",null,null,null,"Solar PV",1,"1.0","Distributed","Operational",null,null,80,null,null,178.00320000000002,null,null,178.00320000000002,0.254,"NA",null,0.254,206240,null,null,206240,2578,null,0,2016,2016,"First townhouse in Jamaica running completely off JPS.","2017-08-03"]
[1,"P0203","Jamaica",null,null,null,"Solar PV",1,"1.0","Distributed","Operational",null,null,75,null,null,166.87799999999999,null,null,166.87799999999999,0.254,"NA",null,0.254,193350,null,null,193350,2578,null,0,2014,2014,"Commissioned in December 2014. System comprised of 292 x 255 W solar panels. ","2017-08-03"]
[1,"P0204","Jamaica",null,null,null,"Solar PV",1,"1.0","Distributed","Operational",null,null,60,null,null,133.50239999999999,null,null,133.50239999999999,0.254,"NA",null,0.254,50000,null,50000,154680,833.33333333333337,null,0,2013,2013,"Commissioned in 2013. System comprised of 288 x 210 W solar panels.","2017-08-03"]
[1,"P0205","Jamaica",null,null,null,"Solar PV",1,"1.0","Distributed","Operational",null,null,60,null,null,133.50239999999999,null,null,133.50239999999999,0.254,"NA",null,0.254,154680,null,null,154680,2578,null,0,2014,2014,"Commissioned in May 2013, developed by Alternative Power Sources (Jamaica) Ltd. ","2017-08-03"]
[1,"P0206","Jamaica",null,null,null,"Solar PV",1,"1.0","Distributed","Operational",null,null,58.8,null,null,130.83235199999999,null,null,130.83235199999999,0.254,"NA",null,0.254,190000,null,190000,151586.4,3231.2925170068029,null,0,2014,2014,"Commissioned in June 2014, developed by Panasonic Latin America. ","2017-08-03"]
[1,"P0207","Jamaica",null,null,null,"Solar PV",1,"1.0","Distributed","Operational",null,null,25,null,null,55.625999999999998,null,null,55.625999999999998,0.254,"NA",null,0.254,64450,null,null,64450,2578,null,0,2015,2015,"Commissioned in October 2015. ","2017-08-03"]
[3,"P0208","Jamaica",null,null,null,"Wind",3,"1.0","Distributed","Operational",null,null,22.4,null,null,90.263040000000004,null,null,90.263040000000004,0.46,"NA",null,0.46,35294.933333333334,null,null,35294.933333333334,1575.6666666666667,null,0,"NA",null,"Customer-owned renewable energy systems interconnected with the grid. ","2017-08-03"]
[1,"P0209","Jamaica",null,null,null,"Solar PV",1,"1.0","Distributed","Operational",null,null,13.7,null,null,30.483048,null,null,30.483048,0.254,"NA",null,0.254,200000,null,200000,35318.6,14598.540145985402,null,0,2012,2012,"Commissioned in 2012.","2017-08-03"]
[1,"P0210","Jamaica",null,null,null,"Solar PV",1,"1.0","Distributed","Operational",null,null,10,null,null,22.250400000000003,null,null,22.250400000000003,{"$f":"IF(AND(V285=\"NA\",ISBLANK(W285)),X285,IF(V285<>\"NA\",V285,IF(ISNUMBER(W285),W285,X285)))","v":0.254},"NA",null,0.254,20000,null,20000,25780,2000,null,0,2013,2013,"Commissioned in August 2013.","2017-08-03"]
[{"$f":"H286","v":1},"P0174-3","Jamaica","Wigton Windfarm Phase III","Manchester ","Petroleum Corporation of Jamaica","Wind",1,"1.0","Utility/IPP","Operational","Petroleum Corporation of Jamaica","Jamaica Public Service Company (JPS)",{"$f":"24000","v":24000},null,null,50457.599999999999,null,null,50457.599999999999,0.24,"NA",0.24,0.46,37816000,null,null,37816000,1575.6666666666667,null,0,2016,2016,null,"2019-09-17","Confident"]
[957,"P0211","Martinique",null,null,null,"Solar PV",957,"1.0","Distributed","Operational",null,null,62000,null,null,76036.800000000003,null,76036.800000000003,76036.800000000003,0.14000000000000001,"NA",0.14000000000000001,0.254,159836000,null,null,159836000,2578,null,0,"NA",null,null,"2017-08-03"]
[1,"P0214","Martinique",null,"Le Vauclin","Quadran ","Wind",1,"1.0","Utility/IPP","Operational","Quadran ","Électricité de France S.A. (EDF)",1100,4,{"$f":"N288/O288","v":275},2400,null,2400,2400,0.24906600249066002,"NA",{"$f":" S288 * 1000/(N288 * 8760)","v":0.24906600249066002},0.46,1733233.3333333335,null,null,1733233.3333333335,1575.6666666666667,null,0,2004,2004,null,"2018-07-19","Confident"]
[1,"P0212","Martinique","Albioma Bagass/Biomass Plant","La Trinité","Albioma Galion and COFEPP","Biomass",1,"1.0","Utility/IPP","Operational","Albioma Galion and COFEPP","Électricité de France S.A. (EDF)",40000,null,null,285000,285000,null,285000,0.81335616438356162,0.81335616438356162,null,0.69633333333333336,211000000,null,211000000,142466666.66666666,5275,null,0,2018,2018,"Comissioned January 2018. April 13, 2017, Administrative Court of Appeal of Bordeaux overturned previous ruling regarding operation of Gailon 2, confirming Albioma's authorization to operate the plant. Work on the plant continues unabated, plant scheduled to be completed in Q4 2017. ","2019-10-09","Confident"]
[1,"P0213","Martinique",null,"Martiniquaise de Valorisation","Communaute d'Agglomeration du Centre de la Martinique","Waste-to-Energy",1,"1.0","Utility/IPP","Operational","Communaute d'Agglomeration du Centre de la Martinique","Électricité de France S.A. (EDF)",7000,null,null,40500,40500,23000,40500,0.66046966731898238,0.66046966731898238,null,0.70333333333333325,45000000,null,45000000,{"$error":"#DIV/0!"},6428.5714285714284,null,0,2002,2002,"Sole source of non-intermittent renewable energy on the island.","2018-07-19","Confident"]
[1,null,"Martinique","Grand-Riviere Wind Park",null,null,"Wind",1,null,"Utility/IPP","Operational",null,null,14000,null,null,42924,null,null,42924,0.35,"NA",null,{"$f":"IF(OR(K291=\"Under development\",K291=\"Planned\"),VLOOKUP(G291,'Capex by RE tech'!$A$4:$D$18,4,TRUE),IF(AND(K291=\"Operational\",G291=\"Solar PV\"),VLOOKUP(AG291,'Capex by RE tech'!$C$11:$D$13,2,TRUE),IF(AND(K291=\"Operational\",G291=\"Wind\"),VLOOKUP(AG291,'Capex by RE tech'!$C$17:$D$19,2,TRUE),IF(AND(K291=\"Operational\",G291=\"Biomass\"),VLOOKUP(AG291,'Capex by RE tech'!$C$2:$D$4,2,TRUE),IF(AND(K291=\"Operational\",G291=\"Geothermal\"),VLOOKUP(AG291,'Capex by RE tech'!$C$2:$D$4,2,TRUE),IF(AND(K291=\"Operational\",G291=\"Hydro\"),VLOOKUP(AG291,'Capex by RE tech'!$C$8:$D$10,2,TRUE),IF(AND(K291=\"Operational\",G291=\"Waste-to-Energy\"),VLOOKUP(AG291,'Capex by RE tech'!$C$14:$D$16,2,TRUE),IF(AND(K291=\"Operational\",AG291<2010),VLOOKUP(G291,'Capex by RE tech'!$A$2:$D$19,4,FALSE),NA))))))))","v":0.35},20650000,null,null,{"$f":"AC291*N291","v":20650000},{"$f":"VLOOKUP(G291,'Capex by RE tech'!$A$2:$F$19,6,TRUE)","v":1475},null,0,2019,2019,"Inaugurated February 2019","2019-08-12","Confident"]
[2,null,"Martinique",null,"Macouba and Ajoupa Boullon",null,"Wind",2,null,"Utility/IPP","Planned",null,null,22000,null,null,0,null,null,0,0,null,null,{"$f":"IF(OR(K292=\"Under development\",K292=\"Planned\"),VLOOKUP(G292,'Capex by RE tech'!$A$4:$D$18,4,TRUE),IF(AND(K292=\"Operational\",G292=\"Solar PV\"),VLOOKUP(AG292,'Capex by RE tech'!$C$11:$D$13,2,TRUE),IF(AND(K292=\"Operational\",G292=\"Wind\"),VLOOKUP(AG292,'Capex by RE tech'!$C$17:$D$19,2,TRUE),IF(AND(K292=\"Operational\",G292=\"Biomass\"),VLOOKUP(AG292,'Capex by RE tech'!$C$2:$D$4,2,TRUE),IF(AND(K292=\"Operational\",G292=\"Geothermal\"),VLOOKUP(AG292,'Capex by RE tech'!$C$2:$D$4,2,TRUE),IF(AND(K292=\"Operational\",G292=\"Hydro\"),VLOOKUP(AG292,'Capex by RE tech'!$C$8:$D$10,2,TRUE),IF(AND(K292=\"Operational\",G292=\"Waste-to-Energy\"),VLOOKUP(AG292,'Capex by RE tech'!$C$14:$D$16,2,TRUE),IF(AND(K292=\"Operational\",AG292<2010),VLOOKUP(G292,'Capex by RE tech'!$A$2:$D$19,4,FALSE),NA))))))))","v":0.315},32450000,null,null,{"$f":"AC292*N292","v":32450000},{"$f":"VLOOKUP(G292,'Capex by RE tech'!$A$2:$F$19,6,TRUE)","v":1475}]
[1,"P0277","Montserrat",null,null,null,"Solar PV",1,null,"Utility/IPP","Operational",null,"Montserrat Utilities Limited (MUL)",250,null,null,438,null,null,438,0.2,{"$f":"IF(OR(ISBLANK(N293),ISBLANK(R293)),\"NA\",(R293*1000)/(N293*8760))","v":"NA"},null,0.2,362500,null,null,{"$f":"AC293*N293","v":362500},{"$f":"VLOOKUP(G293,'Capex by RE tech'!$A$2:$F$19,6,TRUE)","v":1450},null,null,{"$f":"IF(ISNUMBER(AG293),AG293,IF(ISNUMBER(AH293),AH293,\"NA\"))","v":2019},2019,"OECD Platts","2019-08-07","Confident"]
[1,null,"Montserrat",null,"Brades",null,"Solar PV",1,"Utility/IPP","Utility/IPP","Under development",null,"Montserrat Utilities Limited (MUL)",750,null,null,1511.1,null,null,1511.1,0.23,{"$f":"IF(OR(ISBLANK(N294),ISBLANK(R294)),\"NA\",(R294*1000)/(N294*8760))","v":"NA"},null,{"$f":"IF(OR(K294=\"Under development\",K294=\"Planned\"),VLOOKUP(G294,'Capex by RE tech'!$A$4:$D$18,4,TRUE),IF(AND(K294=\"Operational\",G294=\"Solar PV\"),VLOOKUP(AG294,'Capex by RE tech'!$C$11:$D$13,2,TRUE),IF(AND(K294=\"Operational\",G294=\"Wind\"),VLOOKUP(AG294,'Capex by RE tech'!$C$17:$D$19,2,TRUE),IF(AND(K294=\"Operational\",G294=\"Biomass\"),VLOOKUP(AG294,'Capex by RE tech'!$C$2:$D$4,2,TRUE),IF(AND(K294=\"Operational\",G294=\"Geothermal\"),VLOOKUP(AG294,'Capex by RE tech'!$C$2:$D$4,2,TRUE),IF(AND(K294=\"Operational\",G294=\"Hydro\"),VLOOKUP(AG294,'Capex by RE tech'!$C$8:$D$10,2,TRUE),IF(AND(K294=\"Operational\",G294=\"Waste-to-Energy\"),VLOOKUP(AG294,'Capex by RE tech'!$C$14:$D$16,2,TRUE),IF(AND(K294=\"Operational\",AG294<2010),VLOOKUP(G294,'Capex by RE tech'!$A$2:$D$19,4,FALSE),NA))))))))","v":0.23},1087500,null,null,{"$f":"AC294*N294","v":1087500},{"$f":"VLOOKUP(G294,'Capex by RE tech'!$A$2:$F$19,6,TRUE)","v":1450},null,null,{"$f":"IF(ISNUMBER(AG294),AG294,IF(ISNUMBER(AH294),AH294,\"NA\"))","v":"NA"},null,"Second phase of solar PV in different location, considering airport. Will also have battery storage","2019-08-07","Confident"]
[1,"P0215","Montserrat",null,"TBD","Department for International Development (DFID)","Geothermal",1,null,"Utility/IPP","Planned","Department for International Development (DFID)","Montserrat Utilities Limited (MUL)",3300,null,null,23656.38,null,null,23656.38,0.81833333333333336,{"$f":"IF(OR(ISBLANK(N295),ISBLANK(R295)),\"NA\",(R295*1000)/(N295*8760))","v":"NA"},null,0.81833333333333336,13500000,null,13500000,15995100,{"$f":" IF(AND(ISNUMBER(N295), ISNUMBER(Y295)),Y295/N295,\"NA\")","v":4090.909090909091},null,{"$f":"SUM(AD295:AD295)","v":0},{"$f":"IF(ISNUMBER(AG295),AG295,IF(ISNUMBER(AH295),AH295,\"NA\"))","v":"NA"},null,"Initial source well drilling has taken four years. 2 wells confirmed capacity, drilling on third well has stored. DFID Oct. 2018 agreed to finance next phase. ","2019-10-09","Confident"]
[null,"P####","Name",null,"Location","Name","RE Technology","#",{"$f":"IF(K296=\"Planned\",\"3.0\",IF(AG296<DATE(2009,12,31),\"1.0\",IF(AND(AG296>=DATE(2010,1,1)+0,AG296<=DATE(2012,12,31)),\"1.0\",IF(AND(AG296>=DATE(2013,1,1),AG296<=DATE(2015,12,31)),\"2.0\",IF(AG296>=DATE(2016,1,1),\"3.0\",\"\")))))","v":"3.0"},"Scale",null,"Name","Name","kW","#","#","MWh","MWh","MWh","MWh","%","%","%","%","US$","US$","US$","US$","US$/kW","US$/kW","US$/kWh","yyyy","yyyy",null,"Date Updated"]
[{"$f":"H297","v":1},"P0217","Nevis ","WindWatt Wind Farm","Marsabit","WINDWATT","Wind",1,{"$f":"IF(K297=\"Planned\",\"3.0\",IF(AG297<DATE(2009,12,31),\"1.0\",IF(AND(AG297>=DATE(2010,1,1)+0,AG297<=DATE(2012,12,31)),\"1.0\",IF(AND(AG297>=DATE(2013,1,1),AG297<=DATE(2015,12,31)),\"2.0\",IF(AG297>=DATE(2016,1,1),\"3.0\",\"\")))))","v":"1.0"},"Utility/IPP","Operational","WINDWATT","Nevis Electricity Company (NEVLEC)",2200,8,{"$f":"N297/O297","v":275},{"$f":"IF(ISNUMBER(R297),R297,IF(ISNUMBER(S297),S297, IF(ISNUMBER(T297), T297,\"NA\")))","v":8865.1200000000008},null,null,{"$f":" (N297 * 8760 * U297)/1000","v":8865.1200000000008},{"$f":"IF(AND(V297=\"NA\",ISBLANK(W297)),X297,IF(V297<>\"NA\",V297,IF(ISNUMBER(W297),W297,X297)))","v":0.46},{"$f":"IF(OR(ISBLANK(N297),ISBLANK(R297)),\"NA\",(R297*1000)/(N297*8760))","v":"NA"},null,0.46,{"$f":" IF(ISNUMBER(Z297), Z297,IF(ISNUMBER(AA297),AA297,IF(ISNUMBER(AB297), AB297, \"NA\")))","v":3700000},null,3700000,3466466.666666667,{"$f":" IF(AND(ISNUMBER(N297), ISNUMBER(Y297)),Y297/N297,\"NA\")","v":1681.8181818181818},null,{"$f":"SUM(AD297:AD297)","v":0},{"$f":"IF(ISNUMBER(AG297),AG297,IF(ISNUMBER(AH297),AH297,\"NA\"))","v":2010},2010,null,"2019-09-16","Confident"]
[{"$f":"H298","v":1},"P0216","Nevis ",null,"Hamilton","Nevis Renewable Energy Int'l","Geothermal",1,null,"Utility/IPP","Under development",null,"Nevis Electricity Company (NEVLEC)",10000,null,null,71686,null,null,71686,{"$f":"IF(AND(V298=\"NA\",ISBLANK(W298)),X298,IF(V298<>\"NA\",V298,IF(ISNUMBER(W298),W298,X298)))","v":0.81833333333333336},"NA",null,0.81833333333333336,43623000,null,null,43623000,4362.3,null,0,"NA",null,"Drilling contractor selected August 2019. ","2019-08-07","Confident"]
[{"$f":"H299","v":1},"P0218","Puerto Rico","Santa Isabel Wind Farm","Santa Isabel ","Pattern Energy ","Wind",1,{"$f":"IF(K299=\"Planned\",\"3.0\",IF(AG299<DATE(2009,12,31),\"1.0\",IF(AND(AG299>=DATE(2010,1,1)+0,AG299<=DATE(2012,12,31)),\"1.0\",IF(AND(AG299>=DATE(2013,1,1),AG299<=DATE(2015,12,31)),\"2.0\",IF(AG299>=DATE(2016,1,1),\"3.0\",\"\")))))","v":"1.0"},"Utility/IPP","Operational","Pattern Energy ","Puerto Rico Electric Power Authority (PREPA)",95,44,{"$f":"N299/O299","v":2.1590909090909092},151049.60999999999,null,151049.60999999999,158.95020000000002,{"$f":"IF(AND(V299=\"NA\",ISBLANK(#REF!)),W299,IF(V299<>\"NA\",V299,IF(ISNUMBER(#REF!),#REF!,W299)))","v":0.191},"NA",0.191,null,250000000,null,250000000,159457466.66666669,2631578.9473684211,null,0,2012,2012,"PPOA under commercial operation","2019-08-13","Confident"]
[{"$f":"H300","v":1},"P0227","Puerto Rico","Punta Lima Wind Farm","Naguabo ","Gestamp Wind ","Wind",1,{"$f":"IF(K300=\"Planned\",\"3.0\",IF(AG300<DATE(2009,12,31),\"1.0\",IF(AND(AG300>=DATE(2010,1,1)+0,AG300<=DATE(2012,12,31)),\"1.0\",IF(AND(AG300>=DATE(2013,1,1),AG300<=DATE(2015,12,31)),\"2.0\",IF(AG300>=DATE(2016,1,1),\"3.0\",\"\")))))","v":"1.0"},"Utility/IPP","Operational","Gestamp Wind ","Puerto Rico Electric Power Authority (PREPA)",26000,13,{"$f":"N300/O300","v":2000},52301,null,52301,55555.555555555555,{"$f":"IF(AND(V300=\"NA\",ISBLANK(W300)),X300,IF(V300<>\"NA\",V300,IF(ISNUMBER(W300),W300,X300)))","v":0.24392147679818912},"NA",0.24392147679818912,0.23,82000000,null,82000000,36870600,3153.8461538461538,null,0,2013,2013,"Almost every turbine damaged by Maria, will require reconstruction","2019-08-13","Confident"]
[{"$f":"H301","v":1},"P0219","Puerto Rico","Montalva Solar Power Project","Guanica and Lajas","Greenbriar Capital Corp. and Atherton Pacific Green (APG) ","Solar PV",1,null,"Utility/IPP","Planned","Greenbriar Capital Corp. and Atherton Pacific Green (APG) ","Puerto Rico Electric Power Authority (PREPA)",100000,null,null,237000,null,237000,0,0,"NA",{"$f":"R301/876000","v":0},1,331400000,null,331400000,257800000,3314,null,0,"NA",null,"Includes 30 MW battery. Financing secured mid-2019. Construction expected to begin end 2019. ","2019-10-11","Confident"]
[11,"P0220","Puerto Rico",null,"Various ","Various","Hydro",11,{"$f":"IF(K302=\"Planned\",\"3.0\",IF(AG302<DATE(2009,12,31),\"1.0\",IF(AND(AG302>=DATE(2010,1,1)+0,AG302<=DATE(2012,12,31)),\"1.0\",IF(AND(AG302>=DATE(2013,1,1),AG302<=DATE(2015,12,31)),\"2.0\",IF(AG302>=DATE(2016,1,1),\"3.0\",\"\")))))","v":"1.0"},"Utility/IPP","Operational","Various","Various",100000,null,null,22167.577370286173,null,22167.577370286173,0,0,"NA",{"$f":"R302/876000","v":0},1,307600000,null,null,307600000,3076,null,0,"NA",null,"The 100 MW of hydroeelctric capacity comprises of 21 generating units at 11 sites around the island, the largest unit being Yauco I at 25 MW.","2018-07-19","Confident"]
[{"$f":"H303","v":1},"P0223","Puerto Rico",null,null,null,"Solar PV",1,{"$f":"IF(K303=\"Planned\",\"3.0\",IF(AG303<DATE(2009,12,31),\"1.0\",IF(AND(AG303>=DATE(2010,1,1)+0,AG303<=DATE(2012,12,31)),\"1.0\",IF(AND(AG303>=DATE(2013,1,1),AG303<=DATE(2015,12,31)),\"2.0\",IF(AG303>=DATE(2016,1,1),\"3.0\",\"\")))))","v":"1.0"},"Distributed","Operational",null,null,39100,null,null,86999.063999999998,null,null,86999.063999999998,0.254,"NA",null,0.254,100799800,null,null,100799800,2578,null,0,"NA",null,null,"2017-08-03"]
[1,"P0221","Puerto Rico",null,"Arecibo ","Energy Answers Arecibo, LLC","Waste-to-Energy",1,null,"Utility/IPP","Planned","Energy Answers Arecibo, LLC","TBD",79000,null,null,486734.79999999993,null,null,486734.79999999993,0.70333333333333325,"NA",null,0.70333333333333325,800000000,null,800000000,{"$error":"#DIV/0!"},10126.582278481013,null,0,"NA",null,"Energy Answers now in process of obtaining environmental permits. Company estimates the cost of the three-year project to be $750 million. No news to report","2019-08-13","Not confident"]
[1,"P0222","Puerto Rico","Oriana Solar Farm","Isabela","Oriana Energy LLC. And Yarotek","Solar PV",1,{"$f":"IF(K305=\"Planned\",\"3.0\",IF(AG305<DATE(2009,12,31),\"1.0\",IF(AND(AG305>=DATE(2010,1,1)+0,AG305<=DATE(2012,12,31)),\"1.0\",IF(AND(AG305>=DATE(2013,1,1),AG305<=DATE(2015,12,31)),\"2.0\",IF(AG305>=DATE(2016,1,1),\"3.0\",\"\")))))","v":"1.0"},"Utility/IPP","Operational","Oriana Energy LLC. And Yarotek","Puerto Rico Electric Power Authority (PREPA)",45000,null,null,84742,null,84742,94213.8,0.23899999999999999,"NA",0.23899999999999999,0.254,160000000,null,160000000,148235000,3555.5555555555557,null,0,2016,2016,"PPOA under commercial operation","2019-08-13","Confident"]
[1,"P0224","Puerto Rico",null,"Fajardo","Sonnedix Solar PR","Solar PV",1,null,"Utility/IPP","Planned","Sonnedix Solar PR","TBD",26000,null,null,57851.040000000001,null,null,57851.040000000001,0.254,"NA",null,0.254,67028000,null,null,67028000,2578,null,0,"NA",null,"Documentation phase","2019-08-13","Confident"]
[1,"P0225","Puerto Rico","San Fermin Solar Farm","Loiza","Canadian Solar Inc., Uriel Renewables Inc., and Coqui ","Solar PV",1,{"$f":"IF(K307=\"Planned\",\"3.0\",IF(AG307<DATE(2009,12,31),\"1.0\",IF(AND(AG307>=DATE(2010,1,1)+0,AG307<=DATE(2012,12,31)),\"1.0\",IF(AND(AG307>=DATE(2013,1,1),AG307<=DATE(2015,12,31)),\"2.0\",IF(AG307>=DATE(2016,1,1),\"3.0\",\"\")))))","v":"1.0"},"Utility/IPP","Operational","Canadian Solar Inc., Uriel Renewables Inc., and Coqui ","Puerto Rico Electric Power Authority (PREPA)",20000,null,null,29960.81,null,29960.81,36792,0.21,"NA",0.21,0.20399999999999999,67028000,null,null,67028000,3351.4,null,0,2015,2015,"PPOA under commercial operation","2019-08-13","Confident"]
[1,"P0226","Puerto Rico","AES Illumina Solar Farm","Guayama","AES Ilumina","Solar PV",1,"1.0","Utility/IPP","Operational","AES Ilumina","Puerto Rico Electric Power Authority (PREPA)",20000,null,null,38727.47,null,38727.47,36792,0.21,"NA",0.21,0.221,61872000,null,null,61872000,3093.6,null,0,2012,2012,"PPOA under commerical operation. Damaged by Maria","2019-08-13","Confident"]
[1,"P0229","Puerto Rico",null,null,null,"Solar PV",1,"1.0","Distributed","Operational",null,null,5000,null,null,8000.0007199999918,null,8000.0007199999918,8000.0007199999909,0.18264841826483999,"NA",0.18264841826483999,0.254,20000000,null,20000000,12890000,4000,null,0,2013,2013,"Operational in December of 2013. ","2017-08-03"]
[1,"P0230","Puerto Rico",null,null,null,"Solar PV",1,"1.0","Distributed","Operational",null,null,4721,null,null,7778.5804816223063,null,7778.5804816223063,7778.5804816223063,0.18808849997974431,"NA",0.18808849997974431,0.254,12170738,null,null,12170738,2578,null,0,2013,2013,"Operational in 2013.","2017-08-03"]
[1,"P0228","Puerto Rico","Horizon Energy Solar Farm","Salinas ","Horizon Energy LLC and Yarotek","Solar PV",1,"1.0","Utility/IPP","Operational","Horizon Energy LLC and Yarotek","Puerto Rico Electric Power Authority (PREPA)",10000,167392,{"$f":"N311/O311","v":5.9740011470082205E-2},22655,null,22655,22688.400000000001,0.25900000000000001,"NA",null,0.25900000000000001,40000000,null,40000000,40010560,4000,null,0,2015,2015,"PPOA under commercial operation","2019-08-13","Confident"]
[13,"P0232","Puerto Rico",null,null,null,"Solar PV",13,"1.0","Distributed","Operational",null,null,2900,null,null,6452.616,null,null,6452.616,0.254,"NA",null,0.254,7476200,null,null,7476200,2578,null,0,2013,2013,"Operational in 2013.","2017-08-03"]
[1,"P0231","Puerto Rico",null,"Ponce","Windmar Renewable Energy, Inc. ","Solar PV",1,"1.0","Utility/IPP","Operational","Windmar Renewable Energy, Inc. ","Puerto Rico Electric Power Authority (PREPA)",2100,null,null,4748.34,null,4748.34,4746.1679999999997,{"$f":"IF(AND(V313=\"NA\",ISBLANK(#REF!)),W313,IF(V313<>\"NA\",V313,IF(ISNUMBER(#REF!),#REF!,W313)))","v":0.25800000000000001},"NA",0.25800000000000001,null,9858272,null,null,9858272,4694.4152380952382,null,0,2012,2012,"PPOA under commercial operation","2019-08-13","Confident"]
["Multiple",null,"Puerto Rico",null,"Multiple",null,"Solar PV","Multiple",null,"Utility/IPP","Planned","TBD","Puerto Rico Electric Power Authority (PREPA)",1800000,null,null,3626640,null,null,3626640,{"$f":"IF(AND(V314=\"NA\",ISBLANK(W314)),X314,IF(V314<>\"NA\",V314,IF(ISNUMBER(W314),W314,X314)))","v":0.23},"NA",null,{"$f":"IF(OR(K314=\"Under development\",K314=\"Planned\"),VLOOKUP(G314,'Capex by RE tech'!$A$4:$D$18,4,TRUE),IF(AND(K314=\"Operational\",G314=\"Solar PV\"),VLOOKUP(AG314,'Capex by RE tech'!$C$11:$D$13,2,TRUE),IF(AND(K314=\"Operational\",G314=\"Wind\"),VLOOKUP(AG314,'Capex by RE tech'!$C$17:$D$19,2,TRUE),IF(AND(K314=\"Operational\",G314=\"Biomass\"),VLOOKUP(AG314,'Capex by RE tech'!$C$2:$D$4,2,TRUE),IF(AND(K314=\"Operational\",G314=\"Geothermal\"),VLOOKUP(AG314,'Capex by RE tech'!$C$2:$D$4,2,TRUE),IF(AND(K314=\"Operational\",G314=\"Hydro\"),VLOOKUP(AG314,'Capex by RE tech'!$C$8:$D$10,2,TRUE),IF(AND(K314=\"Operational\",G314=\"Waste-to-Energy\"),VLOOKUP(AG314,'Capex by RE tech'!$C$14:$D$16,2,TRUE),IF(AND(K314=\"Operational\",AG314<2010),VLOOKUP(G314,'Capex by RE tech'!$A$2:$D$19,4,FALSE),NA))))))))","v":0.23},2610000000,null,null,{"$f":"AC314*N314","v":2610000000},{"$f":"VLOOKUP(G314,'Capex by RE tech'!$A$2:$F$19,6,TRUE)","v":1450},null,0,"NA",null,"PREPA plans to install up to 1800 MW of solar PV 2019-2023 as part of IRP","2019-08-12","Confident"]
["Multiple",null,"Puerto Rico",null,"Multiple",null,"Solar PV","Multiple",null,"Utility/IPP","Planned","TBD","Puerto Rico Electric Power Authority (PREPA)",920000,null,null,1853616,null,null,1853616,0.23,"NA",null,{"$f":"IF(OR(K315=\"Under development\",K315=\"Planned\"),VLOOKUP(G315,'Capex by RE tech'!$A$4:$D$18,4,TRUE),IF(AND(K315=\"Operational\",G315=\"Solar PV\"),VLOOKUP(AG315,'Capex by RE tech'!$C$11:$D$13,2,TRUE),IF(AND(K315=\"Operational\",G315=\"Wind\"),VLOOKUP(AG315,'Capex by RE tech'!$C$17:$D$19,2,TRUE),IF(AND(K315=\"Operational\",G315=\"Biomass\"),VLOOKUP(AG315,'Capex by RE tech'!$C$2:$D$4,2,TRUE),IF(AND(K315=\"Operational\",G315=\"Geothermal\"),VLOOKUP(AG315,'Capex by RE tech'!$C$2:$D$4,2,TRUE),IF(AND(K315=\"Operational\",G315=\"Hydro\"),VLOOKUP(AG315,'Capex by RE tech'!$C$8:$D$10,2,TRUE),IF(AND(K315=\"Operational\",G315=\"Waste-to-Energy\"),VLOOKUP(AG315,'Capex by RE tech'!$C$14:$D$16,2,TRUE),IF(AND(K315=\"Operational\",AG315<2010),VLOOKUP(G315,'Capex by RE tech'!$A$2:$D$19,4,FALSE),NA))))))))","v":0.23},1334000000,null,null,1334000000,{"$f":"VLOOKUP(G315,'Capex by RE tech'!$A$2:$F$19,6,TRUE)","v":1450},null,0,"NA",null,"PREPA plans to install 920 MW of storage 2019-2023 as part of IRP","2019-08-12","Confident"]
[1,null,"Puerto Rico",null,"La Misericordia",null,"Solar PV",1,null,"Distributed","Operational",null,"Nursing home in La Misericordia",16,null,null,32.236800000000002,null,null,32.236800000000002,0.23,"NA",null,0.23,23200,null,null,23200,{"$f":"VLOOKUP(G316,'Capex by RE tech'!$A$2:$F$19,6,TRUE)","v":1450},null,0,"NA",null,null,"2019-08-12","Confident"]
[0,null,"Puerto Rico","Adjuntas Community Solar Grid","Adjuntas",null,"Solar PV",null,null,"Distributed","Planned",null,null,null,null,null,0,null,null,0,0.23,"NA",null,{"$f":"IF(OR(K317=\"Under development\",K317=\"Planned\"),VLOOKUP(G317,'Capex by RE tech'!$A$4:$D$18,4,TRUE),IF(AND(K317=\"Operational\",G317=\"Solar PV\"),VLOOKUP(AG317,'Capex by RE tech'!$C$11:$D$13,2,TRUE),IF(AND(K317=\"Operational\",G317=\"Wind\"),VLOOKUP(AG317,'Capex by RE tech'!$C$17:$D$19,2,TRUE),IF(AND(K317=\"Operational\",G317=\"Biomass\"),VLOOKUP(AG317,'Capex by RE tech'!$C$2:$D$4,2,TRUE),IF(AND(K317=\"Operational\",G317=\"Geothermal\"),VLOOKUP(AG317,'Capex by RE tech'!$C$2:$D$4,2,TRUE),IF(AND(K317=\"Operational\",G317=\"Hydro\"),VLOOKUP(AG317,'Capex by RE tech'!$C$8:$D$10,2,TRUE),IF(AND(K317=\"Operational\",G317=\"Waste-to-Energy\"),VLOOKUP(AG317,'Capex by RE tech'!$C$14:$D$16,2,TRUE),IF(AND(K317=\"Operational\",AG317<2010),VLOOKUP(G317,'Capex by RE tech'!$A$2:$D$19,4,FALSE),NA))))))))","v":0.23},0,null,null,0,{"$f":"VLOOKUP(G317,'Capex by RE tech'!$A$2:$F$19,6,TRUE)","v":1450},null,0,"NA"]
[1,null,"Puerto Rico","Fajardo Landfill Gas","Fajardo",null,"Waste-to-Energy",1,null,"Utility/IPP","Operational",null,"Puerto Rico Electric Power Authority (PREPA)",2400,null,null,7947.0720000000001,null,null,7947.0720000000001,0.378,"NA",0.378,null,19852800,null,null,19852800,{"$f":"VLOOKUP(G318,'Capex by RE tech'!$A$2:$F$19,6,TRUE)","v":8272},null,0,2016,2016,"PPOA under commercial operation","2019-08-13","Confident"]
[1,null,"Puerto Rico","Coto Laurel Solar Farm ","Ponce","Windmar","Solar PV",1,null,"Utility/IPP","Under development","Windmar","Puerto Rico Electric Power Authority (PREPA)",10000,null,null,19272,null,19272,19272,0.22,"NA",0.22,null,14500000,null,null,14500000,{"$f":"VLOOKUP(G319,'Capex by RE tech'!$A$2:$F$19,6,TRUE)","v":1450},null,0,"NA",null,"Initial interconnection November 2016. PPOA under pre-operation","2019-08-13","Confident"]
[1,null,"Puerto Rico","Humacao Solar Farm","Humacao","Fonroche Energy America","Solar PV",1,null,"Utility/IPP","Under development","Fonroche Energy America","Puerto Rico Electric Power Authority (PREPA)",40000,null,null,77088,null,77088,77088,0.22,"NA",0.22,null,58000000,null,null,58000000,{"$f":"VLOOKUP(G320,'Capex by RE tech'!$A$2:$F$19,6,TRUE)","v":1450},null,0,"NA",null,"Extensive damage to second phase (20MW) from hurricanes, being rebuilt. Development in two phases: Phase I  (20MW) is under testing and Phase II (20MW) under construction as of June 2018. Initial interconnection December 2016. PPOA under pre-operation","2019-08-13","Confident"]
[1,null,"Puerto Rico","Toa Baja Landfill","Toa Baja","Landfill Gas Technologies of Fajardo ","Waste-to-Energy",1,null,"Utility/IPP","Under development",null,"Puerto Rico Electric Power Authority (PREPA)",2400,null,null,7947,null,7947,7947.0720000000001,0.378,"NA",0.378,null,19852800,null,null,19852800,{"$f":"VLOOKUP(G321,'Capex by RE tech'!$A$2:$F$19,6,TRUE)","v":8272},null,0,"NA",null,"Facility completed testing July 2017, in process of achievng commercial operation when hurricanes Irma and Maria struck in September 2017. ","2019-08-13","Confident"]
[1,null,"Puerto Rico","Atenas Solar Farm","Manati",null,"Solar PV",1,null,"Utility/IPP","Planned",null,"Puerto Rico Electric Power Authority (PREPA)",20000,null,null,38544,null,38544,38544,0.22,"NA",0.22,null,29000000,null,null,29000000,{"$f":"VLOOKUP(G322,'Capex by RE tech'!$A$2:$F$19,6,TRUE)","v":1450},null,0,"NA",null,"Estimated commercial operation date is July 2019","2019-08-13","Confident"]
[1,null,"Puerto Rico",null,"Barceloneta",null,"Solar PV",1,"Utility/IPP","Utility/IPP","Planned",null,"Puerto Rico Electric Power Authority (PREPA)",20000,null,null,38544,null,38544,38544,0.22,"NA",0.22,null,29000000,null,null,29000000,{"$f":"VLOOKUP(G323,'Capex by RE tech'!$A$2:$F$19,6,TRUE)","v":1450},null,0,"NA",null,"Estimated commercial operation date is July 2019","2019-08-13","Confident"]
[1,null,"Puerto Rico","CIRO Solar Plant","Salinas ","AZTEC Engineering Group, Inc. ","Solar PV",1,null,"Utility/IPP","Planned","AZTEC Engineering Group, Inc. ","Puerto Rico Electric Power Authority (PREPA)",57000,null,null,109850,null,109850,109850.4,0.22,"NA",0.22,null,82650000,null,null,82650000,{"$f":"VLOOKUP(G324,'Capex by RE tech'!$A$2:$F$19,6,TRUE)","v":1450},null,0,"NA",null,"Estimated commercial operation date is July 2019","2019-08-13","Confident"]
[1,null,"Puerto Rico","Guayama Solar Plant","Guayama","AZTEC Engineering Group, Inc. ","Solar PV",1,"Utility/IPP","Utility/IPP","Planned","AZTEC Engineering Group, Inc. ","Puerto Rico Electric Power Authority (PREPA)",17800,null,null,34304,null,34304,34304.160000000003,0.22,"NA",0.22,null,25810000,null,null,25810000,{"$f":"VLOOKUP(G325,'Capex by RE tech'!$A$2:$F$19,6,TRUE)","v":1450},null,0,"NA",null,"Estimated commercial operation date is July 2019","2019-08-13","Confident"]
[1,null,"Puerto Rico",null,"Hatillo","Grupotec USA","Solar PV",1,null,"Utility/IPP","Planned","Grupotec USA","Puerto Rico Electric Power Authority (PREPA)",20000,null,null,38544,null,38544,38544,0.22,"NA",0.22,null,29000000,null,null,29000000,{"$f":"VLOOKUP(G326,'Capex by RE tech'!$A$2:$F$19,6,TRUE)","v":1450},null,0,"NA",null,"Estimated commercial operation date is July 2019","2019-08-13","Confident"]
[1,null,"Puerto Rico",null,"Morovis",null,"Solar PV",1,null,"Utility/IPP","Planned",null,"Puerto Rico Electric Power Authority (PREPA)",33500,null,null,64561,null,64561,64561.2,0.22,"NA",0.22,null,48575000,null,null,48575000,{"$f":"VLOOKUP(G327,'Capex by RE tech'!$A$2:$F$19,6,TRUE)","v":1450},null,0,"NA",null,"Estimated commercial operation date is July 2019","2019-08-13","Confident"]
[1,null,"Puerto Rico","Moca Solar Farm","Moca",null,"Solar PV",1,null,"Utility/IPP","Planned",null,"Puerto Rico Electric Power Authority (PREPA)",20000,null,null,38544,null,38544,38544,0.22,"NA",0.22,null,29000000,null,null,29000000,{"$f":"VLOOKUP(G328,'Capex by RE tech'!$A$2:$F$19,6,TRUE)","v":1450},null,0,"NA",null,"Estimated commercial operation date is July 2019","2019-08-13","Confident"]
[1,null,"Puerto Rico",null,"Quebradillas",null,"Solar PV",1,"Utility/IPP","Utility/IPP","Planned",null,"Puerto Rico Electric Power Authority (PREPA)",20000,null,null,{"$f":"IF(ISNUMBER(R329),R329,IF(ISNUMBER(S329),S329, IF(ISNUMBER(T329), T329,\"NA\")))","v":38544},null,38544,{"$f":" (N329 * 8760 * U329)/1000","v":38544},0.22,{"$f":"IF(OR(ISBLANK(N329),ISBLANK(R329)),\"NA\",(R329*1000)/(N329*8760))","v":"NA"},0.22,null,{"$f":" IF(ISNUMBER(Z329), Z329,IF(ISNUMBER(AA329),AA329,IF(ISNUMBER(AB329), AB329, \"NA\")))","v":29000000},null,null,29000000,{"$f":"VLOOKUP(G329,'Capex by RE tech'!$A$2:$F$19,6,TRUE)","v":1450},null,{"$f":"SUM(AD329:AD329)","v":0},{"$f":"IF(ISNUMBER(AG329),AG329,IF(ISNUMBER(AH329),AH329,\"NA\"))","v":"NA"},null,"Estimated commercial operation date is July 2019","2019-08-13","Confident"]
[1,null,"Puerto Rico",null,"Vega Baja",null,"Solar PV",1,null,"Utility/IPP","Planned",null,"Puerto Rico Electric Power Authority (PREPA)",20000,null,null,38544,null,38544,38544,0.22,"NA",0.22,null,29000000,null,null,29000000,{"$f":"VLOOKUP(G330,'Capex by RE tech'!$A$2:$F$19,6,TRUE)","v":1450},null,0,"NA",null,"Estimated commercial operation date is July 2019","2019-08-13","Confident"]
[1,null,"Puerto Rico",null,"Barcelonetta",null,"Solar PV",1,null,"Utility/IPP","Planned",null,"Puerto Rico Electric Power Authority (PREPA)",20000,null,null,38544,null,38544,38544,0.22,"NA",0.22,null,29000000,null,null,29000000,{"$f":"VLOOKUP(G331,'Capex by RE tech'!$A$2:$F$19,6,TRUE)","v":1450},null,0,"NA",null,"Estimated commercial operation date is July 2019","2019-08-13","Confident"]
[1,null,"Puerto Rico",null,"San German",null,"Solar PV",1,null,"Utility/IPP","Planned",null,"Puerto Rico Electric Power Authority (PREPA)",25000,null,null,48180,null,48180,48180,0.22,"NA",0.22,null,36250000,null,null,36250000,{"$f":"VLOOKUP(G332,'Capex by RE tech'!$A$2:$F$19,6,TRUE)","v":1450},null,0,"NA",null,"Estimated commercial operation date is July 2019","2019-08-13","Confident"]
[1,null,"Puerto Rico","SolarBlue Begoma Project","Dorado",null,"Solar PV",1,null,"Utility/IPP","Planned",null,"Puerto Rico Electric Power Authority (PREPA)",20000,null,null,38544,null,38544,38544,0.22,"NA",0.22,null,29000000,null,null,29000000,{"$f":"VLOOKUP(G333,'Capex by RE tech'!$A$2:$F$19,6,TRUE)","v":1450},null,0,"NA",null,"Estimated commercial operation date is July 2019","2019-08-13","Confident"]
[1,null,"Puerto Rico",null,"Yauco-Guayanilla","Windmar Renewable Energy, Inc. ","Solar PV",1,null,"Utility/IPP","Planned","Windmar Renewable Energy, Inc. ","Puerto Rico Electric Power Authority (PREPA)",20000,null,null,38544,null,38544,38544,0.22,"NA",0.22,null,29000000,null,null,29000000,{"$f":"VLOOKUP(G334,'Capex by RE tech'!$A$2:$F$19,6,TRUE)","v":1450},null,0,"NA",null,"Estimated commercial operation date is July 2019","2019-08-13","Confident"]
[{"$f":"H335","v":1},null,"Puerto Rico",null,"Yabucoa",null,"Solar PV",1,null,"Utility/IPP","Planned",null,"Puerto Rico Electric Power Authority (PREPA)",20000,null,null,38544,null,38544,38544,0.22,"NA",0.22,null,29000000,null,null,29000000,{"$f":"VLOOKUP(G335,'Capex by RE tech'!$A$2:$F$19,6,TRUE)","v":1450},null,0,"NA",null,"Estimated commercial operation date is July 2019","2019-08-13","Confident"]
[1,null,"Puerto Rico",null,"Santa Isabel ",null,"Wind",1,null,"Utility/IPP","Planned",null,"Puerto Rico Electric Power Authority (PREPA)",10000,null,null,19272,null,19272,19272,0.22,"NA",0.22,null,14750000,null,null,14750000,{"$f":"VLOOKUP(G336,'Capex by RE tech'!$A$2:$F$19,6,TRUE)","v":1475},null,0,"NA",null,null,"2019-08-13","Confident"]
[1,null,"Puerto Rico","Lajas Solar Project","Lajas","Fonroche Energy America","Solar PV",1,null,"Utility/IPP","Planned","Fonroche Energy America","Puerto Rico Electric Power Authority (PREPA)",10000,null,null,19272,null,19272,19272,0.22,"NA",0.22,null,14500000,null,null,14500000,{"$f":"VLOOKUP(G337,'Capex by RE tech'!$A$2:$F$19,6,TRUE)","v":1450},null,0,"NA",null,null,"2019-08-13","Confident"]
[1,null,"Puerto Rico","Solar Project Ponce","Naguabo ","Fonroche Energy America","Solar PV",1,null,"Utility/IPP","Planned","Fonroche Energy America","Puerto Rico Electric Power Authority (PREPA)",30000,null,null,57816,null,57816,57816,0.22,"NA",0.22,null,43500000,null,null,43500000,{"$f":"VLOOKUP(G338,'Capex by RE tech'!$A$2:$F$19,6,TRUE)","v":1450},null,0,"NA",null,null,"2019-08-13","Confident"]
[1,null,"Puerto Rico","Solar Projec San Juan","San Lorenzo","Fonroche Energy America","Solar PV",1,null,"Utility/IPP","Planned","Fonroche Energy America","Puerto Rico Electric Power Authority (PREPA)",15000,null,null,28908,null,28908,28908,0.22,"NA",0.22,null,21750000,null,null,21750000,{"$f":"VLOOKUP(G339,'Capex by RE tech'!$A$2:$F$19,6,TRUE)","v":1450},null,0,"NA",null,null,"2019-08-13","Confident"]
[1,null,"Puerto Rico",null,"Cajo Rojo","Fonroche Energy America","Solar PV",1,null,"Utility/IPP","Planned","Fonroche Energy America","Puerto Rico Electric Power Authority (PREPA)",30000,null,null,57816,null,57816,57816,0.22,"NA",0.22,null,43500000,null,null,43500000,{"$f":"VLOOKUP(G340,'Capex by RE tech'!$A$2:$F$19,6,TRUE)","v":1450},null,0,"NA",null,null,"2019-08-13","Confident"]
[1,null,"Puerto Rico","Vega Baja Solar Project","Naguabo ","Fonroche Energy America","Solar PV",1,null,"Utility/IPP","Planned","Fonroche Energy America","Puerto Rico Electric Power Authority (PREPA)",15000,null,null,28908,null,28908,28908,0.22,"NA",0.22,null,21750000,null,null,21750000,{"$f":"VLOOKUP(G341,'Capex by RE tech'!$A$2:$F$19,6,TRUE)","v":1450},null,0,"NA",null,null,"2019-08-13","Confident"]
[1,null,"Puerto Rico",null,"Fajardo","GG Alternative Energy Corporation","Solar PV",1,null,"Utility/IPP","Planned","GG Alternative Energy Corporation","Puerto Rico Electric Power Authority (PREPA)",20000,null,null,38544,null,38544,38544,0.22,"NA",0.22,null,29000000,null,null,29000000,{"$f":"VLOOKUP(G342,'Capex by RE tech'!$A$2:$F$19,6,TRUE)","v":1450},null,0,"NA",null,null,"2019-08-13","Confident"]
[1,null,"Puerto Rico",null,"Fajardo","GG Alternative Energy Corporation","Wind",1,null,"Utility/IPP","Planned","GG Alternative Energy Corporation","Puerto Rico Electric Power Authority (PREPA)",10000,null,null,19272,null,19272,19272,0.22,"NA",0.22,null,14750000,null,null,14750000,{"$f":"VLOOKUP(G343,'Capex by RE tech'!$A$2:$F$19,6,TRUE)","v":1475},null,0,"NA",null,null,"2019-08-13","Confident"]
[1,null,"Puerto Rico",null,"Hatillo",null,"Solar PV",1,null,"Utility/IPP","Planned",null,"Puerto Rico Electric Power Authority (PREPA)",30000,null,null,57816,null,57816,57816,0.22,"NA",0.22,null,43500000,null,null,43500000,{"$f":"VLOOKUP(G344,'Capex by RE tech'!$A$2:$F$19,6,TRUE)","v":1450},null,0,"NA",null,null,"2019-08-13","Confident"]
[1,null,"Puerto Rico",null,"Carolina",null,"Solar PV",1,null,"Utility/IPP","Planned",null,"Puerto Rico Electric Power Authority (PREPA)",40000,null,null,77088,null,77088,77088,0.22,"NA",0.22,null,58000000,null,null,58000000,{"$f":"VLOOKUP(G345,'Capex by RE tech'!$A$2:$F$19,6,TRUE)","v":1450},null,0,"NA",null,null,"2019-08-13","Confident"]
[1,null,"Puerto Rico",null,"Guayanilla","Jonas Solar Energy, LLC","Solar PV",1,null,"Utility/IPP","Planned","Jonas Solar Energy, LLC","Puerto Rico Electric Power Authority (PREPA)",40000,null,null,77088,null,77088,77088,{"$f":"IF(AND(V346=\"NA\",ISBLANK(W346)),X346,IF(V346<>\"NA\",V346,IF(ISNUMBER(W346),W346,X346)))","v":0.22},"NA",0.22,null,58000000,null,null,{"$f":"AC346*N346","v":58000000},{"$f":"VLOOKUP(G346,'Capex by RE tech'!$A$2:$F$19,6,TRUE)","v":1450},null,0,"NA",null,null,"2019-08-13","Confident"]
[1,null,"Puerto Rico",null,"Juncos",null,"Solar PV",1,null,"Utility/IPP","Planned",null,"Puerto Rico Electric Power Authority (PREPA)",20000,null,null,38544,null,38544,38544,0.22,"NA",0.22,null,29000000,null,null,29000000,{"$f":"VLOOKUP(G347,'Capex by RE tech'!$A$2:$F$19,6,TRUE)","v":1450},null,0,"NA",null,null,"2019-08-13","Confident"]
[1,null,"Puerto Rico","Luquillo Solar Plant","Rio Grande","Renewable Energy Authority","Solar PV",1,null,"Utility/IPP","Planned","Renewable Energy Authority","Puerto Rico Electric Power Authority (PREPA)",20000,null,null,38544,null,38544,38544,0.22,"NA",0.22,null,29000000,null,null,29000000,{"$f":"VLOOKUP(G348,'Capex by RE tech'!$A$2:$F$19,6,TRUE)","v":1450},null,0,"NA",null,null,"2019-08-13","Confident"]
[1,null,"Puerto Rico",null,"Manati",null,"Solar PV",1,null,"Utility/IPP","Planned",null,"Puerto Rico Electric Power Authority (PREPA)",50000,null,null,96360,null,96360,96360,0.22,"NA",0.22,null,72500000,null,null,72500000,{"$f":"VLOOKUP(G349,'Capex by RE tech'!$A$2:$F$19,6,TRUE)","v":1450},null,0,"NA",null,null,"2019-08-13","Confident"]
[1,null,"Puerto Rico",null,"Ceiba","Renewable Energy Authority","Solar PV",1,null,"Utility/IPP","Planned","Renewable Energy Authority","Puerto Rico Electric Power Authority (PREPA)",20000,null,null,38544,null,38544,38544,0.22,"NA",0.22,null,29000000,null,null,29000000,{"$f":"VLOOKUP(G350,'Capex by RE tech'!$A$2:$F$19,6,TRUE)","v":1450},null,0,"NA",null,null,"2019-08-13","Confident"]
[1,null,"Puerto Rico",null,"Hatillo","Renewable Energy Authority","Solar PV",1,null,"Utility/IPP","Planned","Renewable Energy Authority","Puerto Rico Electric Power Authority (PREPA)",20000,null,null,38544,null,38544,38544,0.22,"NA",0.22,null,29000000,null,null,29000000,{"$f":"VLOOKUP(G351,'Capex by RE tech'!$A$2:$F$19,6,TRUE)","v":1450},null,0,"NA",null,null,"2019-08-13","Confident"]
[1,null,"Puerto Rico",null,"Canovanas","Renewable Power Group, Inc.","Waste-to-Energy",1,null,"Utility/IPP","Planned","Renewable Power Group, Inc.","Puerto Rico Electric Power Authority (PREPA)",2000,null,null,14016,null,14016,14016,0.8,"NA",0.8,null,16544000,null,null,16544000,{"$f":"VLOOKUP(G352,'Capex by RE tech'!$A$2:$F$19,6,TRUE)","v":8272},null,0,"NA",null,"Bio-digestor","2019-08-13","Confident"]
[1,null,"Puerto Rico",null,"Moca","Renewable Power Group, Inc.","Waste-to-Energy",1,null,"Utility/IPP","Planned","Renewable Power Group, Inc.","Puerto Rico Electric Power Authority (PREPA)",1500,null,null,10512,null,10512,10512,0.8,"NA",0.8,null,12408000,null,null,12408000,{"$f":"VLOOKUP(G353,'Capex by RE tech'!$A$2:$F$19,6,TRUE)","v":8272},null,0,"NA",null,"Landfill gas","2019-08-13","Confident"]
[1,null,"Puerto Rico","Cabo Solar Farm","Cabo Rojo","Roma Solar, LLC","Solar PV",1,null,"Utility/IPP","Planned","Roma Solar, LLC","Puerto Rico Electric Power Authority (PREPA)",20000,null,null,38544,null,38544,38544,0.22,"NA",0.22,null,29000000,null,null,29000000,{"$f":"VLOOKUP(G354,'Capex by RE tech'!$A$2:$F$19,6,TRUE)","v":1450},null,0,"NA",null,null,"2019-08-13","Confident"]
[1,null,"Puerto Rico",null,"Anasco","Roma Solar, LLC","Solar PV",1,null,"Utility/IPP","Planned","Roma Solar, LLC","Puerto Rico Electric Power Authority (PREPA)",20000,null,null,38544,null,38544,38544,0.22,"NA",0.22,null,29000000,null,null,29000000,{"$f":"VLOOKUP(G355,'Capex by RE tech'!$A$2:$F$19,6,TRUE)","v":1450},null,0,"NA",null,null,"2019-08-13","Confident"]
[1,null,"Puerto Rico","Sierra Solar Farm","Arecibo ","Roma Solar, LLC","Solar PV",1,null,"Utility/IPP","Planned","Roma Solar, LLC","Puerto Rico Electric Power Authority (PREPA)",20000,null,null,38544,null,38544,38544,0.22,"NA",0.22,null,29000000,null,null,29000000,{"$f":"VLOOKUP(G356,'Capex by RE tech'!$A$2:$F$19,6,TRUE)","v":1450},null,0,"NA",null,null,"2019-08-13","Confident"]
[1,null,"Puerto Rico",null,"Barceloneta",null,"Waste-to-Energy",1,null,"Utility/IPP","Planned",null,"Puerto Rico Electric Power Authority (PREPA)",10000,null,null,70080,null,70080,70080,0.8,"NA",0.8,null,82720000,null,null,82720000,{"$f":"VLOOKUP(G357,'Capex by RE tech'!$A$2:$F$19,6,TRUE)","v":8272},null,0,"NA",null,null,"2019-08-13","Confident"]
[1,null,"Puerto Rico",null,"Barceloneta","Tradewinds Energy","Wind",1,null,"Utility/IPP","Planned","Tradewinds Energy","Puerto Rico Electric Power Authority (PREPA)",75000,null,null,144540,null,144540,144540,0.22,"NA",0.22,null,110625000,null,null,110625000,{"$f":"VLOOKUP(G358,'Capex by RE tech'!$A$2:$F$19,6,TRUE)","v":1475},null,0,"NA",null,null,"2019-08-13","Confident"]
[1,null,"Puerto Rico",null,"Manati/Vega Baja","Tradewinds Energy","Wind",1,null,"Utility/IPP","Planned","Tradewinds Energy","Puerto Rico Electric Power Authority (PREPA)",50000,null,null,96360,null,96360,96360,0.22,"NA",0.22,null,73750000,null,null,73750000,{"$f":"VLOOKUP(G359,'Capex by RE tech'!$A$2:$F$19,6,TRUE)","v":1475},null,0,"NA",null,null,"2019-08-13","Confident"]
[1,null,"Puerto Rico","Carolina Solar Farm","Carolina",null,"Solar PV",1,null,"Utility/IPP","Planned",null,"Puerto Rico Electric Power Authority (PREPA)",20000,null,null,38544,null,38544,38544,0.22,"NA",0.22,null,29000000,null,null,29000000,{"$f":"VLOOKUP(G360,'Capex by RE tech'!$A$2:$F$19,6,TRUE)","v":1450},null,0,"NA",null,null,"2019-08-13","Confident"]
[1,null,"Puerto Rico",null,"Vega Baja","One Planet Caribbean","Solar PV",1,null,"Utility/IPP","Planned","One Planet Caribbean","Puerto Rico Electric Power Authority (PREPA)",30000,null,null,{"$f":"IF(ISNUMBER(R361),R361,IF(ISNUMBER(S361),S361, IF(ISNUMBER(T361), T361,\"NA\")))","v":57816},null,57816,{"$f":" (N361 * 8760 * U361)/1000","v":57816},0.22,{"$f":"IF(OR(ISBLANK(N361),ISBLANK(R361)),\"NA\",(R361*1000)/(N361*8760))","v":"NA"},0.22,null,{"$f":" IF(ISNUMBER(Z361), Z361,IF(ISNUMBER(AA361),AA361,IF(ISNUMBER(AB361), AB361, \"NA\")))","v":43500000},null,null,43500000,{"$f":"VLOOKUP(G361,'Capex by RE tech'!$A$2:$F$19,6,TRUE)","v":1450},null,{"$f":"SUM(AD361:AD361)","v":0},{"$f":"IF(ISNUMBER(AG361),AG361,IF(ISNUMBER(AH361),AH361,\"NA\"))","v":"NA"},null,null,"2019-08-13","Confident"]
[1,null,"Puerto Rico",null,"Yabucoa","Western Wind Puero Rico Corp./Brookfield","Solar PV",1,null,"Utility/IPP","Planned","Western Wind Puero Rico Corp./Brookfield","Puerto Rico Electric Power Authority (PREPA)",30000,null,null,57816,null,57816,57816,0.22,"NA",0.22,null,43500000,null,null,43500000,{"$f":"VLOOKUP(G362,'Capex by RE tech'!$A$2:$F$19,6,TRUE)","v":1450},null,0,"NA",null,null,"2019-08-13","Confident"]
[1,null,"Puerto Rico",null,"Vieques",null,"Wind",1,null,"Utility/IPP","Planned",null,"Puerto Rico Electric Power Authority (PREPA)",20000,null,null,38544,null,38544,38544,0.22,"NA",0.22,null,29500000,null,null,29500000,{"$f":"VLOOKUP(G363,'Capex by RE tech'!$A$2:$F$19,6,TRUE)","v":1475},null,0,"NA",null,null,"2019-08-13","Confident"]
[1,null,"Puerto Rico",null,"Dorado/Toa Baja","Windmar Renewable Energy, Inc. ","Wind",1,null,"Utility/IPP","Planned","Windmar Renewable Energy, Inc. ","Puerto Rico Electric Power Authority (PREPA)",44000,null,null,84797,null,84797,84796.800000000003,0.22,"NA",0.22,null,64900000,null,null,64900000,{"$f":"VLOOKUP(G364,'Capex by RE tech'!$A$2:$F$19,6,TRUE)","v":1475},null,0,"NA",null,null,"2019-08-13","Confident"]
[1,null,"Puerto Rico",null,"Dorado/Toa Baja","Windmar Renewable Energy, Inc. ","Solar PV",1,null,"Utility/IPP","Planned","Windmar Renewable Energy, Inc. ","Puerto Rico Electric Power Authority (PREPA)",20000,null,null,38544,null,38544,38544,0.22,"NA",0.22,null,29000000,null,null,29000000,{"$f":"VLOOKUP(G365,'Capex by RE tech'!$A$2:$F$19,6,TRUE)","v":1450},null,0,"NA",null,null,"2019-08-13","Confident"]
[1,null,"Puerto Rico",null,"Guayanilla","Windmar Renewable Energy, Inc. ","Wind",1,null,"Utility/IPP","Planned","Windmar Renewable Energy, Inc. ","Puerto Rico Electric Power Authority (PREPA)",18400,null,null,35460,null,35460,35460.480000000003,0.22,"NA",0.22,null,27140000,null,null,27140000,{"$f":"VLOOKUP(G366,'Capex by RE tech'!$A$2:$F$19,6,TRUE)","v":1475},null,0,"NA",null,null,"2019-08-13","Confident"]
[{"$f":"H367","v":1},null,"Puerto Rico",null,"Guayanilla","Windmar Renewable Energy, Inc. ","Wind",1,null,"Utility/IPP","Planned","Windmar Renewable Energy, Inc. ","Puerto Rico Electric Power Authority (PREPA)",34500,null,null,66488,null,66488,66488.399999999994,0.22,"NA",0.22,null,50887500,null,null,50887500,{"$f":"VLOOKUP(G367,'Capex by RE tech'!$A$2:$F$19,6,TRUE)","v":1475},null,0,"NA",null,null,"2019-08-13","Confident"]
[1,"P0234","Saint-Martin",null,null,null,"Solar PV",1,{"$f":"IF(K368=\"Planned\",\"3.0\",IF(AG368<DATE(2009,12,31),\"1.0\",IF(AND(AG368>=DATE(2010,1,1)+0,AG368<=DATE(2012,12,31)),\"1.0\",IF(AND(AG368>=DATE(2013,1,1),AG368<=DATE(2015,12,31)),\"2.0\",IF(AG368>=DATE(2016,1,1),\"3.0\",\"\")))))","v":"1.0"},"Distributed","Operational",null,null,543.20000000000005,null,null,1208.6417280000001,null,null,1208.6417280000001,0.254,"NA",null,0.254,1400369.6,null,null,1400369.6,{"$f":" IF(AND(ISNUMBER(N368), ISNUMBER(Y368)),Y368/N368,\"NA\")","v":2578},null,0,"NA",null,"SXM solar installations in St. Martin/St. Maarten.","2017-08-03"]
[46,"P0233","Saint-Martin",null,null,null,"Solar PV",46,{"$f":"IF(K369=\"Planned\",\"3.0\",IF(AG369<DATE(2009,12,31),\"1.0\",IF(AND(AG369>=DATE(2010,1,1)+0,AG369<=DATE(2012,12,31)),\"1.0\",IF(AND(AG369>=DATE(2013,1,1),AG369<=DATE(2015,12,31)),\"2.0\",IF(AG369>=DATE(2016,1,1),\"3.0\",\"\")))))","v":"1.0"},"Utility/IPP","Operational",null,null,1440,null,null,3204.0576000000001,null,null,3204.0576000000001,0.254,"NA",null,0.254,3712320,null,null,3712320,{"$f":" IF(AND(ISNUMBER(N369), ISNUMBER(Y369)),Y369/N369,\"NA\")","v":2578},null,0,"NA",null,null,"2018-07-19","Not confident"]
[1,"P0236","Sint Maarten",null,null,null,"Solar PV",1,{"$f":"IF(K370=\"Planned\",\"3.0\",IF(AG370<DATE(2009,12,31),\"1.0\",IF(AND(AG370>=DATE(2010,1,1)+0,AG370<=DATE(2012,12,31)),\"1.0\",IF(AND(AG370>=DATE(2013,1,1),AG370<=DATE(2015,12,31)),\"2.0\",IF(AG370>=DATE(2016,1,1),\"3.0\",\"\")))))","v":"1.0"},"Distributed","Operational",null,null,755,null,null,1223,null,1223,1223,0.18491638694850163,"NA",0.18491638694850163,0.254,1946390,null,null,1946390,{"$f":" IF(AND(ISNUMBER(N370), ISNUMBER(Y370)),Y370/N370,\"NA\")","v":2578},null,0,"NA",null,"Project completed in 2014.","2017-08-03"]
[1,"P0235","Sint Maarten",null,null,null,"Waste-to-Energy",1,null,"Utility/IPP","Planned",null,null,9000,null,null,55450.799999999996,null,null,55450.799999999996,0.70333333333333325,"NA",null,0.70333333333333325,74448000,null,null,{"$f":"AC371*N371","v":74448000},{"$f":"VLOOKUP(G371,'Capex by RE tech'!$A$2:$F$19,6,TRUE)","v":8272},null,0,"NA",null,"Agreement with bid-winner Synergy has been annulled, Minister Emmanuel has chosen to sign new MOU with Enviro-green.","2018-07-10","Not confident"]
[1,null,"Sint Maarten",null,null,"CMEC Dutch Caribbean","Solar PV",1,null,"Distributed","Under development","CMEC Dutch Caribbean",null,1150,null,null,2317.02,null,null,2317.02,0.23,"NA",null,{"$f":"IF(OR(K372=\"Under development\",K372=\"Planned\"),VLOOKUP(G372,'Capex by RE tech'!$A$4:$D$18,4,TRUE),IF(AND(K372=\"Operational\",G372=\"Solar PV\"),VLOOKUP(AG372,'Capex by RE tech'!$C$11:$D$13,2,TRUE),IF(AND(K372=\"Operational\",G372=\"Wind\"),VLOOKUP(AG372,'Capex by RE tech'!$C$17:$D$19,2,TRUE),IF(AND(K372=\"Operational\",G372=\"Biomass\"),VLOOKUP(AG372,'Capex by RE tech'!$C$2:$D$4,2,TRUE),IF(AND(K372=\"Operational\",G372=\"Geothermal\"),VLOOKUP(AG372,'Capex by RE tech'!$C$2:$D$4,2,TRUE),IF(AND(K372=\"Operational\",G372=\"Hydro\"),VLOOKUP(AG372,'Capex by RE tech'!$C$8:$D$10,2,TRUE),IF(AND(K372=\"Operational\",G372=\"Waste-to-Energy\"),VLOOKUP(AG372,'Capex by RE tech'!$C$14:$D$16,2,TRUE),IF(AND(K372=\"Operational\",AG372<2010),VLOOKUP(G372,'Capex by RE tech'!$A$2:$D$19,4,FALSE),NA))))))))","v":0.23},1667500,null,null,{"$f":"AC372*N372","v":1667500},{"$f":"VLOOKUP(G372,'Capex by RE tech'!$A$2:$F$19,6,TRUE)","v":1450},null,0,"NA",null,"Expected to be inaugurated June 2019","2019-08-13","Confident"]
[3,"P0237","St. Barthelemy",null,null,null,"Solar PV",3,{"$f":"IF(K373=\"Planned\",\"3.0\",IF(AG373<DATE(2009,12,31),\"1.0\",IF(AND(AG373>=DATE(2010,1,1)+0,AG373<=DATE(2012,12,31)),\"1.0\",IF(AND(AG373>=DATE(2013,1,1),AG373<=DATE(2015,12,31)),\"2.0\",IF(AG373>=DATE(2016,1,1),\"3.0\",\"\")))))","v":"1.0"},"Distributed","Operational",null,null,24,null,null,53.400959999999998,null,null,53.400959999999998,0.254,"NA",null,0.254,61872,null,null,61872,{"$f":" IF(AND(ISNUMBER(N373), ISNUMBER(Y373)),Y373/N373,\"NA\")","v":2578},null,0,"NA",null,null,"2017-08-03"]
[1,"P0238","St. Kitts","Robert L. Bradshaw International Airport Solar Farm","Basseterre","Government and St.Kitts and Nevis and Government of the Republic of China","Solar PV",1,{"$f":"IF(K374=\"Planned\",\"3.0\",IF(AG374<DATE(2009,12,31),\"1.0\",IF(AND(AG374>=DATE(2010,1,1)+0,AG374<=DATE(2012,12,31)),\"1.0\",IF(AND(AG374>=DATE(2013,1,1),AG374<=DATE(2015,12,31)),\"2.0\",IF(AG374>=DATE(2016,1,1),\"3.0\",\"\")))))","v":"1.0"},"Utility/IPP","Operational","Government and St.Kitts and Nevis and Government of the Republic of China","St. Christopher Air and Sea Ports  Authority (SCASPA)",750,null,null,1314,null,null,1314,0.2,"NA",null,0.2,2500000,null,2500000,2578000,{"$f":" IF(AND(ISNUMBER(N374), ISNUMBER(Y374)),Y374/N374,\"NA\")","v":3333.3333333333335},null,0,2013,2013,"New Solar en Kitts. Confirmed by 2019 Survey response","2019-09-16","Confident"]
[1,"P0239","St. Kitts",null,null,null,"Solar PV",1,{"$f":"IF(K375=\"Planned\",\"3.0\",IF(AG375<DATE(2009,12,31),\"1.0\",IF(AND(AG375>=DATE(2010,1,1)+0,AG375<=DATE(2012,12,31)),\"1.0\",IF(AND(AG375>=DATE(2013,1,1),AG375<=DATE(2015,12,31)),\"2.0\",IF(AG375>=DATE(2016,1,1),\"3.0\",\"\")))))","v":"1.0"},"Distributed","Operational",null,null,600,null,null,1051.2,null,null,1051.2,0.2,"NA",null,0.2,1500000,null,null,{"$f":" 2500 * N375","v":1500000},{"$f":" IF(AND(ISNUMBER(N375), ISNUMBER(Y375)),Y375/N375,\"NA\")","v":2500},null,0,2013,2013,"Operational since 2013","2019-09-16","Confident"]
[1,"P0240","St. Kitts",null,null,null,"Solar PV",1,{"$f":"IF(K376=\"Planned\",\"3.0\",IF(AG376<DATE(2009,12,31),\"1.0\",IF(AND(AG376>=DATE(2010,1,1)+0,AG376<=DATE(2012,12,31)),\"1.0\",IF(AND(AG376>=DATE(2013,1,1),AG376<=DATE(2015,12,31)),\"2.0\",IF(AG376>=DATE(2016,1,1),\"3.0\",\"\")))))","v":"1.0"},"Distributed","Operational",null,null,72,null,null,160.20287999999999,null,null,160.20287999999999,0.254,"NA",null,0.254,185616,null,null,185616,{"$f":" IF(AND(ISNUMBER(N376), ISNUMBER(Y376)),Y376/N376,\"NA\")","v":2578},null,0,2013,2013,"Project completed in 2013 by Solaris Energy. ","2017-08-03"]
[1,null,"St. Kitts","North Star Wind Farm",null,null,"Wind",1,null,"Utility/IPP","Under development",null,null,5000,null,null,13797,null,null,13797,0.315,"NA",null,{"$f":"IF(OR(K377=\"Under development\",K377=\"Planned\"),VLOOKUP(G377,'Capex by RE tech'!$A$4:$D$18,4,TRUE),IF(AND(K377=\"Operational\",G377=\"Solar PV\"),VLOOKUP(AG377,'Capex by RE tech'!$C$11:$D$13,2,TRUE),IF(AND(K377=\"Operational\",G377=\"Wind\"),VLOOKUP(AG377,'Capex by RE tech'!$C$17:$D$19,2,TRUE),IF(AND(K377=\"Operational\",G377=\"Biomass\"),VLOOKUP(AG377,'Capex by RE tech'!$C$2:$D$4,2,TRUE),IF(AND(K377=\"Operational\",G377=\"Geothermal\"),VLOOKUP(AG377,'Capex by RE tech'!$C$2:$D$4,2,TRUE),IF(AND(K377=\"Operational\",G377=\"Hydro\"),VLOOKUP(AG377,'Capex by RE tech'!$C$8:$D$10,2,TRUE),IF(AND(K377=\"Operational\",G377=\"Waste-to-Energy\"),VLOOKUP(AG377,'Capex by RE tech'!$C$14:$D$16,2,TRUE),IF(AND(K377=\"Operational\",AG377<2010),VLOOKUP(G377,'Capex by RE tech'!$A$2:$D$19,4,FALSE),NA))))))))","v":0.315},7375000,null,null,{"$f":"AC377*N377","v":7375000},{"$f":"VLOOKUP(G377,'Capex by RE tech'!$A$2:$F$19,6,TRUE)","v":1475},null,null,null,null,"Survey response from St. Kitts and Nevis Energy Unit indicates PPA is being negotiated, but no news on it since 2011","2019-09-16","Not confident"]
[1,"P0279","St. Kitts",null,null,null,"Geothermal",1,null,"Utility/IPP","Planned",null,"SKELEC",18000,null,null,129297.59999999999,null,null,129297.59999999999,0.82,"NA",null,null,76500000,null,null,{"$f":"AC378*N378","v":76500000},{"$f":"VLOOKUP(G378,'Capex by RE tech'!$A$2:$F$19,6,TRUE)","v":4250},null,null,null,null,"Geothermal potential proven in feasibility study, but has stalled waiting for financing. ","2019-09-16","Confident"]
[1,null,"St. Kitts","SKELEC Solar Farm",null,null,"Solar PV",1,null,"Utility/IPP","Operational",null,"SKELEC",500,null,null,571.42857142857144,null,null,{"$f":"2000/3.5","v":571.42857142857144},null,"NA",null,null,1550000,null,1550000,null,null,null,null,null,2015,"From survey response (St. Kitts and Nevis Energy Unit)","2019-09-16","Confident"]
[1,null,"St. Kitts","Lelanche Solar Farm","Basseterre","Leclanche ","Solar PV",1,null,"Utility/IPP","Planned","Leclanche ",null,35600,null,null,71726.880000000005,null,null,{"$f":" (N380 * 8760 * U380)/1000","v":71726.880000000005},{"$f":"IF(AND(V380=\"NA\",ISBLANK(W380)),X380,IF(V380<>\"NA\",V380,IF(ISNUMBER(W380),W380,X380)))","v":0.23},"NA",null,{"$f":"IF(OR(K380=\"Under development\",K380=\"Planned\"),VLOOKUP(G380,'Capex by RE tech'!$A$4:$D$18,4,TRUE),IF(AND(K380=\"Operational\",G380=\"Solar PV\"),VLOOKUP(AG380,'Capex by RE tech'!$C$11:$D$13,2,TRUE),IF(AND(K380=\"Operational\",G380=\"Wind\"),VLOOKUP(AG380,'Capex by RE tech'!$C$17:$D$19,2,TRUE),IF(AND(K380=\"Operational\",G380=\"Biomass\"),VLOOKUP(AG380,'Capex by RE tech'!$C$2:$D$4,2,TRUE),IF(AND(K380=\"Operational\",G380=\"Geothermal\"),VLOOKUP(AG380,'Capex by RE tech'!$C$2:$D$4,2,TRUE),IF(AND(K380=\"Operational\",G380=\"Hydro\"),VLOOKUP(AG380,'Capex by RE tech'!$C$8:$D$10,2,TRUE),IF(AND(K380=\"Operational\",G380=\"Waste-to-Energy\"),VLOOKUP(AG380,'Capex by RE tech'!$C$14:$D$16,2,TRUE),IF(AND(K380=\"Operational\",AG380<2010),VLOOKUP(G380,'Capex by RE tech'!$A$2:$D$19,4,FALSE),NA))))))))","v":0.23},51620000,null,null,{"$f":"AC380*N380","v":51620000},{"$f":"VLOOKUP(G380,'Capex by RE tech'!$A$2:$F$19,6,TRUE)","v":1450},null,null,null,null,"PPA signed, according to survey response from Energy Unit. 20 year PPA awarded. Willl also include storage (44.2 MWh). Completion set for September 2020","2019-09-16","Confident"]
[7,"P0242","St. Lucia",null,null,null,"Solar PV",7,{"$f":"IF(K381=\"Planned\",\"3.0\",IF(AG381<DATE(2009,12,31),\"1.0\",IF(AND(AG381>=DATE(2010,1,1)+0,AG381<=DATE(2012,12,31)),\"1.0\",IF(AND(AG381>=DATE(2013,1,1),AG381<=DATE(2015,12,31)),\"2.0\",IF(AG381>=DATE(2016,1,1),\"3.0\",\"\")))))","v":"1.0"},"Distributed","Operational",null,null,46,null,null,102.35184,null,null,102.35184,0.254,"NA",null,0.254,118588,null,null,118588,{"$f":" IF(AND(ISNUMBER(N381), ISNUMBER(Y381)),Y381/N381,\"NA\")","v":2578},null,{"$f":"SUM(AD381:AD381)","v":0},{"$f":"IF(ISNUMBER(AG381),AG381,IF(ISNUMBER(AH381),AH381,\"NA\"))","v":"NA"},null,null,"2017-08-03"]
[1,"P0241","St. Lucia ",null,"La Tourney, Vieux Fort","GRUPOTEC","Solar PV",1,{"$f":"IF(K382=\"Planned\",\"3.0\",IF(AG382<DATE(2009,12,31),\"1.0\",IF(AND(AG382>=DATE(2010,1,1)+0,AG382<=DATE(2012,12,31)),\"1.0\",IF(AND(AG382>=DATE(2013,1,1),AG382<=DATE(2015,12,31)),\"2.0\",IF(AG382>=DATE(2016,1,1),\"3.0\",\"\")))))","v":"1.0"},"Utility/IPP","Operational","GRUPOTEC","St. Lucia Electricity Services Limited (LUCELEC)",3000,14900,{"$f":"N382/O382","v":0.20134228187919462},7000,null,{"$f":" 7000000/1000","v":7000},7000,0.26636225266362251,"NA",{"$f":" S382 * 1000/(N382 * 8760)","v":0.26636225266362251},0.254,20000000,null,{"$f":" 20 * 10^6","v":20000000},7734000,{"$f":" IF(AND(ISNUMBER(N382), ISNUMBER(Y382)),Y382/N382,\"NA\")","v":6666.666666666667},null,{"$f":"SUM(AD382:AD382)","v":0},{"$f":"IF(ISNUMBER(AG382),AG382,IF(ISNUMBER(AH382),AH382,\"NA\"))","v":2018},2018,"The project is currently generating about four percent of the grid’s total output, or approximately 10 percent of the 35 percent renewable energy 2025 target total.","2018-07-19","Confident"]
[null,null,"St. Lucia ","Solar Demo PV Project",null,"FDL - High Peaks","Solar PV",1,null,"Utility/IPP","Operational","FDL - High Peaks","St. Lucia Electricity Services Limited (LUCELEC)",200,null,null,398,null,398,398,0.2271689497716895,"NA",{"$f":" S383 * 1000/(N383 * 8760)","v":0.2271689497716895},null,290000,null,null,{"$f":"AC383*N383","v":290000},{"$f":"VLOOKUP(G383,'Capex by RE tech'!$A$2:$F$19,6,TRUE)","v":1450},null,{"$f":"SUM(AD383:AD383)","v":0},{"$f":"IF(ISNUMBER(AG383),AG383,IF(ISNUMBER(AH383),AH383,\"NA\"))","v":2019},2019,"Details from CREF 2019 Survey Response from Dept. of Infrastructure, Ports and Energy","2019-09-17","Confident"]
[{"$f":"H384","v":1},"P0258","St. Lucia ",null,"Soufrière, Choiseul, and Laborie ",null,"Geothermal",1,null,"Utility/IPP","Planned",null,"St. Lucia Electricity Services Limited (LUCELEC)",30000,null,null,215058,null,null,215058,0.81833333333333336,"NA","NA",0.81833333333333336,145410000,null,null,145410000,{"$f":" IF(AND(ISNUMBER(N384), ISNUMBER(Y384)),Y384/N384,\"NA\")","v":4847},null,{"$f":"SUM(AD384:AD384)","v":0},{"$f":"IF(ISNUMBER(AG384),AG384,IF(ISNUMBER(AH384),AH384,\"NA\"))","v":"NA"},null,"Expected to enter operations 2025 according to CREF 2019 Survey Response","2019-09-17","Confident"]
[null,null,"St. Lucia ","Solar Carport Project",null,null,"Solar PV",null,null,null,"Operational","Gearing Up Limited (GUL)","St. Lucia Electricity Services Limited (LUCELEC)",58,null,null,116.8584,null,null,116.8584,0.23,"NA",null,{"$f":"IF(OR(K385=\"Under development\",K385=\"Planned\"),VLOOKUP(G385,'Capex by RE tech'!$A$4:$D$18,4,TRUE),IF(AND(K385=\"Operational\",G385=\"Solar PV\"),VLOOKUP(AG385,'Capex by RE tech'!$C$11:$D$13,2,TRUE),IF(AND(K385=\"Operational\",G385=\"Wind\"),VLOOKUP(AG385,'Capex by RE tech'!$C$17:$D$19,2,TRUE),IF(AND(K385=\"Operational\",G385=\"Biomass\"),VLOOKUP(AG385,'Capex by RE tech'!$C$2:$D$4,2,TRUE),IF(AND(K385=\"Operational\",G385=\"Geothermal\"),VLOOKUP(AG385,'Capex by RE tech'!$C$2:$D$4,2,TRUE),IF(AND(K385=\"Operational\",G385=\"Hydro\"),VLOOKUP(AG385,'Capex by RE tech'!$C$8:$D$10,2,TRUE),IF(AND(K385=\"Operational\",G385=\"Waste-to-Energy\"),VLOOKUP(AG385,'Capex by RE tech'!$C$14:$D$16,2,TRUE),IF(AND(K385=\"Operational\",AG385<2010),VLOOKUP(G385,'Capex by RE tech'!$A$2:$D$19,4,FALSE),NA))))))))","v":0.23},84100,null,null,{"$f":"AC385*N385","v":84100},{"$f":"VLOOKUP(G385,'Capex by RE tech'!$A$2:$F$19,6,TRUE)","v":1450},null,null,null,2019,"EV charging station. Details from CREF 2019 Survey Response","2019-09-17","Confident"]
[null,null,"St. Lucia ",null,null,null,null,null,null,null,null,null,null,null,null,null,0,null,null,0,0,null,null,{"$f":"IF(OR(K386=\"Under development\",K386=\"Planned\"),VLOOKUP(G386,'Capex by RE tech'!$A$4:$D$18,4,TRUE),IF(AND(K386=\"Operational\",G386=\"Solar PV\"),VLOOKUP(AG386,'Capex by RE tech'!$C$11:$D$13,2,TRUE),IF(AND(K386=\"Operational\",G386=\"Wind\"),VLOOKUP(AG386,'Capex by RE tech'!$C$17:$D$19,2,TRUE),IF(AND(K386=\"Operational\",G386=\"Biomass\"),VLOOKUP(AG386,'Capex by RE tech'!$C$2:$D$4,2,TRUE),IF(AND(K386=\"Operational\",G386=\"Geothermal\"),VLOOKUP(AG386,'Capex by RE tech'!$C$2:$D$4,2,TRUE),IF(AND(K386=\"Operational\",G386=\"Hydro\"),VLOOKUP(AG386,'Capex by RE tech'!$C$8:$D$10,2,TRUE),IF(AND(K386=\"Operational\",G386=\"Waste-to-Energy\"),VLOOKUP(AG386,'Capex by RE tech'!$C$14:$D$16,2,TRUE),IF(AND(K386=\"Operational\",AG386<2010),VLOOKUP(G386,'Capex by RE tech'!$A$2:$D$19,4,FALSE),NA))))))))","v":{"$error":"#NAME?"}},"NA",null,null,{"$f":"AC386*N386","v":{"$error":"#N/A"}},{"$f":"VLOOKUP(G386,'Capex by RE tech'!$A$2:$F$19,6,TRUE)","v":{"$error":"#N/A"}}]
[{"$f":"H387","v":1},"P0286","St. Lucia ",null,null,"LUCELEC","Wind",1,null,"Utility/IPP","Planned","LUCELEC","St. Lucia Electricity Services Limited (LUCELEC)",12000,null,null,48355.199999999997,null,null,48355.199999999997,0.46,{"$f":"IF(OR(ISBLANK(N387),ISBLANK(R387)),\"NA\",(R387*1000)/(N387*8760))","v":"NA"},null,0.46,18908000,null,null,18908000,{"$f":" IF(AND(ISNUMBER(N387), ISNUMBER(Y387)),Y387/N387,\"NA\")","v":1575.6666666666667},null,{"$f":"SUM(AD387:AD387)","v":0},{"$f":"IF(ISNUMBER(AG387),AG387,IF(ISNUMBER(AH387),AH387,\"NA\"))","v":"NA"},null,"Setbacks with land acquisition cited in 2018 Annual Report","2019-08-13","Confident"]
[101,null,"St. Lucia ",null,null,null,"Solar PV",101,null,"Distributed","Operational",null,null,800,null,null,1611.84,null,null,1611.84,0.23,"NA",null,0.23,1160000,null,null,{"$f":"AC388*N388","v":1160000},{"$f":"VLOOKUP(G388,'Capex by RE tech'!$A$2:$F$19,6,TRUE)","v":1450},null,0,"NA",null," LUCELEC 2018 Annual Report","2019-08-13","Confident"]
[1,"P0243","St. Vincent and the Grenadines","La Soufriere Geothermal Project","Le Soufriere Volcano",null,"Geothermal",1,null,"Utility/IPP","Under development",null,"VINLEC",10000,null,null,71686,null,null,71686,0.81833333333333336,"NA",null,0.81833333333333336,48470000,null,null,48470000,{"$f":" IF(AND(ISNUMBER(N389), ISNUMBER(Y389)),Y389/N389,\"NA\")","v":4847},null,0,"NA",null,"Drilling began mid-2019, geothermal energy potential confirmed. 2018 update: Project being structured ; PPA is expected to be signed shortly; ","2019-08-07","Confident"]
[3,"P0244","St. Vincent and the Grenadines",null,null,"Various","Hydro",3,{"$f":"IF(K390=\"Planned\",\"3.0\",IF(AG390<DATE(2009,12,31),\"1.0\",IF(AND(AG390>=DATE(2010,1,1)+0,AG390<=DATE(2012,12,31)),\"1.0\",IF(AND(AG390>=DATE(2013,1,1),AG390<=DATE(2015,12,31)),\"2.0\",IF(AG390>=DATE(2016,1,1),\"3.0\",\"\")))))","v":"1.0"},"Utility/IPP","Operational","Various","Various",1100,null,null,30928.828000000172,null,30928.828000000172,5968.7211929824889,0.61941896979892996,"NA",0.61941896979892996,0.85,3383600,null,null,3383600,3076,null,0,"NA",null,"Richmond, South Rivers, and Cumberland hydroelectric plants; constitute about 7.7% of St. Vincent's electricity input.","2018-07-19","Confident"]
[1,"P0245","St. Vincent and the Grenadines",null,null,null,"Hydro",1,{"$f":"IF(K391=\"Planned\",\"3.0\",IF(AG391<DATE(2009,12,31),\"1.0\",IF(AND(AG391>=DATE(2010,1,1)+0,AG391<=DATE(2012,12,31)),\"1.0\",IF(AND(AG391>=DATE(2013,1,1),AG391<=DATE(2015,12,31)),\"2.0\",IF(AG391>=DATE(2016,1,1),\"3.0\",\"\")))))","v":"1.0"},"Utility/IPP","Operational",null,null,870,null,null,6478.02,null,null,6478.02,0.85,"NA",null,0.85,2676120,null,null,2676120,3076,null,0,"NA",null,null,"2018-07-11","Confident"]
[1,"P0246","St. Vincent and the Grenadines",null,null,null,"Hydro",1,null,"Utility/IPP","Operational",null,null,3700,null,null,27550.2,null,null,27550.2,0.85,"NA",null,0.85,11381200,null,null,11381200,3076,null,0,"NA",null,null,"2018-07-11","Confident"]
[1,"P0281","St. Vincent and the Grenadines",null,null,null,"Solar PV",1,null,"Utility/IPP","Planned",null,null,150,null,null,{"$f":"IF(ISNUMBER(R393),R393,IF(ISNUMBER(S393),S393, IF(ISNUMBER(T393), T393,\"NA\")))","v":333.75599999999997},null,null,333.75599999999997,0.254,"NA",null,0.254,{"$f":" IF(ISNUMBER(Z393), Z393,IF(ISNUMBER(AA393),AA393,IF(ISNUMBER(AB393), AB393, \"NA\")))","v":1220000},null,1220000,null,8133.333333333333,null,null,null,null,"3.3 M EC$","2018-07-18","Confident"]
[40,"P0248","St. Vincent and the Grenadines",null,null,null,"Solar PV",40,null,"Distributed","Operational",null,null,200,null,null,445.00799999999998,null,null,445.00799999999998,0.254,"NA",null,0.254,515600,null,null,515600,2578,null,{"$f":"SUM(AD394:AD394)","v":0},{"$f":"IF(ISNUMBER(AG394),AG394,IF(ISNUMBER(AH394),AH394,\"NA\"))","v":"NA"},null,"Estimated based on past average size of installations (secondary source) and current number of installations.","2017-08-03"]
[1,"P0249","St. Vincent and the Grenadines",null,null,null,"Solar PV",1,null,"Distributed","Operational",null,null,177,null,null,393.83208000000002,null,null,393.83208000000002,0.254,"NA",null,0.254,456306,null,null,456306,2578,null,{"$f":"SUM(AD395:AD395)","v":0},{"$f":"IF(ISNUMBER(AG395),AG395,IF(ISNUMBER(AH395),AH395,\"NA\"))","v":"NA"},null,null,"2017-08-03"]
[1,"P0250","St. Vincent and the Grenadines",null,null,null,"Solar PV",1,null,"Distributed","Operational",null,null,76,null,null,169.10304000000002,null,null,169.10304000000002,0.254,"NA",null,0.254,195928,null,null,195928,2578,null,{"$f":"SUM(AD396:AD396)","v":0},{"$f":"IF(ISNUMBER(AG396),AG396,IF(ISNUMBER(AH396),AH396,\"NA\"))","v":2011},2011,"Project funded by the World Bank. ","2017-08-03"]
[1,"P0282","St. Vincent and the Grenadines",null,null,null,"Solar PV",1,null,"Utility/IPP","Operational",null,null,800,null,null,1780.0319999999999,null,null,1780.0319999999999,0.254,"NA",null,0.254,3520000,null,3520000,null,4400,null,null,null,null,"Inaugurated on Union Island March 2019. 9.5 M EC$","2018-07-18","Confident"]
[1,"P0283","St. Vincent and the Grenadines",null,null,null,"Solar PV",1,null,"Utility/IPP","Planned",null,null,581,null,null,1292.7482399999999,null,null,1292.7482399999999,0.254,"NA",null,0.254,1220000,null,1220000,null,2099.8278829604133,null,null,null,null,"3.3 M EC$","2018-07-18","Confident"]
[1,"P0247","St. Vincent and the Grenadines",null,null,null,"Solar PV",1,null,"Utility/IPP","Operational",null,null,350,null,null,778.76400000000001,null,null,778.76400000000001,0.254,"NA",null,0.254,902300,null,null,902300,2578,null,{"$f":"SUM(AD399:AD399)","v":0},{"$f":"IF(ISNUMBER(AG399),AG399,IF(ISNUMBER(AH399),AH399,\"NA\"))","v":2015},2015,"Operational since 2015 ","2018-07-19","Confident"]
[1,"P0251","Suriname",null,"Afobaka","Suralco","Hydro",1,null,"Utility/IPP","Operational","Suralco","The Government of Suriname",189000,null,null,857400.04168800591,null,null,857400.04168800591,0.51786622797710002,"NA",0.51786622797710002,0.85,581364000,null,null,581364000,3076,null,{"$f":"SUM(AD400:AD400)","v":0},{"$f":"IF(ISNUMBER(AG400),AG400,IF(ISNUMBER(AH400),AH400,\"NA\"))","v":1963},1963,"Built in 1963, one of world's most inefficient hydro dams (subject to heavy public criticism).","2018-07-18","Confident"]
[1,"P0252","Suriname",null,"Brokopondo District","Rosebel Gold Mines N.V.","Solar PV",1,null,"Utility/IPP","Operational","Rosebel Gold Mines N.V.",null,5000,null,null,11125.2,null,null,11125.2,0.254,"NA",null,0.254,13000000,null,13000000,12890000,2600,null,{"$f":"SUM(AD401:AD401)","v":0},{"$f":"IF(ISNUMBER(AG401),AG401,IF(ISNUMBER(AH401),AH401,\"NA\"))","v":2013},2013,"Installed since 2014","2018-07-18","Confident"]
[3,null,"Suriname",null,null,"N.V. Energie Bedrijven Suriname (EBS) ","Solar PV",3,null,"Utility/IPP","Planned","N.V. Energie Bedrijven Suriname (EBS) ",null,null,null,null,0,null,null,0,0,null,null,{"$f":"IF(OR(K402=\"Under development\",K402=\"Planned\"),VLOOKUP(G402,'Capex by RE tech'!$A$4:$D$18,4,TRUE),IF(AND(K402=\"Operational\",G402=\"Solar PV\"),VLOOKUP(AG402,'Capex by RE tech'!$C$11:$D$13,2,TRUE),IF(AND(K402=\"Operational\",G402=\"Wind\"),VLOOKUP(AG402,'Capex by RE tech'!$C$17:$D$19,2,TRUE),IF(AND(K402=\"Operational\",G402=\"Biomass\"),VLOOKUP(AG402,'Capex by RE tech'!$C$2:$D$4,2,TRUE),IF(AND(K402=\"Operational\",G402=\"Geothermal\"),VLOOKUP(AG402,'Capex by RE tech'!$C$2:$D$4,2,TRUE),IF(AND(K402=\"Operational\",G402=\"Hydro\"),VLOOKUP(AG402,'Capex by RE tech'!$C$8:$D$10,2,TRUE),IF(AND(K402=\"Operational\",G402=\"Waste-to-Energy\"),VLOOKUP(AG402,'Capex by RE tech'!$C$14:$D$16,2,TRUE),IF(AND(K402=\"Operational\",AG402<2010),VLOOKUP(G402,'Capex by RE tech'!$A$2:$D$19,4,FALSE),NA))))))))","v":0.23},98000000,null,98000000,null,null,null,null,null,null,"Gov't was planning on having 3 solar PV plants by 2021. Support from Caribbean Development Bank, tender process has started","2019-08-13","Not confident"]
[1,null,"Suriname","Suriname Solar Energie Project",null,"Solarreserve","Solar PV",1,null,"Utility/IPP","Planned","Solarreserve",null,10000,null,null,20148,null,null,20148,0.23,"NA",null,{"$f":"IF(OR(K403=\"Under development\",K403=\"Planned\"),VLOOKUP(G403,'Capex by RE tech'!$A$4:$D$18,4,TRUE),IF(AND(K403=\"Operational\",G403=\"Solar PV\"),VLOOKUP(AG403,'Capex by RE tech'!$C$11:$D$13,2,TRUE),IF(AND(K403=\"Operational\",G403=\"Wind\"),VLOOKUP(AG403,'Capex by RE tech'!$C$17:$D$19,2,TRUE),IF(AND(K403=\"Operational\",G403=\"Biomass\"),VLOOKUP(AG403,'Capex by RE tech'!$C$2:$D$4,2,TRUE),IF(AND(K403=\"Operational\",G403=\"Geothermal\"),VLOOKUP(AG403,'Capex by RE tech'!$C$2:$D$4,2,TRUE),IF(AND(K403=\"Operational\",G403=\"Hydro\"),VLOOKUP(AG403,'Capex by RE tech'!$C$8:$D$10,2,TRUE),IF(AND(K403=\"Operational\",G403=\"Waste-to-Energy\"),VLOOKUP(AG403,'Capex by RE tech'!$C$14:$D$16,2,TRUE),IF(AND(K403=\"Operational\",AG403<2010),VLOOKUP(G403,'Capex by RE tech'!$A$2:$D$19,4,FALSE),NA))))))))","v":0.23},175000000,null,175000000,null,null,null,null,null,null,null,"2019-08-13","Confident"]
[1,"P0013","The Bahamas",null,"New Providence","Project Cancelled","Waste-to-Energy",1,null,"Utility/IPP","Out","Project Cancelled","Project Cancelled",105000,null,null,646925.99999999988,null,null,646925.99999999988,0.70333333333333325,{"$f":"IF(OR(ISBLANK(N404),ISBLANK(R404)),\"NA\",(R404*1000)/(N404*8760))","v":"NA"},null,0.70333333333333325,350000000,null,350000000,null,{"$f":" IF(AND(ISNUMBER(N404), ISNUMBER(Y404)),Y404/N404,\"NA\")","v":3333.3333333333335},null,{"$f":"SUM(AD404:AD404)","v":0},{"$f":"IF(ISNUMBER(AG404),AG404,IF(ISNUMBER(AH404),AH404,\"NA\"))","v":"NA"},null,"Stellar Energy Closed its doors","2018-07-10","Confident"]
[1,"2018-11-06","The Bahamas",null,"Andros Island","PNE Corp.& Vergnet","Wind",1,{"$f":"IF(K405=\"Planned\",\"3.0\",IF(AG405<DATE(2009,12,31),\"1.0\",IF(AND(AG405>=DATE(2010,1,1)+0,AG405<=DATE(2012,12,31)),\"1.0\",IF(AND(AG405>=DATE(2013,1,1),AG405<=DATE(2015,12,31)),\"2.0\",IF(AG405>=DATE(2016,1,1),\"3.0\",\"\")))))","v":"1.0"},"Distributed","Operational","PNE Corp.& Vergnet","AUTEC U.S. Navy Base",1000,1,{"$f":"N405/O405","v":1000},4029.6,null,null,4029.6,0.46,{"$f":"IF(OR(ISBLANK(N405),ISBLANK(R405)),\"NA\",(R405*1000)/(N405*8760))","v":"NA"},null,0.46,1575666.6666666667,null,null,1575666.6666666667,{"$f":" IF(AND(ISNUMBER(N405), ISNUMBER(Y405)),Y405/N405,\"NA\")","v":1575.6666666666667},null,{"$f":"SUM(AD405:AD405)","v":0},{"$f":"IF(ISNUMBER(AG405),AG405,IF(ISNUMBER(AH405),AH405,\"NA\"))","v":2014},2014,null,"2017-08-03"]
[1,"P0015","The Bahamas",null,null,"Hurricane Hill Development Corp.","Wind",1,{"$f":"IF(K406=\"Planned\",\"3.0\",IF(AG406<DATE(2009,12,31),\"1.0\",IF(AND(AG406>=DATE(2010,1,1)+0,AG406<=DATE(2012,12,31)),\"1.0\",IF(AND(AG406>=DATE(2013,1,1),AG406<=DATE(2015,12,31)),\"2.0\",IF(AG406>=DATE(2016,1,1),\"3.0\",\"\")))))","v":"1.0"},"Distributed","Operational","Hurricane Hill Development Corp.","Dr. Ed Bosarge",300,3,{"$f":"N406/O406","v":100},1208.8800000000001,null,null,1208.8800000000001,0.46,{"$f":"IF(OR(ISBLANK(N406),ISBLANK(R406)),\"NA\",(R406*1000)/(N406*8760))","v":"NA"},null,0.46,472700,null,null,472700,{"$f":" IF(AND(ISNUMBER(N406), ISNUMBER(Y406)),Y406/N406,\"NA\")","v":1575.6666666666667},null,{"$f":"SUM(AD406:AD406)","v":0},{"$f":"IF(ISNUMBER(AG406),AG406,IF(ISNUMBER(AH406),AH406,\"NA\"))","v":2014},2014,"\"Hybrid power\" island utilizes both solar and wind energy.","2017-08-03"]
[{"$f":"H406","v":1},null,"The Bahamas",null,null,"Hurricane Hill Development Corp.","Solar PV",1,{"$f":"IF(K407=\"Planned\",\"3.0\",IF(AG407<DATE(2009,12,31),\"1.0\",IF(AND(AG407>=DATE(2010,1,1)+0,AG407<=DATE(2012,12,31)),\"1.0\",IF(AND(AG407>=DATE(2013,1,1),AG407<=DATE(2015,12,31)),\"2.0\",IF(AG407>=DATE(2016,1,1),\"3.0\",\"\")))))","v":"1.0"},"Distributed","Operational","Hurricane Hill Development Corp.","Dr. Ed Bosarge",720,1400,{"$f":"N407/O407","v":0.51428571428571423},1602.0288,null,null,1602.0288,0.254,{"$f":"IF(OR(ISBLANK(N407),ISBLANK(R407)),\"NA\",(R407*1000)/(N407*8760))","v":"NA"},null,0.254,1856160,null,null,1856160,{"$f":" IF(AND(ISNUMBER(N407), ISNUMBER(Y407)),Y407/N407,\"NA\")","v":2578},null,{"$f":"SUM(AD407:AD407)","v":0},{"$f":"IF(ISNUMBER(AG407),AG407,IF(ISNUMBER(AH407),AH407,\"NA\"))","v":2014},2014,"\"Hybrid power\" island utilizes both solar and wind energy.","2017-08-03"]
[{"$f":"H408","v":1},null,"The Bahamas",null,"North Andros",null,"Biomass",1,null,"Utility/IPP","Planned",null,null,15000,null,null,118260,null,null,118260,0.9,"NA",null,{"$f":"IF(OR(K408=\"Under development\",K408=\"Planned\"),VLOOKUP(G408,'Capex by RE tech'!$A$4:$D$18,4,TRUE),IF(AND(K408=\"Operational\",G408=\"Solar PV\"),VLOOKUP(AG408,'Capex by RE tech'!$C$11:$D$13,2,TRUE),IF(AND(K408=\"Operational\",G408=\"Wind\"),VLOOKUP(AG408,'Capex by RE tech'!$C$17:$D$19,2,TRUE),IF(AND(K408=\"Operational\",G408=\"Biomass\"),VLOOKUP(AG408,'Capex by RE tech'!$C$2:$D$4,2,TRUE),IF(AND(K408=\"Operational\",G408=\"Geothermal\"),VLOOKUP(AG408,'Capex by RE tech'!$C$2:$D$4,2,TRUE),IF(AND(K408=\"Operational\",G408=\"Hydro\"),VLOOKUP(AG408,'Capex by RE tech'!$C$8:$D$10,2,TRUE),IF(AND(K408=\"Operational\",G408=\"Waste-to-Energy\"),VLOOKUP(AG408,'Capex by RE tech'!$C$14:$D$16,2,TRUE),IF(AND(K408=\"Operational\",AG408<2010),VLOOKUP(G408,'Capex by RE tech'!$A$2:$D$19,4,FALSE),NA))))))))","v":0.9},40000000,null,40000000,null,null,null,null,null,null,"Bahamas Power and Light considering proposal from a consortium","2019-08-13","Confident"]
[21,"P0253","Trinidad & Tobago",null,null,null,"Solar PV",21,null,"Distributed","Operational",null,null,21,null,null,46.725840000000005,null,null,46.725840000000005,0.254,{"$f":"IF(OR(ISBLANK(N409),ISBLANK(R409)),\"NA\",(R409*1000)/(N409*8760))","v":"NA"},null,0.254,54138,null,null,54138,{"$f":" IF(AND(ISNUMBER(N409), ISNUMBER(Y409)),Y409/N409,\"NA\")","v":2578},null,{"$f":"SUM(AD409:AD409)","v":0},{"$f":"IF(ISNUMBER(AG409),AG409,IF(ISNUMBER(AH409),AH409,\"NA\"))","v":"NA"},null,"Various projects implemented in schools around the country.","2017-08-03"]
[1,"P0254","Trinidad & Tobago",null,null,null,"Solar PV",1,null,"Distributed","Operational",null,null,2,null,null,4.4500799999999998,null,null,4.4500799999999998,0.254,"NA",null,0.254,5156,null,null,5156,2578,null,0,"NA",null,"One of two pilot solar projects for Trinidad and Tobago's college campuses.","2017-08-03"]
[1,"P0255","Trinidad & Tobago",null,null,null,"Solar PV",1,null,"Distributed","Operational",null,null,2,null,null,4.4500799999999998,null,null,4.4500799999999998,0.254,"NA",null,0.254,5156,null,null,5156,2578,null,0,"NA",null,"One of two pilot solar projects for Trinidad and Tobago's college campuses.","2017-08-03"]
[1,"P0256","Turks and Caicos Islands",null,"Various","FortisTCI ","Solar PV",1,null,"Utility/IPP","Planned","FortisTCI ",null,1000,null,null,2225.04,null,null,2225.04,0.254,"NA",null,0.254,2578000,null,null,2578000,2578,null,0,"NA",null,"CREF Survey Response 2019 from FortisTCI indictaes still awaiting gov't approval. MOU signed in 2016 with the Rocky-Mountain Institute-Carbon War Room (RMI-CWR).","2019-09-17","Confident"]
[438,"P0258","U.S. Virgin Islands",null,null,null,"Solar PV",438,null,"Distributed","Operational",null,null,5000,null,null,11125.2,null,null,11125.2,0.254,"NA",null,0.254,12890000,null,null,12890000,2578,null,0,"NA",null,"Number of installations estimated assuming 10kW average size of installation","2017-08-03"]
[420,"P0259","U.S. Virgin Islands",null,null,null,"Solar PV",420,null,"Distributed","Operational",null,null,4200,null,null,9345.1679999999997,null,null,9345.1679999999997,0.254,"NA",null,0.254,10827600,null,null,10827600,2578,null,0,"NA",null,"Feed-in tariff implemented to provide economic sustainability for WAPA.","2017-08-03"]
[1,"P0262","U.S. Virgin Islands",null,null,null,"Solar PV",1,null,"Distributed","Operational",null,null,1072,null,null,2385.2428799999998,null,null,2385.2428799999998,0.254,"NA",null,0.254,2763616,null,null,2763616,2578,null,0,"NA",null,"One of three phases of project between Starwood Hotels and NRG Renew.","2017-08-03"]
[1,"P0263","U.S. Virgin Islands",null,null,null,"Solar PV",1,null,"Distributed","Operational",null,null,450,null,null,1001.268,null,null,1001.268,0.254,"NA",null,0.254,1900000,null,1900000,1160100,4222.2222222222226,null,0,"NA",null,"Funded by the American Recovery and Reinvestment Act. ","2017-08-03"]
[1,"P0264","U.S. Virgin Islands",null,null,null,"Solar PV",1,null,"Distributed","Operational",null,null,360,null,null,801.01440000000002,null,null,801.01440000000002,0.254,"NA",null,0.254,928080,null,null,928080,2578,null,0,"NA",null,null,"2017-08-03"]
[1,"P0265","U.S. Virgin Islands",null,null,null,"Solar PV",1,null,"Distributed","Operational",null,null,79,null,null,175.77816000000001,null,null,175.77816000000001,0.254,"NA",null,0.254,203662,null,null,203662,2578,null,0,"NA",null,"Panels were removed in 2014 to prepare for upgrades to the federal buiding's solar energy system.","2017-08-03"]
[1,"P0266","U.S. Virgin Islands",null,null,null,"Solar PV",1,null,"Distributed","Operational",null,null,16,null,null,35.600639999999999,null,null,35.600639999999999,0.254,"NA",null,0.254,41248,null,null,41248,2578,null,0,"NA",null,"16 kW installation at an eco-villa resort.","2017-08-03"]
[1,"P0267","U.S. Virgin Islands",null,null,null,"Solar PV",1,null,"Distributed","Operational",null,null,8,null,null,17.800319999999999,null,null,17.800319999999999,0.254,"NA",null,0.254,20624,null,null,20624,2578,null,0,"NA",null,null,"2017-08-03"]
[1,"P0257","U.S. Virgin Islands",null,"TBD","TBD","Wind",1,null,"Utility/IPP","Planned","TBD","TBD",5000,null,null,20148,null,null,20148,0.46,"NA",null,0.46,7878333.333333334,null,null,7878333.333333334,1575.6666666666667,null,0,"NA",null,"National Renewable Energy Laboratory has compiled enough data to begin constructing commercial wind farm.","2018-07-10","Confident"]
[1,"P0260","U.S. Virgin Islands","Estate Donoe (St.Thomas)","St. Thomas","U.S. Virgin Islands Water and Power Authority (WAPA)","Solar PV",1,null,"Utility/IPP","Operational","U.S. Virgin Islands Water and Power Authority (WAPA)",null,4200,null,null,6636,null,6636,6636,0.18036529680365296,"NA",{"$f":" S422 * 1000/(N422 * 8760)","v":0.18036529680365296},null,10500000,null,null,{"$f":" 2500 * N422","v":10500000},2500,null,0,2015,2015,"Public Works applies short-term fixes to notorious North Side road ","2018-07-19","Confident"]
[1,"P0261","U.S. Virgin Islands",null,"St. Croix","NRG Renew and Toshiba International Corporation","Solar PV",1,null,"Utility/IPP","Operational","NRG Renew and Toshiba International Corporation","U.S. Virgin Islands Water and Power Authority (WAPA)",4000,19500,{"$f":"N423/O423","v":0.20512820512820512},8000,null,8000,8000,0.22831050228310501,"NA",0.22831050228310501,0.254,10312000,null,null,10312000,2578,null,0,2014,2014,null,"2018-07-19","Confident"]

{"sheet":"RE Index | Ranking inputs","index":2,"n_rows":124,"n_cols":39,"rows_kept":124,"cut":false,"hidden":false,"merged":[[3,2,3,3],[46,3,46,4],[80,3,80,4],[63,5,63,6],[64,5,64,6],[65,5,65,6],[4,2,4,3]]}
[]
[null,null,null,null,null,null,null,1,1,1,1,1,{"$f":"SUM(IF(M$4=Marketplace!$C$3:$C$284,IF(Marketplace!$K$3:$K$284 = \"Planned\", IF(Marketplace!$AG$3:$AG$284 < \"2023\", IF(Marketplace!$J$3:$J$284 =\"Utility/IPP\", Marketplace!$H$3:$H$284)))))","v":0},{"$f":"SUM(IF(N$4=Marketplace!$C$3:$C$284,IF(Marketplace!$K$3:$K$284 = \"Planned\", IF(Marketplace!$AG$3:$AG$284 < \"2023\", IF(Marketplace!$J$3:$J$284 =\"Utility/IPP\", Marketplace!$H$3:$H$284)))))","v":2},{"$f":"SUM(IF(O$4=Marketplace!$C$3:$C$284,IF(Marketplace!$K$3:$K$284 = \"Planned\", IF(Marketplace!$AG$3:$AG$284 < \"2023\", IF(Marketplace!$J$3:$J$284 =\"Utility/IPP\", Marketplace!$H$3:$H$284)))))","v":0},1,1,{"$f":"SUM(IF(R$4=Marketplace!$C$3:$C$284,IF(Marketplace!$K$3:$K$284 = \"Planned\", IF(Marketplace!$AG$3:$AG$284 < \"2023\", IF(Marketplace!$J$3:$J$284 =\"Utility/IPP\", Marketplace!$H$3:$H$284)))))","v":23},{"$f":"SUM(IF(S$4=Marketplace!$C$3:$C$284,IF(Marketplace!$K$3:$K$284 = \"Planned\", IF(Marketplace!$AG$3:$AG$284 < \"2023\", IF(Marketplace!$J$3:$J$284 =\"Utility/IPP\", Marketplace!$H$3:$H$284)))))","v":0},{"$f":"SUM(IF(T$4=Marketplace!$C$3:$C$284,IF(Marketplace!$K$3:$K$284 = \"Planned\", IF(Marketplace!$AG$3:$AG$284 < \"2023\", IF(Marketplace!$J$3:$J$284 =\"Utility/IPP\", Marketplace!$H$3:$H$284)))))","v":3},1,{"$f":"SUM(IF(V$4=Marketplace!$C$3:$C$284,IF(Marketplace!$K$3:$K$284 = \"Planned\", IF(Marketplace!$AG$3:$AG$284 < \"2023\", IF(Marketplace!$J$3:$J$284 =\"Utility/IPP\", Marketplace!$H$3:$H$284)))))","v":1},1,1,1,1,1,1,1,1,1,1,1,1,1,1,1,1,1]
[]
[null,null,null,null,null,null,null,"Anguilla","Antigua_Barbuda","Aruba","Bahamas","Barbados","Bermuda","Belize","Bonaire","BVI","Cayman_Islands","Cuba","Curacao","Dominica","Dominican_Republic","Grenada","Guadeloupe","Guyana","Haiti","Jamaica","Martinique","Montserrat","Nevis","Puerto_Rico","Saint_Martin","Sint_Marteen","St_Lucia","St_Vincent_Grenadines","St_Kitts","Suriname","Trinidad_Tobago","Turks_and_Caicos","USVI"]
[null,null,"List of Indicators for the Castalia - CREF Island RE Ranking\nScale: 0 to 5  (0 = Poor ; 5 = World class)",null,"Index",null,null,"Anguilla","Antigua & Barbuda","Aruba","The Bahamas","Barbados","Bermuda","Belize","Bonaire","British Virgin Islands","Cayman Islands","Cuba","Curaҫao","Dominica","Dominican Republic","Grenada","Guadeloupe","Guyana ","Haiti","Jamaica","Martinique","Montserrat","Nevis ","Puerto Rico","Saint-Martin","Sint Maarten","St. Lucia","St. Vincent and the Grenadines","St. Kitts","Suriname","Trinidad and Tobago","Turks and Caicos Islands","U.S. Virgin Islands"]
[null,null,null,"Overall Score","0 to 5",{"$f":"SUM(F8,F26,F34,F42)","v":0.99999999999999989},1,{"$f":"($G$8*H8)+($G$26*H26)+($G$34*H34)+($G$42*H42)","v":0},1.3439924242424242,0.22872080808080808,1.0316789723661486,1.4073705032518846,1.6579559665476185,2.2179650976889826,2.1276041666666665,0.10074,2.1134885287593699,0.1157180608018144,2.2438661769355366,3.1309374999999999,2.5509374999999999,1.3332952117102375,2.761260269953052,0.1793156505162396,0.43937247306454719,1.8555605285280548,0.11875769230769231,1.2559402988112687,1.6942437780162343,0.25938676459276278,0,0,1.4730447096440258,0.54517301492061798,1.009711799047619,1.7090885579326711,0.23697916666666666,0.86856000628297347,0.6640255284821085]
[null,null,null,"Rank","Rank of 32",null,null,{"$f":"H123","v":31},{"$f":"I123","v":14},25,17,13,11,5,6,29,7,28,4,1,3,15,2,26,22,8,27,16,10,23,31,31,12,21,18,9,24,19,20]
[null,1,null,"Enabling environment for renewable energy investments",null,{"$f":"SUM(F9,F12,F22)","v":0.3},0.3,{"$f":"(+H9*$G$9)+(MAX(H12,H16)*$G$12)+(H22*$G$22)","v":0},{"$f":"(+I9*$G$9)+(MAX(I12,I16)*$G$12)+(I22*$G$22)","v":4.375},0,{"$f":"(+K9*$G$9)+(MAX(K12,K16)*$G$12)+(K22*$G$22)","v":2.78125},3.125,4.6875,3.359375,4.453125,0,4.609375,0,4.6875,3.203125,2.703125,3.046875,4.765625,0,0.65625,3.453125,0,0.15625,2.8125,0,0,0,0.390625,0.15625,1.546875,2.96875,0.234375,1.71875,2.046875]
[null,null,null,"Renewable Energy Strategy","0 to 5",{"$f":"G9*$G$8","v":7.4999999999999997E-2},0.25,{"$f":"COUNTIF(H10:H11,\"Yes\")*5/COUNT($C$10:$C$11)","v":0},{"$f":"COUNTIF(I10:I40,\"Yes\")*5/COUNT($C$10:$C$40)","v":2.5},0,3.125,2.5,3.75,3.4375,2.8125,0,3.4375,0,3.75,2.8125,2.8125,2.1875,4.0625,0,0.625,2.8125,0,0.625,1.25,0,0,0,1.5625,0.625,2.1875,1.875,0.9375,1.875,2.1875]
[null,null,1,"Does the plan contain a specific target for renewable energy?",null,3.7499999999999999E-2,{"$f":"$G$9/COUNT($C$10:$C$11)","v":0.125},{"$f":"INDIRECT(H$4&\"!E7\")","v":"NA"},{"$f":"INDIRECT(I$4&\"!E7\")","v":"Yes"},"NA",{"$f":"INDIRECT(K$4&\"!E7\")","v":"Yes"},"Yes","Yes","Yes","Yes","NA","Yes","NA","Yes","NA","No","Yes","Yes","NA","No","Yes","NA","No","Yes","NA","NA","NA","Yes","Yes","Yes","Yes","Yes","No","Yes"]
[null,null,2,"Does your country have an Integrated Resource Plan (IRP) that was produced within the last three years?",null,3.7499999999999999E-2,{"$f":"$G$9/COUNT($C$10:$C$11)","v":0.125},{"$f":"INDIRECT(H$4&\"!E10\")","v":"NA"},{"$f":"INDIRECT(I$4&\"!E10\")","v":"No"},"NA",{"$f":"INDIRECT(K$4&\"!E10\")","v":"Yes"},"No","Yes","Yes","No","NA","Yes","NA","No","No","Yes","No","No","NA","No","Yes","NA","No","No","NA","NA","NA","Yes","No","Yes","No","No","Yes","Yes"]
[null,null,null,"Utilities and regulatory processes","0 to 5",0.15,0.5,{"$f":"COUNTIF(H14:H15,\"Yes\")*5/COUNT($C$14:$C$15)","v":0},5,0,{"$f":"COUNTIF(K14:K15,\"Yes\")*5/COUNT($C$14:$C$15)","v":2.5},2.5,5,2.5,5,0,0,0,5,5,2.5,2.5,5,0,0,0,0,0,5,0,0,0,0,0,0,5,0,0,2.5]
[null,null,1,"When planning generation expansion, does the utility consider RE options?",null,4.9999999999999996E-2,{"$f":"$G$12/COUNT($C$13:$C$15)","v":0.16666666666666666},{"$f":"INDIRECT(H$4&\"!E12\")","v":"NA"},{"$f":"INDIRECT(I$4&\"!E12\")","v":"Yes"},"NA",{"$f":"INDIRECT(K$4&\"!E12\")","v":"Yes"},"Yes","Yes","Yes","Yes","NA","Yes","NA","Yes","Yes","Yes","Yes","Yes","NA","Yes","Yes","NA","Yes","Yes","NA","NA","NA","Yes","Yes","Yes","Yes","Yes","Yes","Yes"]
[null,null,2,"Can the utility safely recover RE investments through tariffs like it can recover fossil fuel costs?",null,4.9999999999999996E-2,{"$f":"$G$12/COUNT($C$13:$C$15)","v":0.16666666666666666},{"$f":"INDIRECT(H$4&\"!E13\")","v":"NA"},{"$f":"INDIRECT(I$4&\"!E13\")","v":"Yes"},"NA",{"$f":"INDIRECT(K$4&\"!E13\")","v":"No"},"Yes","Yes","Yes","Yes","NA","No","NA","Yes","Yes","No","Yes","Yes","NA","No","No","NA","No","Yes","NA","NA","NA","No","No","No","Yes","No","No","NA"]
[null,null,3,"Are there clear, specific planning and permitting processes and rules in place for developing RE?",null,4.9999999999999996E-2,0.16666666666666666,{"$f":"INDIRECT(H$4&\"!E14\")","v":"NA"},{"$f":"INDIRECT(I$4&\"!E14\")","v":"Yes"},"NA",{"$f":"INDIRECT(K$4&\"!E14\")","v":"Yes"},"No","Yes","No","Yes","NA","No","NA","Yes","Yes","Yes","No","Yes","NA","No","No","NA","No","Yes","NA","NA","NA","No","No","No","Yes","No","No","Yes"]
[null,null,null,"IPPs","0 or 5","OR","OR",{"$f":"COUNTIF(H17:H21,\"Yes\")*5/COUNT($C$17:$C$21)","v":0},2,0,{"$f":"COUNTIF(K17:K21,\"Yes\")*5/COUNT($C$17:$C$21)","v":4},2,5,5,3,0,5,0,4,4,4,1,5,0,1,3,0,0,0,0,0,0,0,0,2,1,0,0,3]
[null,null,1,"Can the utility safely recover purchases of RE from third parties, just as it recovers fossil fuel costs?",null,{"$f":"G17*$G$8","v":0.03},{"$f":"$G$12/COUNT($C$17:$C$21)","v":0.1},{"$f":"INDIRECT(H$4&\"!E17\")","v":"NA"},{"$f":"INDIRECT(I$4&\"!E17\")","v":"Yes"},"NA",{"$f":"INDIRECT(K$4&\"!E17\")","v":"No"},"Yes","Yes","Yes","Yes","NA","Yes","NA","Yes","Yes","Yes","Yes","Yes","NA","No","No","NA","No","NA","NA","NA","NA","No","NA","Yes","No","No","No","NA"]
[null,null,{"$f":"C17+1","v":2},"Are there workable precedents or rules for PPA terms and grid operation rules?",null,{"$f":"G18*$G$8","v":0.03},{"$f":"$G$12/COUNT($C$17:$C$21)","v":0.1},{"$f":"INDIRECT(H$4&\"!E19\")","v":"NA"},{"$f":"INDIRECT(I$4&\"!E19\")","v":"Yes"},"NA",{"$f":"INDIRECT(K$4&\"!E19\")","v":"Yes"},0,"Yes","Yes","Yes","NA","Yes","NA","Yes","Yes","Yes","No","Yes","NA","Yes","Yes","NA","No","NA","NA","NA","NA","No","NA","No","No","No","No","Yes"]
[null,null,3,"Are there clear and effective licensing processes and requirements in place for IPPs?",null,0.03,{"$f":"$G$12/COUNT($C$17:$C$21)","v":0.1},{"$f":"INDIRECT(H$4&\"!E20\")","v":"NA"},{"$f":"INDIRECT(I$4&\"!E20\")","v":"No"},"NA",{"$f":"INDIRECT(K$4&\"!E20\")","v":"Yes"},0,"Yes","Yes","Yes","NA","Yes","NA","Yes","Yes","Yes","No","Yes","NA","No","Yes","NA","No","NA","NA","NA","NA","No","NA","No","No","No","No","Yes"]
[null,null,4,"Does the utility have an obligation to purchase from IPPs when it is cheaper than generating the power itself?",null,0.03,{"$f":"$G$12/COUNT($C$17:$C$21)","v":0.1},{"$f":"INDIRECT(H$4&\"!E21\")","v":"NA"},{"$f":"INDIRECT(I$4&\"!E21\")","v":"No"},"NA",{"$f":"INDIRECT(K$4&\"!E21\")","v":"Yes"},"Yes","Yes","Yes","No","NA","Yes","NA","No","Yes","No",0,"Yes","NA","No","Yes","NA","No","NA","NA","NA","NA","No","NA","No","Yes","No","NA","Yes"]
[null,null,5,"Does the PPA have any take-or-pay arrangements?",null,{"$f":"G21*$G$8","v":0.03},{"$f":"$G$12/COUNT($C$17:$C$21)","v":0.1},{"$f":"INDIRECT(H$4&\"!E22\")","v":"NA"},{"$f":"INDIRECT(I$4&\"!E22\")","v":"No"},"NA",{"$f":"INDIRECT(K$4&\"!E22\")","v":"Yes"},0,"Yes","Yes",0,"NA","Yes","NA","Yes","NA","Yes",0,"Yes","NA","No","No","NA","No","NA","NA","NA","NA","No","NA","Yes","No","No","NA","No"]
[null,null,null,"Distributed generation","0 or 5",{"$f":"G22*$G$8","v":7.4999999999999997E-2},0.25,{"$f":"IF(COUNTIF(H24,\"Yes\") = 1,5,0)","v":0},{"$f":"IF(COUNTIF(I24,\"Yes\") = 1,5,0)","v":5},{"$f":"IF(COUNTIF(J24,\"Yes\") = 1,5,0)","v":0},{"$f":"IF(COUNTIF(K24,\"Yes\") = 1,5,0)","v":0},{"$f":"IF(COUNTIF(L24,\"Yes\") = 1,5,0)","v":5},{"$f":"IF(COUNTIF(M24,\"Yes\") = 1,5,0)","v":5},0,5,{"$f":"IF(COUNTIF(P24,\"Yes\") = 1,5,0)","v":0},{"$f":"IF(COUNTIF(Q24,\"Yes\") = 1,5,0)","v":5},0,5,{"$f":"IF(COUNTIF(T24,\"Yes\") = 1,5,0)","v":0},{"$f":"IF(COUNTIF(U24,\"Yes\") = 1,5,0)","v":0},{"$f":"IF(COUNTIF(V24,\"Yes\") = 1,5,0)","v":5},5,0,0,5,0,0,0,0,0,0,0,0,0,0,{"$f":"IF(COUNTIF(AK24,\"Yes\") = 1,5,0)","v":0},{"$f":"IF(COUNTIF(AL24,\"Yes\") = 1,5,0)","v":5},{"$f":"IF(COUNTIF(AM24,\"Yes\") = 1,5,0)","v":0}]
[null,null,1,"Do you have a registry or database of distributed generation?",null,{"$f":"G23*$G$8","v":3.7499999999999999E-2},{"$f":"$G$22/COUNT($C$23:$C$24)","v":0.125},{"$f":"INDIRECT(H$4&\"!E24\")","v":"NA"},{"$f":"INDIRECT(I$4&\"!E24\")","v":"Yes"},"NA",{"$f":"INDIRECT(K$4&\"!E24\")","v":"Yes"},"Yes","No","No","No","NA","Yes","NA","Yes","NA","No","Yes","Yes","NA","No","No","NA","No","NA","NA","NA","NA","Yes","NA","No","No","No","Yes","NA"]
[null,null,2,"Is there a standard arrangement in place for customers to sell electricity to the utility at a reasonable price, for a reasonable timeframe, and with a clear interconnection agreement?",null,{"$f":"G24*$G$8","v":3.7499999999999999E-2},{"$f":"$G$22/COUNT($C$23:$C$24)","v":0.125},{"$f":"INDIRECT(H$4&\"!E29\")","v":"NA"},{"$f":"INDIRECT(I$4&\"!E29\")","v":"Yes"},"NA",{"$f":"INDIRECT(K$4&\"!E29\")","v":"NA"},"Yes","Yes","No","Yes","NA","Yes","NA","Yes","NA","No","Yes","Yes","NA","No","Yes","NA","No","NA","NA","NA","NA","No","NA","No","No","No","Yes","NA"]
[]
[null,2,null,"Existing renewable generation",null,{"$f":"SUM(F27:F31)","v":0.3},0.3,{"$f":"H27","v":0},{"$f":"I27","v":0.05},0.74253737373737372,{"$f":"K27","v":0},9.0244815909761522E-2,0.25067466156581236,2.7098937874449565,2.0833333333333335,0,7.1898424353679061E-2,2.0784167166863807E-2,1.3729659679439321,1.4000000000000001,0.8,3.585853759009331E-2,1.062206572769953,0.4898527447736688,0.80832491021515729,0.6,0.35000000000000003,0,0.76715761781962311,0.1,0,0,0.62612702865157288,0.85000000000000009,6.2847619047619055E-2,2.1713131042200144,0,0.05,0.11415931136257983]
[null,null,1,"Share of RE to total electricity produced to scale",null,{"$f":"$G$26*G27","v":0.3},{"$f":"1/COUNT(C27:C31)","v":1},{"$f":"H28*5","v":0},{"$f":"I28*5","v":0.05},0.74253737373737372,{"$f":"K28*5","v":0},9.0244815909761522E-2,0.25067466156581236,2.7098937874449565,2.0833333333333335,0,7.1898424353679061E-2,2.0784167166863807E-2,1.3729659679439321,1.4000000000000001,0.8,3.585853759009331E-2,1.062206572769953,0.4898527447736688,0.80832491021515729,0.6,0.35000000000000003,0,0.76715761781962311,0.1,0,0,0.62612702865157288,0.85000000000000009,6.2847619047619055E-2,2.1713131042200144,0,0.05,0.11415931136257983]
[null,null,null,"Share of RE to total electricity produced ","%",null,null,{"$f":"H31/H29","v":0},0.01,0.14850747474747475,0,1.8048963181952305E-2,5.0134932313162475E-2,0.54197875748899127,0.41666666666666669,0,1.4379684870735812E-2,4.1568334333727617E-3,0.27459319358878642,0.28000000000000003,0.16,7.1717075180186621E-3,0.21244131455399062,9.7970548954733755E-2,0.16166498204303145,0.12,7.0000000000000007E-2,0,0.15343152356392462,0.02,0,0,0.12522540573031457,0.17,1.256952380952381E-2,0.43426262084400291,0,0.01,2.2831862272515966E-2]
[null,null,null,"What was the total electricity generated in 2018? (MWh)","MWh / year",null,null,{"$f":"IF(OR(INDIRECT(H$4&\"!E33\")=0,INDIRECT(H$4&\"!E33\")=\"NA\"),VLOOKUP(H$4,'Jurisdictions | Generation'!$A$3:$I$35,5,FALSE),INDIRECT(H$4&\"!E33\"))","v":100446},{"$f":"IF(OR(INDIRECT(I$4&\"!E33\")=0,INDIRECT(I$4&\"!E33\")=\"NA\"),VLOOKUP(I$4,'Jurisdictions | Generation'!$A$3:$I$35,5,FALSE),INDIRECT(I$4&\"!E33\"))","v":330000},{"$f":"IF(OR(INDIRECT(J$4&\"!E33\")=0,INDIRECT(J$4&\"!E33\")=\"NA\"),VLOOKUP(J$4,'Jurisdictions | Generation'!$A$3:$I$35,5,FALSE),INDIRECT(J$4&\"!E33\"))","v":990000},{"$f":"IF(OR(INDIRECT(K$4&\"!E33\")=0,INDIRECT(K$4&\"!E33\")=\"NA\"),VLOOKUP(K$4,'Jurisdictions | Generation'!$A$3:$I$35,5,FALSE),INDIRECT(K$4&\"!E33\"))","v":1930000},{"$f":"IF(OR(INDIRECT(L$4&\"!E33\")=0,INDIRECT(L$4&\"!E33\")=\"NA\"),VLOOKUP(L$4,'Jurisdictions | Generation'!$A$3:$I$35,5,FALSE),INDIRECT(L$4&\"!E33\"))","v":1004194.6629999999},{"$f":"IF(OR(INDIRECT(M$4&\"!E33\")=0,INDIRECT(M$4&\"!E33\")=\"NA\"),VLOOKUP(M$4,'Jurisdictions | Generation'!$A$3:$I$35,5,FALSE),INDIRECT(M$4&\"!E33\"))","v":614461.78500000003},{"$f":"IF(OR(INDIRECT(N$4&\"!E33\")=0,INDIRECT(N$4&\"!E33\")=\"NA\"),VLOOKUP(N$4,'Jurisdictions | Generation'!$A$3:$I$35,5,FALSE),INDIRECT(N$4&\"!E33\"))","v":631093},{"$f":"IF(OR(INDIRECT(O$4&\"!E33\")=0,INDIRECT(O$4&\"!E33\")=\"NA\"),VLOOKUP(O$4,'Jurisdictions | Generation'!$A$3:$I$35,5,FALSE),INDIRECT(O$4&\"!E33\"))","v":120000},{"$f":"IF(OR(INDIRECT(P$4&\"!E33\")=0,INDIRECT(P$4&\"!E33\")=\"NA\"),VLOOKUP(P$4,'Jurisdictions | Generation'!$A$3:$I$35,5,FALSE),INDIRECT(P$4&\"!E33\"))","v":50000},{"$f":"IF(OR(INDIRECT(Q$4&\"!E33\")=0,INDIRECT(Q$4&\"!E33\")=\"NA\"),VLOOKUP(Q$4,'Jurisdictions | Generation'!$A$3:$I$35,5,FALSE),INDIRECT(Q$4&\"!E33\"))","v":653700},{"$f":"IF(OR(INDIRECT(R$4&\"!E33\")=0,INDIRECT(R$4&\"!E33\")=\"NA\"),VLOOKUP(R$4,'Jurisdictions | Generation'!$A$3:$I$35,5,FALSE),INDIRECT(R$4&\"!E33\"))","v":20458600},{"$f":"IF(OR(INDIRECT(S$4&\"!E33\")=0,INDIRECT(S$4&\"!E33\")=\"NA\"),VLOOKUP(S$4,'Jurisdictions | Generation'!$A$3:$I$35,5,FALSE),INDIRECT(S$4&\"!E33\"))","v":865865.96299999999},{"$f":"IF(OR(INDIRECT(T$4&\"!E33\")=0,INDIRECT(T$4&\"!E33\")=\"NA\"),VLOOKUP(T$4,'Jurisdictions | Generation'!$A$3:$I$35,5,FALSE),INDIRECT(T$4&\"!E33\"))","v":65411},{"$f":"IF(OR(INDIRECT(U$4&\"!E33\")=0,INDIRECT(U$4&\"!E33\")=\"NA\"),VLOOKUP(U$4,'Jurisdictions | Generation'!$A$3:$I$35,5,FALSE),INDIRECT(U$4&\"!E33\"))","v":107000},{"$f":"IF(OR(INDIRECT(V$4&\"!E33\")=0,INDIRECT(V$4&\"!E33\")=\"NA\"),VLOOKUP(V$4,'Jurisdictions | Generation'!$A$3:$I$35,5,FALSE),INDIRECT(V$4&\"!E33\"))","v":230947.23199999999},{"$f":"IF(OR(INDIRECT(W$4&\"!E33\")=0,INDIRECT(W$4&\"!E33\")=\"NA\"),VLOOKUP(W$4,'Jurisdictions | Generation'!$A$3:$I$35,5,FALSE),INDIRECT(W$4&\"!E33\"))","v":1704000},{"$f":"IF(OR(INDIRECT(X$4&\"!E33\")=0,INDIRECT(X$4&\"!E33\")=\"NA\"),VLOOKUP(X$4,'Jurisdictions | Generation'!$A$3:$I$35,5,FALSE),INDIRECT(X$4&\"!E33\"))","v":809411},{"$f":"IF(OR(INDIRECT(Y$4&\"!E33\")=0,INDIRECT(Y$4&\"!E33\")=\"NA\"),VLOOKUP(Y$4,'Jurisdictions | Generation'!$A$3:$I$35,5,FALSE),INDIRECT(Y$4&\"!E33\"))","v":1057110.5},{"$f":"IF(OR(INDIRECT(Z$4&\"!E33\")=0,INDIRECT(Z$4&\"!E33\")=\"NA\"),VLOOKUP(Z$4,'Jurisdictions | Generation'!$A$3:$I$35,5,FALSE),INDIRECT(Z$4&\"!E33\"))","v":4355502},{"$f":"IF(OR(INDIRECT(AA$4&\"!E33\")=0,INDIRECT(AA$4&\"!E33\")=\"NA\"),VLOOKUP(AA$4,'Jurisdictions | Generation'!$A$3:$I$35,5,FALSE),INDIRECT(AA$4&\"!E33\"))","v":1560000},{"$f":"IF(OR(INDIRECT(AB$4&\"!E33\")=0,INDIRECT(AB$4&\"!E33\")=\"NA\"),VLOOKUP(AB$4,'Jurisdictions | Generation'!$A$3:$I$35,5,FALSE),INDIRECT(AB$4&\"!E33\"))","v":12282},{"$f":"IF(OR(INDIRECT(AC$4&\"!E33\")=0,INDIRECT(AC$4&\"!E33\")=\"NA\"),VLOOKUP(AC$4,'Jurisdictions | Generation'!$A$3:$I$35,5,FALSE),INDIRECT(AC$4&\"!E33\"))","v":57779},{"$f":"IF(OR(INDIRECT(AD$4&\"!E33\")=0,INDIRECT(AD$4&\"!E33\")=\"NA\"),VLOOKUP(AD$4,'Jurisdictions | Generation'!$A$3:$I$35,5,FALSE),INDIRECT(AD$4&\"!E33\"))","v":17706414},{"$f":"IF(OR(INDIRECT(AE$4&\"!E33\")=0,INDIRECT(AE$4&\"!E33\")=\"NA\"),VLOOKUP(AE$4,'Jurisdictions | Generation'!$A$3:$I$35,5,FALSE),INDIRECT(AE$4&\"!E33\"))","v":175000},{"$f":"IF(OR(INDIRECT(AF$4&\"!E33\")=0,INDIRECT(AF$4&\"!E33\")=\"NA\"),VLOOKUP(AF$4,'Jurisdictions | Generation'!$A$3:$I$35,5,FALSE),INDIRECT(AF$4&\"!E33\"))","v":372671},{"$f":"IF(OR(INDIRECT(AG$4&\"!E33\")=0,INDIRECT(AG$4&\"!E33\")=\"NA\"),VLOOKUP(AG$4,'Jurisdictions | Generation'!$A$3:$I$35,5,FALSE),INDIRECT(AG$4&\"!E33\"))","v":39928},{"$f":"IF(OR(INDIRECT(AH$4&\"!E33\")=0,INDIRECT(AH$4&\"!E33\")=\"NA\"),VLOOKUP(AH$4,'Jurisdictions | Generation'!$A$3:$I$35,5,FALSE),INDIRECT(AH$4&\"!E33\"))","v":150664},{"$f":"IF(OR(INDIRECT(AI$4&\"!E33\")=0,INDIRECT(AI$4&\"!E33\")=\"NA\"),VLOOKUP(AI$4,'Jurisdictions | Generation'!$A$3:$I$35,5,FALSE),INDIRECT(AI$4&\"!E33\"))","v":150000},{"$f":"IF(OR(INDIRECT(AJ$4&\"!E33\")=0,INDIRECT(AJ$4&\"!E33\")=\"NA\"),VLOOKUP(AJ$4,'Jurisdictions | Generation'!$A$3:$I$35,5,FALSE),INDIRECT(AJ$4&\"!E33\"))","v":2000000},{"$f":"IF(OR(INDIRECT(AK$4&\"!E33\")=0,INDIRECT(AK$4&\"!E33\")=\"NA\"),VLOOKUP(AK$4,'Jurisdictions | Generation'!$A$3:$I$35,5,FALSE),INDIRECT(AK$4&\"!E33\"))","v":8463413},{"$f":"IF(OR(INDIRECT(AL$4&\"!E33\")=0,INDIRECT(AL$4&\"!E33\")=\"NA\"),VLOOKUP(AL$4,'Jurisdictions | Generation'!$A$3:$I$35,5,FALSE),INDIRECT(AL$4&\"!E33\"))","v":241764.24795399999},{"$f":"IF(OR(INDIRECT(AM$4&\"!E33\")=0,INDIRECT(AM$4&\"!E33\")=\"NA\"),VLOOKUP(AM$4,'Jurisdictions | Generation'!$A$3:$I$35,5,FALSE),INDIRECT(AM$4&\"!E33\"))","v":641034}]
[null,null,null,"Total electricity generation data source (survey or project database)",null,null,null,{"$f":"IF(OR(INDIRECT(H$4&\"!E33\")=0,INDIRECT(H$4&\"!E33\")=\"NA\"),\"Database\",\"Survey\")","v":"Database"},{"$f":"IF(OR(INDIRECT(I$4&\"!E33\")=0,INDIRECT(I$4&\"!E33\")=\"NA\"),\"Database\",\"Survey\")","v":"Database"},"Database",{"$f":"IF(OR(INDIRECT(K$4&\"!E33\")=0,INDIRECT(K$4&\"!E33\")=\"NA\"),\"Database\",\"Survey\")","v":"Database"},"Survey","Survey","Survey","Survey","Database","Survey","Database","Survey","Survey","Survey","Survey","Survey","Database","Survey","Survey","Database","Database","Database","Database","Database","Database","Survey","Database","Database","Database","Survey","Database","Database"]
[null,null,null,"What was the total electricity generated from Utility Scale RE projects in 2018? (MWh) ","MWh / year",null,null,{"$f":"IF(INDIRECT(H$4&\"!E34\")=\"NA\",VLOOKUP(H$4,'Jurisdictions | Generation'!$A$3:$M$35,13,FALSE),INDIRECT(H$4&\"!E34\"))","v":0},{"$f":"IF(INDIRECT(I$4&\"!E34\")=\"NA\",VLOOKUP(I$4,'Jurisdictions | Generation'!$A$3:$M$35,13,FALSE),INDIRECT(I$4&\"!E34\"))","v":3300},{"$f":"IF(INDIRECT(J$4&\"!E34\")=\"NA\",VLOOKUP(J$4,'Jurisdictions | Generation'!$A$3:$M$35,13,FALSE),INDIRECT(J$4&\"!E34\"))","v":147022.39999999999},{"$f":"IF(INDIRECT(K$4&\"!E34\")=\"NA\",VLOOKUP(K$4,'Jurisdictions | Generation'!$A$3:$M$35,13,FALSE),INDIRECT(K$4&\"!E34\"))","v":0},{"$f":"IF(INDIRECT(L$4&\"!E34\")=\"NA\",VLOOKUP(L$4,'Jurisdictions | Generation'!$A$3:$M$35,13,FALSE),INDIRECT(L$4&\"!E34\"))","v":18124.672500000001},{"$f":"IF(INDIRECT(M$4&\"!E34\")=\"NA\",VLOOKUP(M$4,'Jurisdictions | Generation'!$A$3:$M$35,13,FALSE),INDIRECT(M$4&\"!E34\"))","v":30805.999999999996},{"$f":"IF(INDIRECT(N$4&\"!E34\")=\"NA\",VLOOKUP(N$4,'Jurisdictions | Generation'!$A$3:$M$35,13,FALSE),INDIRECT(N$4&\"!E34\"))","v":342039},{"$f":"IF(INDIRECT(O$4&\"!E34\")=\"NA\",VLOOKUP(O$4,'Jurisdictions | Generation'!$A$3:$M$35,13,FALSE),INDIRECT(O$4&\"!E34\"))","v":50000},{"$f":"IF(INDIRECT(P$4&\"!E34\")=\"NA\",VLOOKUP(P$4,'Jurisdictions | Generation'!$A$3:$M$35,13,FALSE),INDIRECT(P$4&\"!E34\"))","v":0},{"$f":"IF(INDIRECT(Q$4&\"!E34\")=\"NA\",VLOOKUP(Q$4,'Jurisdictions | Generation'!$A$3:$M$35,13,FALSE),INDIRECT(Q$4&\"!E34\"))","v":9400},{"$f":"IF(INDIRECT(R$4&\"!E34\")=\"NA\",VLOOKUP(R$4,'Jurisdictions | Generation'!$A$3:$M$35,13,FALSE),INDIRECT(R$4&\"!E34\"))","v":85042.992479999986},{"$f":"IF(INDIRECT(S$4&\"!E34\")=\"NA\",VLOOKUP(S$4,'Jurisdictions | Generation'!$A$3:$M$35,13,FALSE),INDIRECT(S$4&\"!E34\"))","v":237760.9},{"$f":"IF(INDIRECT(T$4&\"!E34\")=\"NA\",VLOOKUP(T$4,'Jurisdictions | Generation'!$A$3:$M$35,13,FALSE),INDIRECT(T$4&\"!E34\"))","v":18315.080000000002},{"$f":"IF(INDIRECT(U$4&\"!E34\")=\"NA\",VLOOKUP(U$4,'Jurisdictions | Generation'!$A$3:$M$35,13,FALSE),INDIRECT(U$4&\"!E34\"))","v":17120},{"$f":"IF(INDIRECT(V$4&\"!E34\")=\"NA\",VLOOKUP(V$4,'Jurisdictions | Generation'!$A$3:$M$35,13,FALSE),INDIRECT(V$4&\"!E34\"))","v":1656.2860000000001},{"$f":"IF(INDIRECT(W$4&\"!E34\")=\"NA\",VLOOKUP(W$4,'Jurisdictions | Generation'!$A$3:$M$35,13,FALSE),INDIRECT(W$4&\"!E34\"))","v":362000},{"$f":"IF(INDIRECT(X$4&\"!E34\")=\"NA\",VLOOKUP(X$4,'Jurisdictions | Generation'!$A$3:$M$35,13,FALSE),INDIRECT(X$4&\"!E34\"))","v":79298.44},{"$f":"IF(INDIRECT(Y$4&\"!E34\")=\"NA\",VLOOKUP(Y$4,'Jurisdictions | Generation'!$A$3:$M$35,13,FALSE),INDIRECT(Y$4&\"!E34\"))","v":170897.75},{"$f":"IF(INDIRECT(Z$4&\"!E34\")=\"NA\",VLOOKUP(Z$4,'Jurisdictions | Generation'!$A$3:$M$35,13,FALSE),INDIRECT(Z$4&\"!E34\"))","v":522660.24},{"$f":"IF(INDIRECT(AA$4&\"!E34\")=\"NA\",VLOOKUP(AA$4,'Jurisdictions | Generation'!$A$3:$M$35,13,FALSE),INDIRECT(AA$4&\"!E34\"))","v":109200.00000000001},{"$f":"IF(INDIRECT(AB$4&\"!E34\")=\"NA\",VLOOKUP(AB$4,'Jurisdictions | Generation'!$A$3:$M$35,13,FALSE),INDIRECT(AB$4&\"!E34\"))","v":0},{"$f":"IF(INDIRECT(AC$4&\"!E34\")=\"NA\",VLOOKUP(AC$4,'Jurisdictions | Generation'!$A$3:$M$35,13,FALSE),INDIRECT(AC$4&\"!E34\"))","v":8865.1200000000008},{"$f":"IF(INDIRECT(AD$4&\"!E34\")=\"NA\",VLOOKUP(AD$4,'Jurisdictions | Generation'!$A$3:$M$35,13,FALSE),INDIRECT(AD$4&\"!E34\"))","v":392131.30200000003},{"$f":"IF(INDIRECT(AE$4&\"!E34\")=\"NA\",VLOOKUP(AE$4,'Jurisdictions | Generation'!$A$3:$M$35,13,FALSE),INDIRECT(AE$4&\"!E34\"))","v":0},{"$f":"IF(INDIRECT(AF$4&\"!E34\")=\"NA\",VLOOKUP(AF$4,'Jurisdictions | Generation'!$A$3:$M$35,13,FALSE),INDIRECT(AF$4&\"!E34\"))","v":0},{"$f":"IF(INDIRECT(AG$4&\"!E34\")=\"NA\",VLOOKUP(AG$4,'Jurisdictions | Generation'!$A$3:$M$35,13,FALSE),INDIRECT(AG$4&\"!E34\"))","v":5000},{"$f":"IF(INDIRECT(AH$4&\"!E34\")=\"NA\",VLOOKUP(AH$4,'Jurisdictions | Generation'!$A$3:$M$35,13,FALSE),INDIRECT(AH$4&\"!E34\"))","v":25612.880000000001},{"$f":"IF(INDIRECT(AI$4&\"!E34\")=\"NA\",VLOOKUP(AI$4,'Jurisdictions | Generation'!$A$3:$M$35,13,FALSE),INDIRECT(AI$4&\"!E34\"))","v":1885.4285714285716},{"$f":"IF(INDIRECT(AJ$4&\"!E34\")=\"NA\",VLOOKUP(AJ$4,'Jurisdictions | Generation'!$A$3:$M$35,13,FALSE),INDIRECT(AJ$4&\"!E34\"))","v":868525.24168800586},{"$f":"IF(INDIRECT(AK$4&\"!E34\")=\"NA\",VLOOKUP(AK$4,'Jurisdictions | Generation'!$A$3:$M$35,13,FALSE),INDIRECT(AK$4&\"!E34\"))","v":0},{"$f":"IF(INDIRECT(AL$4&\"!E34\")=\"NA\",VLOOKUP(AL$4,'Jurisdictions | Generation'!$A$3:$M$35,13,FALSE),INDIRECT(AL$4&\"!E34\"))","v":2417.6424795399998},{"$f":"IF(INDIRECT(AM$4&\"!E34\")=\"NA\",VLOOKUP(AM$4,'Jurisdictions | Generation'!$A$3:$M$35,13,FALSE),INDIRECT(AM$4&\"!E34\"))","v":14636}]
[null,null,null,"Utility RE generation data source (survey or project database)",null,null,null,{"$f":"IF(INDIRECT(H$4&\"!E34\")=\"NA\",\"Database\",\"Survey\")","v":"Database"},{"$f":"IF(INDIRECT(I$4&\"!E34\")=\"NA\",\"Database\",\"Survey\")","v":"Survey"},"Database",{"$f":"IF(INDIRECT(K$4&\"!E34\")=\"NA\",\"Database\",\"Survey\")","v":"Survey"},"Survey","Database","Survey","Survey","Database","Survey","Database","Survey","Survey","Survey","Survey","Survey","Database","Survey","Survey","Survey","Database","Database","Database","Database","Database","Survey","Survey","Database","Database","Survey","Survey","Database"]
[]
[null,3,null,"Planned renewable generation",null,{"$f":"SUM(F35:F40)","v":0.3},0.3,{"$f":"IF(H35=\"Yes\",(5/COUNT($C$35:$C$40))*$G$35,0)+($G$36*H36)+IF(H40=\"Yes\",(5/COUNT($C$35:$C$40)*$G$40),0)","v":0},5.4974747474747468E-2,1.9865319865319864E-2,{"$f":"IF(K35=\"Yes\",(5/COUNT($C$35:$C$40))*$G$35,0)+($G$36*K36)+IF(K40=\"Yes\",(5/COUNT($C$35:$C$40)*$G$40),0)","v":0.6576799078871618},0.64265686159652058,0.58834522692624958,1.3239482048516533,0.55555555555555558,0.33579999999999999,{"$f":"IF(Q35=\"Yes\",(5/COUNT($C$35:$C$40))*$G$35,0)+($G$36*Q36)+IF(Q40=\"Yes\",(5/COUNT($C$35:$C$40)*$G$40),0)","v":0.69702167151088679},{"$f":"IF(R35=\"Yes\",(5/COUNT($C$35:$C$40))*$G$35,0)+($G$36*R36)+IF(R40=\"Yes\",(5/COUNT($C$35:$C$40)*$G$40),0)","v":0.36494270217251756},1.4190879551745228,{"$f":"MIN(5,IF(T35=\"Yes\",(5/COUNT($C$35:$C$40))*$G$35,0)+($G$36*T36)+IF(T40=\"Yes\",(5/COUNT($C$35:$C$40)*$G$40),0))","v":5},{"$f":"MIN(5,IF(U35=\"Yes\",(5/COUNT($C$35:$C$40))*$G$35,0)+($G$36*U36)+IF(U40=\"Yes\",(5/COUNT($C$35:$C$40)*$G$40),0))","v":5},1.361583834777365,1.7097026604068859,0.10786609028046319,0,1.2987434284268495,4.5858974358974354E-2,4.0302176627042288,2.0678216422344908,0.76462254864254275,0,0,3.0600636701618464,0.81099338306872681,1.7559833777777778,0.55689875555555557,0.55555555555555558,1.1264500209432446,5.2384116911115476E-2]
[null,null,1,"Does your country have an estimate of planned installed capacity expected to come online from-utility scale RE projects?",null,{"$f":"$G$34*G35","v":9.9999999999999992E-2},{"$f":"1/3","v":0.33333333333333331},{"$f":"INDIRECT(H$4&\"!E38\")","v":"NA"},{"$f":"INDIRECT(I$4&\"!E38\")","v":"NA"},"NA",{"$f":"INDIRECT(K$4&\"!E38\")","v":"No"},"Yes","Yes","Yes","No","NA","No","NA","Yes","Yes","Yes","No","Yes","NA","No","Yes","NA","Yes","NA","NA","NA","NA","Yes","NA","Yes","Yes","Yes","Yes","NA"]
[null,null,2,"Share of planned production from RE/total electricity production to scale",null,{"$f":"$G$34*G36","v":9.9999999999999992E-2},{"$f":"1/3","v":0.33333333333333331},{"$f":"H37*5","v":0},{"$f":"I37*5","v":0.16492424242424242},5.9595959595959598E-2,{"$f":"K37*5","v":0.30637305699481865},0.26130391812289488,9.8369014112081848E-2,0.63851128122162659,0,1.0074000000000001,{"$f":"Q37*5","v":0.42439834786599356},1.0948281065175527,0.92393053219023469,58.632355414226964,56.074766355140184,2.4180848376654285,1.795774647887324,0.32359827084138959,0,0.56289695194721534,0.13757692307692307,10.423986321446019,6.2034649267034734,2.2938676459276284,0,0,7.5135243438188741,2.4329801492061804,1.9346167999999999,4.0296000000000004E-3,0,4.6016729496400843E-2,0.15715235073334644]
[null,null,null,"Shared of planned production from RE / total electricity production","%",null,null,{"$f":"IFERROR((H38/H29),0)","v":0},3.2984848484848485E-2,1.191919191919192E-2,6.127461139896373E-2,5.2260783624578977E-2,1.9673802822416368E-2,0.12770225624432532,0,0.20147999999999999,8.4879669573198716E-2,0.21896562130351052,0.18478610643804694,11.726471082845393,11.214953271028037,0.4836169675330857,0.35915492957746481,6.4719654168277921E-2,0,0.11257939038944306,2.7515384615384615E-2,2.0847972642892039,1.2406929853406947,0.45877352918552566,0,0,1.5027048687637747,0.48659602984123607,0.38692335999999999,8.0592000000000012E-4,0,9.2033458992801694E-3,3.143047014666929E-2]
[null,null,null,"Total planned electricity production from RE","MWh / year",null,null,{"$f":"IF(INDIRECT(H$4&\"!E40\")=\"NA\",SUMIFS(Marketplace!$Q$3:$Q$423,Marketplace!$C$3:$C$423,\"=\"&H5,Marketplace!$AJ$3:$AJ$423,\"Confident\",Marketplace!$K$3:$K$423,\"Planned\",Marketplace!$J$3:$J$423,\"Utility/IPP\")+SUMIFS(Marketplace!$Q$3:$Q$423,Marketplace!$C$3:$C$423,\"=\"&H5,Marketplace!$AJ$3:$AJ$423,\"Confident\",Marketplace!$K$3:$K$423,\"Under development\",Marketplace!$J$3:$J$423,\"Utility/IPP\")+SUMIFS(Marketplace!$Q$3:$Q$423,Marketplace!$C$3:$C$423,\"=\"&H5,Marketplace!$AJ$3:$AJ$423,\"Confident\",Marketplace!$K$3:$K$423,\"Operational\",Marketplace!$AG$3:$AG$423,\"2019\",Marketplace!$J$3:$J$423,\"Utility/IPP\"),INDIRECT(H$4&\"!E40\"))","v":0},{"$f":"IF(INDIRECT(I$4&\"!E40\")=\"NA\",SUMIFS(Marketplace!$Q$3:$Q$423,Marketplace!$C$3:$C$423,\"=\"&I5,Marketplace!$AJ$3:$AJ$423,\"Confident\",Marketplace!$K$3:$K$423,\"Planned\",Marketplace!$J$3:$J$423,\"Utility/IPP\")+SUMIFS(Marketplace!$Q$3:$Q$423,Marketplace!$C$3:$C$423,\"=\"&I5,Marketplace!$AJ$3:$AJ$423,\"Confident\",Marketplace!$K$3:$K$423,\"Under development\",Marketplace!$J$3:$J$423,\"Utility/IPP\")+SUMIFS(Marketplace!$Q$3:$Q$423,Marketplace!$C$3:$C$423,\"=\"&I5,Marketplace!$AJ$3:$AJ$423,\"Confident\",Marketplace!$K$3:$K$423,\"Operational\",Marketplace!$AG$3:$AG$423,\"2019\",Marketplace!$J$3:$J$423,\"Utility/IPP\"),INDIRECT(I$4&\"!E40\"))","v":10885},{"$f":"IF(INDIRECT(J$4&\"!E40\")=\"NA\",SUMIFS(Marketplace!$Q$3:$Q$423,Marketplace!$C$3:$C$423,\"=\"&J5,Marketplace!$AJ$3:$AJ$423,\"Confident\",Marketplace!$K$3:$K$423,\"Planned\",Marketplace!$J$3:$J$423,\"Utility/IPP\")+SUMIFS(Marketplace!$Q$3:$Q$423,Marketplace!$C$3:$C$423,\"=\"&J5,Marketplace!$AJ$3:$AJ$423,\"Confident\",Marketplace!$K$3:$K$423,\"Under development\",Marketplace!$J$3:$J$423,\"Utility/IPP\")+SUMIFS(Marketplace!$Q$3:$Q$423,Marketplace!$C$3:$C$423,\"=\"&J5,Marketplace!$AJ$3:$AJ$423,\"Confident\",Marketplace!$K$3:$K$423,\"Operational\",Marketplace!$AG$3:$AG$423,\"2019\",Marketplace!$J$3:$J$423,\"Utility/IPP\"),INDIRECT(J$4&\"!E40\"))","v":11800},{"$f":"IF(INDIRECT(K$4&\"!E40\")=\"NA\",SUMIFS(Marketplace!$Q$3:$Q$423,Marketplace!$C$3:$C$423,\"=\"&K5,Marketplace!$AJ$3:$AJ$423,\"Confident\",Marketplace!$K$3:$K$423,\"Planned\",Marketplace!$J$3:$J$423,\"Utility/IPP\")+SUMIFS(Marketplace!$Q$3:$Q$423,Marketplace!$C$3:$C$423,\"=\"&K5,Marketplace!$AJ$3:$AJ$423,\"Confident\",Marketplace!$K$3:$K$423,\"Under development\",Marketplace!$J$3:$J$423,\"Utility/IPP\")+SUMIFS(Marketplace!$Q$3:$Q$423,Marketplace!$C$3:$C$423,\"=\"&K5,Marketplace!$AJ$3:$AJ$423,\"Confident\",Marketplace!$K$3:$K$423,\"Operational\",Marketplace!$AG$3:$AG$423,\"2019\",Marketplace!$J$3:$J$423,\"Utility/IPP\"),INDIRECT(K$4&\"!E40\"))","v":118260},{"$f":"IF(INDIRECT(L$4&\"!E40\")=\"NA\",SUMIFS(Marketplace!$Q$3:$Q$423,Marketplace!$C$3:$C$423,\"=\"&L5,Marketplace!$AJ$3:$AJ$423,\"Confident\",Marketplace!$K$3:$K$423,\"Planned\",Marketplace!$J$3:$J$423,\"Utility/IPP\")+SUMIFS(Marketplace!$Q$3:$Q$423,Marketplace!$C$3:$C$423,\"=\"&L5,Marketplace!$AJ$3:$AJ$423,\"Confident\",Marketplace!$K$3:$K$423,\"Under development\",Marketplace!$J$3:$J$423,\"Utility/IPP\")+SUMIFS(Marketplace!$Q$3:$Q$423,Marketplace!$C$3:$C$423,\"=\"&L5,Marketplace!$AJ$3:$AJ$423,\"Confident\",Marketplace!$K$3:$K$423,\"Operational\",Marketplace!$AG$3:$AG$423,\"2019\",Marketplace!$J$3:$J$423,\"Utility/IPP\"),INDIRECT(L$4&\"!E40\"))","v":52480},{"$f":"IF(INDIRECT(M$4&\"!E40\")=\"NA\",SUMIFS(Marketplace!$Q$3:$Q$423,Marketplace!$C$3:$C$423,\"=\"&M5,Marketplace!$AJ$3:$AJ$423,\"Confident\",Marketplace!$K$3:$K$423,\"Planned\",Marketplace!$J$3:$J$423,\"Utility/IPP\")+SUMIFS(Marketplace!$Q$3:$Q$423,Marketplace!$C$3:$C$423,\"=\"&M5,Marketplace!$AJ$3:$AJ$423,\"Confident\",Marketplace!$K$3:$K$423,\"Under development\",Marketplace!$J$3:$J$423,\"Utility/IPP\")+SUMIFS(Marketplace!$Q$3:$Q$423,Marketplace!$C$3:$C$423,\"=\"&M5,Marketplace!$AJ$3:$AJ$423,\"Confident\",Marketplace!$K$3:$K$423,\"Operational\",Marketplace!$AG$3:$AG$423,\"2019\",Marketplace!$J$3:$J$423,\"Utility/IPP\"),INDIRECT(M$4&\"!E40\"))","v":12088.800000000001},{"$f":"IF(INDIRECT(N$4&\"!E40\")=\"NA\",SUMIFS(Marketplace!$Q$3:$Q$423,Marketplace!$C$3:$C$423,\"=\"&N5,Marketplace!$AJ$3:$AJ$423,\"Confident\",Marketplace!$K$3:$K$423,\"Planned\",Marketplace!$J$3:$J$423,\"Utility/IPP\")+SUMIFS(Marketplace!$Q$3:$Q$423,Marketplace!$C$3:$C$423,\"=\"&N5,Marketplace!$AJ$3:$AJ$423,\"Confident\",Marketplace!$K$3:$K$423,\"Under development\",Marketplace!$J$3:$J$423,\"Utility/IPP\")+SUMIFS(Marketplace!$Q$3:$Q$423,Marketplace!$C$3:$C$423,\"=\"&N5,Marketplace!$AJ$3:$AJ$423,\"Confident\",Marketplace!$K$3:$K$423,\"Operational\",Marketplace!$AG$3:$AG$423,\"2019\",Marketplace!$J$3:$J$423,\"Utility/IPP\"),INDIRECT(N$4&\"!E40\"))","v":80592},{"$f":"IF(INDIRECT(O$4&\"!E40\")=\"NA\",SUMIFS(Marketplace!$Q$3:$Q$423,Marketplace!$C$3:$C$423,\"=\"&O5,Marketplace!$AJ$3:$AJ$423,\"Confident\",Marketplace!$K$3:$K$423,\"Planned\",Marketplace!$J$3:$J$423,\"Utility/IPP\")+SUMIFS(Marketplace!$Q$3:$Q$423,Marketplace!$C$3:$C$423,\"=\"&O5,Marketplace!$AJ$3:$AJ$423,\"Confident\",Marketplace!$K$3:$K$423,\"Under development\",Marketplace!$J$3:$J$423,\"Utility/IPP\")+SUMIFS(Marketplace!$Q$3:$Q$423,Marketplace!$C$3:$C$423,\"=\"&O5,Marketplace!$AJ$3:$AJ$423,\"Confident\",Marketplace!$K$3:$K$423,\"Operational\",Marketplace!$AG$3:$AG$423,\"2019\",Marketplace!$J$3:$J$423,\"Utility/IPP\"),INDIRECT(O$4&\"!E40\"))","v":0},{"$f":"IF(INDIRECT(P$4&\"!E40\")=\"NA\",SUMIFS(Marketplace!$Q$3:$Q$423,Marketplace!$C$3:$C$423,\"=\"&P5,Marketplace!$AJ$3:$AJ$423,\"Confident\",Marketplace!$K$3:$K$423,\"Planned\",Marketplace!$J$3:$J$423,\"Utility/IPP\")+SUMIFS(Marketplace!$Q$3:$Q$423,Marketplace!$C$3:$C$423,\"=\"&P5,Marketplace!$AJ$3:$AJ$423,\"Confident\",Marketplace!$K$3:$K$423,\"Under development\",Marketplace!$J$3:$J$423,\"Utility/IPP\")+SUMIFS(Marketplace!$Q$3:$Q$423,Marketplace!$C$3:$C$423,\"=\"&P5,Marketplace!$AJ$3:$AJ$423,\"Confident\",Marketplace!$K$3:$K$423,\"Operational\",Marketplace!$AG$3:$AG$423,\"2019\",Marketplace!$J$3:$J$423,\"Utility/IPP\"),INDIRECT(P$4&\"!E40\"))","v":10074},{"$f":"IF(INDIRECT(Q$4&\"!E40\")=\"NA\",SUMIFS(Marketplace!$Q$3:$Q$423,Marketplace!$C$3:$C$423,\"=\"&Q5,Marketplace!$AJ$3:$AJ$423,\"Confident\",Marketplace!$K$3:$K$423,\"Planned\",Marketplace!$J$3:$J$423,\"Utility/IPP\")+SUMIFS(Marketplace!$Q$3:$Q$423,Marketplace!$C$3:$C$423,\"=\"&Q5,Marketplace!$AJ$3:$AJ$423,\"Confident\",Marketplace!$K$3:$K$423,\"Under development\",Marketplace!$J$3:$J$423,\"Utility/IPP\")+SUMIFS(Marketplace!$Q$3:$Q$423,Marketplace!$C$3:$C$423,\"=\"&Q5,Marketplace!$AJ$3:$AJ$423,\"Confident\",Marketplace!$K$3:$K$423,\"Operational\",Marketplace!$AG$3:$AG$423,\"2019\",Marketplace!$J$3:$J$423,\"Utility/IPP\"),INDIRECT(Q$4&\"!E40\"))","v":55485.84},{"$f":"IF(INDIRECT(R$4&\"!E40\")=\"NA\",SUMIFS(Marketplace!$Q$3:$Q$423,Marketplace!$C$3:$C$423,\"=\"&R5,Marketplace!$AJ$3:$AJ$423,\"Confident\",Marketplace!$K$3:$K$423,\"Planned\",Marketplace!$J$3:$J$423,\"Utility/IPP\")+SUMIFS(Marketplace!$Q$3:$Q$423,Marketplace!$C$3:$C$423,\"=\"&R5,Marketplace!$AJ$3:$AJ$423,\"Confident\",Marketplace!$K$3:$K$423,\"Under development\",Marketplace!$J$3:$J$423,\"Utility/IPP\")+SUMIFS(Marketplace!$Q$3:$Q$423,Marketplace!$C$3:$C$423,\"=\"&R5,Marketplace!$AJ$3:$AJ$423,\"Confident\",Marketplace!$K$3:$K$423,\"Operational\",Marketplace!$AG$3:$AG$423,\"2019\",Marketplace!$J$3:$J$423,\"Utility/IPP\"),INDIRECT(R$4&\"!E40\"))","v":4479730.0600000005},{"$f":"IF(INDIRECT(S$4&\"!E40\")=\"NA\",SUMIFS(Marketplace!$Q$3:$Q$423,Marketplace!$C$3:$C$423,\"=\"&S5,Marketplace!$AJ$3:$AJ$423,\"Confident\",Marketplace!$K$3:$K$423,\"Planned\",Marketplace!$J$3:$J$423,\"Utility/IPP\")+SUMIFS(Marketplace!$Q$3:$Q$423,Marketplace!$C$3:$C$423,\"=\"&S5,Marketplace!$AJ$3:$AJ$423,\"Confident\",Marketplace!$K$3:$K$423,\"Under development\",Marketplace!$J$3:$J$423,\"Utility/IPP\")+SUMIFS(Marketplace!$Q$3:$Q$423,Marketplace!$C$3:$C$423,\"=\"&S5,Marketplace!$AJ$3:$AJ$423,\"Confident\",Marketplace!$K$3:$K$423,\"Operational\",Marketplace!$AG$3:$AG$423,\"2019\",Marketplace!$J$3:$J$423,\"Utility/IPP\"),INDIRECT(S$4&\"!E40\"))","v":160000},{"$f":"IF(INDIRECT(T$4&\"!E40\")=\"NA\",SUMIFS(Marketplace!$Q$3:$Q$423,Marketplace!$C$3:$C$423,\"=\"&T5,Marketplace!$AJ$3:$AJ$423,\"Confident\",Marketplace!$K$3:$K$423,\"Planned\",Marketplace!$J$3:$J$423,\"Utility/IPP\")+SUMIFS(Marketplace!$Q$3:$Q$423,Marketplace!$C$3:$C$423,\"=\"&T5,Marketplace!$AJ$3:$AJ$423,\"Confident\",Marketplace!$K$3:$K$423,\"Under development\",Marketplace!$J$3:$J$423,\"Utility/IPP\")+SUMIFS(Marketplace!$Q$3:$Q$423,Marketplace!$C$3:$C$423,\"=\"&T5,Marketplace!$AJ$3:$AJ$423,\"Confident\",Marketplace!$K$3:$K$423,\"Operational\",Marketplace!$AG$3:$AG$423,\"2019\",Marketplace!$J$3:$J$423,\"Utility/IPP\"),INDIRECT(T$4&\"!E40\"))","v":767040.2},{"$f":"IF(INDIRECT(U$4&\"!E40\")=\"NA\",SUMIFS(Marketplace!$Q$3:$Q$423,Marketplace!$C$3:$C$423,\"=\"&U5,Marketplace!$AJ$3:$AJ$423,\"Confident\",Marketplace!$K$3:$K$423,\"Planned\",Marketplace!$J$3:$J$423,\"Utility/IPP\")+SUMIFS(Marketplace!$Q$3:$Q$423,Marketplace!$C$3:$C$423,\"=\"&U5,Marketplace!$AJ$3:$AJ$423,\"Confident\",Marketplace!$K$3:$K$423,\"Under development\",Marketplace!$J$3:$J$423,\"Utility/IPP\")+SUMIFS(Marketplace!$Q$3:$Q$423,Marketplace!$C$3:$C$423,\"=\"&U5,Marketplace!$AJ$3:$AJ$423,\"Confident\",Marketplace!$K$3:$K$423,\"Operational\",Marketplace!$AG$3:$AG$423,\"2019\",Marketplace!$J$3:$J$423,\"Utility/IPP\"),INDIRECT(U$4&\"!E40\"))","v":1200000},{"$f":"IF(INDIRECT(V$4&\"!E40\")=\"NA\",SUMIFS(Marketplace!$Q$3:$Q$423,Marketplace!$C$3:$C$423,\"=\"&V5,Marketplace!$AJ$3:$AJ$423,\"Confident\",Marketplace!$K$3:$K$423,\"Planned\",Marketplace!$J$3:$J$423,\"Utility/IPP\")+SUMIFS(Marketplace!$Q$3:$Q$423,Marketplace!$C$3:$C$423,\"=\"&V5,Marketplace!$AJ$3:$AJ$423,\"Confident\",Marketplace!$K$3:$K$423,\"Under development\",Marketplace!$J$3:$J$423,\"Utility/IPP\")+SUMIFS(Marketplace!$Q$3:$Q$423,Marketplace!$C$3:$C$423,\"=\"&V5,Marketplace!$AJ$3:$AJ$423,\"Confident\",Marketplace!$K$3:$K$423,\"Operational\",Marketplace!$AG$3:$AG$423,\"2019\",Marketplace!$J$3:$J$423,\"Utility/IPP\"),INDIRECT(V$4&\"!E40\"))","v":111690},{"$f":"IF(INDIRECT(W$4&\"!E40\")=\"NA\",SUMIFS(Marketplace!$Q$3:$Q$423,Marketplace!$C$3:$C$423,\"=\"&W5,Marketplace!$AJ$3:$AJ$423,\"Confident\",Marketplace!$K$3:$K$423,\"Planned\",Marketplace!$J$3:$J$423,\"Utility/IPP\")+SUMIFS(Marketplace!$Q$3:$Q$423,Marketplace!$C$3:$C$423,\"=\"&W5,Marketplace!$AJ$3:$AJ$423,\"Confident\",Marketplace!$K$3:$K$423,\"Under development\",Marketplace!$J$3:$J$423,\"Utility/IPP\")+SUMIFS(Marketplace!$Q$3:$Q$423,Marketplace!$C$3:$C$423,\"=\"&W5,Marketplace!$AJ$3:$AJ$423,\"Confident\",Marketplace!$K$3:$K$423,\"Operational\",Marketplace!$AG$3:$AG$423,\"2019\",Marketplace!$J$3:$J$423,\"Utility/IPP\"),INDIRECT(W$4&\"!E40\"))","v":612000},{"$f":"IF(INDIRECT(X$4&\"!E40\")=\"NA\",SUMIFS(Marketplace!$Q$3:$Q$423,Marketplace!$C$3:$C$423,\"=\"&X5,Marketplace!$AJ$3:$AJ$423,\"Confident\",Marketplace!$K$3:$K$423,\"Planned\",Marketplace!$J$3:$J$423,\"Utility/IPP\")+SUMIFS(Marketplace!$Q$3:$Q$423,Marketplace!$C$3:$C$423,\"=\"&X5,Marketplace!$AJ$3:$AJ$423,\"Confident\",Marketplace!$K$3:$K$423,\"Under development\",Marketplace!$J$3:$J$423,\"Utility/IPP\")+SUMIFS(Marketplace!$Q$3:$Q$423,Marketplace!$C$3:$C$423,\"=\"&X5,Marketplace!$AJ$3:$AJ$423,\"Confident\",Marketplace!$K$3:$K$423,\"Operational\",Marketplace!$AG$3:$AG$423,\"2019\",Marketplace!$J$3:$J$423,\"Utility/IPP\"),INDIRECT(X$4&\"!E40\"))","v":52384.800000000003},{"$f":"IF(INDIRECT(Y$4&\"!E40\")=\"NA\",SUMIFS(Marketplace!$Q$3:$Q$423,Marketplace!$C$3:$C$423,\"=\"&Y5,Marketplace!$AJ$3:$AJ$423,\"Confident\",Marketplace!$K$3:$K$423,\"Planned\",Marketplace!$J$3:$J$423,\"Utility/IPP\")+SUMIFS(Marketplace!$Q$3:$Q$423,Marketplace!$C$3:$C$423,\"=\"&Y5,Marketplace!$AJ$3:$AJ$423,\"Confident\",Marketplace!$K$3:$K$423,\"Under development\",Marketplace!$J$3:$J$423,\"Utility/IPP\")+SUMIFS(Marketplace!$Q$3:$Q$423,Marketplace!$C$3:$C$423,\"=\"&Y5,Marketplace!$AJ$3:$AJ$423,\"Confident\",Marketplace!$K$3:$K$423,\"Operational\",Marketplace!$AG$3:$AG$423,\"2019\",Marketplace!$J$3:$J$423,\"Utility/IPP\"),INDIRECT(Y$4&\"!E40\"))","v":0},{"$f":"IF(INDIRECT(Z$4&\"!E40\")=\"NA\",SUMIFS(Marketplace!$Q$3:$Q$423,Marketplace!$C$3:$C$423,\"=\"&Z5,Marketplace!$AJ$3:$AJ$423,\"Confident\",Marketplace!$K$3:$K$423,\"Planned\",Marketplace!$J$3:$J$423,\"Utility/IPP\")+SUMIFS(Marketplace!$Q$3:$Q$423,Marketplace!$C$3:$C$423,\"=\"&Z5,Marketplace!$AJ$3:$AJ$423,\"Confident\",Marketplace!$K$3:$K$423,\"Under development\",Marketplace!$J$3:$J$423,\"Utility/IPP\")+SUMIFS(Marketplace!$Q$3:$Q$423,Marketplace!$C$3:$C$423,\"=\"&Z5,Marketplace!$AJ$3:$AJ$423,\"Confident\",Marketplace!$K$3:$K$423,\"Operational\",Marketplace!$AG$3:$AG$423,\"2019\",Marketplace!$J$3:$J$423,\"Utility/IPP\"),INDIRECT(Z$4&\"!E40\"))","v":490339.76},{"$f":"IF(INDIRECT(AA$4&\"!E40\")=\"NA\",SUMIFS(Marketplace!$Q$3:$Q$423,Marketplace!$C$3:$C$423,\"=\"&AA5,Marketplace!$AJ$3:$AJ$423,\"Confident\",Marketplace!$K$3:$K$423,\"Planned\",Marketplace!$J$3:$J$423,\"Utility/IPP\")+SUMIFS(Marketplace!$Q$3:$Q$423,Marketplace!$C$3:$C$423,\"=\"&AA5,Marketplace!$AJ$3:$AJ$423,\"Confident\",Marketplace!$K$3:$K$423,\"Under development\",Marketplace!$J$3:$J$423,\"Utility/IPP\")+SUMIFS(Marketplace!$Q$3:$Q$423,Marketplace!$C$3:$C$423,\"=\"&AA5,Marketplace!$AJ$3:$AJ$423,\"Confident\",Marketplace!$K$3:$K$423,\"Operational\",Marketplace!$AG$3:$AG$423,\"2019\",Marketplace!$J$3:$J$423,\"Utility/IPP\"),INDIRECT(AA$4&\"!E40\"))","v":42924},{"$f":"IF(INDIRECT(AB$4&\"!E40\")=\"NA\",SUMIFS(Marketplace!$Q$3:$Q$423,Marketplace!$C$3:$C$423,\"=\"&AB5,Marketplace!$AJ$3:$AJ$423,\"Confident\",Marketplace!$K$3:$K$423,\"Planned\",Marketplace!$J$3:$J$423,\"Utility/IPP\")+SUMIFS(Marketplace!$Q$3:$Q$423,Marketplace!$C$3:$C$423,\"=\"&AB5,Marketplace!$AJ$3:$AJ$423,\"Confident\",Marketplace!$K$3:$K$423,\"Under development\",Marketplace!$J$3:$J$423,\"Utility/IPP\")+SUMIFS(Marketplace!$Q$3:$Q$423,Marketplace!$C$3:$C$423,\"=\"&AB5,Marketplace!$AJ$3:$AJ$423,\"Confident\",Marketplace!$K$3:$K$423,\"Operational\",Marketplace!$AG$3:$AG$423,\"2019\",Marketplace!$J$3:$J$423,\"Utility/IPP\"),INDIRECT(AB$4&\"!E40\"))","v":25605.48},{"$f":"IF(INDIRECT(AC$4&\"!E40\")=\"NA\",SUMIFS(Marketplace!$Q$3:$Q$423,Marketplace!$C$3:$C$423,\"=\"&AC5,Marketplace!$AJ$3:$AJ$423,\"Confident\",Marketplace!$K$3:$K$423,\"Planned\",Marketplace!$J$3:$J$423,\"Utility/IPP\")+SUMIFS(Marketplace!$Q$3:$Q$423,Marketplace!$C$3:$C$423,\"=\"&AC5,Marketplace!$AJ$3:$AJ$423,\"Confident\",Marketplace!$K$3:$K$423,\"Under development\",Marketplace!$J$3:$J$423,\"Utility/IPP\")+SUMIFS(Marketplace!$Q$3:$Q$423,Marketplace!$C$3:$C$423,\"=\"&AC5,Marketplace!$AJ$3:$AJ$423,\"Confident\",Marketplace!$K$3:$K$423,\"Operational\",Marketplace!$AG$3:$AG$423,\"2019\",Marketplace!$J$3:$J$423,\"Utility/IPP\"),INDIRECT(AC$4&\"!E40\"))","v":71686},{"$f":"IF(INDIRECT(AD$4&\"!E40\")=\"NA\",SUMIFS(Marketplace!$Q$3:$Q$423,Marketplace!$C$3:$C$423,\"=\"&AD5,Marketplace!$AJ$3:$AJ$423,\"Confident\",Marketplace!$K$3:$K$423,\"Planned\",Marketplace!$J$3:$J$423,\"Utility/IPP\")+SUMIFS(Marketplace!$Q$3:$Q$423,Marketplace!$C$3:$C$423,\"=\"&AD5,Marketplace!$AJ$3:$AJ$423,\"Confident\",Marketplace!$K$3:$K$423,\"Under development\",Marketplace!$J$3:$J$423,\"Utility/IPP\")+SUMIFS(Marketplace!$Q$3:$Q$423,Marketplace!$C$3:$C$423,\"=\"&AD5,Marketplace!$AJ$3:$AJ$423,\"Confident\",Marketplace!$K$3:$K$423,\"Operational\",Marketplace!$AG$3:$AG$423,\"2019\",Marketplace!$J$3:$J$423,\"Utility/IPP\"),INDIRECT(AD$4&\"!E40\"))","v":8123234.04},{"$f":"IF(INDIRECT(AE$4&\"!E40\")=\"NA\",SUMIFS(Marketplace!$Q$3:$Q$423,Marketplace!$C$3:$C$423,\"=\"&AE5,Marketplace!$AJ$3:$AJ$423,\"Confident\",Marketplace!$K$3:$K$423,\"Planned\",Marketplace!$J$3:$J$423,\"Utility/IPP\")+SUMIFS(Marketplace!$Q$3:$Q$423,Marketplace!$C$3:$C$423,\"=\"&AE5,Marketplace!$AJ$3:$AJ$423,\"Confident\",Marketplace!$K$3:$K$423,\"Under development\",Marketplace!$J$3:$J$423,\"Utility/IPP\")+SUMIFS(Marketplace!$Q$3:$Q$423,Marketplace!$C$3:$C$423,\"=\"&AE5,Marketplace!$AJ$3:$AJ$423,\"Confident\",Marketplace!$K$3:$K$423,\"Operational\",Marketplace!$AG$3:$AG$423,\"2019\",Marketplace!$J$3:$J$423,\"Utility/IPP\"),INDIRECT(AE$4&\"!E40\"))","v":0},{"$f":"IF(INDIRECT(AF$4&\"!E40\")=\"NA\",SUMIFS(Marketplace!$Q$3:$Q$423,Marketplace!$C$3:$C$423,\"=\"&AF5,Marketplace!$AJ$3:$AJ$423,\"Confident\",Marketplace!$K$3:$K$423,\"Planned\",Marketplace!$J$3:$J$423,\"Utility/IPP\")+SUMIFS(Marketplace!$Q$3:$Q$423,Marketplace!$C$3:$C$423,\"=\"&AF5,Marketplace!$AJ$3:$AJ$423,\"Confident\",Marketplace!$K$3:$K$423,\"Under development\",Marketplace!$J$3:$J$423,\"Utility/IPP\")+SUMIFS(Marketplace!$Q$3:$Q$423,Marketplace!$C$3:$C$423,\"=\"&AF5,Marketplace!$AJ$3:$AJ$423,\"Confident\",Marketplace!$K$3:$K$423,\"Operational\",Marketplace!$AG$3:$AG$423,\"2019\",Marketplace!$J$3:$J$423,\"Utility/IPP\"),INDIRECT(AF$4&\"!E40\"))","v":0},{"$f":"IF(INDIRECT(AG$4&\"!E40\")=\"NA\",SUMIFS(Marketplace!$Q$3:$Q$423,Marketplace!$C$3:$C$423,\"=\"&AG5,Marketplace!$AJ$3:$AJ$423,\"Confident\",Marketplace!$K$3:$K$423,\"Planned\",Marketplace!$J$3:$J$423,\"Utility/IPP\")+SUMIFS(Marketplace!$Q$3:$Q$423,Marketplace!$C$3:$C$423,\"=\"&AG5,Marketplace!$AJ$3:$AJ$423,\"Confident\",Marketplace!$K$3:$K$423,\"Under development\",Marketplace!$J$3:$J$423,\"Utility/IPP\")+SUMIFS(Marketplace!$Q$3:$Q$423,Marketplace!$C$3:$C$423,\"=\"&AG5,Marketplace!$AJ$3:$AJ$423,\"Confident\",Marketplace!$K$3:$K$423,\"Operational\",Marketplace!$AG$3:$AG$423,\"2019\",Marketplace!$J$3:$J$423,\"Utility/IPP\"),INDIRECT(AG$4&\"!E40\"))","v":60000},{"$f":"IF(INDIRECT(AH$4&\"!E40\")=\"NA\",SUMIFS(Marketplace!$Q$3:$Q$423,Marketplace!$C$3:$C$423,\"=\"&AH5,Marketplace!$AJ$3:$AJ$423,\"Confident\",Marketplace!$K$3:$K$423,\"Planned\",Marketplace!$J$3:$J$423,\"Utility/IPP\")+SUMIFS(Marketplace!$Q$3:$Q$423,Marketplace!$C$3:$C$423,\"=\"&AH5,Marketplace!$AJ$3:$AJ$423,\"Confident\",Marketplace!$K$3:$K$423,\"Under development\",Marketplace!$J$3:$J$423,\"Utility/IPP\")+SUMIFS(Marketplace!$Q$3:$Q$423,Marketplace!$C$3:$C$423,\"=\"&AH5,Marketplace!$AJ$3:$AJ$423,\"Confident\",Marketplace!$K$3:$K$423,\"Operational\",Marketplace!$AG$3:$AG$423,\"2019\",Marketplace!$J$3:$J$423,\"Utility/IPP\"),INDIRECT(AH$4&\"!E40\"))","v":73312.504239999995},{"$f":"IF(INDIRECT(AI$4&\"!E40\")=\"NA\",Marketplace!Q273+Marketplace!Q362,INDIRECT(AI$4&\"!E40\"))","v":58038.504000000001},{"$f":"IF(INDIRECT(AJ$4&\"!E40\")=\"NA\",SUMIFS(Marketplace!$Q$3:$Q$423,Marketplace!$C$3:$C$423,\"=\"&AJ5,Marketplace!$AJ$3:$AJ$423,\"Confident\",Marketplace!$K$3:$K$423,\"Planned\",Marketplace!$J$3:$J$423,\"Utility/IPP\")+SUMIFS(Marketplace!$Q$3:$Q$423,Marketplace!$C$3:$C$423,\"=\"&AJ5,Marketplace!$AJ$3:$AJ$423,\"Confident\",Marketplace!$K$3:$K$423,\"Under development\",Marketplace!$J$3:$J$423,\"Utility/IPP\")+SUMIFS(Marketplace!$Q$3:$Q$423,Marketplace!$C$3:$C$423,\"=\"&AJ5,Marketplace!$AJ$3:$AJ$423,\"Confident\",Marketplace!$K$3:$K$423,\"Operational\",Marketplace!$AG$3:$AG$423,\"2019\",Marketplace!$J$3:$J$423,\"Utility/IPP\"),INDIRECT(AJ$4&\"!E40\"))","v":1611.8400000000001},{"$f":"IF(INDIRECT(AK$4&\"!E40\")=\"NA\",SUMIFS(Marketplace!$Q$3:$Q$423,Marketplace!$C$3:$C$423,\"=\"&AK5,Marketplace!$AJ$3:$AJ$423,\"Confident\",Marketplace!$K$3:$K$423,\"Planned\",Marketplace!$J$3:$J$423,\"Utility/IPP\")+SUMIFS(Marketplace!$Q$3:$Q$423,Marketplace!$C$3:$C$423,\"=\"&AK5,Marketplace!$AJ$3:$AJ$423,\"Confident\",Marketplace!$K$3:$K$423,\"Under development\",Marketplace!$J$3:$J$423,\"Utility/IPP\")+SUMIFS(Marketplace!$Q$3:$Q$423,Marketplace!$C$3:$C$423,\"=\"&AK5,Marketplace!$AJ$3:$AJ$423,\"Confident\",Marketplace!$K$3:$K$423,\"Operational\",Marketplace!$AG$3:$AG$423,\"2019\",Marketplace!$J$3:$J$423,\"Utility/IPP\"),INDIRECT(AK$4&\"!E40\"))","v":0},{"$f":"IF(INDIRECT(AL$4&\"!E40\")=\"NA\",SUMIFS(Marketplace!$Q$3:$Q$423,Marketplace!$C$3:$C$423,\"=\"&AL5,Marketplace!$AJ$3:$AJ$423,\"Confident\",Marketplace!$K$3:$K$423,\"Planned\",Marketplace!$J$3:$J$423,\"Utility/IPP\")+SUMIFS(Marketplace!$Q$3:$Q$423,Marketplace!$C$3:$C$423,\"=\"&AL5,Marketplace!$AJ$3:$AJ$423,\"Confident\",Marketplace!$K$3:$K$423,\"Under development\",Marketplace!$J$3:$J$423,\"Utility/IPP\")+SUMIFS(Marketplace!$Q$3:$Q$423,Marketplace!$C$3:$C$423,\"=\"&AL5,Marketplace!$AJ$3:$AJ$423,\"Confident\",Marketplace!$K$3:$K$423,\"Operational\",Marketplace!$AG$3:$AG$423,\"2019\",Marketplace!$J$3:$J$423,\"Utility/IPP\"),INDIRECT(AL$4&\"!E40\"))","v":2225.04},{"$f":"IF(INDIRECT(AM$4&\"!E40\")=\"NA\",SUMIFS(Marketplace!$Q$3:$Q$423,Marketplace!$C$3:$C$423,\"=\"&AM5,Marketplace!$AJ$3:$AJ$423,\"Confident\",Marketplace!$K$3:$K$423,\"Planned\",Marketplace!$J$3:$J$423,\"Utility/IPP\")+SUMIFS(Marketplace!$Q$3:$Q$423,Marketplace!$C$3:$C$423,\"=\"&AM5,Marketplace!$AJ$3:$AJ$423,\"Confident\",Marketplace!$K$3:$K$423,\"Under development\",Marketplace!$J$3:$J$423,\"Utility/IPP\")+SUMIFS(Marketplace!$Q$3:$Q$423,Marketplace!$C$3:$C$423,\"=\"&AM5,Marketplace!$AJ$3:$AJ$423,\"Confident\",Marketplace!$K$3:$K$423,\"Operational\",Marketplace!$AG$3:$AG$423,\"2019\",Marketplace!$J$3:$J$423,\"Utility/IPP\"),INDIRECT(AM$4&\"!E40\"))","v":20148}]
[null,null,null,"Planned RE generation data source (survey or project database)",null,null,null,{"$f":"IF(INDIRECT(H$4&\"!E40\")=\"NA\",\"Database\",\"Survey\")","v":"Database"},{"$f":"IF(INDIRECT(I$4&\"!E40\")=\"NA\",\"Database\",\"Survey\")","v":"Database"},"Database",{"$f":"IF(INDIRECT(K$4&\"!E40\")=\"NA\",\"Database\",\"Survey\")","v":"Database"},"Survey","Survey","Database","Database","Database","Database","Database","Survey","Database","Survey","Database","Survey","Database","Database","Survey","Database","Database","Database","Database","Database","Database","Survey","Database","Database","Survey","Database","Database","Database"]
[null,null,3,"Is climate resilience incorporated in your IRP or national policy?",null,{"$f":"G40*$G$8","v":9.9999999999999992E-2},{"$f":"1/3","v":0.33333333333333331},{"$f":"INDIRECT(H$4&\"!E41\")","v":"NA"},{"$f":"INDIRECT(I$4&\"!E41\")","v":"NA"},"NA",{"$f":"INDIRECT(K$4&\"!E41\")","v":"Yes"},"No","No","Yes","Yes","NA","Yes","NA","Yes","Yes","Yes","Yes","Yes","NA","No","Yes","NA","No","NA","NA","NA","NA","No","NA","Yes","No","No","Yes","NA"]
[]
[null,4,null,"Electric Mobility",null,{"$f":"SUM(F43:F44)","v":0.1},0.1,{"$f":"IF(H43=\"Yes\",5*$G$43,0) + IF(H44=\"Yes\",5*$G$44,0)","v":0},0,0,{"$f":"IF(K43=\"Yes\",5*$G$43,0) + IF(K44=\"Yes\",5*$G$44,0)","v":0},2.5,0,0,0,0,{"$f":"IF(Q43=\"Yes\",5*$G$43,0) + IF(Q44=\"Yes\",5*$G$44,0)","v":5},{"$f":"IF(R43=\"Yes\",5*$G$43,0) + IF(R44=\"Yes\",5*$G$44,0)","v":0},0,2.5,0,0,5,0,0,2.5,0,0,0,0,0,0,2.5,0,0,0,0,0,0]
[null,null,1,"Does your country have policies in place or draft legislation to promote the uptake of electric mobility?",null,{"$f":"$G$42*G43","v":0.05},{"$f":"1/COUNT($C$43:$C$44)","v":0.5},{"$f":"INDIRECT(H$4&\"!E45\")","v":"NA"},{"$f":"INDIRECT(I$4&\"!E45\")","v":"NA"},"NA",{"$f":"INDIRECT(K$4&\"!E45\")","v":"No"},"Yes","No","No","No","NA","Yes","NA","No","Yes","No","No","Yes","NA","No","Yes","NA","No","No","NA","NA","NA","Yes","NA","No","No","No","No","NA"]
[null,null,2,"Does your country have specific targets for the uptake of electric vehicles?",null,{"$f":"$G$42*G44","v":0.05},{"$f":"1/COUNT($C$43:$C$44)","v":0.5},{"$f":"INDIRECT(H$4&\"!E46\")","v":"NA"},{"$f":"INDIRECT(I$4&\"!E46\")","v":"NA"},"NA",{"$f":"INDIRECT(K$4&\"!E46\")","v":"No"},"No","No","No","No","NA","Yes","NA","No","No","No","No","Yes","NA","No","No","NA","No","No","NA","NA","NA","No","NA","No","No","No","No","NA"]
[]
[]
[null,null,null,"Descriptive CREF Index Survey"]
[null,null,null,"Enabling Environment for Renewable Energy (RE) Investments"]
[null,null,null,"Renewable energy strategy"]
[null,null,null,"Which of the rollowing renewable generation options is included in your country's strategic plan to develop renewable energy?\n- Solar PV\n- Offshore wind\n- Biomass\n- Waste to energy\n- Hydro\n-Geothermal\n- Other",null,null,null,{"$f":"INDIRECT(H$4&\"!E55\")","v":"NA"},{"$f":"INDIRECT(I$4&\"!E55\")","v":"Solar PV, Onshore wind, WTE"},"NA",{"$f":"INDIRECT(K$4&\"!E55\")","v":"Solar PV,WTE"},"Solar PV, Onshore wind, Offshore wind, biomass, WTE, energy storage","Solar PV, offshore wind, biomass, WTE","Solar PV, Biomass, Hydro","Solar PV, Onshore wind, Geothermal, ocean thermal energy conversion","NA","Solar PV, onshore wind, WTE","NA","Solar PV, Onshore wind, WTE","Solar, hydro, geothermal","Solar PV, onshore wind, biomass, WTE, hydro","Solar PV, onshore wind, WTE, geothermal, biomass","Solar PV,  Onshore wind, offshore wind, biomass, hydro, geothermal, WTE","NA","Solar PV, onshore wind, biomass, hydro","Solar PV, Onshore Wind, Offshore Wind, Biomass, WTE, Hydro","NA","Solar PV, onshore sind, WTE, geothermal","Solar PV, onshore wind, WTE, geothermal","NA","NA","NA","Solar PV, onshore wind, geothermal","Solar PV, Onshore Wind, Hydro, Geothermal","Solar PV, Onshore wind, WTE, Geothermal","Solar PV","Solar PV, Onshore wind, WTE","Solar PV, onshore wind, offshore wind, biomass, WTE","Solar PV, onshore wind, WTE"]
[null,null,null,"What is the target and target year?",null,null,null,{"$f":"INDIRECT(H$4&\"!E56\")","v":"NA"},{"$f":"INDIRECT(I$4&\"!E56\")","v":"20% by 2020"},"NA",{"$f":"INDIRECT(K$4&\"!E56\")","v":"30% by 2030"},"100% by 2030","30% of electricity to be generated by renewable energy by 2020","Reduce the country's dependence on imported fuels by 50 percent by 2020..by increasing the production of modern energy carriers from domestic renewable energy resources, coupled with improving energy efficiency and conservation.","50% by 2030","NA","• 70% of total electricity generation to come from renewable sources by 2037;                                   • total peak GHG emissions for the Cayman Islands by 2020 while not exceeding 2014 per capita emissions levels (approx. 12.3 tCO2e). • 4.8 tCO2e of GHG emissions per capita by 2030.","NA","65MW wind by 2025 and 55MW PV by 2028","100% by 2030","15% renewable energy by 2021","Grenada commits to reducing its Greenhouse gas emissions by 30% of 2010 by 2025, with an indicative reduction of 40% of 2010 by 2030.","By 2020: 50% met by renewable energy sources By 2030: Energy independence","NA"," ","50% Energy by 2030 - revised October 2018","NA"," ","100% renewable electricity by 2025","NA","NA","NA","35% by 2025 and 50% 2030","60% by 2020","100% generation by 2020",0,"10% of electricity generation by 2021."," ","Installed capacity of 50% of peak demand by 2025"]
[null,null,null,"What is the current breakdown of your country's energy mix?",null,null,null,{"$f":"INDIRECT(H$4&\"!E57\")","v":"NA"},{"$f":"INDIRECT(I$4&\"!E57\")","v":" "},"NA",{"$f":"INDIRECT(K$4&\"!E57\")","v":"<1% Renewable, >99% fossil fuel"},"HFO 37%, DIESEL 18%, GASOLINE 17%, KEROSINE 7%, LPG 2%, SUGAR CANE BACASSE 3%, NATURAL GAS 2%, ELECTRICITY 14%, SOLAR THERMAL < 1%","Power Generation 90% - heavy fuel oil/fossil fuel 10% - renewables Transportation 99% fossil fuel (gasoline/diesel) 1% electric","54% Renewable Energy 37% Imported Energy (From Mexico) 9% Non-Renewable Energy","Carribean part of the Netherlands (excluding Sint Maarten, Curaçao and Aruba): 70% oil, 20% wind, 10% solar.","NA","2.5% Solar, the rest diesel.","NA","28% renewable, 72% fuel","Diesel fuel 70% Hydro 30%","12% hydro 2% wind 1% biomass 1% fv","Fossil Fuel 98% Solar Energy 2%","Fossils : 1 598 GWh - Coal : 18% - Butane : 1,6% - FOD : 1,6% - HFuel : 21,7% - Gasoline : 11,6% - Diesel : 22,3% - Jet fuel : 17,1% Renewables : 568 Gwh - Bagasse : 0,6% - Geothermal : 1,1% - Hydro : 0,4% - Wind (on shore) : 0,6% - PV : 1% - Biomasse/biogaz : 0,1% - Solar heaters : 0,9% - Steam (process) : 1,2%","NA","85% thermal, 15% Renewable mainly hydro","10-14% RE","NA"," ","4-10% RE (wind and solar)","NA","NA","NA","88.4 MW -FF 4MW -Solar","80-81% Diesel 15-17% Hydro 2% Solar","90% deisel,99.8% diesel, 0.1% solar, 0.1% wind","40% hydro and 58% hydro 2 % solar","100% electricity generation from fossil fuels (natural gas)","Yes","Utility scale solar 1.5%, customer solar 4%"]
[null,null,null,"Utilities"]
[null,null,null,"On average, how long does it take for the power utility to get investments in RE projects approved by the regulatory authority 9or the relevant entity) for recovery through tariffs?",null,null,null,{"$f":"INDIRECT(H$4&\"!E59\")","v":"NA"},{"$f":"INDIRECT(I$4&\"!E59\")","v":" "},"NA",{"$f":"INDIRECT(K$4&\"!E59\")","v":0},"6 months - 3 years","As Bermuda is in the process of going through its first utility scale RE project development with a PPA which needs to be approved by the regulatory authority we can not provide this figure.","Direct capital investments made by the Utility should be recoverable in any Annual Tariff Period - on a year-to-year.","approval takes place before the investment. so there is no lag.","NA","NA","NA"," "," ","6-12 months","Regulator has recently started operations","It can take years: 5 to over 10","NA"," ","2-3 years","NA"," ","It does not very long once the Government approve. On an average it can take a year or less.","NA","NA","NA","There are no specific laws and regulations to empower the regulator to impose such on the utility","Approval not required","18 months",0,"There have been no major RE projects that have been started by the utility, therefore, this has not been considered. Notwithstanding, approval by the regulator, of investment in RE or any traditional capital projects, take place during a Price Review. This is statutorily set to happen every 5 years.","for utility scale: 3 years and counting","2 years"]
[null,null,null,"IPPs"]
[null,null,null,"How long did it take to get your off-take agreement?",null,null,null,{"$f":"INDIRECT(H$4&\"!E61\")","v":"NA"},{"$f":"INDIRECT(I$4&\"!E61\")","v":" "},"NA",{"$f":"INDIRECT(K$4&\"!E61\")","v":0},"3 months","The first is still in the process of being finalised.","Timelines vary significantly based on project particulars.","RE producer is usually also the distributor, so it is sure the energy can be sold.","NA","NA","NA","2-3 months"," ","2 months - 1 yr","Regulations not yet published"," ","NA"," "," ","NA"," "," ","NA","NA","NA","There are regulations in force as yet to govern this"," ","18 months",0,"There is no arrangement for purchase of RE by the utility at this time, therefore, this is not applicable.","There is no policy in place for IPP/PPA"," "]
[null,null,null,"Distributed Generation"]
[null,null,null,"What is the number of exisiting distributed scale RE systems in 2018?",null,null,null,{"$f":"INDIRECT(H$4&\"!E63\")","v":"NA"},{"$f":"INDIRECT(I$4&\"!E63\")","v":105},"NA",{"$f":"INDIRECT(K$4&\"!E63\")","v":0},"20MW","1. 549 (Oct-14-19) or 477 (end of 2018)","NA","NA","NA",333,"NA","Approx 780"," ","Hundreds of projects through net metering. 90 MW of typically less than 1 MW projects","2693kw","147 MW of REN vs 422 of Fossil centralized generation","NA"," ",500,"NA"," "," ","NA","NA","NA",99," "," ","5.5MW"," ","9 - only utility distributed system"," "]
[null,null,null,"What is the total installed capacity from renewable distributed generation in your country?",null,null,null,{"$f":"INDIRECT(H$4&\"!E64\")","v":"NA"},{"$f":"INDIRECT(I$4&\"!E64\")","v":"1.5MW"},"NA",{"$f":"INDIRECT(K$4&\"!E64\")","v":0},"24MW","5.095 MW (Oct-14-19) or 4.066 MW (end of 2018)","Approximate 4 MW with 2 MW on grid","18 MW (Carribean Netherlands only)","NA","10.183MW","NA","15MW in small scale PV owned by customers"," ","90-120","3001kw","147 MW of REN vs 422 of Fossil centralized generation","NA","Less than 0.5MW","30MW in 2018 (estimated)","NA"," "," ","NA","NA","NA","1.06285 MW"," ","2.5MW",0," ","1MW"," "]
[null,null,null,"What was the total generation from exisitng distributed scale RE systems in 2018?",null,null,null,{"$f":"INDIRECT(H$4&\"!E65\")","v":"NA"},{"$f":"INDIRECT(I$4&\"!E65\")","v":" "},"NA",{"$f":"INDIRECT(K$4&\"!E65\")","v":0},"18-26GWh","unkown","Not Available",50000,"NA","16.1GWh","NA","The actual 15 MW in small scale PV, generates approximately 24 GWh a year of which approximately 3 GWh is sold to the grid and the remainder is for own consumption."," ",135000,3302285,"362 GWh from REN vs 1 342 GWh form centralized fossil power generation","NA"," ",66000,"NA"," "," ","NA","NA","NA","1663.2 MWh"," "," ",0," ","500,000 kWh"," "]
[]
[null,null,null,"Existing Renewable Generation"]
[null,null,null,"Existing Utility-Scale Renewable Energy Projects"]
[null,null,null,"What was the total electricity generated in 2018 (MWh)?",null,null,null,{"$f":"INDIRECT(H$4&\"!E68\")","v":"NA"},{"$f":"INDIRECT(I$4&\"!E68\")","v":2},"NA",{"$f":"INDIRECT(K$4&\"!E68\")","v":0},"One: 10MW Trents Solar PV Farm",0,7," ",0,1,"NA","Wind 46.5 MW (3 projects) and first 15 MW PV utility scale project is in tendering phase.",0,"2 in operation, 2 in construction",3,"147 MW of REN vs 422 of Fossil centralized generation","NA"," ","6 (Wigton 1, Wigton 2, Wigton 3, BMR, Content & Eight Rivers) JPS Hydro Excluded","NA"," "," ","NA","NA","NA",1," ",3,"500kWp"," "," ","NA"]
[null,null,null,"What was the total electricity generated from utility-scale RE projects in 2018 (MWh)?",null,null,null,{"$f":"INDIRECT(H$4&\"!E69\")","v":"NA"},{"$f":"INDIRECT(I$4&\"!E69\")","v":"NA"},"NA",{"$f":"INDIRECT(K$4&\"!E69\")","v":0},"970389-1038000",614461.78500000003,631093,120000,0,653700,"NA",865865.96299999999,65411,107000,230947.23199999999,1704000,"NA",1057110.5,4355502,"NA","NA","NA","NA","NA","NA",39928,"NA","NA",0,8463413,"NA","NA"]
[null,null,null,"What was the total electricity generated from utility-scale RE projects in 2018 (MWh)?",null,null,null,{"$f":"INDIRECT(H$4&\"!E70\")","v":"NA"},{"$f":"INDIRECT(I$4&\"!E70\")","v":3300},"NA",{"$f":"INDIRECT(K$4&\"!E70\")","v":0},18000,0,342039,50000,"NA",9400,"NA",237760.9,18315.080000000002,17120,1656.2860000000001,362000,"NA",170897.75,522660.24,109200.00000000001,"NA","NA","NA","NA","NA",5000,25612.880000000001,"NA",0,0,2417.6424795399998,"NA"]
[null,null,null,"Please provide as much information as possible for exisitng RE projects in the box below as:\n- Project Name\n- Developer\n- Offtaker\n- Renewable Energy Technology Type\n- Start of Commercial Operation (Year)\n- Estimated Capacity Factor (in %) OR Estimated Annual Production (in MWh)\n- Installed Capacity (MW)\n- Length of PPA ",null,null,null,{"$f":"INDIRECT(H$4&\"!E71\")","v":"NA"},{"$f":"INDIRECT(I$4&\"!E71\")","v":"Project Name: 10 MegaWatt Solar Project Developer: PV Energy Offtaker: APUA RE Technology Type: Solar Start of Commercial Operation: 2018 Estimated Capacity Factor: 5475 MWh Installed Capacity: 3 MW Length of PPA: N/A"},"NA",{"$f":"INDIRECT(K$4&\"!E71\")","v":0},"Project Name: Trents PV - Developer - BLPC - Offtaker- BLPC - Renewable Energy Technology Type - Solar PV - Start of Commercial Operation (Year)- 2016 - Estimated Capacity Factor (in %) - 20% est. OR Estimated Annual Production (in MWh) - Installed Capacity (MW) - 10MW - Length of PPA - N/A, rate-based BLPC project","NA","NA","NA",0,"Lake Destiny, BMR, 5 MW","NA","Project Name: Windfarm Playa Canoa; Developer . : Nu Capital Offtaker : Aqualectra N.V. RE tecnology : Wind Start year : 2012 Estimated CF : 50% or 65 GWh/year Installed capacity : 15 MW Length PPA . : 20 years Project Name: Windfarm Tera Cora 1; Developer . : Nu Capital Offtaker : Aqualectra N.V. RE tecnology : Wind Start year : 2012 Estimated CF : 50% or 65 GWh/year Installed capacity : 15 MW Length PPA . : 20 years Project Name: Windfarm Tera Cora 2; Developer . : Nu Capital Offtaker : Aqualectra N.V. RE tecnology : Wind Start year : 2017 Estimated CF : 70% or 103 GWh/year Installed capacity : 16.5 MW Length PPA . : 20 years"," "," "," "," ","NA"," ","Project Name Developer Offtaker RE Technology Type Commercial Operations Year Capacity Factor % Installed Capacity (MW) Length of PPA JPS' Munro 3MW Windfarm JPS JPS Wind 2010 15% 3 20 Wigton Windfarm Phase 1 Wigton Windfarm Limited JPS Wind 2004 30% 20 20 Wigton Windfarm Phase 2 Wigton Windfarm Limited JPS Wind 2010 35% 18 20 Wigton Windfarm Phase 3 Wigton Windfarm Limited JPS Wind 2016 24% 24 20 BMR Jamaica Wind Ltd BMR Energy/ acquired in 2016 by Virgin Investments JPS Wind 2016 41% 36.3 20 Content Solar, Limited WRB Energy JPS Solar 2016 23% 20 20 Eight Rivers Energy Company (EREC) Neoen, Rekamniar/MPC Capital JPS Solar 2019 30% 37 20","NA","250 kW Government of Monstarrat"," ","NA","NA","NA","1.Name: Solar Demo PV Project Contractor -FDL-High Peaks -Owner-Government of Saint Lucia Offtaker -Lucelec RE Technology type - Solar PV Start of commercial year -2019 Annual production -396 MWh Installed capacity - 0.2 MW Length of PPA- TBD 2. Project name : Solar carport project Contractor -Gearing up limited Owner -Government of Saint Lucia Offtaker -Lucelec RET- Solar PV Start of commercial year - 2019 Estimated annual production: 114.84 MWh Installed Capacity - 58kW Length of PPA-TBD 3. Project Name - Renewable Energy Sector Development Project Developer: Government of Saint Lucia Offtaker -Lucelec RET -Geothermal Start of Commercial Operation: 2025 Estimated capacity - Installed capacity (projected) - 30 MW Length of PPA - TBD"," ","SKELEC solar farm - Developer:SKELEC; Offtaker: SKELEC; Year: 2015; Technology: Solar PV; Capacity: 0.5 MW SCASPA solar Farm - Developer: SCASPA; Offtaker: SKELEC; Year: 2013; Technology: Solar PV; Capacity: 0.75 MW WinWatt Wind Farm - Developer: WindWatt; Offtaker: NEVLEC; Technology: Wind; Capacity: 2.2 MW",0," ","Our proposed 1 MW Utility scale PV project is still waiting for Govt. Planning Approval","NA"]
[]
[null,null,null,"Planned Renewable Generation"]
[null,null,null,"Potential Utility-Scale Renewable Energy Projects"]
[null,null,null,"How much installed capacity from RE is expected to come online in the next 3 years?",null,null,null,{"$f":"INDIRECT(H$4&\"!E74\")","v":"NA"},{"$f":"INDIRECT(I$4&\"!E74\")","v":" "},"NA",{"$f":"INDIRECT(K$4&\"!E74\")","v":0},96,"6MW","40MW","NA",0,"NA","NA","22MW wind and 15MW PV","Geothermal 7MW","350MW"," ",158,"NA"," ","150-330MW","NA","750 kW PV within the next two years"," ","NA","NA","NA","22MW"," ","40MW","2MW","130MW"," ","NA"]
[null,null,null,"How much renewable energy generation is expected to come online in the next 3 years?",null,null,null,{"$f":"INDIRECT(H$4&\"!E75\")","v":"NA"},{"$f":"INDIRECT(I$4&\"!E75\")","v":0},"NA",{"$f":"INDIRECT(K$4&\"!E75\")","v":0},52480,"6MW","NA","NA","NA","NA","NA",160000,"NA",1200000,"NA",612000,"NA","NA",490339.76,"NA","NA","NA","NA","NA","NA",60000,"NA","NA","0.8MW","Unkown at this time","NA","NA"]
[null,null,null,"Please provide as much information as possible for RE projects currently under development in the box below as:\n- Project Name\n- Developer\n- Offtaker\n- Renewable Energy Technology Type\n- Start of Commercial Operation (Year)\n- Estimated Capacity Factor (in %) OR Estimated Annual Production (in MWh)\n- Installed Capacity (MW)\n- Length of PPA ",null,null,null,{"$f":"INDIRECT(H$4&\"!E76\")","v":"NA"},{"$f":"INDIRECT(I$4&\"!E76\")","v":" "},"NA",{"$f":"INDIRECT(K$4&\"!E76\")","v":0},0,"SAME PROJECT AS QUESTION Bermuda Airport Solar Project Saturn Power Inc. Bermuda Electric Light Company Ltd. (BELCo) Solar Photo-voltaic under construction 2020 ??? 6MW 20 Years","Project Name: BECOL 30 MW Solar Farm Developer: Belize Electric Company Limited (BECOL) Off taker: Belize Electricity Limited (BEL) RE Technology: Solar PV Status: Feasibility Expected Commercial Operation (Year): 2021 Estimated Capacity Factor (%) or Annual Production (in MWh): not available Installed Capacity 30MW Length of PPA: To be determined Project Name: BAPCOL 10 MW Solar Farm Developer: Blair Athol Power Company Limited (BAPCOL) Off taker: Belize Electricity Limited (BEL) RE Technology: Solar PV Status: Feasibility Expected Commercial Operation (Year): 2021 Estimated Capacity Factor (%) or Annual Production (in MWh): not available Installed Capacity 10MW Length of PPA: To be determined","NA",0,"NA","NA"," "," "," "," "," ","NA"," ","None-awaiting publishing of IRP","NA"," "," ","NA","NA","NA","Project Name : Developer : Masdar Offtaker: Lucelec Renewable energy technology type: Solar PV Status as of July 2019: prefeasibility Expected commercial operation: 2020 Estimated Annual Production:900 MWh Installed Capacity: (planned) 500-800kW Length of PPA:TBD(legislative framework not yet in place"," ","Leclanche 35 MW solar farm with 44 MWh of battery storage(PPA signed) Northstar 5 MW wind farm with 2 MW battery storage ((PPA being negotiated)",0,"None currently exists"," ","NA"]
[]
[null,null,null,"Electric Mobility"]
[null,null,null,"What is the target and target year?",null,null,null,{"$f":"INDIRECT(H$4&\"!E78\")","v":"NA"},{"$f":"INDIRECT(I$4&\"!E78\")","v":" "},"NA",{"$f":"INDIRECT(K$4&\"!E78\")","v":0},0,"NA","NA","NA",0,"NA","NA"," "," "," "," ","30% of EVs in circulating vehicles by 2030 (currently 220 000 vehicles in Guadeloupe)","NA"," ",0,"NA"," "," ","NA","NA","NA"," "," ",0,0," "," ","NA"]
[null,null,null,"How many electric cars are currently in your country?",null,null,null,{"$f":"INDIRECT(H$4&\"!E79\")","v":"NA"},{"$f":"INDIRECT(I$4&\"!E79\")","v":" "},"NA",{"$f":"INDIRECT(K$4&\"!E79\")","v":0},"Approximately 400",240,"Less than 5 known electric vehicles, including hybrids.","NA",0,120,"NA","Approx 50"," "," ","About 7","<1%","NA"," ","<30","NA",1," ","NA","NA","NA","Government of Saint Lucia -owns 3 full EVs Private sector - data being tallied"," ","<5",0,"<50",2,"NA"]
[null,null,null,"How many charging stations are in your country?",null,null,null,{"$f":"INDIRECT(H$4&\"!E80\")","v":"NA"},{"$f":"INDIRECT(I$4&\"!E80\")","v":" "},"NA",{"$f":"INDIRECT(K$4&\"!E80\")","v":0},"50-119","20 (estimate)","No publicly available charging stations","NA",0,"Approximately 14","NA","None, charging is done at home or at the office. Public charging stations are being developed"," "," ",2,"Estimated: 50","NA"," ","2 - Solar Charging by JPS - available to the public free 1 - AC Marriott (Private for guests) 1 - IADB local Office (Private and Demonstration)","NA",1," ","NA","NA","NA",3," "," ",0,"<5",1,"NA"]
[]
[]
[null,null,null,"Improvement Year-on-Year",null,null,null,null,{"$f":"I5","v":"Antigua & Barbuda"},{"$f":"J5","v":"Aruba"},"The Bahamas","Barbados","Bermuda","Belize","Bonaire","British Virgin Islands","Cayman Islands","Cuba","Curaҫao","Dominica","Dominican Republic","Grenada","Guadeloupe","Guyana ","Haiti","Jamaica","Martinique","Montserrat","Nevis ","Puerto Rico","Saint-Martin","Sint Maarten","St. Lucia","St. Vincent and the Grenadines","St. Kitts","Suriname","Trinidad and Tobago","Turks and Caicos Islands"]
[null,null,null,"Improvement Year-on-Year",null,null,1]
[null,null,null,"Enabling environment for renewable energy investments ","Change",null,{"$f":"G8","v":0.3},{"$f":"INDIRECT(H$4&\"!E84\")","v":-1.875},{"$f":"INDIRECT(I$4&\"!E84\")","v":0.3125},-3.6458333333333335,{"$f":"INDIRECT(K$4&\"!E84\")","v":-1.1770833333333335},-0.20833333333333348,1.3541666666666665,0.234375,-0.13020833333333393,-4.375,-8.0625000000000391E-2,0,-0.3125,-0.234375,-1.8802083333333339,1.171875,0.80729166666666652,0,0.65625,0.11979166666666652,-3.3333333333333335,0.15625,-1.1458333333333335,-2.8125,0,0,-2.734375,-3.59375,-0.11979166666666674,0.46875,-1.328125,-0.98958333333333348,-2.953125]
[null,null,null,"2012 Score","0 to 5",null,null,{"$f":"INDIRECT(H$4&\"!E85\")","v":2.3333333333333335},{"$f":"INDIRECT(I$4&\"!E85\")","v":1.6666666666666665},1.9999999999999998,{"$f":"INDIRECT(K$4&\"!E85\")","v":1},3.1666666666666665,2.333333333333333,2.3333333333333335,0,1,3.33,0,"NA",2.833333333333333,2.333333333333333,2.333333333333333,"NA",0,0,3.6666666666666665,3,1.67,2.3333333333333335,0,0,0,2.33,3,1.67,0,2.33,2,"NA"]
[null,null,null,"2013 Score","0 to 5",null,null,{"$f":"INDIRECT(H$4&\"!E86\")","v":2.3333333333333335},{"$f":"INDIRECT(I$4&\"!E86\")","v":1.6666666666666665},1.9999999999999998,{"$f":"INDIRECT(K$4&\"!E86\")","v":1},3.1666666666666665,3,2.3333333333333335,1.9999999999999998,1,3.33,0,3,2.833333333333333,2.333333333333333,2.333333333333333,4,1.6666666666666665,1.6666666666666665,3.6666666666666665,4,1.6666666666666665,2.3333333333333335,3.333333333333333,0,0,2.333333333333333,3,1.6666666666666665,0,2.3333333333333335,1.9999999999999998,"NA"]
[null,null,null,"2014 Score","0 to 5",null,null,{"$f":"INDIRECT(H$4&\"!E87\")","v":2.3333333333333335},{"$f":"INDIRECT(I$4&\"!E87\")","v":2},4,{"$f":"INDIRECT(K$4&\"!E87\")","v":1},3.833333333333333,3,3,1.9999999999999998,1,3.33,0,4,2.833333333333333,2.333333333333333,2.333333333333333,4.333333333333333,1.6666666666666665,1.6666666666666665,3.6666666666666665,4.333333333333333,1.6666666666666665,2.6666666666666665,2,0,0,2.333333333333333,3,2.6666666666666665,0,2.333333333333333,1.9999999999999998,2]
[null,null,null,"2015 Score","0 to 5",null,null,{"$f":"INDIRECT(H$4&\"!E88\")","v":2.3333333333333335},{"$f":"INDIRECT(I$4&\"!E88\")","v":2},4,{"$f":"INDIRECT(K$4&\"!E88\")","v":1.3333333333333333},3.833333333333333,3,3.333333333333333,1.9999999999999998,2,3.33,1,4,2.833333333333333,2.333333333333333,2.6666666666666665,4.333333333333333,1.6666666666666665,1.6666666666666665,3.6666666666666665,4.333333333333333,1.6666666666666665,2.6666666666666665,2,0,0,2.333333333333333,3,2.6666666666666665,0,3,1.9999999999999998,2]
[null,null,null,"2016 Score","0 to 5",null,null,{"$f":"INDIRECT(H$4&\"!E89\")","v":1.3333333333333333},{"$f":"INDIRECT(I$4&\"!E89\")","v":3.6666666666666665},2.6666666666666665,{"$f":"INDIRECT(K$4&\"!E89\")","v":4.333333333333333},2.6666666666666665,4.333333333333333,2.6666666666666665,2.6666666666666665,1.3333333333333333,4.33,0,5,5,4.333333333333333,5,5,3.6666666666666665,3.6666666666666665,4.333333333333333,5,0,5,3.6666666666666665,0,0,1.3333333333333333,4.333333333333333,1.3333333333333333,0,1.3333333333333333,1.3333333333333333,3.6666666666666665]
[null,null,null,"2017 Score","0 to 5",null,null,{"$f":"INDIRECT(H$4&\"!E90\")","v":1.875},{"$f":"INDIRECT(I$4&\"!E90\")","v":4.0625},3.6458333333333335,{"$f":"INDIRECT(K$4&\"!E90\")","v":3.9583333333333335},3.3333333333333335,3.3333333333333335,3.125,4.5833333333333339,4.375,4.6900000000000004,0,5,3.4375,4.5833333333333339,1.875,3.9583333333333335,0,0,3.3333333333333335,3.3333333333333335,0,3.9583333333333335,2.8125,0,0,3.125,3.75,1.6666666666666667,2.5,1.5625,2.7083333333333335,5]
[null,null,null,"2018 Score",null,null,null,{"$f":"H8","v":0},4.375,0,2.78125,3.125,4.6875,3.359375,4.453125,0,4.609375,0,4.6875,3.203125,2.703125,3.046875,4.765625,0,0.65625,3.453125,0,0.15625,2.8125,0,0,0,0.390625,0.15625,1.546875,2.96875,0.234375,1.71875,2.046875]
[null,null,null,"Existing renewable generation","Change",null,{"$f":"G26","v":0.3},0,0.05,0.74253737373737372,0,9.0244815909761522E-2,0.25067466156581236,2.7098937874449565,2.0833333333333335,0,7.1898424353679061E-2,2.0784167166863807E-2,1.3729659679439321,1.4000000000000001,0.8,3.585853759009331E-2,1.062206572769953,0.4898527447736688,0.80832491021515729,0.6,0.35000000000000003,0,0.76715761781962311,0.1,0,0,0.62612702865157288,0.85000000000000009,6.2847619047619055E-2,2.1713131042200144,0,0.05,0.11415931136257983]
[null,null,null,"2012 Score","0 to 5",null,null,{"$f":"INDIRECT(H$4&\"!E93\")","v":0.01},{"$f":"INDIRECT(I$4&\"!E93\")","v":0},0.5,{"$f":"INDIRECT(K$4&\"!E93\")","v":0},0,0.01,2.6,0,0,0,0,"NA",2.2000000000000002,0.43,0.1,"NA",0,0,0.27,0.15,0,0.95,0,0,0,0.01,1.22,0,0,0,0,"NA"]
[null,null,null,"2013 Score","0 to 5",null,null,{"$f":"INDIRECT(H$4&\"!E94\")","v":0},{"$f":"INDIRECT(I$4&\"!E94\")","v":0},0.65542995689307737,{"$f":"INDIRECT(K$4&\"!E94\")","v":1.0510518934081347E-2},9.8800657599557151E-3,0,2.6588944180008656,1.3907771683624794,0,1.5554659442233404E-3,3.5962932505731078E-2,0.61241351201094174,1.593331003230799,0.63355599346737579,1.0669089921879742E-2,0.68864405988115773,4.7549770290964778E-2,4.7549770290964778E-2,0.2846569841660827,0.14466907139704258,0,0.30186521405675404,0.10090843837380969,4.0586436170212764E-2,0,6.8489162146818288E-4,1.0240373996907901,0,2.4419620253164558,3.5961909145832739E-6,0,"NA"]
[null,null,null,"2014 Score","0 to 5",null,null,{"$f":"INDIRECT(H$4&\"!E95\")","v":8.4686434362367599E-2},{"$f":"INDIRECT(I$4&\"!E95\")","v":6.9915749999999999E-3},0.83624804169180622,{"$f":"INDIRECT(K$4&\"!E95\")","v":1.4203214628146119E-2},4.2323291060934125E-2,0.11707028947026578,3.1903316418659822,1.4931999512151526,0.19085937600000003,1.4326617496279151E-2,4.0663459456410589E-2,0.6896652316295715,1.3501767905351756,0.78246215631445859,4.0324437393214549E-2,0.82133338237478792,0.46555318643478261,0.46555318643478261,0.38498080880421975,0.33737001331016375,0,0.53058543588130036,0.10544559381438179,7.9773208163265288E-2,1.9109375000000001E-2,9.469627339572192E-4,1.1080454379919942,0.10948766197183099,2.738240638253183,2.5210465116279066E-5,1.1368223412131897E-3,0.19231225176823699]
[null,null,null,"2015 Score","0 to 5",null,null,{"$f":"INDIRECT(H$4&\"!E96\")","v":6.7815814156560753E-2},{"$f":"INDIRECT(I$4&\"!E96\")","v":5.6045968401959006E-3},0.75294455015398032,{"$f":"INDIRECT(K$4&\"!E96\")","v":1.2641426335153264E-2},3.5862440483214394E-2,0.10568153471435765,2.8707190079729559,1.3433777959977007,0.15303478879646401,1.2936963447066513E-2,3.6486605616940976E-2,0.6196484203741246,1.2087269157195306,0.70317459370742108,3.4216110410388141E-2,0.7146451332749274,0.41899786779130432,0.41899786779130432,0.34579233587178354,0.28229866062914194,0,0.47752689229317036,9.3144445421987548E-2,7.1235893061224478E-2,1.531438172043011E-2,8.1071160406778265E-4,0.99621956661599642,9.8177605200433393E-2,2.4644165744278648,4.7970154650648241E-5,1.0231401070918708E-3,0.16795613663836267]
[null,null,null,"2016 Score","0 to 5",null,null,{"$f":"INDIRECT(H$4&\"!E97\")","v":0},{"$f":"INDIRECT(I$4&\"!E97\")","v":0},0.77253787353089165,{"$f":"INDIRECT(K$4&\"!E97\")","v":0},0.19172685903064371,0.2397277724785945,3.9263621092162673,1.6755802758727996,0.15343047062233445,5.3649364811771662E-2,0,0,1.091680013248947,0.85966555881907403,5.4099818698154431E-2,1.6468757639106424,0,0,0.50009941192830321,0.26614456001991288,0,0,0.21468909736516367,7.3981033414634148E-2,1.5312457572127385E-2,0,0,8.7498301538461526E-2,2.4669115111367259,0,0,0.22608807722185753]
[null,null,null,"2017 Score","0 to 5",null,null,{"$f":"INDIRECT(H$4&\"!E98\")","v":0.13},{"$f":"INDIRECT(I$4&\"!E98\")","v":0.31042746113989639},0.10707975757575759,{"$f":"INDIRECT(K$4&\"!E98\")","v":0},0.34380463286713286,0.47349863434619321,2.5440716549460856,2.1083333333333334,0.25,0.31473249062529524,0,1.2387435068894037,2.6903285263157901,0.57270391566912426,0.26363062221978145,0.90464496377508508,0.15625,0.15625,0.79821462796045073,0.79821462796045073,0,0.90208397514667982,0.19884466506967147,0,0,0.33814814814814814,2.20658739529933,0.31701400000000002,2.5862229602367246,0.25,0.25,0.30203541465819289]
[null,null,null,"2018 Score","0 to 5",null,null,{"$f":"INDIRECT(H$4&\"!E99\")","v":0},{"$f":"INDIRECT(I$4&\"!E99\")","v":0.05},0.74253737373737372,{"$f":"INDIRECT(K$4&\"!E99\")","v":0},9.0244815909761522E-2,0.25067466156581236,2.7098937874449565,2.0833333333333335,0,7.1898424353679061E-2,2.0784167166863807E-2,1.3729659679439321,1.4000000000000001,0.8,3.585853759009331E-2,1.062206572769953,0.4898527447736688,0.80832491021515729,0.6,0.35000000000000003,0,0.76715761781962311,0.1,0,0,0.62612702865157288,0.85000000000000009,6.2847619047619055E-2,2.1713131042200144,0,0.05,0.11415931136257983]
[null,null,null,"Planned renewable generation","Change",null,{"$f":"G34","v":0.3},{"$f":"H34","v":0},{"$f":"I34","v":5.4974747474747468E-2},1.9865319865319864E-2,{"$f":"K34","v":0.6576799078871618},0.64265686159652058,0.58834522692624958,1.3239482048516533,0.55555555555555558,0.33579999999999999,0.69702167151088679,0.36494270217251756,1.4190879551745228,5,5,1.361583834777365,1.7097026604068859,0.10786609028046319,0,1.2987434284268495,4.5858974358974354E-2,4.0302176627042288,2.0678216422344908,0.76462254864254275,0,0,3.0600636701618464,0.81099338306872681,1.7559833777777778,0.55689875555555557,0.55555555555555558,1.1264500209432446,5.2384116911115476E-2]
[null,null,null,"2012 Score","0 to 5",null,null,{"$f":"INDIRECT(H$4&\"!E101\")","v":0.26},{"$f":"INDIRECT(I$4&\"!E101\")","v":0},0.05,{"$f":"INDIRECT(K$4&\"!E101\")","v":0.21},0.6,0,0,0,0,0.18,0,"NA",3.7,0.85,3.2,"NA",0,0,0.06,0.86,4.5,0.5,0,0,0,1.01,0,0,0,0,0,"NA"]
[null,null,null,"2013 Score","0 to 5",null,null,{"$f":"INDIRECT(H$4&\"!E102\")","v":6.3811188811188815E-2},{"$f":"INDIRECT(I$4&\"!E102\")","v":0},0.10076820813410756,{"$f":"INDIRECT(K$4&\"!E102\")","v":0.30178437084187443},0.71030536097127561,0,0.36198572046733013,0,0,0.17457332652018398,0,0.30254048780487808,4.1174438980250212,0.86042015286097773,2.9386145920130069,0.69307592304006127,4.0052833078101076,4.0052833078101076,0.19418683856730026,0.82424095646656359,4.5,0,6.0755105895985942E-2,1.1497500000000001E-2,0,0,0.70101216716974657,0.30697630985915492,0,0,0,"NA"]
[null,null,null,"2014 Score","0 to 5",null,null,{"$f":"INDIRECT(H$4&\"!E103\")","v":0.17561119865884323},{"$f":"INDIRECT(I$4&\"!E103\")","v":0},0.6533827084387589,{"$f":"INDIRECT(K$4&\"!E103\")","v":0.3406416772309005},0.14562940660860679,0,0.36385233861767829,0,0,0.17725907000510988,8.8293744650074737E-2,0.44666210043851445,4.1221309701786133,0.28655926850798813,9.9443765648472709E-2,0,0.37826669770290966,0.37826669770290966,0.18701529637418274,0.61334066624764294,4.5,0.23004621344712986,0,1.9909373558118903E-2,0,5.5321570859419467E-2,4.4971730840020777E-2,0,0.28764751302750186,0,0,0.43940046720090742]
[null,null,null,"2015 Score","0 to 5",null,null,{"$f":"INDIRECT(H$4&\"!E104\")","v":0.24491375533524537},{"$f":"INDIRECT(I$4&\"!E104\")","v":0},0.3064347123288122,{"$f":"INDIRECT(K$4&\"!E104\")","v":5.1501037961494155E-2},1.1553250507194208,2.0317266373957552,4.5,0,0,0.2216694615487064,8.9977923221835662E-2,0.44279505968090127,4.1283325393044308,0.32608052097328938,1.6167085672443251,3.6248748274242008E-2,0.37875592019130438,0.37875592019130438,0.15376134528747368,0.61334291927015938,4.5,3.211660734302177,5.9521681209052948E-2,0,0,5.55825952540107E-2,2.1559900019609497,0,0,0,0,0.16824068614145271]
[null,null,null,"2016 Score","0 to 5",null,null,{"$f":"INDIRECT(H$4&\"!E105\")","v":0},{"$f":"INDIRECT(I$4&\"!E105\")","v":0},6.7456771357661441E-2,{"$f":"INDIRECT(K$4&\"!E105\")","v":0},0,0,0.43410586029067044,0,0.37019627320591419,0.17653170833886667,0.22173401161568562,0,4.0765076884210529,0.29735941162274904,0,0.22349498083555594,0,0,7.1835191461638692E-2,0.80785123298841521,0,0,0,0,0,0,0,0,0,0,0,0]
[null,null,null,"2017 Score","0 to 5",null,null,{"$f":"INDIRECT(H$4&\"!E106\")","v":0},{"$f":"INDIRECT(I$4&\"!E106\")","v":0.23839073453215487},0,{"$f":"INDIRECT(K$4&\"!E106\")","v":0},0.17611888111888116,0.2121941959713213,0,0,0,0.19719168208010976,0,0.27851120595049395,2.112878465520081,0.33466981399614026,2.0445933329672141,0.33056588831185491,0,0,0.12731658808921592,0.12731658808921592,0,4.06137260942557,7.6003189935775317E-2,0,0,2.697128296296297,2.3877585634647174,3.4479360000000003,0,0.10000000000000003,0.1368133835971207,0.23485462549568359]
[null,null,null,"2018 Score","0 to 5",null,null,{"$f":"INDIRECT(H$4&\"!E107\")","v":0},{"$f":"INDIRECT(I$4&\"!E107\")","v":5.4974747474747468E-2},1.9865319865319864E-2,{"$f":"INDIRECT(K$4&\"!E107\")","v":0.6576799078871618},0.64265686159652058,0.58834522692624958,1.3239482048516533,0.55555555555555558,0.33579999999999999,0.69702167151088679,0.36494270217251756,1.4190879551745228,5,5,1.361583834777365,1.7097026604068859,0.10786609028046319,0,1.2987434284268495,4.5858974358974354E-2,4.0302176627042288,2.0678216422344908,0.76462254864254275,0,0,3.0600636701618464,0.81099338306872681,1.7559833777777778,0.55689875555555557,0.55555555555555558,1.1264500209432446,5.2384116911115476E-2]
[null,null,null,"Electric Mobility","Change",null,{"$f":"G42","v":0.1},{"$f":"H42","v":0},{"$f":"I42","v":0},0,{"$f":"K42","v":0},2.5,0,0,0,0,5,0,0,2.5,0,0,5,0,0,2.5,0,0,0,0,0,0,2.5,0,0,0,0,0,0]
[null,null,null,"2018 Score","0 to 5",null,null,{"$f":"INDIRECT(H$4&\"!E109\")","v":0},{"$f":"INDIRECT(I$4&\"!E109\")","v":0},0,{"$f":"INDIRECT(K$4&\"!E109\")","v":0},2.5,0,0,0,0,5,0,0,2.5,0,0,5,0,0,2.5,0,0,0,0,0,0,2.5,0,0,0,0,0,0]
[null,null,null,"Overall Score Year-on-Year",null,null,null,{"$f":"INDIRECT(H$4&\"!E110\")","v":-0.66833333333333333},{"$f":"INDIRECT(I$4&\"!E110\")","v":-0.19311364098159278},-1.0222502222222221,{"$f":"INDIRECT(K$4&\"!E110\")","v":-0.28776547207829584},0.12295155414543557,0.31828057866400239,0.32827454604028761,-0.10295138888888911,-1.4409266666666665,0.38034713785756802,0.1157180608018144,7.1447939322237808E-2,0.38403516938804305,0.72070181233380026,-6.1112773352094418E-2,1.030078874812961,0.12723231718290628,0.38728913973121387,0.43593901206705454,-1.3008638241533079,1.2559402988112687,-1.2796861946189599,-0.76972918707571947,2,0,-0.5803807718374554,-2.2362756380007314,-0.80082708984126993,1.3680904520429582E-2,-0.40052083333333333,-0.16315556602717796,-1.1816044849025169]
[null,null,null,"2012 Overall Score",null,null,null,{"$f":"INDIRECT(H$4&\"!E111\")","v":0.85910000000000009},{"$f":"INDIRECT(I$4&\"!E111\")","v":0.54999999999999993},0.84149999999999991,{"$f":"INDIRECT(K$4&\"!E111\")","v":0.39929999999999999},1.2429999999999999,0.77329999999999988,1.6280000000000001,0,0.33,1.1593999999999998,0,0,2.8820000000000001,1.1923999999999999,1.859,0,0,0,1.3189,1.3233000000000001,2.0361000000000002,1.2485000000000002,0,0,0,1.1055000000000001,1.3926000000000001,0.55110000000000003,0,0.76890000000000003,0.66,0]
[null,null,null,"2012 Rank",null,null,null,{"$f":"INDIRECT(H$4&\"!E112\")","v":13},{"$f":"INDIRECT(I$4&\"!E112\")","v":19},14,{"$f":"INDIRECT(K$4&\"!E112\")","v":20},9,15,4,22,21,11,22,22,1,10,3,22,22,22,7,6,2,8,22,22,22,12,5,18,22,16,17,22]
[null,null,null,"2013 Overall Score",null,null,null,{"$f":"INDIRECT(H$4&\"!E113\")","v":0.79904817404817408},{"$f":"INDIRECT(I$4&\"!E113\")","v":0.55555555555555547},0.91873272167572817,{"$f":"INDIRECT(K$4&\"!E113\")","v":0.43743162992531853},1.2956173644659659,1,1.7847378239338432,1.1302590561208263,0.33333333333333331,1.1698207085992467,1.1987644168577026E-2,1.3049846666052733,2.8480360781963845,1.2757698265538955,1.7608723384227398,1.7939066609737395,1.9064999149225796,1.9064999149225796,1.3818368298000163,1.6563033426212019,2.0555555555555554,0.87839951579669584,1.1649989592010428,1.7361312056737587E-2,0,0.77800607498493379,1.5750165222868455,0.65788099217527374,0.81398734177215193,0.7777789765080827,0.66666666666666652,0]
[null,null,null,"2013 Rank",null,null,null,{"$f":"INDIRECT(H$4&\"!E114\")","v":21},{"$f":"INDIRECT(I$4&\"!E114\")","v":26},18,{"$f":"INDIRECT(K$4&\"!E114\")","v":27},12,17,6,16,28,14,30,11,1,13,7,5,3,3,10,8,2,19,15,29,31,22,9,25,20,23,24,31]
[null,null,null,"2014 Overall Score",null,null,null,{"$f":"INDIRECT(H$4&\"!E115\")","v":0.86454365545151468},{"$f":"INDIRECT(I$4&\"!E115\")","v":0.6689971916666666},1.8298769167101885,{"$f":"INDIRECT(K$4&\"!E115\")","v":0.45161496395301548},1.3404286770009579,1.039023429823422,2.1847279934945534,1.164399983738384,0.39695312533333332,1.1749730069449071,4.2985734702161771E-2,1.7121091106893618,2.7685470313490406,1.1341182527185931,0.82436717879167343,1.7182222385693735,0.8368288502681196,0.8368288502681196,1.4128875906150229,1.7613480042970464,2.0555555555555554,1.1424327719983656,0.70181519793812719,3.3227527240461394E-2,6.3697916666666668E-3,0.79653395564223661,1.3843390562773383,0.92538477621283255,1.0086293837602283,0.77778618126614973,0.66704560744707087,0.87723757298971483]
[null,null,null,"2014 Rank",null,null,null,{"$f":"INDIRECT(H$4&\"!E116\")","v":18},{"$f":"INDIRECT(I$4&\"!E116\")","v":25},4,{"$f":"INDIRECT(K$4&\"!E116\")","v":27},10,15,2,12,28,11,29,7,1,14,21,6,19,19,8,5,3,13,24,30,31,22,9,17,16,23,26,18]
[null,null,null,"2015 Overall Score",null,null,null,{"$f":"INDIRECT(H$4&\"!E117\")","v":0.88202096760837989},{"$f":"INDIRECT(I$4&\"!E117\")","v":0.66853486561339859},1.6864597541609307,{"$f":"INDIRECT(K$4&\"!E117\")","v":0.46582526587666018},1.6748402748453228,1.712469390703371,3.568017447102096,1.1144592653325667,0.71767826293215464,1.1893132527763686,0.37548817627959219,1.6874811600183419,2.7234642627857646,1.120862816004681,1.4391971147737932,1.6947424049608339,0.82147348488309169,0.82147348488309169,1.3887401159419746,1.7429916377442114,2.0555555555555554,2.1186180977540046,0.7175553755436801,2.3745297687074826E-2,5.1047939068100366E-3,0.79657554673047049,2.050736522858982,0.9216147572890333,0.82147219147595485,1.0000159900515502,0.66700771336903053,0.77873227425993841]
[null,null,null,"2015 Rank",null,null,null,{"$f":"INDIRECT(H$4&\"!E118\")","v":19},{"$f":"INDIRECT(I$4&\"!E118\")","v":27},10,{"$f":"INDIRECT(K$4&\"!E118\")","v":29},11,7,1,16,25,14,30,9,2,15,12,8,20,20,13,6,4,3,26,31,32,23,5,18,22,17,28,24]
[null,null,null,"2016 Overall Score",null,null,null,{"$f":"INDIRECT(H$4&\"!E119\")","v":0.44444444444444442},{"$f":"INDIRECT(I$4&\"!E119\")","v":1.2222222222222221},1.1688871038517399,{"$f":"INDIRECT(K$4&\"!E119\")","v":1.4444444444444442},0.95279784189910344,1.524353701937309,2.3423782120578682,1.4474156475131554,0.61898669238719395,1.7433936910502126,7.3911337205228536E-2,1.6666666666666665,3.3893959005566665,1.8301194345917184,1.6846999395660514,2.290123581582066,1.2222222222222221,1.2222222222222221,1.6350893122410917,2.0246652643361092,0,1.6666666666666665,1.2937852546772766,2.4660344471544714E-2,5.1041525240424612E-3,0.44444444444444442,1.4444444444444442,0.47361054495726496,0.8223038370455753,0.44444444444444442,0.44444444444444442,1.297584914629508]
[null,null,null,"2016 Rank",null,null,null,{"$f":"INDIRECT(H$4&\"!E120\")","v":25},{"$f":"INDIRECT(I$4&\"!E120\")","v":17},20,{"$f":"INDIRECT(K$4&\"!E120\")","v":13},21,11,2,12,23,6,29,8,1,5,7,3,17,17,10,4,32,8,16,30,31,25,13,24,22,25,25,15]
[null,null,null,"2017 Overall Score",null,null,null,{"$f":"INDIRECT(H$4&\"!E121\")","v":0.66833333333333333},{"$f":"INDIRECT(I$4&\"!E121\")","v":1.5371060652240169},1.2509710303030301,{"$f":"INDIRECT(K$4&\"!E121\")","v":1.3194444444444444},1.284418949106449,1.3396753878836161,1.889690551648695,2.2305555555555556,1.5416666666666665,1.7331413909018019,0,2.1724182376132988,2.7469023306119569,1.8302356876661996,1.3944079850623319,1.731181395140091,5.2083333333333329E-2,5.2083333333333329E-2,1.4196215164610002,1.4196215164610002,0,2.9739299726351942,1.0291159516684822,0,0,2.0534254814814812,2.7814486529213491,1.8105388888888889,1.6954076534122415,0.63749999999999996,1.0317155723101514,1.8456300133846253]
[null,null,null,"2017 Rank",null,null,null,{"$f":"INDIRECT(H$4&\"!E122\")","v":25},{"$f":"INDIRECT(I$4&\"!E122\")","v":14},21,{"$f":"INDIRECT(K$4&\"!E122\")","v":19},20,18,7,4,13,10,28,5,3,8,17,11,26,26,15,15,28,1,23,28,28,6,2,9,12,25,22,8]
[null,null,null,"2018 Overall Score",null,null,null,{"$f":"H6","v":0},1.3439924242424242,0.22872080808080808,1.0316789723661486,1.4073705032518846,1.6579559665476185,2.2179650976889826,2.1276041666666665,0.10074,2.1134885287593699,0.1157180608018144,2.2438661769355366,3.1309374999999999,2.5509374999999999,1.3332952117102375,2.761260269953052,0.1793156505162396,0.43937247306454719,1.8555605285280548,0.11875769230769231,1.2559402988112687,1.6942437780162343,0.25938676459276278,0,0,1.4730447096440258,0.54517301492061798,1.009711799047619,1.7090885579326711,0.23697916666666666,0.86856000628297347,0.6640255284821085]
[null,null,null,"2018 Rank",null,null,null,{"$f":"_xlfn.RANK.AVG(H122,$H$122:$AM$122,0)","v":31},14,25,17,13,11,5,6,29,7,28,4,1,3,15,2,26,22,8,27,16,10,23,31,31,12,21,18,9,24,19,20]
[null,null,null,"Rank change 2017 to 2018",null,null,null,{"$f":"H123-H121","v":6},{"$f":"I123-I121","v":0},4,{"$f":"K123-K121","v":-2},-7,-7,-2,2,16,-3,0,-1,-2,-5,-2,-9,0,-4,-7,12,-12,9,0,3,3,6,19,9,-3,-1,-3,12]

{"sheet":"RE Index | Results Summary","index":3,"n_rows":64,"n_cols":29,"rows_kept":64,"cut":false,"hidden":false,"merged":[[7,1,7,14],[8,3,8,5],[8,6,8,8],[8,9,8,11],[8,1,8,2],[8,12,8,14]]}
[]
["Component 1","Enabling environment for renewable energy (RE) investments*"]
["Component 2","Existing renewable generation"]
["Component 3","Planned renewable generation"]
["Component 4","Electric Mobility"]
[]
[]
[null,"Overall score"]
[null,"Overall Score",null,"Enabling environment for renewable energy (RE) investments",null,null,"Existing renewable generation",null,null,"Planned renewable generation",null,null,"Electric Mobility"]
["Weights",{"$f":"SUM(D10:O10)","v":0.99999999999999989},"Rank",{"$f":"'RE Index | Ranking inputs'!G8","v":0.3},null,"Rank",{"$f":"'RE Index | Ranking inputs'!G26","v":0.3},null,"Rank",{"$f":"'RE Index | Ranking inputs'!F34","v":0.3},null,"Rank",{"$f":"'RE Index | Ranking inputs'!G42","v":0.1},null,"Rank"]
["Dominica",{"$f":"HLOOKUP(A11,'RE Index | Ranking inputs'!$H$5:$AM$7,2,FALSE)","v":3.1309374999999999},{"$f":"RANK( B11, $B$11:$B$33)","v":1},{"$f":"IF(ISNUMBER(E11),E11*$D$10,\"\")","v":0.9609375},{"$f":"HLOOKUP(A11,'RE Index | Ranking inputs'!$H$5:$AM$8,4,FALSE)","v":3.203125},{"$f":"RANK( E11, $E$11:$E$33)","v":9},{"$f":"IF(ISNUMBER(H11),H11*$G$10,\"\")","v":0.42000000000000004},{"$f":"HLOOKUP(A11,'RE Index | Ranking inputs'!$H$5:$AM$26,22,FALSE)","v":1.4000000000000001},{"$f":"RANK(H11,$H$11:$H$33)","v":4},{"$f":"IF(ISNUMBER(K11),K11*$J$10,\"\")","v":1.5},{"$f":"HLOOKUP(A11,'RE Index | Ranking inputs'!$H$5:$AM$34,30,FALSE)","v":5},{"$f":"RANK(K11,$K$11:$K$33)","v":1},{"$f":"IF(ISNUMBER(N11),N11*$M$10,\"\")","v":0.25},{"$f":"HLOOKUP(A11,'RE Index | Ranking inputs'!$H$5:$AM$42,38,FALSE)","v":2.5},{"$f":"RANK(N11,$N$11:$N$33)","v":3}]
["Guadeloupe",{"$f":"HLOOKUP(A12,'RE Index | Ranking inputs'!$H$5:$AM$7,2,FALSE)","v":2.761260269953052},2,1.4296875,{"$f":"HLOOKUP(A12,'RE Index | Ranking inputs'!$H$5:$AM$8,4,FALSE)","v":4.765625},1,0.31866197183098588,{"$f":"HLOOKUP(A12,'RE Index | Ranking inputs'!$H$5:$AM$26,22,FALSE)","v":1.062206572769953},6,0.51291079812206575,{"$f":"HLOOKUP(A12,'RE Index | Ranking inputs'!$H$5:$AM$34,30,FALSE)","v":1.7097026604068859},7,0.5,{"$f":"HLOOKUP(A12,'RE Index | Ranking inputs'!$H$5:$AM$42,38,FALSE)","v":5},1]
["Dominican Republic",{"$f":"HLOOKUP(A13,'RE Index | Ranking inputs'!$H$5:$AM$7,2,FALSE)","v":2.5509374999999999},3,0.81093749999999998,{"$f":"HLOOKUP(A13,'RE Index | Ranking inputs'!$H$5:$AM$8,4,FALSE)","v":2.703125},15,0.24,{"$f":"HLOOKUP(A13,'RE Index | Ranking inputs'!$H$5:$AM$26,22,FALSE)","v":0.8},9,1.5,{"$f":"HLOOKUP(A13,'RE Index | Ranking inputs'!$H$5:$AM$34,30,FALSE)","v":5},1,0,{"$f":"HLOOKUP(A13,'RE Index | Ranking inputs'!$H$5:$AM$42,38,FALSE)","v":0},7]
["Curaҫao",{"$f":"HLOOKUP(A14,'RE Index | Ranking inputs'!$H$5:$AM$7,2,FALSE)","v":2.2438661769355366},4,1.40625,{"$f":"HLOOKUP(A14,'RE Index | Ranking inputs'!$H$5:$AM$8,4,FALSE)","v":4.6875},2,0.41188979038317963,{"$f":"HLOOKUP(A14,'RE Index | Ranking inputs'!$H$5:$AM$26,22,FALSE)","v":1.3729659679439321},5,0.42572638655235684,{"$f":"HLOOKUP(A14,'RE Index | Ranking inputs'!$H$5:$AM$34,30,FALSE)","v":1.4190879551745228},8,0,{"$f":"HLOOKUP(A14,'RE Index | Ranking inputs'!$H$5:$AM$42,38,FALSE)","v":0},7]
["Belize",{"$f":"HLOOKUP(A15,'RE Index | Ranking inputs'!$H$5:$AM$7,2,FALSE)","v":2.2179650976889826},5,1.0078125,{"$f":"HLOOKUP(A15,'RE Index | Ranking inputs'!$H$5:$AM$8,4,FALSE)","v":3.359375},8,0.81296813623348696,{"$f":"HLOOKUP(A15,'RE Index | Ranking inputs'!$H$5:$AM$26,22,FALSE)","v":2.7098937874449565},1,0.39718446145549596,{"$f":"HLOOKUP(A15,'RE Index | Ranking inputs'!$H$5:$AM$34,30,FALSE)","v":1.3239482048516533},10,0,{"$f":"HLOOKUP(A15,'RE Index | Ranking inputs'!$H$5:$AM$42,38,FALSE)","v":0},7]
["Bonaire",{"$f":"HLOOKUP(A16,'RE Index | Ranking inputs'!$H$5:$AM$7,2,FALSE)","v":2.1276041666666665},6,1.3359375,{"$f":"HLOOKUP(A16,'RE Index | Ranking inputs'!$H$5:$AM$8,4,FALSE)","v":4.453125},5,0.625,{"$f":"HLOOKUP(A16,'RE Index | Ranking inputs'!$H$5:$AM$26,22,FALSE)","v":2.0833333333333335},3,0.16666666666666666,{"$f":"HLOOKUP(A16,'RE Index | Ranking inputs'!$H$5:$AM$34,30,FALSE)","v":0.55555555555555558},19,0,{"$f":"HLOOKUP(A16,'RE Index | Ranking inputs'!$H$5:$AM$42,38,FALSE)","v":0},7]
["Cayman Islands",{"$f":"HLOOKUP(A17,'RE Index | Ranking inputs'!$H$5:$AM$7,2,FALSE)","v":2.1134885287593699},7,1.3828125,{"$f":"HLOOKUP(A17,'RE Index | Ranking inputs'!$H$5:$AM$8,4,FALSE)","v":4.609375},4,2.1569527306103717E-2,{"$f":"HLOOKUP(A17,'RE Index | Ranking inputs'!$H$5:$AM$26,22,FALSE)","v":7.1898424353679061E-2},16,0.20910650145326604,{"$f":"HLOOKUP(A17,'RE Index | Ranking inputs'!$H$5:$AM$34,30,FALSE)","v":0.69702167151088679},14,0.5,{"$f":"HLOOKUP(A17,'RE Index | Ranking inputs'!$H$5:$AM$42,38,FALSE)","v":5},1]
["Jamaica",{"$f":"HLOOKUP(A18,'RE Index | Ranking inputs'!$H$5:$AM$7,2,FALSE)","v":1.8555605285280548},8,1.0359375,{"$f":"HLOOKUP(A18,'RE Index | Ranking inputs'!$H$5:$AM$8,4,FALSE)","v":3.453125},7,0.18,{"$f":"HLOOKUP(A18,'RE Index | Ranking inputs'!$H$5:$AM$26,22,FALSE)","v":0.6},12,0.38962302852805486,{"$f":"HLOOKUP(A18,'RE Index | Ranking inputs'!$H$5:$AM$34,30,FALSE)","v":1.2987434284268495},11,0.25,{"$f":"HLOOKUP(A18,'RE Index | Ranking inputs'!$H$5:$AM$42,38,FALSE)","v":2.5},3]
["Suriname",{"$f":"HLOOKUP(A19,'RE Index | Ranking inputs'!$H$5:$AM$7,2,FALSE)","v":1.7090885579326711},9,0.890625,{"$f":"HLOOKUP(A19,'RE Index | Ranking inputs'!$H$5:$AM$8,4,FALSE)","v":2.96875},12,0.65139393126600431,{"$f":"HLOOKUP(A19,'RE Index | Ranking inputs'!$H$5:$AM$26,22,FALSE)","v":2.1713131042200144},2,0.16706962666666667,{"$f":"HLOOKUP(A19,'RE Index | Ranking inputs'!$H$5:$AM$34,30,FALSE)","v":0.55689875555555557},18,0,{"$f":"HLOOKUP(A19,'RE Index | Ranking inputs'!$H$5:$AM$42,38,FALSE)","v":0},7]
["Nevis ",{"$f":"HLOOKUP(A20,'RE Index | Ranking inputs'!$H$5:$AM$7,2,FALSE)","v":1.6942437780162343},10,0.84375,{"$f":"HLOOKUP(A20,'RE Index | Ranking inputs'!$H$5:$AM$8,4,FALSE)","v":2.8125},13,0.23014728534588691,{"$f":"HLOOKUP(A20,'RE Index | Ranking inputs'!$H$5:$AM$26,22,FALSE)","v":0.76715761781962311},10,0.62034649267034725,{"$f":"HLOOKUP(A20,'RE Index | Ranking inputs'!$H$5:$AM$34,30,FALSE)","v":2.0678216422344908},5,0,{"$f":"HLOOKUP(A20,'RE Index | Ranking inputs'!$H$5:$AM$42,38,FALSE)","v":0},7]
["Bermuda",{"$f":"HLOOKUP(A21,'RE Index | Ranking inputs'!$H$5:$AM$7,2,FALSE)","v":1.6579559665476185},11,1.40625,{"$f":"HLOOKUP(A21,'RE Index | Ranking inputs'!$H$5:$AM$8,4,FALSE)","v":4.6875},2,7.5202398469743706E-2,{"$f":"HLOOKUP(A21,'RE Index | Ranking inputs'!$H$5:$AM$26,22,FALSE)","v":0.25067466156581236},13,0.17650356807787487,{"$f":"HLOOKUP(A21,'RE Index | Ranking inputs'!$H$5:$AM$34,30,FALSE)","v":0.58834522692624958},17,0,{"$f":"HLOOKUP(A21,'RE Index | Ranking inputs'!$H$5:$AM$42,38,FALSE)","v":0},7]
["St. Lucia",{"$f":"HLOOKUP(A22,'RE Index | Ranking inputs'!$H$5:$AM$7,2,FALSE)","v":1.4730447096440258},12,0.1171875,{"$f":"HLOOKUP(A22,'RE Index | Ranking inputs'!$H$5:$AM$8,4,FALSE)","v":0.390625},20,0.18783810859547187,{"$f":"HLOOKUP(A22,'RE Index | Ranking inputs'!$H$5:$AM$26,22,FALSE)","v":0.62612702865157288},11,0.91801910104855389,{"$f":"HLOOKUP(A22,'RE Index | Ranking inputs'!$H$5:$AM$34,30,FALSE)","v":3.0600636701618464},4,0.25,{"$f":"HLOOKUP(A22,'RE Index | Ranking inputs'!$H$5:$AM$42,38,FALSE)","v":2.5},3]
["Barbados",{"$f":"HLOOKUP(A23,'RE Index | Ranking inputs'!$H$5:$AM$7,2,FALSE)","v":1.4073705032518846},13,0.9375,{"$f":"HLOOKUP(A23,'RE Index | Ranking inputs'!$H$5:$AM$8,4,FALSE)","v":3.125},10,2.7073444772928456E-2,{"$f":"HLOOKUP(A23,'RE Index | Ranking inputs'!$H$5:$AM$26,22,FALSE)","v":9.0244815909761522E-2},15,0.19279705847895617,{"$f":"HLOOKUP(A23,'RE Index | Ranking inputs'!$H$5:$AM$34,30,FALSE)","v":0.64265686159652058},16,0.25,{"$f":"HLOOKUP(A23,'RE Index | Ranking inputs'!$H$5:$AM$42,38,FALSE)","v":2.5},3]
["Antigua & Barbuda",{"$f":"HLOOKUP(A24,'RE Index | Ranking inputs'!$H$5:$AM$7,2,FALSE)","v":1.3439924242424242},14,1.3125,{"$f":"HLOOKUP(A24,'RE Index | Ranking inputs'!$H$5:$AM$8,4,FALSE)","v":4.375},6,1.4999999999999999E-2,{"$f":"HLOOKUP(A24,'RE Index | Ranking inputs'!$H$5:$AM$26,22,FALSE)","v":0.05},18,1.6492424242424239E-2,{"$f":"HLOOKUP(A24,'RE Index | Ranking inputs'!$H$5:$AM$34,30,FALSE)","v":5.4974747474747468E-2},21,0,{"$f":"HLOOKUP(A24,'RE Index | Ranking inputs'!$H$5:$AM$42,38,FALSE)","v":0},7]
["Grenada",{"$f":"HLOOKUP(A25,'RE Index | Ranking inputs'!$H$5:$AM$7,2,FALSE)","v":1.3332952117102375},15,0.9140625,{"$f":"HLOOKUP(A25,'RE Index | Ranking inputs'!$H$5:$AM$8,4,FALSE)","v":3.046875},11,1.0757561277027993E-2,{"$f":"HLOOKUP(A25,'RE Index | Ranking inputs'!$H$5:$AM$26,22,FALSE)","v":3.585853759009331E-2},20,0.40847515043320948,{"$f":"HLOOKUP(A25,'RE Index | Ranking inputs'!$H$5:$AM$34,30,FALSE)","v":1.361583834777365},9,0,{"$f":"HLOOKUP(A25,'RE Index | Ranking inputs'!$H$5:$AM$42,38,FALSE)","v":0},7]
["Montserrat",{"$f":"HLOOKUP(A26,'RE Index | Ranking inputs'!$H$5:$AM$7,2,FALSE)","v":1.2559402988112687},16,4.6875E-2,{"$f":"HLOOKUP(A26,'RE Index | Ranking inputs'!$H$5:$AM$8,4,FALSE)","v":0.15625},22,0,{"$f":"HLOOKUP(A26,'RE Index | Ranking inputs'!$H$5:$AM$26,22,FALSE)","v":0},21,1.2090652988112687,{"$f":"HLOOKUP(A26,'RE Index | Ranking inputs'!$H$5:$AM$34,30,FALSE)","v":4.0302176627042288},3,0,{"$f":"HLOOKUP(A26,'RE Index | Ranking inputs'!$H$5:$AM$42,38,FALSE)","v":0},7]
["St. Kitts",{"$f":"HLOOKUP(A27,'RE Index | Ranking inputs'!$H$5:$AM$7,2,FALSE)","v":1.009711799047619},18,0.46406249999999999,{"$f":"HLOOKUP(A27,'RE Index | Ranking inputs'!$H$5:$AM$8,4,FALSE)","v":1.546875},18,1.8854285714285716E-2,{"$f":"HLOOKUP(A27,'RE Index | Ranking inputs'!$H$5:$AM$26,22,FALSE)","v":6.2847619047619055E-2},17,0.52679501333333334,{"$f":"HLOOKUP(A27,'RE Index | Ranking inputs'!$H$5:$AM$34,30,FALSE)","v":1.7559833777777778},6,0,{"$f":"HLOOKUP(A27,'RE Index | Ranking inputs'!$H$5:$AM$42,38,FALSE)","v":0},7]
["The Bahamas",{"$f":"HLOOKUP(A28,'RE Index | Ranking inputs'!$H$5:$AM$7,2,FALSE)","v":1.0316789723661486},17,0.83437499999999998,{"$f":"HLOOKUP(A28,'RE Index | Ranking inputs'!$H$5:$AM$8,4,FALSE)","v":2.78125},14,0,{"$f":"HLOOKUP(A28,'RE Index | Ranking inputs'!$H$5:$AM$26,22,FALSE)","v":0},21,0.19730397236614852,{"$f":"HLOOKUP(A28,'RE Index | Ranking inputs'!$H$5:$AM$34,30,FALSE)","v":0.6576799078871618},15,0,{"$f":"HLOOKUP(A28,'RE Index | Ranking inputs'!$H$5:$AM$42,38,FALSE)","v":0},7]
["Turks and Caicos Islands",{"$f":"HLOOKUP(A29,'RE Index | Ranking inputs'!$H$5:$AM$7,2,FALSE)","v":0.86856000628297347},19,0.515625,{"$f":"HLOOKUP(A29,'RE Index | Ranking inputs'!$H$5:$AM$8,4,FALSE)","v":1.71875},17,1.4999999999999999E-2,{"$f":"HLOOKUP(A29,'RE Index | Ranking inputs'!$H$5:$AM$26,22,FALSE)","v":0.05},18,0.3379350062829734,{"$f":"HLOOKUP(A29,'RE Index | Ranking inputs'!$H$5:$AM$34,30,FALSE)","v":1.1264500209432446},12,0,{"$f":"HLOOKUP(A29,'RE Index | Ranking inputs'!$H$5:$AM$42,38,FALSE)","v":0},7]
["U.S. Virgin Islands",{"$f":"HLOOKUP(A30,'RE Index | Ranking inputs'!$H$5:$AM$7,2,FALSE)","v":0.6640255284821085},20,0.61406249999999996,{"$f":"HLOOKUP(A30,'RE Index | Ranking inputs'!$H$5:$AM$8,4,FALSE)","v":2.046875},16,3.4247793408773944E-2,{"$f":"HLOOKUP(A30,'RE Index | Ranking inputs'!$H$5:$AM$26,22,FALSE)","v":0.11415931136257983},14,1.5715235073334641E-2,{"$f":"HLOOKUP(A30,'RE Index | Ranking inputs'!$H$5:$AM$34,30,FALSE)","v":5.2384116911115476E-2},22,0,{"$f":"HLOOKUP(A30,'RE Index | Ranking inputs'!$H$5:$AM$42,38,FALSE)","v":0},7]
["St. Vincent and the Grenadines",{"$f":"HLOOKUP(A31,'RE Index | Ranking inputs'!$H$5:$AM$7,2,FALSE)","v":0.54517301492061798},21,4.6875E-2,{"$f":"HLOOKUP(A31,'RE Index | Ranking inputs'!$H$5:$AM$8,4,FALSE)","v":0.15625},22,0.255,{"$f":"HLOOKUP(A31,'RE Index | Ranking inputs'!$H$5:$AM$26,22,FALSE)","v":0.85000000000000009},7,0.24329801492061803,{"$f":"HLOOKUP(A31,'RE Index | Ranking inputs'!$H$5:$AM$34,30,FALSE)","v":0.81099338306872681},13,0,{"$f":"HLOOKUP(A31,'RE Index | Ranking inputs'!$H$5:$AM$42,38,FALSE)","v":0},7]
["Haiti",{"$f":"HLOOKUP(A32,'RE Index | Ranking inputs'!$H$5:$AM$7,2,FALSE)","v":0.43937247306454719},22,0.19687499999999999,{"$f":"HLOOKUP(A32,'RE Index | Ranking inputs'!$H$5:$AM$8,4,FALSE)","v":0.65625},19,0.24249747306454716,{"$f":"HLOOKUP(A32,'RE Index | Ranking inputs'!$H$5:$AM$26,22,FALSE)","v":0.80832491021515729},8,0,{"$f":"HLOOKUP(A32,'RE Index | Ranking inputs'!$H$5:$AM$34,30,FALSE)","v":0},23,0,{"$f":"HLOOKUP(A32,'RE Index | Ranking inputs'!$H$5:$AM$42,38,FALSE)","v":0},7]
["Trinidad and Tobago",{"$f":"HLOOKUP(A33,'RE Index | Ranking inputs'!$H$5:$AM$7,2,FALSE)","v":0.23697916666666666},23,7.03125E-2,{"$f":"HLOOKUP(A33,'RE Index | Ranking inputs'!$H$5:$AM$8,4,FALSE)","v":0.234375},21,0,{"$f":"HLOOKUP(A33,'RE Index | Ranking inputs'!$H$5:$AM$26,22,FALSE)","v":0},21,0.16666666666666666,{"$f":"HLOOKUP(A33,'RE Index | Ranking inputs'!$H$5:$AM$34,30,FALSE)","v":0.55555555555555558},19,0,{"$f":"HLOOKUP(A33,'RE Index | Ranking inputs'!$H$5:$AM$42,38,FALSE)","v":0},7]
[]
[]
[]
[]
[]
[]
[]
[]
[]
[]
[]
[]
[]
[]
[]
[]
[]
[]
[]
[]
[]
[]
[]
[null,null,null,null,null,null,null,null,null,null,null,null,null,null,null,null,null,null,null,null,null,null,null,null,null,null,null,null,"Legal & Regulatory Framework "]
[null,null,null,null,null,null,null,null,null,null,null,null,null,null,null,null,null,null,null,null,null,null,null,null,null,null,null,null,"Strategic plan for RE"]
[null,null,null,null,null,null,null,null,null,null,null,null,null,null,null,null,null,null,null,null,null,null,null,null,null,null,null,null,"Specific target for RE"]
[null,null,null,null,null,null,null,null,null,null,null,null,null,null,null,null,null,null,null,null,null,null,null,null,null,null,null,null,"IRP within the last 3 years"]
[null,null,null,null,null,null,null,null,null,null,null,null,null,null,null,null,null,null,null,null,null,null,null,null,null,null,null,null,"≥ 6 months to secure O-T-A"]
[null,null,null,null,null,null,null,null,null,null,null,null,null,null,null,null,null,null,null,null,null,null,null,null,null,null,null,null," # of Utility Scale RE Projects"]
[null,null,null,null,null,null,null,null,null,null,null,null,null,null,null,null,null,null,null,null,null,null,null,null,null,null,null,null," Capacity (KW)"]
[null,null,null,null,null,null,null,null,null,null,null,null,null,null,null,null,null,null,null,null,null,null,null,null,null,null,null,null," Investment (M USD) "]

{"sheet":"Antigua_Barbuda","index":4,"n_rows":124,"n_cols":7,"rows_kept":124,"cut":false,"hidden":false,"merged":[[73,2,73,3],[77,2,77,3],[78,2,78,3],[79,2,79,3],[82,2,82,3],[69,2,69,3],[46,2,46,3],[47,2,47,3],[48,2,48,3],[51,2,51,3],[58,2,58,3],[60,2,60,3],[62,2,62,3],[63,2,63,3],[64,2,64,3],[67,2,67,3],[68,2,68,3],[33,2,33,3],[0,1,0,4],[1,2,1,3],[1,6,1,12],[4,2,4,3],[11,2,11,3],[12,2,12,3],[13,2,13,3],[14,2,14,3],[23,2,23,3],[28,2,28,3]]}
[null,"Antigua & Barbuda"]
[null,null,"Overall Indicator"]
[null,null,"Enabling Environment for Renewable Energy (RE) Investments",null,"Consolidated Survey Response","Winston Whyte - APUA","Brian Challenger - Minister of Public Utilities"]
[null,null,"Government - Renewable Energy Strategy",null,"Y/N"]
[null,1,"Does your country have a strategic plan to develop renewble energy?"]
[null,null,"Which of the following renewable generation options is includd in you country's strategic plan to develop renewable energy?",null,{"$f":"IF(B6<>0,IF(ISBLANK(F6),\"NA\",F6),\" \")","v":" "},"Solar PV, onshore wind","Solar PV, onshore wind, WTE"]
[null,2,"Does your country have a specific target for renewable energy?",null,{"$f":"IF(B7<>0,IF(ISBLANK(F7),\"NA\",F7),\" \")","v":"Yes"},"Yes","Yes"]
[null,null,"If yes, what is the target and target year?",null," ","20% by 2020","50MW by 2030"]
[null,null,"What is the current breakdown of your country's energy mix?",null," ","1% RE, 99% fossil fuel","10% RE capacity"]
[null,3,"Does your country have an Integrated Resource Plan (IRP) that was produced within the last three years?",null,"No","No","No"]
[null,null,"Utilities",null,"Y/N"]
[null,1,"When planning generation expansion, does the utility consider RE options?",null,{"$f":"IF(B12<>0,IF(ISBLANK(G12),\"NA\",G12),\" \")","v":"Yes"},"No","Yes"]
[null,2,"Can the utility safely recover RE investments through tariffs like it can recover fossil fuel costs?",null,{"$f":"IF(B13<>0,IF(ISBLANK(G13),\"NA\",G13),\" \")","v":"Yes"},"No","Yes"]
[null,3,"Are there clear, specific planning and permitting processes and rules in place for developing RE?",null,"Yes","No","Yes"]
[null,null,"On average, how long does it take for the power utility to get investments in RE projects approved by the regulatory authority (or relevant entity) fror recovery through tariffs?",null," ",null,"Yes"]
[null,null,"IPPs",null,"Y/N"]
[null,1,"Can the utility safely recover purchases of RE from third parties, just as it recovers fossil fuel costs?",null,{"$f":"IF(B17<>0,IF(ISBLANK(G17),\"NA\",G17),\" \")","v":"Yes"},"No","Yes"]
[null,null,"How long did it take to get your off-take agreement?",null,{"$f":"IF(B18<>0,IF(ISBLANK(G18),\"NA\",G18),\" \")","v":" "},"There is no contractual arrangement and therefore no targets to determine a timeline"]
[null,2,"Are there workable precedents or rules for PPA terms and grid operation rules?",null,"Yes","No","Yes"]
[null,3,"Are there clear and effective licensing processes and requirements in place for IPPs?",null,"No","Yes","No"]
[null,4,"Does the utility have an obligation to purchase from IPPs when it is cheaper than generating the power itself?",null,"No","Yes","No"]
[null,5,"Does the PPA have any take-or-pay arrangements?",null,"No","No","No"]
[null,null,"Distributed generation",null,"Y/N"]
[null,1,"Do you have a registry or database of distributed generation?",null,"Yes","Yes"]
[null,null,"What was the number of existing distributed scale RE systems in 2018?",null," ",105]
[null,null,"Is there an aggregate maximum capacity for distributed generation?",null," ","No"]
[null,null,"What is the total installed capacity from renewable distributed generation in your country?",null," ","1.5MW"]
[null,null,"What was the total generation from existing distributed scale RE systems in 2018?",null," "]
[null,2,"Is there a standard arrangement in place for customers to sell electricity to the utility at a reasonable price, for a reasonable timeframe, and with a clear interconnection agreement?",null,"Yes","Yes"]
[]
[2,null,"Existing renewable generation"]
[null,null,"What is the number of existing Utility-Scale RE projects?",null,{"$f":"IF(B32<>0,IF(ISBLANK(F32),\"NA\",F32),\" \")","v":" "},2]
[null,1,"What was the total electricity generated in 2018? (MWh)",null,"NA"]
[null,1,"What was the total electricity generated from Utility Scale RE projects in 2018? (MWh) ",null,{"$f":"'Jurisdictions | Generation'!E4*1%","v":3300}]
[null,null,"Please provide as much information as possible for exisitng RE projects in the box below as:\n- Project Name\n- Developer\n- Offtaker\n- Renewable Energy Technology Type\n- Start of Commercial Operation (Year)\n- Estimated Capacity Factor (in %) OR Estimated Annual Production (in MWh)\n- Installed Capacity (MW)\n- Length of PPA ",null," ","Project Name: 10 MegaWatt Solar Project Developer: PV Energy Offtaker: APUA RE Technology Type: Solar Start of Commercial Operation: 2018 Estimated Capacity Factor: 5475 MWh Installed Capacity: 3 MW Length of PPA: N/A"]
[]
[3,null,"Planned Utility-Scale Renewable Energy Projects"]
[null,1,"Does your country have an estimate of planned installed capacity expected to come online from-utility scale RE projects?",null,{"$f":"IF(B38<>0,IF(ISBLANK(F38),\"NA\",F38),\" \")","v":"NA"}]
[null,null,"How much installed capacity from RE is expected to come online in the next 3 years?",null," "]
[null,2,"How much renewable energy generation is expected to come online in the next 3 years?",null,"NA"]
[null,3,"Is climate resilience incorporated in your IRP or national policy?",null,"NA"]
[null,null,"Please provide as much information as possible for RE projects currently under development in the box below as:\n- Project Name\n- Developer\n- Offtaker\n- Renewable Energy Technology Type\n- Start of Commercial Operation (Year)\n- Estimated Capacity Factor (in %) OR Estimated Annual Production (in MWh)\n- Installed Capacity (MW)\n- Length of PPA ",null," "]
[]
[4,null,"Electric Mobility"]
[null,1,"Does your country have policies in place or draft legislation to promote the uptake of electric mobility?",null,{"$f":"IF(B45<>0,IF(ISBLANK(F45),\"NA\",F45),\" \")","v":"NA"}]
[null,2,"Does your country have specific targets for the uptake of electric vehicles?",null,"NA"]
[null,null,"What is the target and target year?",null," "]
[null,null,"How many electric cars are currently in your country?",null," "]
[null,null,"How many charging stations are in your country?",null," "]
[]
[]
[null,null,"Descriptive CREF Index Survey"]
[null,null,"Enabling Environment for Renewable Energy (RE) Investments"]
[null,null,"Renewable energy strategy"]
[null,null,"Which of the rollowing renewable generation options is included in your country's strategic plan to develop renewable energy?\n- Solar PV\n- Offshore wind\n- Biomass\n- Waste to energy\n- Hydro\n-Geothermal\n- Other",null,"Solar PV, Onshore wind, WTE",{"$f":"F6","v":"Solar PV, onshore wind"},{"$f":"G6","v":"Solar PV, onshore wind, WTE"}]
[null,null,"What is the target and target year?",null,{"$f":"F56","v":"20% by 2020"},{"$f":"F8","v":"20% by 2020"},{"$f":"G8","v":"50MW by 2030"}]
[null,null,"What is the current breakdown of your country's energy mix?",null,{"$f":"E9","v":" "},{"$f":"F9","v":"1% RE, 99% fossil fuel"},{"$f":"G9","v":"10% RE capacity"}]
[null,null,"Utilities"]
[null,null,"On average, how long does it take for the power utility to get investments in RE projects approved by the regulatory authority 9or the relevant entity) for recovery through tariffs?",null,{"$f":"E15","v":" "},{"$f":"F15","v":0},{"$f":"G15","v":"Yes"}]
[null,null,"IPPs"]
[null,null,"How long did it take to get your off-take agreement?",null,{"$f":"E18","v":" "},{"$f":"F18","v":"There is no contractual arrangement and therefore no targets to determine a timeline"},{"$f":"G18","v":0}]
[null,null,"Distributed Generation"]
[null,null,"What is the number of exisiting distributed scale RE systems in 2018?",null,{"$f":"F63","v":105},{"$f":"F25","v":105},{"$f":"G25","v":0}]
[null,null,"What is the total installed capacity from renewable distributed generation in your country?",null,{"$f":"F64","v":"1.5MW"},{"$f":"F27","v":"1.5MW"},{"$f":"G27","v":0}]
[null,null,"What was the total generation from exisitng distributed scale RE systems in 2018?",null,{"$f":"E28","v":" "},{"$f":"F28","v":0},{"$f":"G28","v":0}]
[null,null,"Existing renewable generation"]
[null,null,"Existing Utility-Scale Renewable Energy Projects"]
[null,null,"What is the number of existing utility-scale RE projects?",null,{"$f":"F68","v":2},{"$f":"F32","v":2},0]
[null,null,"What was the total electricity generated in 2018 (MWh)?",null,{"$f":"E33","v":"NA"},0,0]
[null,null,"What was the total electricity generated from utility-scale RE projects in 2018 (MWh)?",null,{"$f":"E34","v":3300},0,0]
[null,null,"Please provide as much information as possible for exisitng RE projects in the box below as:\n- Project Name\n- Developer\n- Offtaker\n- Renewable Energy Technology Type\n- Start of Commercial Operation (Year)\n- Estimated Capacity Factor (in %) OR Estimated Annual Production (in MWh)\n- Installed Capacity (MW)\n- Length of PPA ",null,{"$f":"F71","v":"Project Name: 10 MegaWatt Solar Project Developer: PV Energy Offtaker: APUA RE Technology Type: Solar Start of Commercial Operation: 2018 Estimated Capacity Factor: 5475 MWh Installed Capacity: 3 MW Length of PPA: N/A"},"Project Name: 10 MegaWatt Solar Project Developer: PV Energy Offtaker: APUA RE Technology Type: Solar Start of Commercial Operation: 2018 Estimated Capacity Factor: 5475 MWh Installed Capacity: 3 MW Length of PPA: N/A",0]
[null,null,"Planned renewable generation"]
[null,null,"Potential Utility-Scale Renewable Energy Projects"]
[null,null,"How much installed capacity from RE is expected to come online in the next 3 years?",null,{"$f":"E39","v":" "},{"$f":"F39","v":0},{"$f":"G39","v":0}]
[null,null,"How much renewable energy generation is expected to come online in the next 3 years?",null,null,{"$f":"F40","v":0},{"$f":"G40","v":0}]
[null,null,"Please provide as much information as possible for RE projects currently under development in the box below as:\n- Project Name\n- Developer\n- Offtaker\n- Renewable Energy Technology Type\n- Start of Commercial Operation (Year)\n- Estimated Capacity Factor (in %) OR Estimated Annual Production (in MWh)\n- Installed Capacity (MW)\n- Length of PPA ",null,{"$f":"E42","v":" "},{"$f":"F42","v":0},{"$f":"G42","v":0}]
[null,null,"Electric Mobility"]
[null,null,"What is the target and target year?",null,{"$f":"E47","v":" "},{"$f":"F47","v":0},{"$f":"G47","v":0}]
[null,null,"How many electric cars are currently in your country?",null,{"$f":"E48","v":" "},0,{"$f":"G48","v":0}]
[null,null,"How many charging stations are in your country?",null," ",0,{"$f":"G49","v":0}]
[]
[]
[null,null,"Improvement Year-on-Year"]
[null,null,"Enabling environment for renewable energy investments","Change",{"$f":"IF(ISERR(E91-E90),\"\",E91-E90)","v":0.3125}]
[null,null,"2012 Score","0 to 5",1.6666666666666665]
[null,null,"2013 Score","0 to 5",1.6666666666666665]
[null,null,"2014 Score","0 to 5",2]
[null,null,"2015 Score","0 to 5",2]
[null,null,"2016 Score","0 to 5",3.6666666666666665]
[null,null,"2017 Score","0 to 5",4.0625]
[null,null,"2018 Score","0 to 5",{"$f":"VLOOKUP(C84,'RE Index | Ranking inputs'!$D$8:$AM$44,MATCH($B$1,'RE Index | Ranking inputs'!$D$5:$AM$5,0),0)","v":4.375}]
[null,null,"Existing renewable generation","Change",{"$f":"IF(ISERR(E99-E98),\"\",E99-E98)","v":-0.2604274611398964}]
[null,null,"2012 Score","0 to 5",0]
[null,null,"2013 Score","0 to 5",0]
[null,null,"2014 Score","0 to 5",6.9915749999999999E-3]
[null,null,"2015 Score","0 to 5",5.6045968401959006E-3]
[null,null,"2016 Score","0 to 5",0]
[null,null,"2017 Score","0 to 5",0.31042746113989639]
[null,null,"2018 Score","0 to 5",{"$f":"VLOOKUP(C92,'RE Index | Ranking inputs'!$D$8:$AM$44,MATCH($B$1,'RE Index | Ranking inputs'!$D$5:$AM$5,0),0)","v":0.05}]
[null,null,"Planned renewable generation","Change",{"$f":"IF(ISERR(E107-E106),\"\",E107-E106)","v":-0.18341598705740741}]
[null,null,"2012 Score","0 to 5",0]
[null,null,"2013 Score","0 to 5",0]
[null,null,"2014 Score","0 to 5",0]
[null,null,"2015 Score","0 to 5",0]
[null,null,"2016 Score","0 to 5",0]
[null,null,"2017 Score","0 to 5",0.23839073453215487]
[null,null,"2018 Score","0 to 5",{"$f":"VLOOKUP(C100,'RE Index | Ranking inputs'!$D$8:$AM$44,MATCH($B$1,'RE Index | Ranking inputs'!$D$5:$AM$5,0),0)","v":5.4974747474747468E-2}]
[null,null,"Electric Mobility","Change","N/A"]
[null,null,"2018 Score","0 to 5",{"$f":"VLOOKUP(C108,'RE Index | Ranking inputs'!$D$8:$AM$44,MATCH($B$1,'RE Index | Ranking inputs'!$D$5:$AM$5,0),0)","v":0}]
[null,null,"Overall Score Year-on-Year","Change",{"$f":"E123-E121","v":-0.19311364098159278}]
[null,null,"2012 Overall Score",null,0.54999999999999993]
[null,null,"2012 Rank",null,19]
[null,null,"2013 Overall Score",null,0.55555555555555547]
[null,null,"2013 Rank",null,26]
[null,null,"2014 Overall Score",null,0.6689971916666666]
[null,null,"2014 Rank",null,25]
[null,null,"2015 Overall Score",null,0.66853486561339859]
[null,null,"2015 Rank",null,27]
[null,null,"2016 Overall Score",null,1.2222222222222221]
[null,null,"2016 Rank",null,17]
[null,null,"2017 Overall Score",null,1.5371060652240169]
[null,null,"2017 Rank",null,14]
[null,null,"2018 Overall Score",null,{"$f":"VLOOKUP(C123,'RE Index | Ranking inputs'!$D$8:$AM$125,MATCH($B$1,'RE Index | Ranking inputs'!$D$5:$AM$5,0),0)","v":1.3439924242424242}]
[null,null,"2018 Rank",null,{"$f":"VLOOKUP(C124,'RE Index | Ranking inputs'!$D$8:$AM$125,MATCH($B$1,'RE Index | Ranking inputs'!$D$5:$AM$5,0),0)","v":14}]

{"sheet":"Bahamas","index":5,"n_rows":124,"n_cols":6,"rows_kept":124,"cut":false,"hidden":false,"merged":[[73,2,73,3],[77,2,77,3],[78,2,78,3],[79,2,79,3],[82,2,82,3],[69,2,69,3],[46,2,46,3],[47,2,47,3],[48,2,48,3],[51,2,51,3],[58,2,58,3],[60,2,60,3],[62,2,62,3],[63,2,63,3],[64,2,64,3],[67,2,67,3],[68,2,68,3],[33,2,33,3],[1,2,1,3],[1,7,1,13],[4,2,4,3],[11,2,11,3],[12,2,12,3],[13,2,13,3],[14,2,14,3],[16,6,21,6],[23,2,23,3],[28,2,28,3]]}
[null,"The Bahamas"]
[null,null,"Overall Indicator",null,null,"Burlington Strachan - BPL"]
[1,null,"Enabling Environment for Renewable Energy (RE) Investments",null,"Consolidated Survey Response","Respondent 27"]
[null,null,"Government - Renewable Energy Strategy",null,null,"Y/N"]
[null,1,"Does your country have a strategic plan to develop renewble energy?",null,{"$f":"IF(B5<>0,IF(ISBLANK(F5),\"NA\",F5),\" \")","v":"NA"}]
[null,null,"Which of the following renewable generation options is includd in you country's strategic plan to develop renewable energy?",null,{"$f":"IF(B6<>0,IF(ISBLANK(F6),\"NA\",F6),\" \")","v":" "},"Solar PV,WTE"]
[null,2,"Does your country have a specific target for renewable energy?",null,"Yes","Yes"]
[null,null,"If yes, what is the target and target year?",null," ","30% by 2030"]
[null,null,"What is the current breakdown of your country's energy mix?",null," ","<1% Renewable, >99% fossil fuel"]
[null,3,"Does your country have an Integrated Resource Plan (IRP) that was produced within the last three years?",null,"Yes","Yes"]
[null,null,"Utilities",null,null,"Y/N"]
[null,1,"When planning generation expansion, does the utility consider RE options?",null,"Yes","Yes"]
[null,2,"Can the utility safely recover RE investments through tariffs like it can recover fossil fuel costs?",null,"No","No"]
[null,3,"Are there clear, specific planning and permitting processes and rules in place for developing RE?",null,"Yes","Yes"]
[null,null,"On average, how long does it take for the power utility to get investments in RE projects approved by the regulatory authority (or relevant entity) fror recovery through tariffs?",null," ","NA"]
[null,null,"IPPs",null,null,"Y/N"]
[null,1,"Can the utility safely recover purchases of RE from third parties, just as it recovers fossil fuel costs?",null,"No","No"]
[null,null,"How long did it take to get your off-take agreement?",null," "]
[null,2,"Are there workable precedents or rules for PPA terms and grid operation rules?",null,"Yes","Yes"]
[null,3,"Are there clear and effective licensing processes and requirements in place for IPPs?",null,"Yes","Yes"]
[null,4,"Does the utility have an obligation to purchase from IPPs when it is cheaper than generating the power itself?",null,"Yes","Yes"]
[null,5,"Does the PPA have any take-or-pay arrangements?",null,"Yes","Yes"]
[null,null,"Distributed generation",null,null,"Y/N"]
[null,1,"Do you have a registry or database of distributed generation?",null,"Yes","Yes"]
[null,null,"What was the number of existing distributed scale RE systems in 2018?",null," ","NA"]
[null,null,"Is there an aggregate maximum capacity for distributed generation?",null," ","NA"]
[null,null,"What is the total installed capacity from renewable distributed generation in your country?",null," ","NA"]
[null,null,"What was the total generation from existing distributed scale RE systems in 2018?",null," ","NA"]
[null,2,"Is there a standard arrangement in place for customers to sell electricity to the utility at a reasonable price, for a reasonable timeframe, and with a clear interconnection agreement?",null,"NA","NA"]
[]
[2,null,"Existing renewable generation"]
[null,null,"What is the number of existing Utility-Scale RE projects?",null,{"$f":"IF(B32<>0,IF(ISBLANK(F32),\"NA\",F32),\" \")","v":" "},0]
[null,1,"What was the total electricity generated in 2018? (MWh)",null,"NA","NA"]
[null,1,"What was the total electricity generated from Utility Scale RE projects in 2018? (MWh) ",null,0,0]
[null,null,"Please provide as much information as possible for exisitng RE projects in the box below as:\n- Project Name\n- Developer\n- Offtaker\n- Renewable Energy Technology Type\n- Start of Commercial Operation (Year)\n- Estimated Capacity Factor (in %) OR Estimated Annual Production (in MWh)\n- Installed Capacity (MW)\n- Length of PPA ",null," ","NA"]
[]
[3,null,"Planned Utility-Scale Renewable Energy Projects"]
[null,1,"Does your country have an estimate of planned installed capacity expected to come online from-utility scale RE projects?",null,{"$f":"IF(B38<>0,IF(ISBLANK(F38),\"NA\",F38),\" \")","v":"No"},"No"]
[null,null,"How much installed capacity from RE is expected to come online in the next 3 years?",null," ","NA"]
[null,2,"How much renewable energy generation is expected to come online in the next 3 years?",null,"NA","NA"]
[null,3,"Is climate resilience incorporated in your IRP or national policy?",null,"Yes","Yes"]
[null,null,"Please provide as much information as possible for RE projects currently under development in the box below as:\n- Project Name\n- Developer\n- Offtaker\n- Renewable Energy Technology Type\n- Start of Commercial Operation (Year)\n- Estimated Capacity Factor (in %) OR Estimated Annual Production (in MWh)\n- Installed Capacity (MW)\n- Length of PPA ",null," ","NA"]
[]
[4,null,"Electric Mobility"]
[null,1,"Does your country have policies in place or draft legislation to promote the uptake of electric mobility?",null,"No","NA"]
[null,2,"Does your country have specific targets for the uptake of electric vehicles?",null,"No","NA"]
[null,null,"What is the target and target year?",null,{"$f":"IF(B47<>0,IF(ISBLANK(F47),\"NA\",F47),\" \")","v":" "},"NA"]
[null,null,"How many electric cars are currently in your country?",null," ","NA"]
[null,null,"How many charging stations are in your country?",null," ","NA"]
[]
[]
[null,null,"Descriptive CREF Index Survey"]
[null,null,"Enabling Environment for Renewable Energy (RE) Investments"]
[null,null,"Renewable energy strategy"]
[null,null,"Which of the rollowing renewable generation options is included in your country's strategic plan to develop renewable energy?\n- Solar PV\n- Offshore wind\n- Biomass\n- Waste to energy\n- Hydro\n-Geothermal\n- Other",null,{"$f":"F55","v":"Solar PV,WTE"},{"$f":"F6","v":"Solar PV,WTE"}]
[null,null,"What is the target and target year?",null,{"$f":"F56","v":"30% by 2030"},{"$f":"F8","v":"30% by 2030"}]
[null,null,"What is the current breakdown of your country's energy mix?",null,"<1% Renewable, >99% fossil fuel",{"$f":"F9","v":"<1% Renewable, >99% fossil fuel"}]
[null,null,"Utilities"]
[null,null,"On average, how long does it take for the power utility to get investments in RE projects approved by the regulatory authority 9or the relevant entity) for recovery through tariffs?",null,null,{"$f":"F15","v":"NA"}]
[null,null,"IPPs"]
[null,null,"How long did it take to get your off-take agreement?",null,null,{"$f":"F18","v":0}]
[null,null,"Distributed Generation"]
[null,null,"What is the number of exisiting distributed scale RE systems in 2018?",null,null,{"$f":"F25","v":"NA"}]
[null,null,"What is the total installed capacity from renewable distributed generation in your country?",null,null,{"$f":"F27","v":"NA"}]
[null,null,"What was the total generation from exisitng distributed scale RE systems in 2018?",null,null,{"$f":"F28","v":"NA"}]
[null,null,"Existing renewable generation"]
[null,null,"Existing Utility-Scale Renewable Energy Projects"]
[null,null,"What is the number of existing utility-scale RE projects?",null,null,{"$f":"F32","v":0}]
[null,null,"What was the total electricity generated in 2018 (MWh)?",null,null,{"$f":"F33","v":"NA"}]
[null,null,"What was the total electricity generated from utility-scale RE projects in 2018 (MWh)?",null,null,{"$f":"F34","v":0}]
[null,null,"Please provide as much information as possible for exisitng RE projects in the box below as:\n- Project Name\n- Developer\n- Offtaker\n- Renewable Energy Technology Type\n- Start of Commercial Operation (Year)\n- Estimated Capacity Factor (in %) OR Estimated Annual Production (in MWh)\n- Installed Capacity (MW)\n- Length of PPA ",null,null,{"$f":"F35","v":"NA"}]
[null,null,"Planned renewable generation"]
[null,null,"Potential Utility-Scale Renewable Energy Projects"]
[null,null,"How much installed capacity from RE is expected to come online in the next 3 years?",null,null,{"$f":"F39","v":"NA"}]
[null,null,"How much renewable energy generation is expected to come online in the next 3 years?",null,null,{"$f":"F40","v":"NA"}]
[null,null,"Please provide as much information as possible for RE projects currently under development in the box below as:\n- Project Name\n- Developer\n- Offtaker\n- Renewable Energy Technology Type\n- Start of Commercial Operation (Year)\n- Estimated Capacity Factor (in %) OR Estimated Annual Production (in MWh)\n- Installed Capacity (MW)\n- Length of PPA ",null,null,{"$f":"F42","v":"NA"}]
[null,null,"Electric Mobility"]
[null,null,"What is the target and target year?",null,null,{"$f":"F47","v":"NA"}]
[null,null,"How many electric cars are currently in your country?",null,null,{"$f":"F48","v":"NA"}]
[null,null,"How many charging stations are in your country?",null,null,"NA"]
[]
[]
[null,null,"Improvement Year-on-Year"]
[null,null,"Enabling environment for renewable energy investments","Change",{"$f":"IF(ISERR(E91-E90),\"\",E91-E90)","v":-1.1770833333333335}]
[null,null,"2012 Score","0 to 5",1]
[null,null,"2013 Score","0 to 5",1]
[null,null,"2014 Score","0 to 5",1]
[null,null,"2015 Score","0 to 5",1.3333333333333333]
[null,null,"2016 Score","0 to 5",4.333333333333333]
[null,null,"2017 Score","0 to 5",3.9583333333333335]
[null,null,"2018 Score","0 to 5",{"$f":"VLOOKUP(C84,'RE Index | Ranking inputs'!$D$8:$AM$44,MATCH($B$1,'RE Index | Ranking inputs'!$D$5:$AM$5,0),0)","v":2.78125}]
[null,null,"Existing renewable generation","Change",{"$f":"IF(ISERR(E99-E98),\"\",E99-E98)","v":0}]
[null,null,"2012 Score","0 to 5",0]
[null,null,"2013 Score","0 to 5",1.0510518934081347E-2]
[null,null,"2014 Score","0 to 5",1.4203214628146119E-2]
[null,null,"2015 Score","0 to 5",1.2641426335153264E-2]
[null,null,"2016 Score","0 to 5",0]
[null,null,"2017 Score","0 to 5",0]
[null,null,"2018 Score","0 to 5",{"$f":"VLOOKUP(C92,'RE Index | Ranking inputs'!$D$8:$AM$44,MATCH($B$1,'RE Index | Ranking inputs'!$D$5:$AM$5,0),0)","v":0}]
[null,null,"Planned renewable generation","Change",{"$f":"IF(ISERR(E107-E106),\"\",E107-E106)","v":0.6576799078871618}]
[null,null,"2012 Score","0 to 5",0.21]
[null,null,"2013 Score","0 to 5",0.30178437084187443]
[null,null,"2014 Score","0 to 5",0.3406416772309005]
[null,null,"2015 Score","0 to 5",5.1501037961494155E-2]
[null,null,"2016 Score","0 to 5",0]
[null,null,"2017 Score","0 to 5",0]
[null,null,"2018 Score","0 to 5",{"$f":"VLOOKUP(C100,'RE Index | Ranking inputs'!$D$8:$AM$44,MATCH($B$1,'RE Index | Ranking inputs'!$D$5:$AM$5,0),0)","v":0.6576799078871618}]
[null,null,"Electric Mobility","Change","N/A"]
[null,null,"2018 Score","0 to 5",{"$f":"VLOOKUP(C108,'RE Index | Ranking inputs'!$D$8:$AM$44,MATCH($B$1,'RE Index | Ranking inputs'!$D$5:$AM$5,0),0)","v":0}]
[null,null,"Overall Score Year-on-Year","Change",{"$f":"E123-E121","v":-0.28776547207829584}]
[null,null,"2012 Overall Score",null,0.39929999999999999]
[null,null,"2012 Rank",null,20]
[null,null,"2013 Overall Score",null,0.43743162992531853]
[null,null,"2013 Rank",null,27]
[null,null,"2014 Overall Score",null,0.45161496395301548]
[null,null,"2014 Rank",null,27]
[null,null,"2015 Overall Score",null,0.46582526587666018]
[null,null,"2015 Rank",null,29]
[null,null,"2016 Overall Score",null,1.4444444444444442]
[null,null,"2016 Rank",null,13]
[null,null,"2017 Overall Score",null,1.3194444444444444]
[null,null,"2017 Rank",null,19]
[null,null,"2018 Overall Score",null,{"$f":"VLOOKUP(C123,'RE Index | Ranking inputs'!$D$8:$AM$125,MATCH($B$1,'RE Index | Ranking inputs'!$D$5:$AM$5,0),0)","v":1.0316789723661486}]
[null,null,"2018 Rank",null,{"$f":"VLOOKUP(C124,'RE Index | Ranking inputs'!$D$8:$AM$125,MATCH($B$1,'RE Index | Ranking inputs'!$D$5:$AM$5,0),0)","v":17}]

{"sheet":"Barbados","index":6,"n_rows":124,"n_cols":7,"rows_kept":124,"cut":false,"hidden":false,"merged":[[73,2,73,3],[77,2,77,3],[78,2,78,3],[79,2,79,3],[82,2,82,3],[69,2,69,3],[46,2,46,3],[47,2,47,3],[48,2,48,3],[51,2,51,3],[58,2,58,3],[60,2,60,3],[62,2,62,3],[63,2,63,3],[64,2,64,3],[67,2,67,3],[68,2,68,3],[33,2,33,3],[0,1,0,4],[4,2,4,3],[11,2,11,3],[12,2,12,3],[13,2,13,3],[14,2,14,3],[23,2,23,3],[28,2,28,3],[1,2,1,4]]}
[null,"Barbados"]
[null,null,"Overall Indicator",null,null,"Elvis Caddle - Fair Trading Commission","Charmaine Gill-Evans, Barbados Light & Power"]
[1,null,"Enabling Environment for Renewable Energy (RE) Investments",null,"Consolidated Survey Response","Respondent 27/33","Respondent 28"]
[null,null,"Government - Renewable Energy Strategy",null,"Y/N"]
[null,1,"Does your country have a strategic plan to develop renewble energy?",null,"Yes","Yes","Yes"]
[null,null,"Which of the following renewable generation options is includd in you country's strategic plan to develop renewable energy?",null,null,"Solar PV, Onshore Wind, Offshore wind, biomass, WTE","Solar PV, Onshore wind, Offshore wind, biomass, WTE, energy storage"]
[null,2,"Does your country have a specific target for renewable energy?",null,"Yes","Yes","Yes"]
[null,null,"If yes, what is the target and target year?",null,null,"100% RE BY 2030.","This Barbados National Energy Policy (BNEP) 2019-2030 document is designed to achieve the 100% renewable energy and carbon neutral island- state transformational goals by 2030."]
[null,null,"What is the current breakdown of your country's energy mix?",null,null,"HFO 37%, DIESEL 18%, GASOLINE 17%, KEROSINE 7%, LPG 2%, SUGAR CANE BACASSE 3%, NATURAL GAS 2%, ELECTRICITY 14%, SOLAR THERMAL < 1%"]
[null,3,"Does your country have an Integrated Resource Plan (IRP) that was produced within the last three years?",null,"No","No","No"]
[null,null,"Utilities",null,"Y/N"]
[null,1,"When planning generation expansion, does the utility consider RE options?",null,"Yes","Yes","Yes"]
[null,2,"Can the utility safely recover RE investments through tariffs like it can recover fossil fuel costs?",null,"Yes","Yes","Yes"]
[null,3,"Are there clear, specific planning and permitting processes and rules in place for developing RE?",null,"No","Yes","No"]
[null,null,"On average, how long does it take for the power utility to get investments in RE projects approved by the regulatory authority (or relevant entity) fror recovery through tariffs?",null,null,"6 months","The permitting process is a minimum of a year and a half for large-scale utility solar projects and for solar projects less than 500kW, approx. one month. The permitting process is two to three years for large-scale utility wind."]
[null,null,"IPPs",null,"Y/N"]
[null,1,"Can the utility safely recover purchases of RE from third parties, just as it recovers fossil fuel costs?",null,"Yes","Yes","Yes"]
[null,null,"How long did it take to get your off-take agreement?",null,null,"3 months","This pertains only to the providers under the Renewable Energy Rider, for RE systems up to 500kw. Costs are recovered via the Fuel Clause Adjustment."]
[null,2,"Are there workable precedents or rules for PPA terms and grid operation rules?",null,null,"Yes","No"]
[null,3,"Are there clear and effective licensing processes and requirements in place for IPPs?",null,null,"Yes","No"]
[null,4,"Does the utility have an obligation to purchase from IPPs when it is cheaper than generating the power itself?",null,"Yes","Yes","Yes"]
[null,5,"Does the PPA have any take-or-pay arrangements?",null,null,"Yes","No"]
[null,null,"Distributed generation",null,"Y/N"]
[null,1,"Do you have a registry or database of distributed generation?",null,"Yes","Yes","Yes"]
[null,null,"What was the number of existing distributed scale RE systems in 2018?",null,null,"20MW","1779 customers subscribe to the Renewable Energy Rider, 19.6 MW in total"]
[null,null,"Is there an aggregate maximum capacity for distributed generation?",null,null,"Yes","No"]
[null,null,"What is the total installed capacity from renewable distributed generation in your country?",null,null,"24MW","Via the RER - 24.7MW Via the utility owned Trents solar PV plant - 10MW"]
[null,null,"What was the total generation from existing distributed scale RE systems in 2018?",null,null,"26GWh","Via the RER - 25, 765, 274 kWh Via the utility owned Trents solar PV plant - 18,015,345 kWh net"]
[null,2,"Is there a standard arrangement in place for customers to sell electricity to the utility at a reasonable price, for a reasonable timeframe, and with a clear interconnection agreement?",null,"Yes","Yes","Yes"]
[]
[2,null,"Existing renewable generation"]
[null,null,"What is the number of existing Utility-Scale RE projects?",null,null,"One 10MW solar farm","One - Trents Solar PV"]
[null,null,"What was the total electricity generated in 2018? (MWh)",null,{"$f":"AVERAGE(F33,970389.326)","v":1004194.6629999999},1038000,"970, 389.326 MWh net in 2018"]
[null,1,"What was the total electricity generated from Utility Scale RE projects in 2018? (MWh) ",null,{"$f":"AVERAGE(18234,18015.345)","v":18124.672500000001},18234,"Via the utility owned Trents solar PV plant - 18,015.345 MWh net"]
[null,null,"Please provide as much information as possible for exisitng RE projects in the box below as:\n- Project Name\n- Developer\n- Offtaker\n- Renewable Energy Technology Type\n- Start of Commercial Operation (Year)\n- Estimated Capacity Factor (in %) OR Estimated Annual Production (in MWh)\n- Installed Capacity (MW)\n- Length of PPA ",null,null,"NA","Project Name: Trents PV - Developer - BLPC - Offtaker- BLPC - Renewable Energy Technology Type - Solar PV - Start of Commercial Operation (Year)- 2016 - Estimated Capacity Factor (in %) - 20% est. OR Estimated Annual Production (in MWh) - Installed Capacity (MW) - 10MW - Length of PPA - N/A, rate-based BLPC project"]
[]
[3,null,"Planned Utility-Scale Renewable Energy Projects"]
[null,1,"Does your country have an estimate of planned installed capacity expected to come online from-utility scale RE projects?",null,"Yes","No","Yes"]
[null,null,"How much installed capacity from RE is expected to come online in the next 3 years?",null,{"$f":"(32*3)","v":96},"NA","See previously attached Government Implementation plan."]
[null,2,"How much renewable energy generation is expected to come online in the next 3 years?",null,{"$f":"52.48*1000","v":52480},"NA","See previously attached Government Implementation plan."]
[null,3,"Is climate resilience incorporated in your IRP or national policy?",null,"No","Yes","No"]
[null,null,"Please provide as much information as possible for RE projects currently under development in the box below as:\n- Project Name\n- Developer\n- Offtaker\n- Renewable Energy Technology Type\n- Start of Commercial Operation (Year)\n- Estimated Capacity Factor (in %) OR Estimated Annual Production (in MWh)\n- Installed Capacity (MW)\n- Length of PPA ",null,null,null,"NA"]
[]
[4,null,"Electric Mobility"]
[null,1,"Does your country have policies in place or draft legislation to promote the uptake of electric mobility?",null,"Yes","Yes","NA"]
[null,2,"Does your country have specific targets for the uptake of electric vehicles?",null,"No","No","NA"]
[null,null,"What is the target and target year?",null,null,"NA","NA"]
[null,null,"How many electric cars are currently in your country?",null,null,"Approximately 400","400 est."]
[null,null,"How many charging stations are in your country?",null,null,"Approximately 50","119 Total EV Chargers (via Plugshare app) EV Charge Points from www.plugshare.com"]
[]
[]
[null,null,"Descriptive CREF Index Survey"]
[null,null,"Enabling Environment for Renewable Energy (RE) Investments"]
[null,null,"Renewable energy strategy"]
[null,null,"Which of the rollowing renewable generation options is included in your country's strategic plan to develop renewable energy?\n- Solar PV\n- Offshore wind\n- Biomass\n- Waste to energy\n- Hydro\n-Geothermal\n- Other",null,{"$f":"G55","v":"Solar PV, Onshore wind, Offshore wind, biomass, WTE, energy storage"},{"$f":"F6","v":"Solar PV, Onshore Wind, Offshore wind, biomass, WTE"},"Solar PV, Onshore wind, Offshore wind, biomass, WTE, energy storage"]
[null,null,"What is the target and target year?",null,"100% by 2030",{"$f":"F8","v":"100% RE BY 2030."},"This Barbados National Energy Policy (BNEP) 2019-2030 document is designed to achieve the 100% renewable energy and carbon neutral island- state transformational goals by 2030."]
[null,null,"What is the current breakdown of your country's energy mix?",null,{"$f":"F57","v":"HFO 37%, DIESEL 18%, GASOLINE 17%, KEROSINE 7%, LPG 2%, SUGAR CANE BACASSE 3%, NATURAL GAS 2%, ELECTRICITY 14%, SOLAR THERMAL < 1%"},{"$f":"F9","v":"HFO 37%, DIESEL 18%, GASOLINE 17%, KEROSINE 7%, LPG 2%, SUGAR CANE BACASSE 3%, NATURAL GAS 2%, ELECTRICITY 14%, SOLAR THERMAL < 1%"},0]
[null,null,"Utilities"]
[null,null,"On average, how long does it take for the power utility to get investments in RE projects approved by the regulatory authority 9or the relevant entity) for recovery through tariffs?",null,"6 months - 3 years",{"$f":"F15","v":"6 months"},"The permitting process is a minimum of a year and a half for large-scale utility solar projects and for solar projects less than 500kW, approx. one month. The permitting process is two to three years for large-scale utility wind."]
[null,null,"IPPs"]
[null,null,"How long did it take to get your off-take agreement?",null,{"$f":"F61","v":"3 months"},{"$f":"F18","v":"3 months"},"This pertains only to the providers under the Renewable Energy Rider, for RE systems up to 500kw. Costs are recovered via the Fuel Clause Adjustment."]
[null,null,"Distributed Generation"]
[null,null,"What is the number of exisiting distributed scale RE systems in 2018?",null,{"$f":"F63","v":"20MW"},{"$f":"F25","v":"20MW"},"1779 customers subscribe to the Renewable Energy Rider, 19.6 MW in total"]
[null,null,"What is the total installed capacity from renewable distributed generation in your country?",null,{"$f":"F64","v":"24MW"},{"$f":"F27","v":"24MW"},"Via the RER - 24.7MW Via the utility owned Trents solar PV plant - 10MW"]
[null,null,"What was the total generation from exisitng distributed scale RE systems in 2018?",null,"18-26GWh",{"$f":"F28","v":"26GWh"},"Via the RER - 25, 765, 274 kWh Via the utility owned Trents solar PV plant - 18,015,345 kWh net"]
[null,null,"Existing renewable generation"]
[null,null,"Existing Utility-Scale Renewable Energy Projects"]
[null,null,"What is the number of existing utility-scale RE projects?",null,"One: 10MW Trents Solar PV Farm",{"$f":"F32","v":"One 10MW solar farm"},"One - Trents Solar PV"]
[null,null,"What was the total electricity generated in 2018 (MWh)?",null,"970389-1038000",{"$f":"F33","v":1038000},"970, 389.326 MWh net in 2018"]
[null,null,"What was the total electricity generated from utility-scale RE projects in 2018 (MWh)?",null,18000,{"$f":"F34","v":18234},"Via the utility owned Trents solar PV plant - 18,015.345 MWh net"]
[null,null,"Please provide as much information as possible for exisitng RE projects in the box below as:\n- Project Name\n- Developer\n- Offtaker\n- Renewable Energy Technology Type\n- Start of Commercial Operation (Year)\n- Estimated Capacity Factor (in %) OR Estimated Annual Production (in MWh)\n- Installed Capacity (MW)\n- Length of PPA ",null,{"$f":"G71","v":"Project Name: Trents PV - Developer - BLPC - Offtaker- BLPC - Renewable Energy Technology Type - Solar PV - Start of Commercial Operation (Year)- 2016 - Estimated Capacity Factor (in %) - 20% est. OR Estimated Annual Production (in MWh) - Installed Capacity (MW) - 10MW - Length of PPA - N/A, rate-based BLPC project"},{"$f":"F35","v":"NA"},"Project Name: Trents PV - Developer - BLPC - Offtaker- BLPC - Renewable Energy Technology Type - Solar PV - Start of Commercial Operation (Year)- 2016 - Estimated Capacity Factor (in %) - 20% est. OR Estimated Annual Production (in MWh) - Installed Capacity (MW) - 10MW - Length of PPA - N/A, rate-based BLPC project"]
[null,null,"Planned renewable generation"]
[null,null,"Potential Utility-Scale Renewable Energy Projects"]
[null,null,"How much installed capacity from RE is expected to come online in the next 3 years?",null,{"$f":"E39","v":96},{"$f":"F39","v":"NA"},"See previously attached Government Implementation plan."]
[null,null,"How much renewable energy generation is expected to come online in the next 3 years?",null,{"$f":"E40","v":52480},{"$f":"F40","v":"NA"},"See previously attached Government Implementation plan."]
[null,null,"Please provide as much information as possible for RE projects currently under development in the box below as:\n- Project Name\n- Developer\n- Offtaker\n- Renewable Energy Technology Type\n- Start of Commercial Operation (Year)\n- Estimated Capacity Factor (in %) OR Estimated Annual Production (in MWh)\n- Installed Capacity (MW)\n- Length of PPA ",null,null,{"$f":"F42","v":0},"NA"]
[null,null,"Electric Mobility"]
[null,null,"What is the target and target year?",null,null,{"$f":"F47","v":"NA"},"NA"]
[null,null,"How many electric cars are currently in your country?",null,{"$f":"F79","v":"Approximately 400"},{"$f":"F48","v":"Approximately 400"},"400 est."]
[null,null,"How many charging stations are in your country?",null,"50-119","Approximately 50","119 Total EV Chargers (via Plugshare app) EV Charge Points from www.plugshare.com"]
[]
[]
[null,null,"Improvement Year-on-Year"]
[null,null,"Enabling environment for renewable energy investments","Change",{"$f":"IF(ISERR(E91-E90),\"\",E91-E90)","v":-0.20833333333333348}]
[null,null,"2012 Score","0 to 5",3.1666666666666665]
[null,null,"2013 Score","0 to 5",3.1666666666666665]
[null,null,"2014 Score","0 to 5",3.833333333333333]
[null,null,"2015 Score","0 to 5",3.833333333333333]
[null,null,"2016 Score","0 to 5",2.6666666666666665]
[null,null,"2017 Score","0 to 5",3.3333333333333335]
[null,null,"2018 Score","0 to 5",{"$f":"VLOOKUP(C84,'RE Index | Ranking inputs'!$D$8:$AM$44,MATCH($B$1,'RE Index | Ranking inputs'!$D$5:$AM$5,0),0)","v":3.125}]
[null,null,"Existing renewable generation","Change",{"$f":"IF(ISERR(E99-E98),\"\",E99-E98)","v":-0.25355981695737134}]
[null,null,"2012 Score","0 to 5",0]
[null,null,"2013 Score","0 to 5",9.8800657599557151E-3]
[null,null,"2014 Score","0 to 5",4.2323291060934125E-2]
[null,null,"2015 Score","0 to 5",3.5862440483214394E-2]
[null,null,"2016 Score","0 to 5",0.19172685903064371]
[null,null,"2017 Score","0 to 5",0.34380463286713286]
[null,null,"2018 Score","0 to 5",{"$f":"VLOOKUP(C92,'RE Index | Ranking inputs'!$D$8:$AM$44,MATCH($B$1,'RE Index | Ranking inputs'!$D$5:$AM$5,0),0)","v":9.0244815909761522E-2}]
[null,null,"Planned renewable generation","Change",{"$f":"IF(ISERR(E107-E106),\"\",E107-E106)","v":0.46653798047763939}]
[null,null,"2012 Score","0 to 5",0.6]
[null,null,"2013 Score","0 to 5",0.71030536097127561]
[null,null,"2014 Score","0 to 5",0.14562940660860679]
[null,null,"2015 Score","0 to 5",1.1553250507194208]
[null,null,"2016 Score","0 to 5",0]
[null,null,"2017 Score","0 to 5",0.17611888111888116]
[null,null,"2018 Score","0 to 5",{"$f":"VLOOKUP(C100,'RE Index | Ranking inputs'!$D$8:$AM$44,MATCH($B$1,'RE Index | Ranking inputs'!$D$5:$AM$5,0),0)","v":0.64265686159652058}]
[null,null,"Electric Mobility","Change","N/A"]
[null,null,"2018 Score","0 to 5",{"$f":"VLOOKUP(C108,'RE Index | Ranking inputs'!$D$8:$AM$44,MATCH($B$1,'RE Index | Ranking inputs'!$D$5:$AM$5,0),0)","v":2.5}]
[null,null,"Overall Score Year-on-Year","Change",{"$f":"E123-E121","v":0.12295155414543557}]
[null,null,"2012 Overall Score",null,1.2429999999999999]
[null,null,"2012 Rank",null,9]
[null,null,"2013 Overall Score",null,1.2956173644659659]
[null,null,"2013 Rank",null,12]
[null,null,"2014 Overall Score",null,1.3404286770009579]
[null,null,"2014 Rank",null,10]
[null,null,"2015 Overall Score",null,1.6748402748453228]
[null,null,"2015 Rank",null,11]
[null,null,"2016 Overall Score",null,0.95279784189910344]
[null,null,"2016 Rank",null,21]
[null,null,"2017 Overall Score",null,1.284418949106449]
[null,null,"2017 Rank",null,20]
[null,null,"2018 Overall Score",null,{"$f":"VLOOKUP(C123,'RE Index | Ranking inputs'!$D$8:$AM$125,MATCH($B$1,'RE Index | Ranking inputs'!$D$5:$AM$5,0),0)","v":1.4073705032518846}]
[null,null,"2018 Rank",null,{"$f":"VLOOKUP(C124,'RE Index | Ranking inputs'!$D$8:$AM$125,MATCH($B$1,'RE Index | Ranking inputs'!$D$5:$AM$5,0),0)","v":13}]

{"sheet":"Belize","index":7,"n_rows":124,"n_cols":6,"rows_kept":124,"cut":false,"hidden":false,"merged":[[73,2,73,3],[77,2,77,3],[78,2,78,3],[79,2,79,3],[82,2,82,3],[69,2,69,3],[46,2,46,3],[47,2,47,3],[48,2,48,3],[51,2,51,3],[58,2,58,3],[60,2,60,3],[62,2,62,3],[63,2,63,3],[64,2,64,3],[67,2,67,3],[68,2,68,3],[33,2,33,3],[1,2,1,3],[1,7,1,13],[4,2,4,3],[11,2,11,3],[12,2,12,3],[13,2,13,3],[14,2,14,3],[23,2,23,3],[28,2,28,3]]}
[null,"Belize"]
[null,null,"Overall Indicator",null,null,"Leon Westby - BEL"]
[1,null,"Enabling Environment for Renewable Energy (RE) Investments",null,"Consolidated Survey Response","Respondent 37"]
[null,null,"Government - Renewable Energy Strategy",null,null,"Y/N"]
[null,1,"Does your country have a strategic plan to develop renewble energy?",null,{"$f":"IF(B5<>0,IF(ISBLANK(F5),\"NA\",F5),\" \")","v":"Yes"},"Yes"]
[null,null,"Which of the following renewable generation options is includd in you country's strategic plan to develop renewable energy?",null," ","Solar PV, Biomass, Hydro"]
[null,2,"Does your country have a specific target for renewable energy?",null,"Yes","Yes"]
[null,null,"If yes, what is the target and target year?",null," ","Reduce the country's dependence on imported fuels by 50 percent by 2020..by increasing the production of modern energy carriers from domestic renewable energy resources, coupled with improving energy efficiency and conservation."]
[null,null,"What is the current breakdown of your country's energy mix?",null," ","54% Renewable Energy 37% Imported Energy (From Mexico) 9% Non-Renewable Energy"]
[null,3,"Does your country have an Integrated Resource Plan (IRP) that was produced within the last three years?",null,"Yes","Yes"]
[null,null,"Utilities",null,null,"Y/N"]
[null,1,"When planning generation expansion, does the utility consider RE options?",null,"Yes","Yes"]
[null,2,"Can the utility safely recover RE investments through tariffs like it can recover fossil fuel costs?",null,"Yes","Yes"]
[null,3,"Are there clear, specific planning and permitting processes and rules in place for developing RE?",null,"No","No"]
[null,null,"On average, how long does it take for the power utility to get investments in RE projects approved by the regulatory authority (or relevant entity) fror recovery through tariffs?",null," ","Direct capital investments made by the Utility should be recoverable in any Annual Tariff Period - on a year-to-year."]
[null,null,"IPPs",null,null,"Y/N"]
[null,1,"Can the utility safely recover purchases of RE from third parties, just as it recovers fossil fuel costs?",null,"Yes","Yes"]
[null,null,"How long did it take to get your off-take agreement?",null," ","Timelines vary significantly based on project particulars."]
[null,2,"Are there workable precedents or rules for PPA terms and grid operation rules?",null,"Yes","Yes"]
[null,3,"Are there clear and effective licensing processes and requirements in place for IPPs?",null,"Yes","Yes"]
[null,4,"Does the utility have an obligation to purchase from IPPs when it is cheaper than generating the power itself?",null,"Yes","Yes"]
[null,5,"Does the PPA have any take-or-pay arrangements?",null,"Yes","Yes"]
[null,null,"Distributed generation",null,null,"Y/N"]
[null,1,"Do you have a registry or database of distributed generation?",null,"No","No"]
[null,null,"What was the number of existing distributed scale RE systems in 2018?",null," ","NA"]
[null,null,"Is there an aggregate maximum capacity for distributed generation?",null," ","No"]
[null,null,"What is the total installed capacity from renewable distributed generation in your country?",null," ","Approximate 4 MW with 2 MW on grid"]
[null,null,"What was the total generation from existing distributed scale RE systems in 2018?",null," ","Not Available"]
[null,2,"Is there a standard arrangement in place for customers to sell electricity to the utility at a reasonable price, for a reasonable timeframe, and with a clear interconnection agreement?",null,"No","No"]
[]
[2,null,"Existing renewable generation"]
[null,null,"What is the number of existing Utility-Scale RE projects?",null,{"$f":"IF(B32<>0,IF(ISBLANK(F32),\"NA\",F32),\" \")","v":" "},7]
[null,1,"What was the total electricity generated in 2018? (MWh)",null,631093,631093]
[null,1,"What was the total electricity generated from Utility Scale RE projects in 2018? (MWh) ",null,342039,342039]
[null,null,"Please provide as much information as possible for exisitng RE projects in the box below as:\n- Project Name\n- Developer\n- Offtaker\n- Renewable Energy Technology Type\n- Start of Commercial Operation (Year)\n- Estimated Capacity Factor (in %) OR Estimated Annual Production (in MWh)\n- Installed Capacity (MW)\n- Length of PPA ",null," ","NA"]
[]
[3,null,"Planned Utility-Scale Renewable Energy Projects"]
[null,1,"Does your country have an estimate of planned installed capacity expected to come online from-utility scale RE projects?",null,{"$f":"IF(B38<>0,IF(ISBLANK(F38),\"NA\",F38),\" \")","v":"Yes"},"Yes"]
[null,null,"How much installed capacity from RE is expected to come online in the next 3 years?",null," ","40MW"]
[null,2,"How much renewable energy generation is expected to come online in the next 3 years?",null,"NA","NA"]
[null,3,"Is climate resilience incorporated in your IRP or national policy?",null,"Yes","Yes"]
[null,null,"Please provide as much information as possible for RE projects currently under development in the box below as:\n- Project Name\n- Developer\n- Offtaker\n- Renewable Energy Technology Type\n- Start of Commercial Operation (Year)\n- Estimated Capacity Factor (in %) OR Estimated Annual Production (in MWh)\n- Installed Capacity (MW)\n- Length of PPA ",null," ","Project Name: BECOL 30 MW Solar Farm Developer: Belize Electric Company Limited (BECOL) Off taker: Belize Electricity Limited (BEL) RE Technology: Solar PV Status: Feasibility Expected Commercial Operation (Year): 2021 Estimated Capacity Factor (%) or Annual Production (in MWh): not available Installed Capacity 30MW Length of PPA: To be determined Project Name: BAPCOL 10 MW Solar Farm Developer: Blair Athol Power Company Limited (BAPCOL) Off taker: Belize Electricity Limited (BEL) RE Technology: Solar PV Status: Feasibility Expected Commercial Operation (Year): 2021 Estimated Capacity Factor (%) or Annual Production (in MWh): not available Installed Capacity 10MW Length of PPA: To be determined"]
[]
[4,null,"Electric Mobility"]
[null,1,"Does your country have policies in place or draft legislation to promote the uptake of electric mobility?",null,{"$f":"IF(B45<>0,IF(ISBLANK(F45),\"NA\",F45),\" \")","v":"No"},"No"]
[null,2,"Does your country have specific targets for the uptake of electric vehicles?",null,"No","No"]
[null,null,"What is the target and target year?",null," ","NA"]
[null,null,"How many electric cars are currently in your country?",null," ","Less than 5 known electric vehicles, including hybrids."]
[null,null,"How many charging stations are in your country?",null," ","No publicly available charging stations"]
[]
[]
[null,null,"Descriptive CREF Index Survey"]
[null,null,"Enabling Environment for Renewable Energy (RE) Investments"]
[null,null,"Renewable energy strategy"]
[null,null,"Which of the rollowing renewable generation options is included in your country's strategic plan to develop renewable energy?\n- Solar PV\n- Offshore wind\n- Biomass\n- Waste to energy\n- Hydro\n-Geothermal\n- Other",null,{"$f":"F55","v":"Solar PV, Biomass, Hydro"},{"$f":"F6","v":"Solar PV, Biomass, Hydro"}]
[null,null,"What is the target and target year?",null,{"$f":"F56","v":"Reduce the country's dependence on imported fuels by 50 percent by 2020..by increasing the production of modern energy carriers from domestic renewable energy resources, coupled with improving energy efficiency and conservation."},{"$f":"F8","v":"Reduce the country's dependence on imported fuels by 50 percent by 2020..by increasing the production of modern energy carriers from domestic renewable energy resources, coupled with improving energy efficiency and conservation."}]
[null,null,"What is the current breakdown of your country's energy mix?",null,"54% Renewable Energy 37% Imported Energy (From Mexico) 9% Non-Renewable Energy",{"$f":"F9","v":"54% Renewable Energy 37% Imported Energy (From Mexico) 9% Non-Renewable Energy"}]
[null,null,"Utilities"]
[null,null,"On average, how long does it take for the power utility to get investments in RE projects approved by the regulatory authority 9or the relevant entity) for recovery through tariffs?",null,"Direct capital investments made by the Utility should be recoverable in any Annual Tariff Period - on a year-to-year.",{"$f":"F15","v":"Direct capital investments made by the Utility should be recoverable in any Annual Tariff Period - on a year-to-year."}]
[null,null,"IPPs"]
[null,null,"How long did it take to get your off-take agreement?",null,"Timelines vary significantly based on project particulars.",{"$f":"F18","v":"Timelines vary significantly based on project particulars."}]
[null,null,"Distributed Generation"]
[null,null,"What is the number of exisiting distributed scale RE systems in 2018?",null,"NA",{"$f":"F25","v":"NA"}]
[null,null,"What is the total installed capacity from renewable distributed generation in your country?",null,"Approximate 4 MW with 2 MW on grid",{"$f":"F27","v":"Approximate 4 MW with 2 MW on grid"}]
[null,null,"What was the total generation from exisitng distributed scale RE systems in 2018?",null,"Not Available",{"$f":"F28","v":"Not Available"}]
[null,null,"Existing renewable generation"]
[null,null,"Existing Utility-Scale Renewable Energy Projects"]
[null,null,"What is the number of existing utility-scale RE projects?",null,7,{"$f":"F32","v":7}]
[null,null,"What was the total electricity generated in 2018 (MWh)?",null,631093,{"$f":"F33","v":631093}]
[null,null,"What was the total electricity generated from utility-scale RE projects in 2018 (MWh)?",null,342039,{"$f":"F34","v":342039}]
[null,null,"Please provide as much information as possible for exisitng RE projects in the box below as:\n- Project Name\n- Developer\n- Offtaker\n- Renewable Energy Technology Type\n- Start of Commercial Operation (Year)\n- Estimated Capacity Factor (in %) OR Estimated Annual Production (in MWh)\n- Installed Capacity (MW)\n- Length of PPA ",null,"NA",{"$f":"F35","v":"NA"}]
[null,null,"Planned renewable generation"]
[null,null,"Potential Utility-Scale Renewable Energy Projects"]
[null,null,"How much installed capacity from RE is expected to come online in the next 3 years?",null,"40MW",{"$f":"F39","v":"40MW"}]
[null,null,"How much renewable energy generation is expected to come online in the next 3 years?",null,"NA",{"$f":"F40","v":"NA"}]
[null,null,"Please provide as much information as possible for RE projects currently under development in the box below as:\n- Project Name\n- Developer\n- Offtaker\n- Renewable Energy Technology Type\n- Start of Commercial Operation (Year)\n- Estimated Capacity Factor (in %) OR Estimated Annual Production (in MWh)\n- Installed Capacity (MW)\n- Length of PPA ",null,"Project Name: BECOL 30 MW Solar Farm Developer: Belize Electric Company Limited (BECOL) Off taker: Belize Electricity Limited (BEL) RE Technology: Solar PV Status: Feasibility Expected Commercial Operation (Year): 2021 Estimated Capacity Factor (%) or Annual Production (in MWh): not available Installed Capacity 30MW Length of PPA: To be determined Project Name: BAPCOL 10 MW Solar Farm Developer: Blair Athol Power Company Limited (BAPCOL) Off taker: Belize Electricity Limited (BEL) RE Technology: Solar PV Status: Feasibility Expected Commercial Operation (Year): 2021 Estimated Capacity Factor (%) or Annual Production (in MWh): not available Installed Capacity 10MW Length of PPA: To be determined",{"$f":"F42","v":"Project Name: BECOL 30 MW Solar Farm Developer: Belize Electric Company Limited (BECOL) Off taker: Belize Electricity Limited (BEL) RE Technology: Solar PV Status: Feasibility Expected Commercial Operation (Year): 2021 Estimated Capacity Factor (%) or Annual Production (in MWh): not available Installed Capacity 30MW Length of PPA: To be determined Project Name: BAPCOL 10 MW Solar Farm Developer: Blair Athol Power Company Limited (BAPCOL) Off taker: Belize Electricity Limited (BEL) RE Technology: Solar PV Status: Feasibility Expected Commercial Operation (Year): 2021 Estimated Capacity Factor (%) or Annual Production (in MWh): not available Installed Capacity 10MW Length of PPA: To be determined"}]
[null,null,"Electric Mobility"]
[null,null,"What is the target and target year?",null,"NA",{"$f":"F47","v":"NA"}]
[null,null,"How many electric cars are currently in your country?",null,"Less than 5 known electric vehicles, including hybrids.",{"$f":"F48","v":"Less than 5 known electric vehicles, including hybrids."}]
[null,null,"How many charging stations are in your country?",null,"No publicly available charging stations","No publicly available charging stations"]
[]
[]
[null,null,"Improvement Year-on-Year"]
[null,null,"Enabling environment for renewable energy investments","Change",{"$f":"IF(ISERR(E91-E90),\"\",E91-E90)","v":0.234375}]
[null,null,"2012 Score","0 to 5",2.3333333333333335]
[null,null,"2013 Score","0 to 5",2.3333333333333335]
[null,null,"2014 Score","0 to 5",3]
[null,null,"2015 Score","0 to 5",3.333333333333333]
[null,null,"2016 Score","0 to 5",2.6666666666666665]
[null,null,"2017 Score","0 to 5",3.125]
[null,null,"2018 Score","0 to 5",{"$f":"VLOOKUP(C84,'RE Index | Ranking inputs'!$D$8:$AM$44,MATCH($B$1,'RE Index | Ranking inputs'!$D$5:$AM$5,0),0)","v":3.359375}]
[null,null,"Existing renewable generation","Change",{"$f":"IF(ISERR(E99-E98),\"\",E99-E98)","v":0.1658221324988709}]
[null,null,"2012 Score","0 to 5",2.6]
[null,null,"2013 Score","0 to 5",2.6588944180008656]
[null,null,"2014 Score","0 to 5",3.1903316418659822]
[null,null,"2015 Score","0 to 5",2.8707190079729559]
[null,null,"2016 Score","0 to 5",3.9263621092162673]
[null,null,"2017 Score","0 to 5",2.5440716549460856]
[null,null,"2018 Score","0 to 5",{"$f":"VLOOKUP(C92,'RE Index | Ranking inputs'!$D$8:$AM$44,MATCH($B$1,'RE Index | Ranking inputs'!$D$5:$AM$5,0),0)","v":2.7098937874449565}]
[null,null,"Planned renewable generation","Change",{"$f":"IF(ISERR(E107-E106),\"\",E107-E106)","v":1.3239482048516533}]
[null,null,"2012 Score","0 to 5",0]
[null,null,"2013 Score","0 to 5",0.36198572046733013]
[null,null,"2014 Score","0 to 5",0.36385233861767829]
[null,null,"2015 Score","0 to 5",4.5]
[null,null,"2016 Score","0 to 5",0.43410586029067044]
[null,null,"2017 Score","0 to 5",0]
[null,null,"2018 Score","0 to 5",{"$f":"VLOOKUP(C100,'RE Index | Ranking inputs'!$D$8:$AM$44,MATCH($B$1,'RE Index | Ranking inputs'!$D$5:$AM$5,0),0)","v":1.3239482048516533}]
[null,null,"Electric Mobility","Change","N/A"]
[null,null,"2018 Score","0 to 5",{"$f":"VLOOKUP(C108,'RE Index | Ranking inputs'!$D$8:$AM$44,MATCH($B$1,'RE Index | Ranking inputs'!$D$5:$AM$5,0),0)","v":0}]
[null,null,"Overall Score Year-on-Year","Change",{"$f":"E123-E121","v":0.32827454604028761}]
[null,null,"2012 Overall Score",null,1.6280000000000001]
[null,null,"2012 Rank",null,4]
[null,null,"2013 Overall Score",null,1.7847378239338432]
[null,null,"2013 Rank",null,6]
[null,null,"2014 Overall Score",null,2.1847279934945534]
[null,null,"2014 Rank",null,2]
[null,null,"2015 Overall Score",null,3.568017447102096]
[null,null,"2015 Rank",null,1]
[null,null,"2016 Overall Score",null,2.3423782120578682]
[null,null,"2016 Rank",null,2]
[null,null,"2017 Overall Score",null,1.889690551648695]
[null,null,"2017 Rank",null,7]
[null,null,"2018 Overall Score",null,{"$f":"VLOOKUP(C123,'RE Index | Ranking inputs'!$D$8:$AM$125,MATCH($B$1,'RE Index | Ranking inputs'!$D$5:$AM$5,0),0)","v":2.2179650976889826}]
[null,null,"2018 Rank",null,{"$f":"VLOOKUP(C124,'RE Index | Ranking inputs'!$D$8:$AM$125,MATCH($B$1,'RE Index | Ranking inputs'!$D$5:$AM$5,0),0)","v":5}]

{"sheet":"Bermuda","index":8,"n_rows":124,"n_cols":6,"rows_kept":124,"cut":false,"hidden":false,"merged":[[73,2,73,3],[77,2,77,3],[78,2,78,3],[79,2,79,3],[82,2,82,3],[69,2,69,3],[46,2,46,3],[47,2,47,3],[48,2,48,3],[51,2,51,3],[58,2,58,3],[60,2,60,3],[62,2,62,3],[63,2,63,3],[64,2,64,3],[67,2,67,3],[68,2,68,3],[33,2,33,3],[0,1,0,4],[1,2,1,3],[1,6,1,12],[4,2,4,3],[11,2,11,3],[12,2,12,3],[13,2,13,3],[14,2,14,3],[23,2,23,3],[28,2,28,3]]}
[null,"Bermuda"]
[null,null,"Overall Indicator",null,null,"Aran McKittrick, Dept. of Energy"]
[1,null,"Enabling Environment for Renewable Energy (RE) Investments",null,"Consolidated Survey Response","Respondent 46"]
[null,null,"Government - Renewable Energy Strategy",null,"Y/N"]
[null,1,"Does your country have a strategic plan to develop renewble energy?",null,null,"Yes"]
[null,null,"Which of the following renewable generation options is includd in you country's strategic plan to develop renewable energy?",null,{"$f":"IF(B6<>0,IF(ISBLANK(F6),\"NA\",F6),\" \")","v":" "},"Solar PV, offshore wind, biomass, WTE"]
[null,2,"Does your country have a specific target for renewable energy?",null,"Yes","Yes"]
[null,null,"If yes, what is the target and target year?",null," ","30% of electricity to be generated by renewable energy by 2020"]
[null,null,"What is the current breakdown of your country's energy mix?",null," ","Power Generation 90% - heavy fuel oil/fossil fuel 10% - renewables Transportation 99% fossil fuel (gasoline/diesel) 1% electric"]
[null,3,"Does your country have an Integrated Resource Plan (IRP) that was produced within the last three years?",null,"Yes","Yes"]
[null,null,"Utilities",null,"Y/N"]
[null,1,"When planning generation expansion, does the utility consider RE options?",null,"Yes","Yes"]
[null,2,"Can the utility safely recover RE investments through tariffs like it can recover fossil fuel costs?",null,"Yes","Yes"]
[null,3,"Are there clear, specific planning and permitting processes and rules in place for developing RE?",null,"Yes","Yes"]
[null,null,"On average, how long does it take for the power utility to get investments in RE projects approved by the regulatory authority (or relevant entity) fror recovery through tariffs?",null," ","As Bermuda is in the process of going through its first utility scale RE project development with a PPA which needs to be approved by the regulatory authority we can not provide this figure."]
[null,null,"IPPs",null,"Y/N"]
[null,1,"Can the utility safely recover purchases of RE from third parties, just as it recovers fossil fuel costs?",null,"Yes","Yes"]
[null,null,"How long did it take to get your off-take agreement?",null," ","The first is still in the process of being finalised."]
[null,2,"Are there workable precedents or rules for PPA terms and grid operation rules?",null,"Yes","Yes"]
[null,3,"Are there clear and effective licensing processes and requirements in place for IPPs?",null,"Yes","Yes"]
[null,4,"Does the utility have an obligation to purchase from IPPs when it is cheaper than generating the power itself?",null,"Yes","Yes"]
[null,5,"Does the PPA have any take-or-pay arrangements?",null,"Yes","Yes"]
[null,null,"Distributed generation",null,"Y/N"]
[null,1,"Do you have a registry or database of distributed generation?",null,"No","No"]
[null,null,"What was the number of existing distributed scale RE systems in 2018?",null," ","1. 549 (Oct-14-19) or 477 (end of 2018)"]
[null,null,"Is there an aggregate maximum capacity for distributed generation?",null," ","NA"]
[null,null,"What is the total installed capacity from renewable distributed generation in your country?",null," ","5.095 MW (Oct-14-19) or 4.066 MW (end of 2018)"]
[null,null,"What was the total generation from existing distributed scale RE systems in 2018?",null," ","unkown"]
[null,2,"Is there a standard arrangement in place for customers to sell electricity to the utility at a reasonable price, for a reasonable timeframe, and with a clear interconnection agreement?",null,"Yes","Yes"]
[]
[2,null,"Existing renewable generation"]
[null,null,"What is the number of existing Utility-Scale RE projects?",null,{"$f":"IF(B32<>0,IF(ISBLANK(F32),\"NA\",F32),\" \")","v":" "},0]
[null,1,"What was the total electricity generated in 2018? (MWh)",null,614461.78500000003,614461.78500000003]
[null,1,"What was the total electricity generated from Utility Scale RE projects in 2018? (MWh) ",null,"NA",0]
[null,null,"Please provide as much information as possible for exisitng RE projects in the box below as:\n- Project Name\n- Developer\n- Offtaker\n- Renewable Energy Technology Type\n- Start of Commercial Operation (Year)\n- Estimated Capacity Factor (in %) OR Estimated Annual Production (in MWh)\n- Installed Capacity (MW)\n- Length of PPA ",null," ","NA"]
[]
[3,null,"Planned Utility-Scale Renewable Energy Projects"]
[null,1,"Does your country have an estimate of planned installed capacity expected to come online from-utility scale RE projects?",null,{"$f":"IF(B38<>0,IF(ISBLANK(F38),\"NA\",F38),\" \")","v":"Yes"},"Yes"]
[null,null,"How much installed capacity from RE is expected to come online in the next 3 years?",null," ","6MW"]
[null,2,"How much renewable energy generation is expected to come online in the next 3 years?",null,{"$f":"6*23%*365*24","v":12088.800000000001},"6MW"]
[null,3,"Is climate resilience incorporated in your IRP or national policy?",null,"No","No"]
[null,null,"Please provide as much information as possible for RE projects currently under development in the box below as:\n- Project Name\n- Developer\n- Offtaker\n- Renewable Energy Technology Type\n- Start of Commercial Operation (Year)\n- Estimated Capacity Factor (in %) OR Estimated Annual Production (in MWh)\n- Installed Capacity (MW)\n- Length of PPA ",null," ","SAME PROJECT AS QUESTION Bermuda Airport Solar Project Saturn Power Inc. Bermuda Electric Light Company Ltd. (BELCo) Solar Photo-voltaic under construction 2020 ??? 6MW 20 Years"]
[]
[4,null,"Electric Mobility"]
[null,1,"Does your country have policies in place or draft legislation to promote the uptake of electric mobility?",null,{"$f":"IF(B45<>0,IF(ISBLANK(F45),\"NA\",F45),\" \")","v":"No"},"No"]
[null,2,"Does your country have specific targets for the uptake of electric vehicles?",null,"No","No"]
[null,null,"What is the target and target year?",null," ","NA"]
[null,null,"How many electric cars are currently in your country?",null," ",240]
[null,null,"How many charging stations are in your country?",null," ","20 (estimate)"]
[]
[]
[null,null,"Descriptive CREF Index Survey"]
[null,null,"Enabling Environment for Renewable Energy (RE) Investments"]
[null,null,"Renewable energy strategy"]
[null,null,"Which of the rollowing renewable generation options is included in your country's strategic plan to develop renewable energy?\n- Solar PV\n- Offshore wind\n- Biomass\n- Waste to energy\n- Hydro\n-Geothermal\n- Other",null,{"$f":"F55","v":"Solar PV, offshore wind, biomass, WTE"},{"$f":"F6","v":"Solar PV, offshore wind, biomass, WTE"}]
[null,null,"What is the target and target year?",null,{"$f":"F56","v":"30% of electricity to be generated by renewable energy by 2020"},{"$f":"F8","v":"30% of electricity to be generated by renewable energy by 2020"}]
[null,null,"What is the current breakdown of your country's energy mix?",null,"Power Generation 90% - heavy fuel oil/fossil fuel 10% - renewables Transportation 99% fossil fuel (gasoline/diesel) 1% electric",{"$f":"F9","v":"Power Generation 90% - heavy fuel oil/fossil fuel 10% - renewables Transportation 99% fossil fuel (gasoline/diesel) 1% electric"}]
[null,null,"Utilities"]
[null,null,"On average, how long does it take for the power utility to get investments in RE projects approved by the regulatory authority 9or the relevant entity) for recovery through tariffs?",null,{"$f":"F59","v":"As Bermuda is in the process of going through its first utility scale RE project development with a PPA which needs to be approved by the regulatory authority we can not provide this figure."},{"$f":"F15","v":"As Bermuda is in the process of going through its first utility scale RE project development with a PPA which needs to be approved by the regulatory authority we can not provide this figure."}]
[null,null,"IPPs"]
[null,null,"How long did it take to get your off-take agreement?",null,{"$f":"F61","v":"The first is still in the process of being finalised."},{"$f":"F18","v":"The first is still in the process of being finalised."}]
[null,null,"Distributed Generation"]
[null,null,"What is the number of exisiting distributed scale RE systems in 2018?",null,{"$f":"F63","v":"1. 549 (Oct-14-19) or 477 (end of 2018)"},{"$f":"F25","v":"1. 549 (Oct-14-19) or 477 (end of 2018)"}]
[null,null,"What is the total installed capacity from renewable distributed generation in your country?",null,{"$f":"F64","v":"5.095 MW (Oct-14-19) or 4.066 MW (end of 2018)"},{"$f":"F27","v":"5.095 MW (Oct-14-19) or 4.066 MW (end of 2018)"}]
[null,null,"What was the total generation from exisitng distributed scale RE systems in 2018?",null,"unkown",{"$f":"F28","v":"unkown"}]
[null,null,"Existing renewable generation"]
[null,null,"Existing Utility-Scale Renewable Energy Projects"]
[null,null,"What is the number of existing utility-scale RE projects?",null,{"$f":"F68","v":0},{"$f":"F32","v":0}]
[null,null,"What was the total electricity generated in 2018 (MWh)?",null,{"$f":"F69","v":614461.78500000003},{"$f":"F33","v":614461.78500000003}]
[null,null,"What was the total electricity generated from utility-scale RE projects in 2018 (MWh)?",null,0,{"$f":"F34","v":0}]
[null,null,"Please provide as much information as possible for exisitng RE projects in the box below as:\n- Project Name\n- Developer\n- Offtaker\n- Renewable Energy Technology Type\n- Start of Commercial Operation (Year)\n- Estimated Capacity Factor (in %) OR Estimated Annual Production (in MWh)\n- Installed Capacity (MW)\n- Length of PPA ",null,"NA",{"$f":"F35","v":"NA"}]
[null,null,"Planned renewable generation"]
[null,null,"Potential Utility-Scale Renewable Energy Projects"]
[null,null,"How much installed capacity from RE is expected to come online in the next 3 years?",null,{"$f":"F74","v":"6MW"},{"$f":"F39","v":"6MW"}]
[null,null,"How much renewable energy generation is expected to come online in the next 3 years?",null,{"$f":"F75","v":"6MW"},{"$f":"F40","v":"6MW"}]
[null,null,"Please provide as much information as possible for RE projects currently under development in the box below as:\n- Project Name\n- Developer\n- Offtaker\n- Renewable Energy Technology Type\n- Start of Commercial Operation (Year)\n- Estimated Capacity Factor (in %) OR Estimated Annual Production (in MWh)\n- Installed Capacity (MW)\n- Length of PPA ",null,"SAME PROJECT AS QUESTION Bermuda Airport Solar Project Saturn Power Inc. Bermuda Electric Light Company Ltd. (BELCo) Solar Photo-voltaic under construction 2020 ??? 6MW 20 Years",{"$f":"F42","v":"SAME PROJECT AS QUESTION Bermuda Airport Solar Project Saturn Power Inc. Bermuda Electric Light Company Ltd. (BELCo) Solar Photo-voltaic under construction 2020 ??? 6MW 20 Years"}]
[null,null,"Electric Mobility"]
[null,null,"What is the target and target year?",null,{"$f":"F78","v":"NA"},{"$f":"F47","v":"NA"}]
[null,null,"How many electric cars are currently in your country?",null,{"$f":"F79","v":240},{"$f":"F48","v":240}]
[null,null,"How many charging stations are in your country?",null,"20 (estimate)","20 (estimate)"]
[]
[]
[null,null,"Improvement Year-on-Year"]
[null,null,"Enabling environment for renewable energy investments","Change",{"$f":"IF(ISERR(E91-E90),\"\",E91-E90)","v":1.3541666666666665}]
[null,null,"2012 Score","0 to 5",2.333333333333333]
[null,null,"2013 Score","0 to 5",3]
[null,null,"2014 Score","0 to 5",3]
[null,null,"2015 Score","0 to 5",3]
[null,null,"2016 Score","0 to 5",4.333333333333333]
[null,null,"2017 Score","0 to 5",3.3333333333333335]
[null,null,"2018 Score","0 to 5",{"$f":"VLOOKUP(C84,'RE Index | Ranking inputs'!$D$8:$AM$44,MATCH($B$1,'RE Index | Ranking inputs'!$D$5:$AM$5,0),0)","v":4.6875}]
[null,null,"Existing renewable generation","Change",{"$f":"IF(ISERR(E99-E98),\"\",E99-E98)","v":-0.22282397278038085}]
[null,null,"2012 Score","0 to 5",0.01]
[null,null,"2013 Score","0 to 5",0]
[null,null,"2014 Score","0 to 5",0.11707028947026578]
[null,null,"2015 Score","0 to 5",0.10568153471435765]
[null,null,"2016 Score","0 to 5",0.2397277724785945]
[null,null,"2017 Score","0 to 5",0.47349863434619321]
[null,null,"2018 Score","0 to 5",{"$f":"VLOOKUP(C92,'RE Index | Ranking inputs'!$D$8:$AM$44,MATCH($B$1,'RE Index | Ranking inputs'!$D$5:$AM$5,0),0)","v":0.25067466156581236}]
[null,null,"Planned renewable generation","Change",{"$f":"IF(ISERR(E107-E106),\"\",E107-E106)","v":0.3761510309549283}]
[null,null,"2012 Score","0 to 5",0]
[null,null,"2013 Score","0 to 5",0]
[null,null,"2014 Score","0 to 5",0]
[null,null,"2015 Score","0 to 5",2.0317266373957552]
[null,null,"2016 Score","0 to 5",0]
[null,null,"2017 Score","0 to 5",0.2121941959713213]
[null,null,"2018 Score","0 to 5",{"$f":"VLOOKUP(C100,'RE Index | Ranking inputs'!$D$8:$AM$44,MATCH($B$1,'RE Index | Ranking inputs'!$D$5:$AM$5,0),0)","v":0.58834522692624958}]
[null,null,"Electric Mobility","Change","N/A"]
[null,null,"2018 Score","0 to 5",{"$f":"VLOOKUP(C108,'RE Index | Ranking inputs'!$D$8:$AM$44,MATCH($B$1,'RE Index | Ranking inputs'!$D$5:$AM$5,0),0)","v":0}]
[null,null,"Overall Score Year-on-Year","Change",{"$f":"E123-E121","v":0.31828057866400239}]
[null,null,"2012 Overall Score",null,0.77329999999999988]
[null,null,"2012 Rank",null,15]
[null,null,"2013 Overall Score",null,1]
[null,null,"2013 Rank",null,17]
[null,null,"2014 Overall Score",null,1.039023429823422]
[null,null,"2014 Rank",null,15]
[null,null,"2015 Overall Score",null,1.712469390703371]
[null,null,"2015 Rank",null,7]
[null,null,"2016 Overall Score",null,1.524353701937309]
[null,null,"2016 Rank",null,11]
[null,null,"2017 Overall Score",null,1.3396753878836161]
[null,null,"2017 Rank",null,18]
[null,null,"2018 Overall Score",null,{"$f":"VLOOKUP(C123,'RE Index | Ranking inputs'!$D$8:$AM$125,MATCH($B$1,'RE Index | Ranking inputs'!$D$5:$AM$5,0),0)","v":1.6579559665476185}]
[null,null,"2018 Rank",null,{"$f":"VLOOKUP(C124,'RE Index | Ranking inputs'!$D$8:$AM$125,MATCH($B$1,'RE Index | Ranking inputs'!$D$5:$AM$5,0),0)","v":11}]

{"sheet":"Bonaire","index":9,"n_rows":124,"n_cols":6,"rows_kept":124,"cut":false,"hidden":false,"merged":[[73,2,73,3],[77,2,77,3],[78,2,78,3],[79,2,79,3],[82,2,82,3],[69,2,69,3],[46,2,46,3],[47,2,47,3],[48,2,48,3],[51,2,51,3],[58,2,58,3],[60,2,60,3],[62,2,62,3],[63,2,63,3],[64,2,64,3],[67,2,67,3],[68,2,68,3],[33,2,33,3],[1,2,1,3],[1,6,1,12],[4,2,4,3],[11,2,11,3],[12,2,12,3],[13,2,13,3],[14,2,14,3],[23,2,23,3],[28,2,28,3]]}
[null,"Bonaire"]
[null,null,"Overall Indicator",null,null,"Aurel Kenessey - Ministry of Economic Affairs and Climate Policy"]
[1,null,"Enabling Environment for Renewable Energy (RE) Investments",null,"Consolidated Survey Response","Respondent 17"]
[null,null,"Government - Renewable Energy Strategy",null,"Y/N","Y/N"]
[null,1,"Does your country have a strategic plan to develop renewble energy?"]
[null,null,"Which of the following renewable generation options is includd in you country's strategic plan to develop renewable energy?",null,{"$f":"IF(B6<>0,IF(ISBLANK(F6),\"NA\",F6),\" \")","v":" "},"Solar PV, Onshore wind, Geothermal, ocean thermal energy conversion"]
[null,2,"Does your country have a specific target for renewable energy?",null,"Yes","Yes"]
[null,null,"If yes, what is the target and target year?",null," ","50% by 2030"]
[null,null,"What is the current breakdown of your country's energy mix?",null," ","Carribean part of the Netherlands (excluding Sint Maarten, Curaçao and Aruba): 70% oil, 20% wind, 10% solar."]
[null,3,"Does your country have an Integrated Resource Plan (IRP) that was produced within the last three years?",null,"No","No"]
[null,null,"Utilities",null,null,"Y/N"]
[null,1,"When planning generation expansion, does the utility consider RE options?",null,"Yes","Yes"]
[null,2,"Can the utility safely recover RE investments through tariffs like it can recover fossil fuel costs?",null,"Yes","Yes"]
[null,3,"Are there clear, specific planning and permitting processes and rules in place for developing RE?",null,"Yes","Yes"]
[null,null,"On average, how long does it take for the power utility to get investments in RE projects approved by the regulatory authority (or relevant entity) fror recovery through tariffs?",null," ","approval takes place before the investment. so there is no lag."]
[null,null,"IPPs",null,null,"Y/N"]
[null,1,"Can the utility safely recover purchases of RE from third parties, just as it recovers fossil fuel costs?",null,"Yes","Yes"]
[null,null,"How long did it take to get your off-take agreement?",null," ","RE producer is usually also the distributor, so it is sure the energy can be sold."]
[null,2,"Are there workable precedents or rules for PPA terms and grid operation rules?",null,"Yes","Yes"]
[null,3,"Are there clear and effective licensing processes and requirements in place for IPPs?",null,"Yes","Yes"]
[null,4,"Does the utility have an obligation to purchase from IPPs when it is cheaper than generating the power itself?",null,"No","No"]
[null,5,"Does the PPA have any take-or-pay arrangements?",null,0,"NA"]
[null,null,"Distributed generation",null,null,"Y/N"]
[null,1,"Do you have a registry or database of distributed generation?",null,"No","No"]
[null,null,"What was the number of existing distributed scale RE systems in 2018?",null," ","NA"]
[null,null,"Is there an aggregate maximum capacity for distributed generation?",null," ","NA"]
[null,null,"What is the total installed capacity from renewable distributed generation in your country?",null," ","18 MW (Carribean Netherlands only)"]
[null,null,"What was the total generation from existing distributed scale RE systems in 2018?",null," ",50000]
[null,2,"Is there a standard arrangement in place for customers to sell electricity to the utility at a reasonable price, for a reasonable timeframe, and with a clear interconnection agreement?",null,"Yes","Yes"]
[]
[2,null,"Existing renewable generation"]
[null,null,"What is the number of existing Utility-Scale RE projects?",null,{"$f":"IF(B32<>0,IF(ISBLANK(F32),\"NA\",F32),\" \")","v":" "},3]
[null,1,"What was the total electricity generated in 2018? (MWh)",null,120000,120000]
[null,1,"What was the total electricity generated from Utility Scale RE projects in 2018? (MWh) ",null,50000,50000]
[null,null,"Please provide as much information as possible for exisitng RE projects in the box below as:\n- Project Name\n- Developer\n- Offtaker\n- Renewable Energy Technology Type\n- Start of Commercial Operation (Year)\n- Estimated Capacity Factor (in %) OR Estimated Annual Production (in MWh)\n- Installed Capacity (MW)\n- Length of PPA ",null," ","NA"]
[]
[3,null,"Planned Utility-Scale Renewable Energy Projects"]
[null,1,"Does your country have an estimate of planned installed capacity expected to come online from-utility scale RE projects?",null,{"$f":"IF(B38<>0,IF(ISBLANK(F38),\"NA\",F38),\" \")","v":"No"},"No"]
[null,null,"How much installed capacity from RE is expected to come online in the next 3 years?",null," ","NA"]
[null,2,"How much renewable energy generation is expected to come online in the next 3 years?",null,"NA","NA"]
[null,3,"Is climate resilience incorporated in your IRP or national policy?",null,"Yes","Yes"]
[null,null,"Please provide as much information as possible for RE projects currently under development in the box below as:\n- Project Name\n- Developer\n- Offtaker\n- Renewable Energy Technology Type\n- Start of Commercial Operation (Year)\n- Estimated Capacity Factor (in %) OR Estimated Annual Production (in MWh)\n- Installed Capacity (MW)\n- Length of PPA ",null," ","NA"]
[]
[4,null,"Electric Mobility"]
[null,1,"Does your country have policies in place or draft legislation to promote the uptake of electric mobility?",null,{"$f":"IF(B45<>0,IF(ISBLANK(F45),\"NA\",F45),\" \")","v":"No"},"No"]
[null,2,"Does your country have specific targets for the uptake of electric vehicles?",null,"No","No"]
[null,null,"What is the target and target year?",null," ","NA"]
[null,null,"How many electric cars are currently in your country?",null," ","NA"]
[null,null,"How many charging stations are in your country?",null," ","NA"]
[]
[]
[null,null,"Descriptive CREF Index Survey"]
[null,null,"Enabling Environment for Renewable Energy (RE) Investments"]
[null,null,"Renewable energy strategy"]
[null,null,"Which of the rollowing renewable generation options is included in your country's strategic plan to develop renewable energy?\n- Solar PV\n- Offshore wind\n- Biomass\n- Waste to energy\n- Hydro\n-Geothermal\n- Other",null,{"$f":"F55","v":"Solar PV, Onshore wind, Geothermal, ocean thermal energy conversion"},{"$f":"F6","v":"Solar PV, Onshore wind, Geothermal, ocean thermal energy conversion"}]
[null,null,"What is the target and target year?",null,{"$f":"F56","v":"50% by 2030"},{"$f":"F8","v":"50% by 2030"}]
[null,null,"What is the current breakdown of your country's energy mix?",null,"Carribean part of the Netherlands (excluding Sint Maarten, Curaçao and Aruba): 70% oil, 20% wind, 10% solar.",{"$f":"F9","v":"Carribean part of the Netherlands (excluding Sint Maarten, Curaçao and Aruba): 70% oil, 20% wind, 10% solar."}]
[null,null,"Utilities"]
[null,null,"On average, how long does it take for the power utility to get investments in RE projects approved by the regulatory authority 9or the relevant entity) for recovery through tariffs?",null,{"$f":"F59","v":"approval takes place before the investment. so there is no lag."},{"$f":"F15","v":"approval takes place before the investment. so there is no lag."}]
[null,null,"IPPs"]
[null,null,"How long did it take to get your off-take agreement?",null,{"$f":"F61","v":"RE producer is usually also the distributor, so it is sure the energy can be sold."},{"$f":"F18","v":"RE producer is usually also the distributor, so it is sure the energy can be sold."}]
[null,null,"Distributed Generation"]
[null,null,"What is the number of exisiting distributed scale RE systems in 2018?",null,{"$f":"F63","v":"NA"},{"$f":"F25","v":"NA"}]
[null,null,"What is the total installed capacity from renewable distributed generation in your country?",null,{"$f":"F64","v":"18 MW (Carribean Netherlands only)"},{"$f":"F27","v":"18 MW (Carribean Netherlands only)"}]
[null,null,"What was the total generation from exisitng distributed scale RE systems in 2018?",null,{"$f":"F65","v":50000},{"$f":"F28","v":50000}]
[null,null,"Existing renewable generation"]
[null,null,"Existing Utility-Scale Renewable Energy Projects"]
[null,null,"What is the number of existing utility-scale RE projects?",null,{"$f":"E32","v":" "},3]
[null,null,"What was the total electricity generated in 2018 (MWh)?",null,120000,120000]
[null,null,"What was the total electricity generated from utility-scale RE projects in 2018 (MWh)?",null,50000,50000]
[null,null,"Please provide as much information as possible for exisitng RE projects in the box below as:\n- Project Name\n- Developer\n- Offtaker\n- Renewable Energy Technology Type\n- Start of Commercial Operation (Year)\n- Estimated Capacity Factor (in %) OR Estimated Annual Production (in MWh)\n- Installed Capacity (MW)\n- Length of PPA ",null,{"$f":"F71","v":"NA"},"NA"]
[null,null,"Planned renewable generation"]
[null,null,"Potential Utility-Scale Renewable Energy Projects"]
[null,null,"How much installed capacity from RE is expected to come online in the next 3 years?",null,{"$f":"F74","v":"NA"},{"$f":"F39","v":"NA"}]
[null,null,"How much renewable energy generation is expected to come online in the next 3 years?",null,{"$f":"F75","v":"NA"},{"$f":"F40","v":"NA"}]
[null,null,"Please provide as much information as possible for RE projects currently under development in the box below as:\n- Project Name\n- Developer\n- Offtaker\n- Renewable Energy Technology Type\n- Start of Commercial Operation (Year)\n- Estimated Capacity Factor (in %) OR Estimated Annual Production (in MWh)\n- Installed Capacity (MW)\n- Length of PPA ",null,"NA",{"$f":"F42","v":"NA"}]
[null,null,"Electric Mobility",null,0]
[null,null,"What is the target and target year?",null,"NA",{"$f":"F47","v":"NA"}]
[null,null,"How many electric cars are currently in your country?",null,"NA",{"$f":"F48","v":"NA"}]
[null,null,"How many charging stations are in your country?",null,"NA",{"$f":"F49","v":"NA"}]
[]
[]
[null,null,"Improvement Year-on-Year"]
[null,null,"Enabling environment for renewable energy investments","Change",{"$f":"IF(ISERR(E91-E90),\"\",E91-E90)","v":-0.13020833333333393}]
[null,null,"2012 Score","0 to 5",0]
[null,null,"2013 Score","0 to 5",1.9999999999999998]
[null,null,"2014 Score","0 to 5",1.9999999999999998]
[null,null,"2015 Score","0 to 5",1.9999999999999998]
[null,null,"2016 Score","0 to 5",2.6666666666666665]
[null,null,"2017 Score","0 to 5",4.5833333333333339]
[null,null,"2018 Score","0 to 5",{"$f":"VLOOKUP(C84,'RE Index | Ranking inputs'!$D$8:$AM$44,MATCH($B$1,'RE Index | Ranking inputs'!$D$5:$AM$5,0),0)","v":4.453125}]
[null,null,"Existing renewable generation","Change",{"$f":"IF(ISERR(E99-E98),\"\",E99-E98)","v":-2.4999999999999911E-2}]
[null,null,"2012 Score","0 to 5",0]
[null,null,"2013 Score","0 to 5",1.3907771683624794]
[null,null,"2014 Score","0 to 5",1.4931999512151526]
[null,null,"2015 Score","0 to 5",1.3433777959977007]
[null,null,"2016 Score","0 to 5",1.6755802758727996]
[null,null,"2017 Score","0 to 5",2.1083333333333334]
[null,null,"2018 Score","0 to 5",{"$f":"VLOOKUP(C92,'RE Index | Ranking inputs'!$D$8:$AM$44,MATCH($B$1,'RE Index | Ranking inputs'!$D$5:$AM$5,0),0)","v":2.0833333333333335}]
[null,null,"Planned renewable generation","Change",{"$f":"IF(ISERR(E107-E106),\"\",E107-E106)","v":0.55555555555555558}]
[null,null,"2012 Score","0 to 5",0]
[null,null,"2013 Score","0 to 5",0]
[null,null,"2014 Score","0 to 5",0]
[null,null,"2015 Score","0 to 5",0]
[null,null,"2016 Score","0 to 5",0]
[null,null,"2017 Score","0 to 5",0]
[null,null,"2018 Score","0 to 5",{"$f":"VLOOKUP(C100,'RE Index | Ranking inputs'!$D$8:$AM$44,MATCH($B$1,'RE Index | Ranking inputs'!$D$5:$AM$5,0),0)","v":0.55555555555555558}]
[null,null,"Electric Mobility","Change","N/A"]
[null,null,"2018 Score","0 to 5",{"$f":"VLOOKUP(C108,'RE Index | Ranking inputs'!$D$8:$AM$44,MATCH($B$1,'RE Index | Ranking inputs'!$D$5:$AM$5,0),0)","v":0}]
[null,null,"Overall Score Year-on-Year","Change",{"$f":"E123-E121","v":-0.10295138888888911}]
[null,null,"2012 Overall Score",null,0]
[null,null,"2012 Rank",null,22]
[null,null,"2013 Overall Score",null,1.1302590561208263]
[null,null,"2013 Rank",null,16]
[null,null,"2014 Overall Score",null,1.164399983738384]
[null,null,"2014 Rank",null,12]
[null,null,"2015 Overall Score",null,1.1144592653325667]
[null,null,"2015 Rank",null,16]
[null,null,"2016 Overall Score",null,1.4474156475131554]
[null,null,"2016 Rank",null,12]
[null,null,"2017 Overall Score",null,2.2305555555555556]
[null,null,"2017 Rank",null,4]
[null,null,"2018 Overall Score",null,{"$f":"VLOOKUP(C123,'RE Index | Ranking inputs'!$D$8:$AM$125,MATCH($B$1,'RE Index | Ranking inputs'!$D$5:$AM$5,0),0)","v":2.1276041666666665}]
[null,null,"2018 Rank",null,{"$f":"VLOOKUP(C124,'RE Index | Ranking inputs'!$D$8:$AM$125,MATCH($B$1,'RE Index | Ranking inputs'!$D$5:$AM$5,0),0)","v":6}]

{"sheet":"Cayman_Islands","index":10,"n_rows":124,"n_cols":6,"rows_kept":124,"cut":false,"hidden":false,"merged":[[73,2,73,3],[77,2,77,3],[78,2,78,3],[79,2,79,3],[82,2,82,3],[69,2,69,3],[46,2,46,3],[47,2,47,3],[48,2,48,3],[51,2,51,3],[58,2,58,3],[60,2,60,3],[62,2,62,3],[63,2,63,3],[64,2,64,3],[67,2,67,3],[68,2,68,3],[33,2,33,3],[1,2,1,3],[1,6,1,12],[4,2,4,3],[11,2,11,3],[12,2,12,3],[13,2,13,3],[14,2,14,3],[23,2,23,3],[28,2,28,3],[1,4,1,5]]}
[null,"Cayman Islands"]
[null,null,"Overall Indicator"]
[1,null,"Enabling Environment for Renewable Energy (RE) Investments",null,"Consolidated Survey Response","Respondent 7, 42"]
[null,null,"Government - Renewable Energy Strategy",null,"Y/N","Y/N"]
[null,1,"Does your country have a strategic plan to develop renewble energy?",null,"Yes","Yes"]
[null,null,"Which of the following renewable generation options is includd in you country's strategic plan to develop renewable energy?",null,{"$f":"IF(B6<>0,IF(ISBLANK(F6),\"NA\",F6),\" \")","v":" "},"Solar PV, onshore wind, WTE"]
[null,2,"Does your country have a specific target for renewable energy?",null,"Yes","Yes"]
[null,null,"If yes, what is the target and target year?",null," ","70% total electricity from renewables by 2037"]
[null,null,"What is the current breakdown of your country's energy mix?",null," ","2.5% Solar, the rest diesel."]
[null,3,"Does your country have an Integrated Resource Plan (IRP) that was produced within the last three years?",null,"Yes","Yes"]
[null,null,"Utilities",null,null,"Y/N"]
[null,1,"When planning generation expansion, does the utility consider RE options?",null,"Yes","Yes"]
[null,2,"Can the utility safely recover RE investments through tariffs like it can recover fossil fuel costs?",null,"No","No"]
[null,3,"Are there clear, specific planning and permitting processes and rules in place for developing RE?",null,"No","No"]
[null,null,"On average, how long does it take for the power utility to get investments in RE projects approved by the regulatory authority (or relevant entity) fror recovery through tariffs?",null," ","NA"]
[null,null,"IPPs",null,null,"Y/N"]
[null,1,"Can the utility safely recover purchases of RE from third parties, just as it recovers fossil fuel costs?",null,"Yes","Yes"]
[null,null,"How long did it take to get your off-take agreement?",null," ","NA"]
[null,2,"Are there workable precedents or rules for PPA terms and grid operation rules?",null,"Yes","Yes"]
[null,3,"Are there clear and effective licensing processes and requirements in place for IPPs?",null,"Yes","Yes"]
[null,4,"Does the utility have an obligation to purchase from IPPs when it is cheaper than generating the power itself?",null,"Yes","Yes"]
[null,5,"Does the PPA have any take-or-pay arrangements?",null,"Yes","Yes"]
[null,null,"Distributed generation",null,null,"Y/N"]
[null,1,"Do you have a registry or database of distributed generation?",null,"Yes","Yes"]
[null,null,"What was the number of existing distributed scale RE systems in 2018?",null," ",220]
[null,null,"Is there an aggregate maximum capacity for distributed generation?",null," ","Yes"]
[null,null,"What is the total installed capacity from renewable distributed generation in your country?",null," ","10.183MW"]
[null,null,"What was the total generation from existing distributed scale RE systems in 2018?",null," ","Approximately 10 MW and total of 2% of electrical energy"]
[null,2,"Is there a standard arrangement in place for customers to sell electricity to the utility at a reasonable price, for a reasonable timeframe, and with a clear interconnection agreement?",null,"Yes","Yes"]
[]
[2,null,"Existing renewable generation"]
[null,null,"What is the number of existing Utility-Scale RE projects?",null,{"$f":"IF(B32<>0,IF(ISBLANK(F32),\"NA\",F32),\" \")","v":" "},1]
[null,1,"What was the total electricity generated in 2018? (MWh)",null,653700,{"$f":"653.7*1000","v":653700}]
[null,1,"What was the total electricity generated from Utility Scale RE projects in 2018? (MWh) ",null,9400,{"$f":"9.4*1000","v":9400}]
[null,null,"Please provide as much information as possible for exisitng RE projects in the box below as:\n- Project Name\n- Developer\n- Offtaker\n- Renewable Energy Technology Type\n- Start of Commercial Operation (Year)\n- Estimated Capacity Factor (in %) OR Estimated Annual Production (in MWh)\n- Installed Capacity (MW)\n- Length of PPA ",null," ","Lake Destiny, BMR, 5 MW"]
[]
[3,null,"Planned Utility-Scale Renewable Energy Projects"]
[null,1,"Does your country have an estimate of planned installed capacity expected to come online from-utility scale RE projects?",null,{"$f":"IF(B38<>0,IF(ISBLANK(F38),\"NA\",F38),\" \")","v":"No"},"No"]
[null,null,"How much installed capacity from RE is expected to come online in the next 3 years?",null," ","NA"]
[null,2,"How much renewable energy generation is expected to come online in the next 3 years?",null,"NA","NA"]
[null,3,"Is climate resilience incorporated in your IRP or national policy?",null,"Yes","Yes"]
[null,null,"Please provide as much information as possible for RE projects currently under development in the box below as:\n- Project Name\n- Developer\n- Offtaker\n- Renewable Energy Technology Type\n- Start of Commercial Operation (Year)\n- Estimated Capacity Factor (in %) OR Estimated Annual Production (in MWh)\n- Installed Capacity (MW)\n- Length of PPA ",null," ","NA"]
[]
[4,null,"Electric Mobility"]
[null,1,"Does your country have policies in place or draft legislation to promote the uptake of electric mobility?",null,{"$f":"IF(B45<>0,IF(ISBLANK(F45),\"NA\",F45),\" \")","v":"Yes"},"Yes"]
[null,2,"Does your country have specific targets for the uptake of electric vehicles?",null,"Yes","Yes"]
[null,null,"What is the target and target year?",null," ","NA"]
[null,null,"How many electric cars are currently in your country?",null," ",120]
[null,null,"How many charging stations are in your country?",null," ","Approximately 14"]
[]
[]
[null,null,"Descriptive CREF Index Survey"]
[null,null,"Enabling Environment for Renewable Energy (RE) Investments"]
[null,null,"Renewable energy strategy"]
[null,null,"Which of the rollowing renewable generation options is included in your country's strategic plan to develop renewable energy?\n- Solar PV\n- Offshore wind\n- Biomass\n- Waste to energy\n- Hydro\n-Geothermal\n- Other",null,{"$f":"F55","v":"Solar PV, onshore wind, WTE"},"Solar PV, onshore wind, WTE"]
[null,null,"What is the target and target year?",null,{"$f":"F56","v":"• 70% of total electricity generation to come from renewable sources by 2037;                                   • total peak GHG emissions for the Cayman Islands by 2020 while not exceeding 2014 per capita emissions levels (approx. 12.3 tCO2e). • 4.8 tCO2e of GHG emissions per capita by 2030."},"• 70% of total electricity generation to come from renewable sources by 2037;                                   • total peak GHG emissions for the Cayman Islands by 2020 while not exceeding 2014 per capita emissions levels (approx. 12.3 tCO2e). • 4.8 tCO2e of GHG emissions per capita by 2030."]
[null,null,"What is the current breakdown of your country's energy mix?",null,"2.5% Solar, the rest diesel.","2.5% Solar, the rest diesel."]
[null,null,"Utilities"]
[null,null,"On average, how long does it take for the power utility to get investments in RE projects approved by the regulatory authority 9or the relevant entity) for recovery through tariffs?",null,{"$f":"F59","v":"NA"},{"$f":"F15","v":"NA"}]
[null,null,"IPPs"]
[null,null,"How long did it take to get your off-take agreement?",null,{"$f":"F61","v":"NA"},{"$f":"F18","v":"NA"}]
[null,null,"Distributed Generation"]
[null,null,"What is the number of exisiting distributed scale RE systems in 2018?",null,{"$f":"F63","v":333},333]
[null,null,"What is the total installed capacity from renewable distributed generation in your country?",null,{"$f":"F64","v":"10.183MW"},"10.183MW"]
[null,null,"What was the total generation from exisitng distributed scale RE systems in 2018?",null,"16.1GWh","16.1GWh"]
[null,null,"Existing renewable generation"]
[null,null,"Existing Utility-Scale Renewable Energy Projects"]
[null,null,"What is the number of existing utility-scale RE projects?",null,{"$f":"F68","v":1},{"$f":"F32","v":1}]
[null,null,"What was the total electricity generated in 2018 (MWh)?",null,{"$f":"F69","v":653700},{"$f":"F33","v":653700}]
[null,null,"What was the total electricity generated from utility-scale RE projects in 2018 (MWh)?",null,9400,{"$f":"F34","v":9400}]
[null,null,"Please provide as much information as possible for exisitng RE projects in the box below as:\n- Project Name\n- Developer\n- Offtaker\n- Renewable Energy Technology Type\n- Start of Commercial Operation (Year)\n- Estimated Capacity Factor (in %) OR Estimated Annual Production (in MWh)\n- Installed Capacity (MW)\n- Length of PPA ",null,"Lake Destiny, BMR, 5 MW",{"$f":"F35","v":"Lake Destiny, BMR, 5 MW"}]
[null,null,"Planned renewable generation"]
[null,null,"Potential Utility-Scale Renewable Energy Projects"]
[null,null,"How much installed capacity from RE is expected to come online in the next 3 years?",null,{"$f":"F74","v":"NA"},{"$f":"F39","v":"NA"}]
[null,null,"How much renewable energy generation is expected to come online in the next 3 years?",null,{"$f":"F75","v":"NA"},{"$f":"F40","v":"NA"}]
[null,null,"Please provide as much information as possible for RE projects currently under development in the box below as:\n- Project Name\n- Developer\n- Offtaker\n- Renewable Energy Technology Type\n- Start of Commercial Operation (Year)\n- Estimated Capacity Factor (in %) OR Estimated Annual Production (in MWh)\n- Installed Capacity (MW)\n- Length of PPA ",null,"NA",{"$f":"F42","v":"NA"}]
[null,null,"Electric Mobility"]
[null,null,"What is the target and target year?",null,{"$f":"F78","v":"NA"},{"$f":"F47","v":"NA"}]
[null,null,"How many electric cars are currently in your country?",null,{"$f":"F79","v":120},{"$f":"F48","v":120}]
[null,null,"How many charging stations are in your country?",null,"Approximately 14","Approximately 14"]
[]
[]
[null,null,"Improvement Year-on-Year"]
[null,null,"Enabling environment for renewable energy investments","Change",{"$f":"IF(ISERR(E91-E90),\"\",E91-E90)","v":-8.0625000000000391E-2}]
[null,null,"2012 Score","0 to 5",3.33]
[null,null,"2013 Score","0 to 5",3.33]
[null,null,"2014 Score","0 to 5",3.33]
[null,null,"2015 Score","0 to 5",3.33]
[null,null,"2016 Score","0 to 5",4.33]
[null,null,"2017 Score","0 to 5",4.6900000000000004]
[null,null,"2018 Score","0 to 5",{"$f":"VLOOKUP(C84,'RE Index | Ranking inputs'!$D$8:$AM$44,MATCH($B$1,'RE Index | Ranking inputs'!$D$5:$AM$5,0),0)","v":4.609375}]
[null,null,"Existing renewable generation","Change",{"$f":"IF(ISERR(E99-E98),\"\",E99-E98)","v":-0.24283406627161619}]
[null,null,"2012 Score","0 to 5",0]
[null,null,"2013 Score","0 to 5",1.5554659442233404E-3]
[null,null,"2014 Score","0 to 5",1.4326617496279151E-2]
[null,null,"2015 Score","0 to 5",1.2936963447066513E-2]
[null,null,"2016 Score","0 to 5",5.3649364811771662E-2]
[null,null,"2017 Score","0 to 5",0.31473249062529524]
[null,null,"2018 Score","0 to 5",{"$f":"VLOOKUP(C92,'RE Index | Ranking inputs'!$D$8:$AM$44,MATCH($B$1,'RE Index | Ranking inputs'!$D$5:$AM$5,0),0)","v":7.1898424353679061E-2}]
[null,null,"Planned renewable generation","Change",{"$f":"IF(ISERR(E107-E106),\"\",E107-E106)","v":0.49982998943077706}]
[null,null,"2012 Score","0 to 5",0.18]
[null,null,"2013 Score","0 to 5",0.17457332652018398]
[null,null,"2014 Score","0 to 5",0.17725907000510988]
[null,null,"2015 Score","0 to 5",0.2216694615487064]
[null,null,"2016 Score","0 to 5",0.17653170833886667]
[null,null,"2017 Score","0 to 5",0.19719168208010976]
[null,null,"2018 Score","0 to 5",{"$f":"VLOOKUP(C100,'RE Index | Ranking inputs'!$D$8:$AM$44,MATCH($B$1,'RE Index | Ranking inputs'!$D$5:$AM$5,0),0)","v":0.69702167151088679}]
[null,null,"Electric Mobility","Change","N/A"]
[null,null,"2018 Score","0 to 5",{"$f":"VLOOKUP(C108,'RE Index | Ranking inputs'!$D$8:$AM$44,MATCH($B$1,'RE Index | Ranking inputs'!$D$5:$AM$5,0),0)","v":5}]
[null,null,"Overall Score Year-on-Year","Change",{"$f":"E123-E121","v":0.38034713785756802}]
[null,null,"2012 Overall Score",null,1.1593999999999998]
[null,null,"2012 Rank",null,11]
[null,null,"2013 Overall Score",null,1.1698207085992467]
[null,null,"2013 Rank",null,14]
[null,null,"2014 Overall Score",null,1.1749730069449071]
[null,null,"2014 Rank",null,11]
[null,null,"2015 Overall Score",null,1.1893132527763686]
[null,null,"2015 Rank",null,14]
[null,null,"2016 Overall Score",null,1.7433936910502126]
[null,null,"2016 Rank",null,6]
[null,null,"2017 Overall Score",null,1.7331413909018019]
[null,null,"2017 Rank",null,10]
[null,null,"2018 Overall Score",null,{"$f":"VLOOKUP(C123,'RE Index | Ranking inputs'!$D$8:$AM$125,MATCH($B$1,'RE Index | Ranking inputs'!$D$5:$AM$5,0),0)","v":2.1134885287593699}]
[null,null,"2018 Rank",null,{"$f":"VLOOKUP(C124,'RE Index | Ranking inputs'!$D$8:$AM$125,MATCH($B$1,'RE Index | Ranking inputs'!$D$5:$AM$5,0),0)","v":7}]

{"sheet":"Curacao","index":11,"n_rows":124,"n_cols":7,"rows_kept":124,"cut":false,"hidden":false,"merged":[[73,2,73,3],[77,2,77,3],[78,2,78,3],[79,2,79,3],[82,2,82,3],[69,2,69,3],[46,2,46,3],[47,2,47,3],[48,2,48,3],[51,2,51,3],[58,2,58,3],[60,2,60,3],[62,2,62,3],[63,2,63,3],[64,2,64,3],[67,2,67,3],[68,2,68,3],[1,4,1,5],[33,2,33,3],[1,2,1,3],[4,2,4,3],[11,2,11,3],[12,2,12,3],[13,2,13,3],[14,2,14,3],[23,2,23,3],[28,2,28,3]]}
[null,"Curaҫao"]
[null,null,"Overall Indicator",null,null,null,"Irvin Hanst - Acqualectra"]
[1,null,"Enabling Environment for Renewable Energy (RE) Investments",null,"Consolidated Survey Response","Respondent 14","Respondent 15"]
[null,null,"Government - Renewable Energy Strategy",null,"Y/N"]
[null,1,"Does your country have a strategic plan to develop renewble energy?",null,{"$f":"G5","v":"Yes"},"Yes","Yes"]
[null,null,"Which of the following renewable generation options is includd in you country's strategic plan to develop renewable energy?",null,{"$f":"IF(B6<>0,IF(ISBLANK(F6),\"NA\",F6),\" \")","v":" "},"Solar PV, Onshore wind","Solar PV, Onshore wind, WTE"]
[null,2,"Does your country have a specific target for renewable energy?",null,"Yes","Yes","Yes"]
[null,null,"If yes, what is the target and target year?",null," ","See energy policy","65MW wind by 2025 and 55MW PV by 2028"]
[null,null,"What is the current breakdown of your country's energy mix?",null," ","28% renewable, 72% fuel","45MW wind, 15MW PV, 80MW DO, 35MW MFO"]
[null,3,"Does your country have an Integrated Resource Plan (IRP) that was produced within the last three years?",null,"No","No","No"]
[null,null,"Utilities",null,"Y/N"]
[null,1,"When planning generation expansion, does the utility consider RE options?",null,"Yes","Yes","Yes"]
[null,2,"Can the utility safely recover RE investments through tariffs like it can recover fossil fuel costs?",null,"Yes","Yes","Yes"]
[null,3,"Are there clear, specific planning and permitting processes and rules in place for developing RE?",null,"Yes","Yes","Yes"]
[null,null,"On average, how long does it take for the power utility to get investments in RE projects approved by the regulatory authority (or relevant entity) fror recovery through tariffs?",null," ","Months","Investments in RE are done by private investors"]
[null,null,"IPPs",null,"Y/N"]
[null,1,"Can the utility safely recover purchases of RE from third parties, just as it recovers fossil fuel costs?",null,"Yes","Yes","Yes"]
[null,null,"How long did it take to get your off-take agreement?",null," ","2-3 months","In Curacao the PPA concept is in place since 1998 and has only matured based on experience in the past 21 years. Nowadays the PPA's are very standardized and the grid connection requirements are also very standardized. It is mostly the tariff that is negotiated in the latest contracts. The tariffs most of the time are negotiated for a fixed price (far) below the own production cost. It normally takes 3 to 6 months to reach an agreement from tender till contract."]
[null,2,"Are there workable precedents or rules for PPA terms and grid operation rules?",null,"Yes","Yes","Yes"]
[null,3,"Are there clear and effective licensing processes and requirements in place for IPPs?",null,"Yes","Yes","Yes"]
[null,4,"Does the utility have an obligation to purchase from IPPs when it is cheaper than generating the power itself?",null,"No","No","No"]
[null,5,"Does the PPA have any take-or-pay arrangements?",null,{"$f":"IF(B22<>0,IF(ISBLANK(G22),\"NA\",G22),\" \")","v":"Yes"},"No","Yes"]
[null,null,"Distributed generation",null,"Y/N"]
[null,1,"Do you have a registry or database of distributed generation?",null,"Yes","Yes","Yes"]
[null,null,"What was the number of existing distributed scale RE systems in 2018?",null," ",null,"Approx 780"]
[null,null,"Is there an aggregate maximum capacity for distributed generation?",null," ","Yes","Yes"]
[null,null,"What is the total installed capacity from renewable distributed generation in your country?",null," ","Wind 46.5MW, Solar 13MW","15MW in small scale PV owned by customers"]
[null,null,"What was the total generation from existing distributed scale RE systems in 2018?",null," ",null,"The actual 15 MW in small scale PV, generates approximately 24 GWh a year of which approximately 3 GWh is sold to the grid and the remainder is for own consumption."]
[null,2,"Is there a standard arrangement in place for customers to sell electricity to the utility at a reasonable price, for a reasonable timeframe, and with a clear interconnection agreement?",null,"Yes","Yes","Yes"]
[]
[2,null,"Existing renewable generation"]
[null,null,"What is the number of existing Utility-Scale RE projects?",null,{"$f":"IF(B32<>0,IF(ISBLANK(F32),\"NA\",F32),\" \")","v":" "},null,"Wind 46.5 MW (3 projects) and first 15 MW PV utility scale project is in tendering phase."]
[null,1,"What was the total electricity generated in 2018? (MWh)",null,{"$f":"IF(B33<>0,IF(ISBLANK(G33),\"NA\",G33),\" \")","v":865865.96299999999},null,865865.96299999999]
[null,1,"What was the total electricity generated from Utility Scale RE projects in 2018? (MWh) ",null,{"$f":"IF(B34<>0,IF(ISBLANK(G34),\"NA\",G34),\" \")","v":237760.9},null,237760.9]
[null,null,"Please provide as much information as possible for exisitng RE projects in the box below as:\n- Project Name\n- Developer\n- Offtaker\n- Renewable Energy Technology Type\n- Start of Commercial Operation (Year)\n- Estimated Capacity Factor (in %) OR Estimated Annual Production (in MWh)\n- Installed Capacity (MW)\n- Length of PPA ",null," ",null,"Project Name: Windfarm Playa Canoa; Developer . : Nu Capital Offtaker : Aqualectra N.V. RE tecnology : Wind Start year : 2012 Estimated CF : 50% or 65 GWh/year Installed capacity : 15 MW Length PPA . : 20 years Project Name: Windfarm Tera Cora 1; Developer . : Nu Capital Offtaker : Aqualectra N.V. RE tecnology : Wind Start year : 2012 Estimated CF : 50% or 65 GWh/year Installed capacity : 15 MW Length PPA . : 20 years Project Name: Windfarm Tera Cora 2; Developer . : Nu Capital Offtaker : Aqualectra N.V. RE tecnology : Wind Start year : 2017 Estimated CF : 70% or 103 GWh/year Installed capacity : 16.5 MW Length PPA . : 20 years"]
[]
[3,null,"Planned Utility-Scale Renewable Energy Projects"]
[null,1,"Does your country have an estimate of planned installed capacity expected to come online from-utility scale RE projects?",null,{"$f":"IF(B38<>0,IF(ISBLANK(G38),\"NA\",G38),\" \")","v":"Yes"},null,"Yes"]
[null,null,"How much installed capacity from RE is expected to come online in the next 3 years?",null,{"$f":"IF(B39<>0,IF(ISBLANK(G39),\"NA\",G39),\" \")","v":" "},null,"22MW wind and 15MW PV"]
[null,2,"How much renewable energy generation is expected to come online in the next 3 years?",null,160000,null,160000]
[null,3,"Is climate resilience incorporated in your IRP or national policy?",null,"Yes",null,"Yes"]
[null,null,"Please provide as much information as possible for RE projects currently under development in the box below as:\n- Project Name\n- Developer\n- Offtaker\n- Renewable Energy Technology Type\n- Start of Commercial Operation (Year)\n- Estimated Capacity Factor (in %) OR Estimated Annual Production (in MWh)\n- Installed Capacity (MW)\n- Length of PPA ",null," "]
[]
[4,null,"Electric Mobility"]
[null,1,"Does your country have policies in place or draft legislation to promote the uptake of electric mobility?",null,{"$f":"IF(B45<>0,IF(ISBLANK(G45),\"NA\",G45),\" \")","v":"No"},null,"No"]
[null,2,"Does your country have specific targets for the uptake of electric vehicles?",null,"No",null,"No"]
[null,null,"What is the target and target year?",null," "]
[null,null,"How many electric cars are currently in your country?",null," ",null,"Approx 50"]
[null,null,"How many charging stations are in your country?",null," ",null,"None, charging is done at home or at the office. Public charging stations are being developed"]
[]
[]
[null,null,"Descriptive CREF Index Survey"]
[null,null,"Enabling Environment for Renewable Energy (RE) Investments"]
[null,null,"Renewable energy strategy"]
[null,null,"Which of the rollowing renewable generation options is included in your country's strategic plan to develop renewable energy?\n- Solar PV\n- Offshore wind\n- Biomass\n- Waste to energy\n- Hydro\n-Geothermal\n- Other",null,{"$f":"G55","v":"Solar PV, Onshore wind, WTE"},{"$f":"F6","v":"Solar PV, Onshore wind"},"Solar PV, Onshore wind, WTE"]
[null,null,"What is the target and target year?",null,{"$f":"G56","v":"65MW wind by 2025 and 55MW PV by 2028"},{"$f":"F8","v":"See energy policy"},"65MW wind by 2025 and 55MW PV by 2028"]
[null,null,"What is the current breakdown of your country's energy mix?",null,{"$f":"F57","v":"28% renewable, 72% fuel"},{"$f":"F9","v":"28% renewable, 72% fuel"},"45MW wind, 15MW PV, 80MW DO, 35MW MFO"]
[null,null,"Utilities"]
[null,null,"On average, how long does it take for the power utility to get investments in RE projects approved by the regulatory authority 9or the relevant entity) for recovery through tariffs?",null,{"$f":"E15","v":" "},{"$f":"F15","v":"Months"},"Investments in RE are done by private investors"]
[null,null,"IPPs"]
[null,null,"How long did it take to get your off-take agreement?",null,{"$f":"F61","v":"2-3 months"},{"$f":"F18","v":"2-3 months"},"In Curacao the PPA concept is in place since 1998 and has only matured based on experience in the past 21 years. Nowadays the PPA's are very standardized and the grid connection requirements are also very standardized. It is mostly the tariff that is negotiated in the latest contracts. The tariffs most of the time are negotiated for a fixed price (far) below the own production cost. It normally takes 3 to 6 months to reach an agreement from tender till contract."]
[null,null,"Distributed Generation"]
[null,null,"What is the number of exisiting distributed scale RE systems in 2018?",null,{"$f":"G63","v":"Approx 780"},{"$f":"F25","v":0},"Approx 780"]
[null,null,"What is the total installed capacity from renewable distributed generation in your country?",null,{"$f":"G64","v":"15MW in small scale PV owned by customers"},{"$f":"F27","v":"Wind 46.5MW, Solar 13MW"},"15MW in small scale PV owned by customers"]
[null,null,"What was the total generation from exisitng distributed scale RE systems in 2018?",null,{"$f":"G65","v":"The actual 15 MW in small scale PV, generates approximately 24 GWh a year of which approximately 3 GWh is sold to the grid and the remainder is for own consumption."},{"$f":"F28","v":0},"The actual 15 MW in small scale PV, generates approximately 24 GWh a year of which approximately 3 GWh is sold to the grid and the remainder is for own consumption."]
[null,null,"Existing renewable generation"]
[null,null,"Existing Utility-Scale Renewable Energy Projects"]
[null,null,"What is the number of existing utility-scale RE projects?",null,{"$f":"G68","v":"Wind 46.5 MW (3 projects) and first 15 MW PV utility scale project is in tendering phase."},{"$f":"F32","v":0},"Wind 46.5 MW (3 projects) and first 15 MW PV utility scale project is in tendering phase."]
[null,null,"What was the total electricity generated in 2018 (MWh)?",null,{"$f":"E33","v":865865.96299999999},{"$f":"F33","v":0},865865.96299999999]
[null,null,"What was the total electricity generated from utility-scale RE projects in 2018 (MWh)?",null,{"$f":"E34","v":237760.9},{"$f":"F34","v":0},237760.9]
[null,null,"Please provide as much information as possible for exisitng RE projects in the box below as:\n- Project Name\n- Developer\n- Offtaker\n- Renewable Energy Technology Type\n- Start of Commercial Operation (Year)\n- Estimated Capacity Factor (in %) OR Estimated Annual Production (in MWh)\n- Installed Capacity (MW)\n- Length of PPA ",null,{"$f":"G71","v":"Project Name: Windfarm Playa Canoa; Developer . : Nu Capital Offtaker : Aqualectra N.V. RE tecnology : Wind Start year : 2012 Estimated CF : 50% or 65 GWh/year Installed capacity : 15 MW Length PPA . : 20 years Project Name: Windfarm Tera Cora 1; Developer . : Nu Capital Offtaker : Aqualectra N.V. RE tecnology : Wind Start year : 2012 Estimated CF : 50% or 65 GWh/year Installed capacity : 15 MW Length PPA . : 20 years Project Name: Windfarm Tera Cora 2; Developer . : Nu Capital Offtaker : Aqualectra N.V. RE tecnology : Wind Start year : 2017 Estimated CF : 70% or 103 GWh/year Installed capacity : 16.5 MW Length PPA . : 20 years"},{"$f":"F35","v":0},"Project Name: Windfarm Playa Canoa; Developer . : Nu Capital Offtaker : Aqualectra N.V. RE tecnology : Wind Start year : 2012 Estimated CF : 50% or 65 GWh/year Installed capacity : 15 MW Length PPA . : 20 years Project Name: Windfarm Tera Cora 1; Developer . : Nu Capital Offtaker : Aqualectra N.V. RE tecnology : Wind Start year : 2012 Estimated CF : 50% or 65 GWh/year Installed capacity : 15 MW Length PPA . : 20 years Project Name: Windfarm Tera Cora 2; Developer . : Nu Capital Offtaker : Aqualectra N.V. RE tecnology : Wind Start year : 2017 Estimated CF : 70% or 103 GWh/year Installed capacity : 16.5 MW Length PPA . : 20 years"]
[null,null,"Planned renewable generation"]
[null,null,"Potential Utility-Scale Renewable Energy Projects"]
[null,null,"How much installed capacity from RE is expected to come online in the next 3 years?",null,{"$f":"G74","v":"22MW wind and 15MW PV"},{"$f":"F39","v":0},"22MW wind and 15MW PV"]
[null,null,"How much renewable energy generation is expected to come online in the next 3 years?",null,{"$f":"E40","v":160000},{"$f":"F40","v":0},160000]
[null,null,"Please provide as much information as possible for RE projects currently under development in the box below as:\n- Project Name\n- Developer\n- Offtaker\n- Renewable Energy Technology Type\n- Start of Commercial Operation (Year)\n- Estimated Capacity Factor (in %) OR Estimated Annual Production (in MWh)\n- Installed Capacity (MW)\n- Length of PPA ",null,{"$f":"E42","v":" "},{"$f":"F42","v":0},0]
[null,null,"Electric Mobility"]
[null,null,"What is the target and target year?",null,{"$f":"E47","v":" "},{"$f":"F47","v":0},0]
[null,null,"How many electric cars are currently in your country?",null,{"$f":"G79","v":"Approx 50"},{"$f":"F48","v":0},"Approx 50"]
[null,null,"How many charging stations are in your country?",null,{"$f":"G80","v":"None, charging is done at home or at the office. Public charging stations are being developed"},0,"None, charging is done at home or at the office. Public charging stations are being developed"]
[]
[]
[null,null,"Improvement Year-on-Year"]
[null,null,"Enabling environment for renewable energy investments","Change",{"$f":"IF(ISERR(E91-E90),\"\",E91-E90)","v":-0.3125}]
[null,null,"2012 Score","0 to 5","NA"]
[null,null,"2013 Score","0 to 5",3]
[null,null,"2014 Score","0 to 5",4]
[null,null,"2015 Score","0 to 5",4]
[null,null,"2016 Score","0 to 5",5]
[null,null,"2017 Score","0 to 5",5]
[null,null,"2018 Score","0 to 5",{"$f":"VLOOKUP(C84,'RE Index | Ranking inputs'!$D$8:$AM$44,MATCH($B$1,'RE Index | Ranking inputs'!$D$5:$AM$5,0),0)","v":4.6875}]
[null,null,"Existing renewable generation","Change",{"$f":"IF(ISERR(E99-E98),\"\",E99-E98)","v":0.1342224610545284}]
[null,null,"2012 Score","0 to 5","NA"]
[null,null,"2013 Score","0 to 5",0.61241351201094174]
[null,null,"2014 Score","0 to 5",0.6896652316295715]
[null,null,"2015 Score","0 to 5",0.6196484203741246]
[null,null,"2016 Score","0 to 5",0]
[null,null,"2017 Score","0 to 5",1.2387435068894037]
[null,null,"2018 Score","0 to 5",{"$f":"VLOOKUP(C92,'RE Index | Ranking inputs'!$D$8:$AM$44,MATCH($B$1,'RE Index | Ranking inputs'!$D$5:$AM$5,0),0)","v":1.3729659679439321}]
[null,null,"Planned renewable generation","Change",{"$f":"IF(ISERR(E107-E106),\"\",E107-E106)","v":1.1405767492240289}]
[null,null,"2012 Score","0 to 5","NA"]
[null,null,"2013 Score","0 to 5",0.30254048780487808]
[null,null,"2014 Score","0 to 5",0.44666210043851445]
[null,null,"2015 Score","0 to 5",0.44279505968090127]
[null,null,"2016 Score","0 to 5",0]
[null,null,"2017 Score","0 to 5",0.27851120595049395]
[null,null,"2018 Score","0 to 5",{"$f":"VLOOKUP(C100,'RE Index | Ranking inputs'!$D$8:$AM$44,MATCH($B$1,'RE Index | Ranking inputs'!$D$5:$AM$5,0),0)","v":1.4190879551745228}]
[null,null,"Electric Mobility","Change","N/A"]
[null,null,"2018 Score","0 to 5",{"$f":"VLOOKUP(C108,'RE Index | Ranking inputs'!$D$8:$AM$44,MATCH($B$1,'RE Index | Ranking inputs'!$D$5:$AM$5,0),0)","v":0}]
[null,null,"Overall Score Year-on-Year","Change",{"$f":"E123-E121","v":7.1447939322237808E-2}]
[null,null,"2012 Overall Score",null,0]
[null,null,"2012 Rank",null,22]
[null,null,"2013 Overall Score",null,1.3049846666052733]
[null,null,"2013 Rank",null,11]
[null,null,"2014 Overall Score",null,1.7121091106893618]
[null,null,"2014 Rank",null,7]
[null,null,"2015 Overall Score",null,1.6874811600183419]
[null,null,"2015 Rank",null,9]
[null,null,"2016 Overall Score",null,1.6666666666666665]
[null,null,"2016 Rank",null,8]
[null,null,"2017 Overall Score",null,2.1724182376132988]
[null,null,"2017 Rank",null,5]
[null,null,"2018 Overall Score",null,{"$f":"VLOOKUP(C123,'RE Index | Ranking inputs'!$D$8:$AM$125,MATCH($B$1,'RE Index | Ranking inputs'!$D$5:$AM$5,0),0)","v":2.2438661769355366}]
[null,null,"2018 Rank",null,{"$f":"VLOOKUP(C124,'RE Index | Ranking inputs'!$D$8:$AM$125,MATCH($B$1,'RE Index | Ranking inputs'!$D$5:$AM$5,0),0)","v":4}]

{"sheet":"Dominica","index":12,"n_rows":124,"n_cols":6,"rows_kept":124,"cut":false,"hidden":false,"merged":[[73,2,73,3],[77,2,77,3],[78,2,78,3],[79,2,79,3],[82,2,82,3],[69,2,69,3],[46,2,46,3],[47,2,47,3],[48,2,48,3],[51,2,51,3],[58,2,58,3],[60,2,60,3],[62,2,62,3],[63,2,63,3],[64,2,64,3],[67,2,67,3],[68,2,68,3],[33,2,33,3],[0,1,0,4],[1,2,1,3],[1,6,1,12],[4,2,4,3],[11,2,11,3],[12,2,12,3],[13,2,13,3],[14,2,14,3],[23,2,23,3],[28,2,28,3],[1,4,1,5]]}
[null,"Dominica"]
[null,null,"Overall Indicator"]
[1,null,"Enabling Environment for Renewable Energy (RE) Investments",null,"Consolidated Survey Response","Respondent 26, 49"]
[null,null,"Government - Renewable Energy Strategy",null,null,"Y/N"]
[null,1,"Does your country have a strategic plan to develop renewble energy?",null,null,"NA"]
[null,null,"Which of the following renewable generation options is includd in you country's strategic plan to develop renewable energy?",null,{"$f":"IF(B6<>0,IF(ISBLANK(F6),\"NA\",F6),\" \")","v":" "},"Solar, hydro, geothermal"]
[null,2,"Does your country have a specific target for renewable energy?",null,"NA","NA"]
[null,null,"If yes, what is the target and target year?",null," ","100% by 2030"]
[null,null,"What is the current breakdown of your country's energy mix?",null," ","Diesel fuel 70% Hydro 30%"]
[null,3,"Does your country have an Integrated Resource Plan (IRP) that was produced within the last three years?",null,"No","No"]
[null,null,"Utilities",null,null,"Y/N"]
[null,1,"When planning generation expansion, does the utility consider RE options?",null,"Yes","Yes"]
[null,2,"Can the utility safely recover RE investments through tariffs like it can recover fossil fuel costs?",null,"Yes","Yes"]
[null,3,"Are there clear, specific planning and permitting processes and rules in place for developing RE?",null,"Yes","Yes"]
[null,null,"On average, how long does it take for the power utility to get investments in RE projects approved by the regulatory authority (or relevant entity) fror recovery through tariffs?",null," ","NA"]
[null,null,"IPPs",null,null,"Y/N"]
[null,1,"Can the utility safely recover purchases of RE from third parties, just as it recovers fossil fuel costs?",null,"Yes","Yes"]
[null,null,"How long did it take to get your off-take agreement?",null," ","NA"]
[null,2,"Are there workable precedents or rules for PPA terms and grid operation rules?",null,"Yes","Yes"]
[null,3,"Are there clear and effective licensing processes and requirements in place for IPPs?",null,"Yes","Yes"]
[null,4,"Does the utility have an obligation to purchase from IPPs when it is cheaper than generating the power itself?",null,"Yes","Yes"]
[null,5,"Does the PPA have any take-or-pay arrangements?",null,"NA","NA"]
[null,null,"Distributed generation",null,null,"Y/N"]
[null,1,"Do you have a registry or database of distributed generation?",null,"NA","NA"]
[null,null,"What was the number of existing distributed scale RE systems in 2018?",null," ","NA"]
[null,null,"Is there an aggregate maximum capacity for distributed generation?",null," ","NA"]
[null,null,"What is the total installed capacity from renewable distributed generation in your country?",null," ","NA"]
[null,null,"What was the total generation from existing distributed scale RE systems in 2018?",null," ","NA"]
[null,2,"Is there a standard arrangement in place for customers to sell electricity to the utility at a reasonable price, for a reasonable timeframe, and with a clear interconnection agreement?",null,"NA","NA"]
[]
[2,null,"Existing renewable generation"]
[null,null,"What is the number of existing Utility-Scale RE projects?",null,{"$f":"IF(B32<>0,IF(ISBLANK(F32),\"NA\",F32),\" \")","v":" "},"NA"]
[null,1,"What was the total electricity generated in 2018? (MWh)",null,65411,"65,411 MWh"]
[null,1,"What was the total electricity generated from Utility Scale RE projects in 2018? (MWh) ",null,18315.080000000002,{"$f":"E33*28%","v":18315.080000000002}]
[null,null,"Please provide as much information as possible for exisitng RE projects in the box below as:\n- Project Name\n- Developer\n- Offtaker\n- Renewable Energy Technology Type\n- Start of Commercial Operation (Year)\n- Estimated Capacity Factor (in %) OR Estimated Annual Production (in MWh)\n- Installed Capacity (MW)\n- Length of PPA ",null," ","NA"]
[]
[3,null,"Planned Utility-Scale Renewable Energy Projects"]
[null,1,"Does your country have an estimate of planned installed capacity expected to come online from-utility scale RE projects?",null,{"$f":"IF(B38<>0,IF(ISBLANK(F38),\"NA\",F38),\" \")","v":"Yes"},"Yes"]
[null,null,"How much installed capacity from RE is expected to come online in the next 3 years?",null," ","Geothermal 7MW"]
[null,2,"How much renewable energy generation is expected to come online in the next 3 years?",null,"NA","NA"]
[null,3,"Is climate resilience incorporated in your IRP or national policy?",null,"Yes","Yes"]
[null,null,"Please provide as much information as possible for RE projects currently under development in the box below as:\n- Project Name\n- Developer\n- Offtaker\n- Renewable Energy Technology Type\n- Start of Commercial Operation (Year)\n- Estimated Capacity Factor (in %) OR Estimated Annual Production (in MWh)\n- Installed Capacity (MW)\n- Length of PPA ",null," ","NA"]
[]
[4,null,"Electric Mobility"]
[null,1,"Does your country have policies in place or draft legislation to promote the uptake of electric mobility?",null,{"$f":"IF(B45<>0,IF(ISBLANK(F45),\"NA\",F45),\" \")","v":"Yes"},"Yes"]
[null,2,"Does your country have specific targets for the uptake of electric vehicles?",null,"No","No"]
[null,null,"What is the target and target year?",null," ","NA"]
[null,null,"How many electric cars are currently in your country?",null," ",0]
[null,null,"How many charging stations are in your country?",null," ",0]
[]
[]
[null,null,"Descriptive CREF Index Survey"]
[null,null,"Enabling Environment for Renewable Energy (RE) Investments"]
[null,null,"Renewable energy strategy"]
[null,null,"Which of the rollowing renewable generation options is included in your country's strategic plan to develop renewable energy?\n- Solar PV\n- Offshore wind\n- Biomass\n- Waste to energy\n- Hydro\n-Geothermal\n- Other",null,{"$f":"F55","v":"Solar, hydro, geothermal"},{"$f":"F6","v":"Solar, hydro, geothermal"}]
[null,null,"What is the target and target year?",null,{"$f":"F56","v":"100% by 2030"},{"$f":"F8","v":"100% by 2030"}]
[null,null,"What is the current breakdown of your country's energy mix?",null,"Diesel fuel 70% Hydro 30%",{"$f":"F9","v":"Diesel fuel 70% Hydro 30%"}]
[null,null,"Utilities"]
[null,null,"On average, how long does it take for the power utility to get investments in RE projects approved by the regulatory authority 9or the relevant entity) for recovery through tariffs?",null,{"$f":"E15","v":" "},{"$f":"F15","v":"NA"}]
[null,null,"IPPs"]
[null,null,"How long did it take to get your off-take agreement?",null,{"$f":"E18","v":" "},{"$f":"F18","v":"NA"}]
[null,null,"Distributed Generation"]
[null,null,"What is the number of exisiting distributed scale RE systems in 2018?",null,{"$f":"E25","v":" "},{"$f":"F25","v":"NA"}]
[null,null,"What is the total installed capacity from renewable distributed generation in your country?",null,{"$f":"E27","v":" "},{"$f":"F27","v":"NA"}]
[null,null,"What was the total generation from exisitng distributed scale RE systems in 2018?",null,{"$f":"E28","v":" "},{"$f":"F28","v":"NA"}]
[null,null,"Existing renewable generation"]
[null,null,"Existing Utility-Scale Renewable Energy Projects"]
[null,null,"What is the number of existing utility-scale RE projects?",null,null,{"$f":"F32","v":"NA"}]
[null,null,"What was the total electricity generated in 2018 (MWh)?",null,65411,"65,411 MWh"]
[null,null,"What was the total electricity generated from utility-scale RE projects in 2018 (MWh)?",null,18315.080000000002,18315.080000000002]
[null,null,"Please provide as much information as possible for exisitng RE projects in the box below as:\n- Project Name\n- Developer\n- Offtaker\n- Renewable Energy Technology Type\n- Start of Commercial Operation (Year)\n- Estimated Capacity Factor (in %) OR Estimated Annual Production (in MWh)\n- Installed Capacity (MW)\n- Length of PPA ",null," ","NA"]
[null,null,"Planned renewable generation"]
[null,null,"Potential Utility-Scale Renewable Energy Projects"]
[null,null,"How much installed capacity from RE is expected to come online in the next 3 years?",null,{"$f":"F74","v":"Geothermal 7MW"},{"$f":"F39","v":"Geothermal 7MW"}]
[null,null,"How much renewable energy generation is expected to come online in the next 3 years?",null,{"$f":"E40","v":"NA"},{"$f":"F40","v":"NA"}]
[null,null,"Please provide as much information as possible for RE projects currently under development in the box below as:\n- Project Name\n- Developer\n- Offtaker\n- Renewable Energy Technology Type\n- Start of Commercial Operation (Year)\n- Estimated Capacity Factor (in %) OR Estimated Annual Production (in MWh)\n- Installed Capacity (MW)\n- Length of PPA ",null,{"$f":"E42","v":" "},{"$f":"F42","v":"NA"}]
[null,null,"Electric Mobility"]
[null,null,"What is the target and target year?",null,{"$f":"E47","v":" "},{"$f":"F47","v":"NA"}]
[null,null,"How many electric cars are currently in your country?",null,{"$f":"E48","v":" "},0]
[null,null,"How many charging stations are in your country?",null," ",0]
[]
[]
[null,null,"Improvement Year-on-Year"]
[null,null,"Enabling environment for renewable energy investments","Change",{"$f":"IF(ISERR(E91-E90),\"\",E91-E90)","v":-0.234375}]
[null,null,"2012 Score","0 to 5",2.833333333333333]
[null,null,"2013 Score","0 to 5",2.833333333333333]
[null,null,"2014 Score","0 to 5",2.833333333333333]
[null,null,"2015 Score","0 to 5",2.833333333333333]
[null,null,"2016 Score","0 to 5",5]
[null,null,"2017 Score","0 to 5",3.4375]
[null,null,"2018 Score","0 to 5",{"$f":"VLOOKUP(C84,'RE Index | Ranking inputs'!$D$8:$AM$44,MATCH($B$1,'RE Index | Ranking inputs'!$D$5:$AM$5,0),0)","v":3.203125}]
[null,null,"Existing renewable generation","Change",{"$f":"IF(ISERR(E99-E98),\"\",E99-E98)","v":-1.29032852631579}]
[null,null,"2012 Score","0 to 5",2.2000000000000002]
[null,null,"2013 Score","0 to 5",1.593331003230799]
[null,null,"2014 Score","0 to 5",1.3501767905351756]
[null,null,"2015 Score","0 to 5",1.2087269157195306]
[null,null,"2016 Score","0 to 5",1.091680013248947]
[null,null,"2017 Score","0 to 5",2.6903285263157901]
[null,null,"2018 Score","0 to 5",{"$f":"VLOOKUP(C92,'RE Index | Ranking inputs'!$D$8:$AM$44,MATCH($B$1,'RE Index | Ranking inputs'!$D$5:$AM$5,0),0)","v":1.4000000000000001}]
[null,null,"Planned renewable generation","Change",{"$f":"IF(ISERR(E107-E106),\"\",E107-E106)","v":2.887121534479919}]
[null,null,"2012 Score","0 to 5",3.7]
[null,null,"2013 Score","0 to 5",4.1174438980250212]
[null,null,"2014 Score","0 to 5",4.1221309701786133]
[null,null,"2015 Score","0 to 5",4.1283325393044308]
[null,null,"2016 Score","0 to 5",4.0765076884210529]
[null,null,"2017 Score","0 to 5",2.112878465520081]
[null,null,"2018 Score","0 to 5",{"$f":"VLOOKUP(C100,'RE Index | Ranking inputs'!$D$8:$AM$44,MATCH($B$1,'RE Index | Ranking inputs'!$D$5:$AM$5,0),0)","v":5}]
[null,null,"Electric Mobility","Change","N/A"]
[null,null,"2018 Score","0 to 5",{"$f":"VLOOKUP(C108,'RE Index | Ranking inputs'!$D$8:$AM$44,MATCH($B$1,'RE Index | Ranking inputs'!$D$5:$AM$5,0),0)","v":2.5}]
[null,null,"Overall Score Year-on-Year","Change",{"$f":"E123-E121","v":0.38403516938804305}]
[null,null,"2012 Overall Score",null,2.8820000000000001]
[null,null,"2012 Rank",null,1]
[null,null,"2013 Overall Score",null,2.8480360781963845]
[null,null,"2013 Rank",null,1]
[null,null,"2014 Overall Score",null,2.7685470313490406]
[null,null,"2014 Rank",null,1]
[null,null,"2015 Overall Score",null,2.7234642627857646]
[null,null,"2015 Rank",null,2]
[null,null,"2016 Overall Score",null,3.3893959005566665]
[null,null,"2016 Rank",null,1]
[null,null,"2017 Overall Score",null,2.7469023306119569]
[null,null,"2017 Rank",null,3]
[null,null,"2018 Overall Score",null,{"$f":"VLOOKUP(C123,'RE Index | Ranking inputs'!$D$8:$AM$125,MATCH($B$1,'RE Index | Ranking inputs'!$D$5:$AM$5,0),0)","v":3.1309374999999999}]
[null,null,"2018 Rank",null,{"$f":"VLOOKUP(C124,'RE Index | Ranking inputs'!$D$8:$AM$125,MATCH($B$1,'RE Index | Ranking inputs'!$D$5:$AM$5,0),0)","v":1}]

{"sheet":"Dominican_Republic","index":13,"n_rows":124,"n_cols":7,"rows_kept":124,"cut":false,"hidden":false,"merged":[[73,2,73,3],[77,2,77,3],[78,2,78,3],[79,2,79,3],[82,2,82,3],[69,2,69,3],[46,2,46,3],[47,2,47,3],[48,2,48,3],[51,2,51,3],[58,2,58,3],[60,2,60,3],[62,2,62,3],[63,2,63,3],[64,2,64,3],[67,2,67,3],[68,2,68,3],[1,4,1,5],[33,2,33,3],[1,2,1,3],[4,2,4,3],[11,2,11,3],[12,2,12,3],[13,2,13,3],[14,2,14,3],[23,2,23,3],[28,2,28,3]]}
[null,"Dominican Republic"]
[null,null,"Overall Indicator",null,null,null,"Alfonso Rodriguez - Soventix Caribbean"]
[1,null,"Enabling Environment for Renewable Energy (RE) Investments",null,"Consolidated Survey Response","Respondent 8","Respondent 9"]
[null,null,"Government - Renewable Energy Strategy",null,"Y/N"]
[null,1,"Does your country have a strategic plan to develop renewble energy?",null,{"$f":"F5","v":"Yes"},"Yes"]
[null,null,"Which of the following renewable generation options is includd in you country's strategic plan to develop renewable energy?",null,{"$f":"IF(B6<>0,IF(ISBLANK(F6),\"NA\",F6),\" \")","v":" "},"Solar PV, onshore wind, biomass, WTE, hydro"]
[null,2,"Does your country have a specific target for renewable energy?",null,"No","No","Yes"]
[null,null,"If yes, what is the target and target year?",null," ",null,"15% renewable energy by 2021"]
[null,null,"What is the current breakdown of your country's energy mix?",null," ","12% hydro 2% wind 1% biomass 1% fv","8% Corresponds to RE, balance is thermal. Approx equally divided between coal, natural gas and HFO"]
[null,3,"Does your country have an Integrated Resource Plan (IRP) that was produced within the last three years?",null,"Yes","Yes","No"]
[null,null,"Utilities",null,"Y/N"]
[null,1,"When planning generation expansion, does the utility consider RE options?",null,"Yes","Yes","Yes"]
[null,2,"Can the utility safely recover RE investments through tariffs like it can recover fossil fuel costs?",null,{"$f":"G13","v":"No"},"Yes","No"]
[null,3,"Are there clear, specific planning and permitting processes and rules in place for developing RE?",null,"Yes","Yes","Yes"]
[null,null,"On average, how long does it take for the power utility to get investments in RE projects approved by the regulatory authority (or relevant entity) fror recovery through tariffs?",null," ","6-12 months","RE does not need special pricing, as thermal power is quite expensive already. RE can compete head to head, Paybacks are typically 7-10 years"]
[null,null,"IPPs",null,"Y/N"]
[null,1,"Can the utility safely recover purchases of RE from third parties, just as it recovers fossil fuel costs?",null,"Yes","Yes","Yes"]
[null,null,"How long did it take to get your off-take agreement?",null," ","2 months","at least one year, once the Concession is obtained. Concession takes additional 2 years to complete a total of no less than 3 years."]
[null,2,"Are there workable precedents or rules for PPA terms and grid operation rules?",null,"Yes","Yes","Yes"]
[null,3,"Are there clear and effective licensing processes and requirements in place for IPPs?",null,"Yes","Yes","Yes"]
[null,4,"Does the utility have an obligation to purchase from IPPs when it is cheaper than generating the power itself?",null,"No","No","No"]
[null,5,"Does the PPA have any take-or-pay arrangements?",null,"Yes","No","Yes"]
[null,null,"Distributed generation",null,"Y/N"]
[null,1,"Do you have a registry or database of distributed generation?",null,"No","No","Yes"]
[null,null,"What was the number of existing distributed scale RE systems in 2018?",null," ","NA","Hundreds of projects through net metering. 90 MW of typically less than 1 MW projects"]
[null,null,"Is there an aggregate maximum capacity for distributed generation?",null," ","Yes","No"]
[null,null,"What is the total installed capacity from renewable distributed generation in your country?",null," ",120,90]
[null,null,"What was the total generation from existing distributed scale RE systems in 2018?",null,135000,"NA","135GWh"]
[null,2,"Is there a standard arrangement in place for customers to sell electricity to the utility at a reasonable price, for a reasonable timeframe, and with a clear interconnection agreement?",null,{"$f":"G29","v":"No"},"Yes","No"]
[]
[2,null,"Existing renewable generation"]
[null,null,"What is the number of existing Utility-Scale RE projects?",null,{"$f":"IF(B32<>0,IF(ISBLANK(F32),\"NA\",F32),\" \")","v":" "},"NA","2 in operation, 2 in construction"]
[null,1,"What was the total electricity generated in 2018? (MWh)",null,{"$f":"(E34*100)/16","v":107000},"NA","NA"]
[null,1,"What was the total electricity generated from Utility Scale RE projects in 2018? (MWh) ",null,{"$f":"F34","v":17120},{"$f":"16%*'Jurisdictions | Generation'!E26","v":17120},"150 GWh"]
[null,null,"Please provide as much information as possible for exisitng RE projects in the box below as:\n- Project Name\n- Developer\n- Offtaker\n- Renewable Energy Technology Type\n- Start of Commercial Operation (Year)\n- Estimated Capacity Factor (in %) OR Estimated Annual Production (in MWh)\n- Installed Capacity (MW)\n- Length of PPA ",null," ","NA","NA"]
[]
[3,null,"Planned Utility-Scale Renewable Energy Projects"]
[null,1,"Does your country have an estimate of planned installed capacity expected to come online from-utility scale RE projects?",null,{"$f":"IF(B38<>0,IF(ISBLANK(G38),\"NA\",G38),\" \")","v":"Yes"},"NA","Yes"]
[null,null,"How much installed capacity from RE is expected to come online in the next 3 years?",null,{"$f":"IF(B39<>0,IF(ISBLANK(G39),\"NA\",G39),\" \")","v":" "},"NA","350MW"]
[null,2,"How much renewable energy generation is expected to come online in the next 3 years?",null,1200000,"NA","1200GWh"]
[null,3,"Is climate resilience incorporated in your IRP or national policy?",null,"Yes","NA","Yes"]
[null,null,"Please provide as much information as possible for RE projects currently under development in the box below as:\n- Project Name\n- Developer\n- Offtaker\n- Renewable Energy Technology Type\n- Start of Commercial Operation (Year)\n- Estimated Capacity Factor (in %) OR Estimated Annual Production (in MWh)\n- Installed Capacity (MW)\n- Length of PPA ",null," ","NA","NA"]
[]
[4,null,"Electric Mobility"]
[null,1,"Does your country have policies in place or draft legislation to promote the uptake of electric mobility?",null,{"$f":"IF(B45<>0,IF(ISBLANK(G45),\"NA\",G45),\" \")","v":"No"},"NA","No"]
[null,2,"Does your country have specific targets for the uptake of electric vehicles?",null,{"$f":"IF(B46<>0,IF(ISBLANK(G46),\"NA\",G46),\" \")","v":"No"},"NA","No"]
[null,null,"What is the target and target year?",null," ","NA","NA"]
[null,null,"How many electric cars are currently in your country?",null," ","NA","NA"]
[null,null,"How many charging stations are in your country?",null," ","NA","NA"]
[]
[]
[null,null,"Descriptive CREF Index Survey"]
[null,null,"Enabling Environment for Renewable Energy (RE) Investments"]
[null,null,"Renewable energy strategy"]
[null,null,"Which of the rollowing renewable generation options is included in your country's strategic plan to develop renewable energy?\n- Solar PV\n- Offshore wind\n- Biomass\n- Waste to energy\n- Hydro\n-Geothermal\n- Other",null,{"$f":"F55","v":"Solar PV, onshore wind, biomass, WTE, hydro"},{"$f":"F6","v":"Solar PV, onshore wind, biomass, WTE, hydro"},0]
[null,null,"What is the target and target year?",null,{"$f":"G56","v":"15% renewable energy by 2021"},{"$f":"F8","v":0},"15% renewable energy by 2021"]
[null,null,"What is the current breakdown of your country's energy mix?",null,{"$f":"F57","v":"12% hydro 2% wind 1% biomass 1% fv"},{"$f":"F9","v":"12% hydro 2% wind 1% biomass 1% fv"},"8% Corresponds to RE, balance is thermal. Approx equally divided between coal, natural gas and HFO"]
[null,null,"Utilities"]
[null,null,"On average, how long does it take for the power utility to get investments in RE projects approved by the regulatory authority 9or the relevant entity) for recovery through tariffs?",null,{"$f":"F59","v":"6-12 months"},{"$f":"F15","v":"6-12 months"},"RE does not need special pricing, as thermal power is quite expensive already. RE can compete head to head, Paybacks are typically 7-10 years"]
[null,null,"IPPs"]
[null,null,"How long did it take to get your off-take agreement?",null,"2 months - 1 yr",{"$f":"F18","v":"2 months"},"at least one year, once the Concession is obtained. Concession takes additional 2 years to complete a total of no less than 3 years."]
[null,null,"Distributed Generation"]
[null,null,"What is the number of exisiting distributed scale RE systems in 2018?",null,{"$f":"G63","v":"Hundreds of projects through net metering. 90 MW of typically less than 1 MW projects"},{"$f":"F25","v":"NA"},"Hundreds of projects through net metering. 90 MW of typically less than 1 MW projects"]
[null,null,"What is the total installed capacity from renewable distributed generation in your country?",null,"90-120",{"$f":"F27","v":120},90]
[null,null,"What was the total generation from exisitng distributed scale RE systems in 2018?",null,{"$f":"E28","v":135000},{"$f":"F28","v":"NA"},"135GWh"]
[null,null,"Existing renewable generation"]
[null,null,"Existing Utility-Scale Renewable Energy Projects"]
[null,null,"What is the number of existing utility-scale RE projects?",null,{"$f":"G68","v":"2 in operation, 2 in construction"},{"$f":"F32","v":"NA"},"2 in operation, 2 in construction"]
[null,null,"What was the total electricity generated in 2018 (MWh)?",null,{"$f":"E33","v":107000},{"$f":"F33","v":"NA"},"NA"]
[null,null,"What was the total electricity generated from utility-scale RE projects in 2018 (MWh)?",null,{"$f":"E34","v":17120},{"$f":"F34","v":17120},"150 GWh"]
[null,null,"Please provide as much information as possible for exisitng RE projects in the box below as:\n- Project Name\n- Developer\n- Offtaker\n- Renewable Energy Technology Type\n- Start of Commercial Operation (Year)\n- Estimated Capacity Factor (in %) OR Estimated Annual Production (in MWh)\n- Installed Capacity (MW)\n- Length of PPA ",null,{"$f":"E35","v":" "},{"$f":"F35","v":"NA"},"NA"]
[null,null,"Planned renewable generation"]
[null,null,"Potential Utility-Scale Renewable Energy Projects"]
[null,null,"How much installed capacity from RE is expected to come online in the next 3 years?",null,{"$f":"G74","v":"350MW"},{"$f":"F39","v":"NA"},"350MW"]
[null,null,"How much renewable energy generation is expected to come online in the next 3 years?",null,{"$f":"E40","v":1200000},{"$f":"F40","v":"NA"},"1200GWh"]
[null,null,"Please provide as much information as possible for RE projects currently under development in the box below as:\n- Project Name\n- Developer\n- Offtaker\n- Renewable Energy Technology Type\n- Start of Commercial Operation (Year)\n- Estimated Capacity Factor (in %) OR Estimated Annual Production (in MWh)\n- Installed Capacity (MW)\n- Length of PPA ",null,{"$f":"E42","v":" "},{"$f":"F42","v":"NA"},"NA"]
[null,null,"Electric Mobility"]
[null,null,"What is the target and target year?",null,{"$f":"E47","v":" "},{"$f":"F47","v":"NA"},"NA"]
[null,null,"How many electric cars are currently in your country?",null,{"$f":"E48","v":" "},"NA","NA"]
[null,null,"How many charging stations are in your country?",null," ","NA","NA"]
[]
[]
[null,null,"Improvement Year-on-Year"]
[null,null,"Enabling environment for renewable energy investments","Change",{"$f":"IF(ISERR(E91-E90),\"\",E91-E90)","v":-1.8802083333333339}]
[null,null,"2012 Score","0 to 5",2.333333333333333]
[null,null,"2013 Score","0 to 5",2.333333333333333]
[null,null,"2014 Score","0 to 5",2.333333333333333]
[null,null,"2015 Score","0 to 5",2.333333333333333]
[null,null,"2016 Score","0 to 5",4.333333333333333]
[null,null,"2017 Score","0 to 5",4.5833333333333339]
[null,null,"2018 Score","0 to 5",{"$f":"VLOOKUP(C84,'RE Index | Ranking inputs'!$D$8:$AM$44,MATCH($B$1,'RE Index | Ranking inputs'!$D$5:$AM$5,0),0)","v":2.703125}]
[null,null,"Existing renewable generation","Change",{"$f":"IF(ISERR(E99-E98),\"\",E99-E98)","v":0.22729608433087578}]
[null,null,"2012 Score","0 to 5",0.43]
[null,null,"2013 Score","0 to 5",0.63355599346737579]
[null,null,"2014 Score","0 to 5",0.78246215631445859]
[null,null,"2015 Score","0 to 5",0.70317459370742108]
[null,null,"2016 Score","0 to 5",0.85966555881907403]
[null,null,"2017 Score","0 to 5",0.57270391566912426]
[null,null,"2018 Score","0 to 5",{"$f":"VLOOKUP(C92,'RE Index | Ranking inputs'!$D$8:$AM$44,MATCH($B$1,'RE Index | Ranking inputs'!$D$5:$AM$5,0),0)","v":0.8}]
[null,null,"Planned renewable generation","Change",{"$f":"IF(ISERR(E107-E106),\"\",E107-E106)","v":4.6653301860038594}]
[null,null,"2012 Score","0 to 5",0.85]
[null,null,"2013 Score","0 to 5",0.86042015286097773]
[null,null,"2014 Score","0 to 5",0.28655926850798813]
[null,null,"2015 Score","0 to 5",0.32608052097328938]
[null,null,"2016 Score","0 to 5",0.29735941162274904]
[null,null,"2017 Score","0 to 5",0.33466981399614026]
[null,null,"2018 Score","0 to 5",{"$f":"VLOOKUP(C100,'RE Index | Ranking inputs'!$D$8:$AM$44,MATCH($B$1,'RE Index | Ranking inputs'!$D$5:$AM$5,0),0)","v":5}]
[null,null,"Electric Mobility","Change","N/A"]
[null,null,"2018 Score","0 to 5",{"$f":"VLOOKUP(C108,'RE Index | Ranking inputs'!$D$8:$AM$44,MATCH($B$1,'RE Index | Ranking inputs'!$D$5:$AM$5,0),0)","v":0}]
[null,null,"Overall Score Year-on-Year","Change",{"$f":"E123-E121","v":0.72070181233380026}]
[null,null,"2012 Overall Score",null,1.1923999999999999]
[null,null,"2012 Rank",null,10]
[null,null,"2013 Overall Score",null,1.2757698265538955]
[null,null,"2013 Rank",null,13]
[null,null,"2014 Overall Score",null,1.1341182527185931]
[null,null,"2014 Rank",null,14]
[null,null,"2015 Overall Score",null,1.120862816004681]
[null,null,"2015 Rank",null,15]
[null,null,"2016 Overall Score",null,1.8301194345917184]
[null,null,"2016 Rank",null,5]
[null,null,"2017 Overall Score",null,1.8302356876661996]
[null,null,"2017 Rank",null,8]
[null,null,"2018 Overall Score",null,{"$f":"VLOOKUP(C123,'RE Index | Ranking inputs'!$D$8:$AM$125,MATCH($B$1,'RE Index | Ranking inputs'!$D$5:$AM$5,0),0)","v":2.5509374999999999}]
[null,null,"2018 Rank",null,{"$f":"VLOOKUP(C124,'RE Index | Ranking inputs'!$D$8:$AM$125,MATCH($B$1,'RE Index | Ranking inputs'!$D$5:$AM$5,0),0)","v":3}]

{"sheet":"Grenada","index":14,"n_rows":124,"n_cols":8,"rows_kept":124,"cut":false,"hidden":false,"merged":[[73,2,73,3],[77,2,77,3],[78,2,78,3],[79,2,79,3],[82,2,82,3],[69,2,69,3],[46,2,46,3],[47,2,47,3],[48,2,48,3],[51,2,51,3],[58,2,58,3],[60,2,60,3],[62,2,62,3],[63,2,63,3],[64,2,64,3],[67,2,67,3],[68,2,68,3],[33,2,33,3],[0,1,0,4],[4,2,4,3],[11,2,11,3],[12,2,12,3],[13,2,13,3],[14,2,14,3],[23,2,23,3],[28,2,28,3],[1,2,1,4]]}
[null,"Grenada"]
[null,null,"Overall Indicator",null,null,"GRENLEC - Clive Hosten","GRENLEC - Collin Cover","Energy Division - Leslie Smith"]
[1,null,"Enabling Environment for Renewable Energy (RE) Investments",null,"Consolidated Survey Response","Respondent 22, 40","Respondent 36","Respondent 40"]
[null,null,"Government - Renewable Energy Strategy",null,"Y/N"]
[null,1,"Does your country have a strategic plan to develop renewble energy?",null,"Yes","Yes","Yes","Yes"]
[null,null,"Which of the following renewable generation options is includd in you country's strategic plan to develop renewable energy?",null,{"$f":"IF(B6<>0,IF(ISBLANK(F6),\"NA\",F6),\" \")","v":" "},"Solar PV, onshore wind, WTE, geothermal","Solar PV, Geothermal","Solar PV, onshore wind, biomass, geothermal"]
[null,2,"Does your country have a specific target for renewable energy?",null,"Yes","Yes",null,"Yes"]
[null,null,"If yes, what is the target and target year?",null," ",null,"Grenada commits to reducing its Greenhouse gas emissions by 30% of 2010 by 2025, with an indicative reduction of 40% of 2010 by 2030."]
[null,null,"What is the current breakdown of your country's energy mix?",null," ","Fossil Fuel 98% Solar Energy 2%","Electricity- hydrocarbons 98%, Solar 2% Transport - hydrocarbons 100%"]
[null,3,"Does your country have an Integrated Resource Plan (IRP) that was produced within the last three years?",null,"No","No","No","No"]
[null,null,"Utilities",null,null,"Y/N"]
[null,1,"When planning generation expansion, does the utility consider RE options?",null,"Yes","Yes","Yes","Yes"]
[null,2,"Can the utility safely recover RE investments through tariffs like it can recover fossil fuel costs?",null,"Yes","Yes"]
[null,3,"Are there clear, specific planning and permitting processes and rules in place for developing RE?",null,"No","No",null,"No"]
[null,null,"On average, how long does it take for the power utility to get investments in RE projects approved by the regulatory authority (or relevant entity) fror recovery through tariffs?",null," ","Regulator has recently started operations","Not yet known"]
[null,null,"IPPs",null,null,"Y/N"]
[null,1,"Can the utility safely recover purchases of RE from third parties, just as it recovers fossil fuel costs?",null,"Yes","Yes"]
[null,null,"How long did it take to get your off-take agreement?",null," ",null,"Regulations not yet published"]
[null,2,"Are there workable precedents or rules for PPA terms and grid operation rules?",null,"No","No"]
[null,3,"Are there clear and effective licensing processes and requirements in place for IPPs?",null,"No","No"]
[null,4,"Does the utility have an obligation to purchase from IPPs when it is cheaper than generating the power itself?"]
[null,5,"Does the PPA have any take-or-pay arrangements?"]
[null,null,"Distributed generation",null,null,"Y/N"]
[null,1,"Do you have a registry or database of distributed generation?",null,"Yes","Yes"]
[null,null,"What was the number of existing distributed scale RE systems in 2018?",null," ","2693kw",161]
[null,null,"Is there an aggregate maximum capacity for distributed generation?",null," ","Yes"]
[null,null,"What is the total installed capacity from renewable distributed generation in your country?",null," ","3001kw","2MW"]
[null,null,"What was the total generation from existing distributed scale RE systems in 2018?",null," ",3302285]
[null,2,"Is there a standard arrangement in place for customers to sell electricity to the utility at a reasonable price, for a reasonable timeframe, and with a clear interconnection agreement?",null,"Yes","Yes","Yes"]
[]
[2,null,"Existing renewable generation"]
[null,null,"What is the number of existing Utility-Scale RE projects?",null,{"$f":"IF(B32<>0,IF(ISBLANK(F32),\"NA\",F32),\" \")","v":" "},3]
[null,1,"What was the total electricity generated in 2018? (MWh)",null,{"$f":"F33/1000","v":230947.23199999999},230947232]
[null,1,"What was the total electricity generated from Utility Scale RE projects in 2018? (MWh) ",null,{"$f":"F34/1000","v":1656.2860000000001},1656286]
[null,null,"Please provide as much information as possible for exisitng RE projects in the box below as:\n- Project Name\n- Developer\n- Offtaker\n- Renewable Energy Technology Type\n- Start of Commercial Operation (Year)\n- Estimated Capacity Factor (in %) OR Estimated Annual Production (in MWh)\n- Installed Capacity (MW)\n- Length of PPA ",null,{"$f":"IF(B35<>0,IF(ISBLANK(F35),\"NA\",F35),\" \")","v":" "}]
[]
[3,null,"Planned Utility-Scale Renewable Energy Projects"]
[null,1,"Does your country have an estimate of planned installed capacity expected to come online from-utility scale RE projects?",null,{"$f":"IF(B38<>0,IF(ISBLANK(F38),\"NA\",F38),\" \")","v":"No"},"No"]
[null,null,"How much installed capacity from RE is expected to come online in the next 3 years?",null," "]
[null,2,"How much renewable energy generation is expected to come online in the next 3 years?",null,"NA"]
[null,3,"Is climate resilience incorporated in your IRP or national policy?",null,"Yes"]
[null,null,"Please provide as much information as possible for RE projects currently under development in the box below as:\n- Project Name\n- Developer\n- Offtaker\n- Renewable Energy Technology Type\n- Start of Commercial Operation (Year)\n- Estimated Capacity Factor (in %) OR Estimated Annual Production (in MWh)\n- Installed Capacity (MW)\n- Length of PPA ",null," "]
[]
[4,null,"Electric Mobility"]
[null,1,"Does your country have policies in place or draft legislation to promote the uptake of electric mobility?",null,{"$f":"IF(B45<>0,IF(ISBLANK(F45),\"NA\",F45),\" \")","v":"No"},"No"]
[null,2,"Does your country have specific targets for the uptake of electric vehicles?",null,"No","No"]
[null,null,"What is the target and target year?",null," "]
[null,null,"How many electric cars are currently in your country?",null," ","About 7"]
[null,null,"How many charging stations are in your country?",null," ",2]
[]
[]
[null,null,"Descriptive CREF Index Survey"]
[null,null,"Enabling Environment for Renewable Energy (RE) Investments"]
[null,null,"Renewable energy strategy"]
[null,null,"Which of the rollowing renewable generation options is included in your country's strategic plan to develop renewable energy?\n- Solar PV\n- Offshore wind\n- Biomass\n- Waste to energy\n- Hydro\n-Geothermal\n- Other",null,"Solar PV, onshore wind, WTE, geothermal, biomass",{"$f":"F6","v":"Solar PV, onshore wind, WTE, geothermal"},"Solar PV, Geothermal","Solar PV, onshore wind, biomass, geothermal"]
[null,null,"What is the target and target year?",null,{"$f":"F56","v":"Grenada commits to reducing its Greenhouse gas emissions by 30% of 2010 by 2025, with an indicative reduction of 40% of 2010 by 2030."},{"$f":"G8","v":"Grenada commits to reducing its Greenhouse gas emissions by 30% of 2010 by 2025, with an indicative reduction of 40% of 2010 by 2030."},0,0]
[null,null,"What is the current breakdown of your country's energy mix?",null,{"$f":"F9","v":"Fossil Fuel 98% Solar Energy 2%"},{"$f":"G9","v":"Electricity- hydrocarbons 98%, Solar 2% Transport - hydrocarbons 100%"},0,0]
[null,null,"Utilities"]
[null,null,"On average, how long does it take for the power utility to get investments in RE projects approved by the regulatory authority 9or the relevant entity) for recovery through tariffs?",null,{"$f":"F15","v":"Regulator has recently started operations"},{"$f":"G15","v":"Not yet known"},0,0]
[null,null,"IPPs"]
[null,null,"How long did it take to get your off-take agreement?",null,{"$f":"F61","v":"Regulations not yet published"},{"$f":"G18","v":"Regulations not yet published"},0,0]
[null,null,"Distributed Generation"]
[null,null,"What is the number of exisiting distributed scale RE systems in 2018?",null,{"$f":"F25","v":"2693kw"},{"$f":"G25","v":161},0,0]
[null,null,"What is the total installed capacity from renewable distributed generation in your country?",null,{"$f":"F27","v":"3001kw"},{"$f":"G27","v":"2MW"},0,0]
[null,null,"What was the total generation from exisitng distributed scale RE systems in 2018?",null,{"$f":"F28","v":3302285},{"$f":"G28","v":0},0,0]
[null,null,"Existing renewable generation"]
[null,null,"Existing Utility-Scale Renewable Energy Projects"]
[null,null,"What is the number of existing utility-scale RE projects?",null,{"$f":"F68","v":3},{"$f":"F32","v":3},0,0]
[null,null,"What was the total electricity generated in 2018 (MWh)?",null,{"$f":"E33","v":230947.23199999999},{"$f":"F33","v":230947232},0,0]
[null,null,"What was the total electricity generated from utility-scale RE projects in 2018 (MWh)?",null,{"$f":"E34","v":1656.2860000000001},{"$f":"F34","v":1656286},0,0]
[null,null,"Please provide as much information as possible for exisitng RE projects in the box below as:\n- Project Name\n- Developer\n- Offtaker\n- Renewable Energy Technology Type\n- Start of Commercial Operation (Year)\n- Estimated Capacity Factor (in %) OR Estimated Annual Production (in MWh)\n- Installed Capacity (MW)\n- Length of PPA ",null,{"$f":"E35","v":" "},{"$f":"F35","v":0},0,0]
[null,null,"Planned renewable generation"]
[null,null,"Potential Utility-Scale Renewable Energy Projects"]
[null,null,"How much installed capacity from RE is expected to come online in the next 3 years?",null,{"$f":"E39","v":" "},{"$f":"F39","v":0},0,0]
[null,null,"How much renewable energy generation is expected to come online in the next 3 years?",null,{"$f":"E40","v":"NA"},{"$f":"F40","v":0},0,0]
[null,null,"Please provide as much information as possible for RE projects currently under development in the box below as:\n- Project Name\n- Developer\n- Offtaker\n- Renewable Energy Technology Type\n- Start of Commercial Operation (Year)\n- Estimated Capacity Factor (in %) OR Estimated Annual Production (in MWh)\n- Installed Capacity (MW)\n- Length of PPA ",null,{"$f":"E42","v":" "},{"$f":"F42","v":0},0,0]
[null,null,"Electric Mobility"]
[null,null,"What is the target and target year?",null,{"$f":"E47","v":" "},{"$f":"F47","v":0},0,0]
[null,null,"How many electric cars are currently in your country?",null,{"$f":"F79","v":"About 7"},{"$f":"F48","v":"About 7"},0,0]
[null,null,"How many charging stations are in your country?",null,{"$f":"F80","v":2},2,0,0]
[]
[]
[null,null,"Improvement Year-on-Year"]
[null,null,"Enabling environment for renewable energy investments","Change",{"$f":"IF(ISERR(E91-E90),\"\",E91-E90)","v":1.171875}]
[null,null,"2012 Score","0 to 5",2.333333333333333]
[null,null,"2013 Score","0 to 5",2.333333333333333]
[null,null,"2014 Score","0 to 5",2.333333333333333]
[null,null,"2015 Score","0 to 5",2.6666666666666665]
[null,null,"2016 Score","0 to 5",5]
[null,null,"2017 Score","0 to 5",1.875]
[null,null,"2018 Score","0 to 5",{"$f":"VLOOKUP(C84,'RE Index | Ranking inputs'!$D$8:$AM$44,MATCH($B$1,'RE Index | Ranking inputs'!$D$5:$AM$5,0),0)","v":3.046875}]
[null,null,"Existing renewable generation","Change",{"$f":"IF(ISERR(E99-E98),\"\",E99-E98)","v":-0.22777208462968815}]
[null,null,"2012 Score","0 to 5",0.1]
[null,null,"2013 Score","0 to 5",1.0669089921879742E-2]
[null,null,"2014 Score","0 to 5",4.0324437393214549E-2]
[null,null,"2015 Score","0 to 5",3.4216110410388141E-2]
[null,null,"2016 Score","0 to 5",5.4099818698154431E-2]
[null,null,"2017 Score","0 to 5",0.26363062221978145]
[null,null,"2018 Score","0 to 5",{"$f":"VLOOKUP(C92,'RE Index | Ranking inputs'!$D$8:$AM$44,MATCH($B$1,'RE Index | Ranking inputs'!$D$5:$AM$5,0),0)","v":3.585853759009331E-2}]
[null,null,"Planned renewable generation","Change",{"$f":"IF(ISERR(E107-E106),\"\",E107-E106)","v":-0.68300949818984913}]
[null,null,"2012 Score","0 to 5",3.2]
[null,null,"2013 Score","0 to 5",2.9386145920130069]
[null,null,"2014 Score","0 to 5",9.9443765648472709E-2]
[null,null,"2015 Score","0 to 5",1.6167085672443251]
[null,null,"2016 Score","0 to 5",0]
[null,null,"2017 Score","0 to 5",2.0445933329672141]
[null,null,"2018 Score","0 to 5",{"$f":"VLOOKUP(C100,'RE Index | Ranking inputs'!$D$8:$AM$44,MATCH($B$1,'RE Index | Ranking inputs'!$D$5:$AM$5,0),0)","v":1.361583834777365}]
[null,null,"Electric Mobility","Change","N/A"]
[null,null,"2018 Score","0 to 5",{"$f":"VLOOKUP(C108,'RE Index | Ranking inputs'!$D$8:$AM$44,MATCH($B$1,'RE Index | Ranking inputs'!$D$5:$AM$5,0),0)","v":0}]
[null,null,"Overall Score Year-on-Year","Change",{"$f":"E123-E121","v":-6.1112773352094418E-2}]
[null,null,"2012 Overall Score",null,1.859]
[null,null,"2012 Rank",null,3]
[null,null,"2013 Overall Score",null,1.7608723384227398]
[null,null,"2013 Rank",null,7]
[null,null,"2014 Overall Score",null,0.82436717879167343]
[null,null,"2014 Rank",null,21]
[null,null,"2015 Overall Score",null,1.4391971147737932]
[null,null,"2015 Rank",null,12]
[null,null,"2016 Overall Score",null,1.6846999395660514]
[null,null,"2016 Rank",null,7]
[null,null,"2017 Overall Score",null,1.3944079850623319]
[null,null,"2017 Rank",null,17]
[null,null,"2018 Overall Score",null,{"$f":"VLOOKUP(C123,'RE Index | Ranking inputs'!$D$8:$AM$125,MATCH($B$1,'RE Index | Ranking inputs'!$D$5:$AM$5,0),0)","v":1.3332952117102375}]
[null,null,"2018 Rank",null,{"$f":"VLOOKUP(C124,'RE Index | Ranking inputs'!$D$8:$AM$125,MATCH($B$1,'RE Index | Ranking inputs'!$D$5:$AM$5,0),0)","v":15}]

{"sheet":"Guadeloupe","index":15,"n_rows":124,"n_cols":9,"rows_kept":124,"cut":false,"hidden":false,"merged":[[73,2,73,3],[77,2,77,3],[78,2,78,3],[79,2,79,3],[82,2,82,3],[69,2,69,3],[46,2,46,3],[47,2,47,3],[48,2,48,3],[51,2,51,3],[58,2,58,3],[60,2,60,3],[62,2,62,3],[63,2,63,3],[64,2,64,3],[67,2,67,3],[68,2,68,3],[23,2,23,3],[28,2,28,3],[33,2,33,3],[0,1,0,4],[4,2,4,3],[11,2,11,3],[12,2,12,3],[13,2,13,3],[14,2,14,3],[1,2,1,4]]}
[null,"Guadeloupe"]
[null,null,"Overall Indicator",null,null,"Eustache Raissa - Energy Engineer, Regional Council of Guadeloupe","Julien Laffont - Regional Council of Guateloupe, Direct of Energy"]
[1,null,"Enabling Environment for Renewable Energy (RE) Investments",null,"Consolidated Survey Response","Respondent 18","Respondent 19"]
[null,null,"Government - Renewable Energy Strategy",null,"Y/N"]
[null,1,"Does your country have a strategic plan to develop renewble energy?",null,{"$f":"F5","v":"Yes"},"Yes","Yes"]
[null,null,"Which of the following renewable generation options is includd in you country's strategic plan to develop renewable energy?",null,{"$f":"IF(B6<>0,IF(ISBLANK(F6),\"NA\",F6),\" \")","v":" "},"Solar PV,  Onshore wind, biomass, hydro, geothermal","Solar PV,  Onshore wind, offshore wind, biomass, hydro, geothermal, WTE"]
[null,2,"Does your country have a specific target for renewable energy?",null,"Yes","Yes","Yes"]
[null,null,"If yes, what is the target and target year?",null," ","By 2020: 50% met by renewable energy sources By 2030: Energy independence","2020 : 50% ren in final consumptions 2030 : energy autonomy"]
[null,null,"What is the current breakdown of your country's energy mix?",null," ","Fuel oil : 53 % Coal : 26% Solar PV : 6% Geothermal : 6% Onshore Wind : 3% Bagasse : 3% Hydro : 2% Biogaz: 0.69 %","Fossils : 1 598 GWh - Coal : 18% - Butane : 1,6% - FOD : 1,6% - HFuel : 21,7% - Gasoline : 11,6% - Diesel : 22,3% - Jet fuel : 17,1% Renewables : 568 Gwh - Bagasse : 0,6% - Geothermal : 1,1% - Hydro : 0,4% - Wind (on shore) : 0,6% - PV : 1% - Biomasse/biogaz : 0,1% - Solar heaters : 0,9% - Steam (process) : 1,2%"]
[null,3,"Does your country have an Integrated Resource Plan (IRP) that was produced within the last three years?",null,"No","No","Yes"]
[null,null,"Utilities",null,"Y/N"]
[null,1,"When planning generation expansion, does the utility consider RE options?",null,"Yes","Yes","Yes"]
[null,2,"Can the utility safely recover RE investments through tariffs like it can recover fossil fuel costs?",null,{"$f":"IF(B13<>0,IF(ISBLANK(G13),\"NA\",G13),\" \")","v":"Yes"},"NA","Yes"]
[null,3,"Are there clear, specific planning and permitting processes and rules in place for developing RE?",null,{"$f":"IF(B14<>0,IF(ISBLANK(G14),\"NA\",G14),\" \")","v":"Yes"},"Yes","Yes"]
[null,null,"On average, how long does it take for the power utility to get investments in RE projects approved by the regulatory authority (or relevant entity) fror recovery through tariffs?",null," ","NA","It can take years: 5 to over 10"]
[null,null,"IPPs",null,"Y/N"]
[null,1,"Can the utility safely recover purchases of RE from third parties, just as it recovers fossil fuel costs?",null,{"$f":"IF(B17<>0,IF(ISBLANK(G17),\"NA\",G17),\" \")","v":"Yes"},"NA","Yes"]
[null,null,"How long did it take to get your off-take agreement?",null,{"$f":"IF(B18<>0,IF(ISBLANK(G18),\"NA\",G18),\" \")","v":" "},"NA","NA"]
[null,2,"Are there workable precedents or rules for PPA terms and grid operation rules?",null,"Yes","NA","Yes"]
[null,3,"Are there clear and effective licensing processes and requirements in place for IPPs?",null,"Yes","NA","Yes"]
[null,4,"Does the utility have an obligation to purchase from IPPs when it is cheaper than generating the power itself?",null,"Yes","NA","Yes"]
[null,5,"Does the PPA have any take-or-pay arrangements?",null,"Yes","NA","Yes"]
[null,null,"Distributed generation",null,"Y/N"]
[null,1,"Do you have a registry or database of distributed generation?",null,"Yes","NA","Yes"]
[null,null,"What was the number of existing distributed scale RE systems in 2018?",null," ","NA","147 MW of REN vs 422 of Fossil centralized generation"]
[null,null,"Is there an aggregate maximum capacity for distributed generation?",null," ","NA","Yes"]
[null,null,"What is the total installed capacity from renewable distributed generation in your country?",null," ","NA","147 MW of REN vs 422 of Fossil centralized generation"]
[null,null,"What was the total generation from existing distributed scale RE systems in 2018?",null," ","NA","362 GWh from REN vs 1 342 GWh form centralized fossil power generation"]
[null,2,"Is there a standard arrangement in place for customers to sell electricity to the utility at a reasonable price, for a reasonable timeframe, and with a clear interconnection agreement?",null,"Yes","NA","Yes"]
[]
[2,null,"Existing renewable generation"]
[null,null,"What is the number of existing Utility-Scale RE projects?",null,{"$f":"IF(B32<>0,IF(ISBLANK(G32),\"NA\",G32),\" \")","v":" "},"NA","147 MW of REN vs 422 of Fossil centralized generation"]
[null,1,"What was the total electricity generated in 2018? (MWh)",null,{"$f":"(362+1342)*1000","v":1704000},"NA","362 GWh from REN vs 1 342 GWh form centralized fossil power generation"]
[null,1,"What was the total electricity generated from Utility Scale RE projects in 2018? (MWh) ",null,{"$f":"362*1000","v":362000},"NA","362 GWh from REN vs 1 342 GWh form centralized fossil power generation"]
[null,null,"Please provide as much information as possible for exisitng RE projects in the box below as:\n- Project Name\n- Developer\n- Offtaker\n- Renewable Energy Technology Type\n- Start of Commercial Operation (Year)\n- Estimated Capacity Factor (in %) OR Estimated Annual Production (in MWh)\n- Installed Capacity (MW)\n- Length of PPA ",null,{"$f":"IF(B35<>0,IF(ISBLANK(G35),\"NA\",G35),\" \")","v":" "},"NA","NA"]
[]
[3,null,"Planned Utility-Scale Renewable Energy Projects"]
[null,1,"Does your country have an estimate of planned installed capacity expected to come online from-utility scale RE projects?",null,{"$f":"IF(B38<>0,IF(ISBLANK(G38),\"NA\",G38),\" \")","v":"Yes"},"NA","Yes"]
[null,null,"How much installed capacity from RE is expected to come online in the next 3 years?",null,158,"NA","158MW"]
[null,2,"How much renewable energy generation is expected to come online in the next 3 years?",null,{"$f":"612*1000","v":612000},"NA","612GWh"]
[null,3,"Is climate resilience incorporated in your IRP or national policy?",null,{"$f":"IF(B41<>0,IF(ISBLANK(G41),\"NA\",G41),\" \")","v":"Yes"},"NA","Yes"]
[null,null,"Please provide as much information as possible for RE projects currently under development in the box below as:\n- Project Name\n- Developer\n- Offtaker\n- Renewable Energy Technology Type\n- Start of Commercial Operation (Year)\n- Estimated Capacity Factor (in %) OR Estimated Annual Production (in MWh)\n- Installed Capacity (MW)\n- Length of PPA ",null," ","NA","See Section 5.7 (pg. 106) of the energy plan sent"]
[]
[4,null,"Electric Mobility"]
[null,1,"Does your country have policies in place or draft legislation to promote the uptake of electric mobility?",null,{"$f":"IF(B45<>0,IF(ISBLANK(G45),\"NA\",G45),\" \")","v":"Yes"},"NA","Yes"]
[null,2,"Does your country have specific targets for the uptake of electric vehicles?",null,"Yes","NA","Yes"]
[null,null,"What is the target and target year?",null," ","NA","30% of EVs in circulating vehicles by 2030 (currently 220 000 vehicles in Guadeloupe)"]
[null,null,"How many electric cars are currently in your country?",null," ","NA","<1%"]
[null,null,"How many charging stations are in your country?",null," ","NA","Estimated: 50"]
[]
[]
[null,null,"Descriptive CREF Index Survey"]
[null,null,"Enabling Environment for Renewable Energy (RE) Investments"]
[null,null,"Renewable energy strategy"]
[null,null,"Which of the rollowing renewable generation options is included in your country's strategic plan to develop renewable energy?\n- Solar PV\n- Offshore wind\n- Biomass\n- Waste to energy\n- Hydro\n-Geothermal\n- Other",null,{"$f":"G55","v":"Solar PV,  Onshore wind, offshore wind, biomass, hydro, geothermal, WTE"},{"$f":"F6","v":"Solar PV,  Onshore wind, biomass, hydro, geothermal"},{"$f":"G6","v":"Solar PV,  Onshore wind, offshore wind, biomass, hydro, geothermal, WTE"}]
[null,null,"What is the target and target year?",null,{"$f":"F56","v":"By 2020: 50% met by renewable energy sources By 2030: Energy independence"},{"$f":"F8","v":"By 2020: 50% met by renewable energy sources By 2030: Energy independence"},"2020 : 50% ren in final consumptions 2030 : energy autonomy"]
[null,null,"What is the current breakdown of your country's energy mix?",null,{"$f":"G57","v":"Fossils : 1 598 GWh - Coal : 18% - Butane : 1,6% - FOD : 1,6% - HFuel : 21,7% - Gasoline : 11,6% - Diesel : 22,3% - Jet fuel : 17,1% Renewables : 568 Gwh - Bagasse : 0,6% - Geothermal : 1,1% - Hydro : 0,4% - Wind (on shore) : 0,6% - PV : 1% - Biomasse/biogaz : 0,1% - Solar heaters : 0,9% - Steam (process) : 1,2%"},"Fuel oil : 53 % Coal : 26% Solar PV : 6% Geothermal : 6% Onshore Wind : 3% Bagasse : 3% Hydro : 2% Biogaz: 0.69 %","Fossils : 1 598 GWh - Coal : 18% - Butane : 1,6% - FOD : 1,6% - HFuel : 21,7% - Gasoline : 11,6% - Diesel : 22,3% - Jet fuel : 17,1% Renewables : 568 Gwh - Bagasse : 0,6% - Geothermal : 1,1% - Hydro : 0,4% - Wind (on shore) : 0,6% - PV : 1% - Biomasse/biogaz : 0,1% - Solar heaters : 0,9% - Steam (process) : 1,2%"]
[null,null,"Utilities"]
[null,null,"On average, how long does it take for the power utility to get investments in RE projects approved by the regulatory authority 9or the relevant entity) for recovery through tariffs?",null,{"$f":"G59","v":"It can take years: 5 to over 10"},{"$f":"F15","v":"NA"},{"$f":"G15","v":"It can take years: 5 to over 10"}]
[null,null,"IPPs"]
[null,null,"How long did it take to get your off-take agreement?",null,{"$f":"E18","v":" "},{"$f":"F18","v":"NA"},{"$f":"G18","v":"NA"}]
[null,null,"Distributed Generation"]
[null,null,"What is the number of exisiting distributed scale RE systems in 2018?",null,{"$f":"G63","v":"147 MW of REN vs 422 of Fossil centralized generation"},{"$f":"F25","v":"NA"},{"$f":"G25","v":"147 MW of REN vs 422 of Fossil centralized generation"}]
[null,null,"What is the total installed capacity from renewable distributed generation in your country?",null,{"$f":"G64","v":"147 MW of REN vs 422 of Fossil centralized generation"},{"$f":"F27","v":"NA"},"147 MW of REN vs 422 of Fossil centralized generation"]
[null,null,"What was the total generation from exisitng distributed scale RE systems in 2018?",null,"362 GWh from REN vs 1 342 GWh form centralized fossil power generation","NA","362 GWh from REN vs 1 342 GWh form centralized fossil power generation"]
[null,null,"Existing renewable generation",null,null,null,null,null,"From pg. 106 of Energy Plan:"]
[null,null,"Existing Utility-Scale Renewable Energy Projects"]
[null,null,"What is the number of existing utility-scale RE projects?",null,{"$f":"G68","v":"147 MW of REN vs 422 of Fossil centralized generation"},{"$f":"F32","v":"NA"},"147 MW of REN vs 422 of Fossil centralized generation"]
[null,null,"What was the total electricity generated in 2018 (MWh)?",null,1704000,"NA","362 GWh from REN vs 1 342 GWh form centralized fossil power generation"]
[null,null,"What was the total electricity generated from utility-scale RE projects in 2018 (MWh)?",null,362000,"NA","362 GWh from REN vs 1 342 GWh form centralized fossil power generation"]
[null,null,"Please provide as much information as possible for exisitng RE projects in the box below as:\n- Project Name\n- Developer\n- Offtaker\n- Renewable Energy Technology Type\n- Start of Commercial Operation (Year)\n- Estimated Capacity Factor (in %) OR Estimated Annual Production (in MWh)\n- Installed Capacity (MW)\n- Length of PPA ",null," ","NA","NA"]
[null,null,"Planned renewable generation"]
[null,null,"Potential Utility-Scale Renewable Energy Projects"]
[null,null,"How much installed capacity from RE is expected to come online in the next 3 years?",null,{"$f":"E39","v":158},"NA","158MW"]
[null,null,"How much renewable energy generation is expected to come online in the next 3 years?",null,612000,"NA","612GWh"]
[null,null,"Please provide as much information as possible for RE projects currently under development in the box below as:\n- Project Name\n- Developer\n- Offtaker\n- Renewable Energy Technology Type\n- Start of Commercial Operation (Year)\n- Estimated Capacity Factor (in %) OR Estimated Annual Production (in MWh)\n- Installed Capacity (MW)\n- Length of PPA ",null,{"$f":"E42","v":" "},{"$f":"F42","v":"NA"},{"$f":"G42","v":"See Section 5.7 (pg. 106) of the energy plan sent"}]
[null,null,"Electric Mobility"]
[null,null,"What is the target and target year?",null,{"$f":"G78","v":"30% of EVs in circulating vehicles by 2030 (currently 220 000 vehicles in Guadeloupe)"},{"$f":"F47","v":"NA"},{"$f":"G47","v":"30% of EVs in circulating vehicles by 2030 (currently 220 000 vehicles in Guadeloupe)"}]
[null,null,"How many electric cars are currently in your country?",null,{"$f":"G79","v":"<1%"},{"$f":"F48","v":"NA"},{"$f":"G48","v":"<1%"}]
[null,null,"How many charging stations are in your country?",null,{"$f":"G80","v":"Estimated: 50"},"NA",{"$f":"G49","v":"Estimated: 50"}]
[]
[]
[null,null,"Improvement Year-on-Year"]
[null,null,"Enabling environment for renewable energy investments","Change",{"$f":"IF(ISERR(E91-E90),\"\",E91-E90)","v":0.80729166666666652}]
[null,null,"2012 Score","0 to 5","NA"]
[null,null,"2013 Score","0 to 5",4]
[null,null,"2014 Score","0 to 5",4.333333333333333]
[null,null,"2015 Score","0 to 5",4.333333333333333]
[null,null,"2016 Score","0 to 5",5]
[null,null,"2017 Score","0 to 5",3.9583333333333335]
[null,null,"2018 Score","0 to 5",{"$f":"VLOOKUP(C84,'RE Index | Ranking inputs'!$D$8:$AM$44,MATCH($B$1,'RE Index | Ranking inputs'!$D$5:$AM$5,0),0)","v":4.765625}]
[null,null,"Existing renewable generation","Change",{"$f":"IF(ISERR(E99-E98),\"\",E99-E98)","v":0.15756160899486793}]
[null,null,"2012 Score","0 to 5","NA"]
[null,null,"2013 Score","0 to 5",0.68864405988115773]
[null,null,"2014 Score","0 to 5",0.82133338237478792]
[null,null,"2015 Score","0 to 5",0.7146451332749274]
[null,null,"2016 Score","0 to 5",1.6468757639106424]
[null,null,"2017 Score","0 to 5",0.90464496377508508]
[null,null,"2018 Score","0 to 5",{"$f":"VLOOKUP(C92,'RE Index | Ranking inputs'!$D$8:$AM$44,MATCH($B$1,'RE Index | Ranking inputs'!$D$5:$AM$5,0),0)","v":1.062206572769953}]
[null,null,"Planned renewable generation","Change",{"$f":"IF(ISERR(E107-E106),\"\",E107-E106)","v":1.3791367720950309}]
[null,null,"2012 Score","0 to 5","NA"]
[null,null,"2013 Score","0 to 5",0.69307592304006127]
[null,null,"2014 Score","0 to 5",0]
[null,null,"2015 Score","0 to 5",3.6248748274242008E-2]
[null,null,"2016 Score","0 to 5",0.22349498083555594]
[null,null,"2017 Score","0 to 5",0.33056588831185491]
[null,null,"2018 Score","0 to 5",{"$f":"VLOOKUP(C100,'RE Index | Ranking inputs'!$D$8:$AM$44,MATCH($B$1,'RE Index | Ranking inputs'!$D$5:$AM$5,0),0)","v":1.7097026604068859}]
[null,null,"Electric Mobility","Change","N/A"]
[null,null,"2018 Score","0 to 5",{"$f":"VLOOKUP(C108,'RE Index | Ranking inputs'!$D$8:$AM$44,MATCH($B$1,'RE Index | Ranking inputs'!$D$5:$AM$5,0),0)","v":5}]
[null,null,"Overall Score Year-on-Year","Change",{"$f":"E123-E121","v":1.030078874812961}]
[null,null,"2012 Overall Score",null,0]
[null,null,"2012 Rank",null,22]
[null,null,"2013 Overall Score",null,1.7939066609737395]
[null,null,"2013 Rank",null,5]
[null,null,"2014 Overall Score",null,1.7182222385693735]
[null,null,"2014 Rank",null,6]
[null,null,"2015 Overall Score",null,1.6947424049608339]
[null,null,"2015 Rank",null,8]
[null,null,"2016 Overall Score",null,2.290123581582066]
[null,null,"2016 Rank",null,3]
[null,null,"2017 Overall Score",null,1.731181395140091]
[null,null,"2017 Rank",null,11]
[null,null,"2018 Overall Score",null,{"$f":"VLOOKUP(C123,'RE Index | Ranking inputs'!$D$8:$AM$125,MATCH($B$1,'RE Index | Ranking inputs'!$D$5:$AM$5,0),0)","v":2.761260269953052}]
[null,null,"2018 Rank",null,{"$f":"VLOOKUP(C124,'RE Index | Ranking inputs'!$D$8:$AM$125,MATCH($B$1,'RE Index | Ranking inputs'!$D$5:$AM$5,0),0)","v":2}]

{"sheet":"Haiti","index":16,"n_rows":124,"n_cols":7,"rows_kept":124,"cut":false,"hidden":false,"merged":[[73,2,73,3],[77,2,77,3],[78,2,78,3],[79,2,79,3],[82,2,82,3],[69,2,69,3],[46,2,46,3],[47,2,47,3],[48,2,48,3],[51,2,51,3],[58,2,58,3],[60,2,60,3],[62,2,62,3],[63,2,63,3],[64,2,64,3],[67,2,67,3],[68,2,68,3],[33,2,33,3],[0,1,0,4],[1,2,1,3],[4,2,4,3],[11,2,11,3],[12,2,12,3],[13,2,13,3],[14,2,14,3],[23,2,23,3],[28,2,28,3]]}
[null,"Haiti"]
[null,null,"Overall Indicator",null,null,"Martin Camille - Electricite d'Haiti","Nicolas Darius Allien - Ministry of Public Works"]
[1,null,"Enabling Environment for Renewable Energy (RE) Investments",null,"Consolidated Survey Response","Respondent 48","Respondent 49"]
[null,null,"Government - Renewable Energy Strategy",null,"Y/N","Y/N","Y/N"]
[null,1,"Does your country have a strategic plan to develop renewble energy?"]
[null,null,"Which of the following renewable generation options is includd in you country's strategic plan to develop renewable energy?",null,{"$f":"IF(B6<>0,IF(ISBLANK(F6),\"NA\",F6),\" \")","v":" "},"Solar PV, onshore wind, hydro","Solar PV, onshore wind, biomass, hydro"]
[null,2,"Does your country have a specific target for renewable energy?",null,"No","No","No"]
[null,null,"If yes, what is the target and target year?",null," ","NA","NA"]
[null,null,"What is the current breakdown of your country's energy mix?",null," ","NA","85% thermal, 15% Renewable mainly hydro"]
[null,3,"Does your country have an Integrated Resource Plan (IRP) that was produced within the last three years?",null,"No","No","No"]
[null,null,"Utilities",null,"Y/N","Y/N","Y/N"]
[null,1,"When planning generation expansion, does the utility consider RE options?",null,{"$f":"IF(B12<>0,IF(ISBLANK(G12),\"NA\",G12),\" \")","v":"Yes"},"NA","Yes"]
[null,2,"Can the utility safely recover RE investments through tariffs like it can recover fossil fuel costs?",null,{"$f":"IF(B13<>0,IF(ISBLANK(G13),\"NA\",G13),\" \")","v":"No"},"NA","No"]
[null,3,"Are there clear, specific planning and permitting processes and rules in place for developing RE?",null,"No","NA","No"]
[null,null,"On average, how long does it take for the power utility to get investments in RE projects approved by the regulatory authority (or relevant entity) fror recovery through tariffs?",null," ","NA","NA"]
[null,null,"IPPs",null,"Y/N","Y/N","Y/N"]
[null,1,"Can the utility safely recover purchases of RE from third parties, just as it recovers fossil fuel costs?",null,"No","NA","No"]
[null,null,"How long did it take to get your off-take agreement?",null," ","NA","NA"]
[null,2,"Are there workable precedents or rules for PPA terms and grid operation rules?",null,"Yes","NA","Yes"]
[null,3,"Are there clear and effective licensing processes and requirements in place for IPPs?",null,"No","NA","No"]
[null,4,"Does the utility have an obligation to purchase from IPPs when it is cheaper than generating the power itself?",null,"No","NA","No"]
[null,5,"Does the PPA have any take-or-pay arrangements?",null,"No","NA","No"]
[null,null,"Distributed generation",null,"Y/N","Y/N","Y/N"]
[null,1,"Do you have a registry or database of distributed generation?",null,"No","NA","No"]
[null,null,"What was the number of existing distributed scale RE systems in 2018?",null," ","NA",3]
[null,null,"Is there an aggregate maximum capacity for distributed generation?",null," ","NA","No"]
[null,null,"What is the total installed capacity from renewable distributed generation in your country?",null," ","NA","Less than 0.5MW"]
[null,null,"What was the total generation from existing distributed scale RE systems in 2018?",null," ","NA","NA"]
[null,2,"Is there a standard arrangement in place for customers to sell electricity to the utility at a reasonable price, for a reasonable timeframe, and with a clear interconnection agreement?",null,"No","NA","No"]
[]
[2,null,"Existing renewable generation"]
[null,null,"What is the number of existing Utility-Scale RE projects?",null,{"$f":"IF(B32<>0,IF(ISBLANK(G32),\"NA\",G32),\" \")","v":" "},"NA","In development"]
[null,1,"What was the total electricity generated in 2018? (MWh)",null,1057110.5,"NA",1057110.5]
[null,1,"What was the total electricity generated from Utility Scale RE projects in 2018? (MWh) ",null,170897.75,"NA",170897.75]
[null,null,"Please provide as much information as possible for exisitng RE projects in the box below as:\n- Project Name\n- Developer\n- Offtaker\n- Renewable Energy Technology Type\n- Start of Commercial Operation (Year)\n- Estimated Capacity Factor (in %) OR Estimated Annual Production (in MWh)\n- Installed Capacity (MW)\n- Length of PPA ",null," ","NA","NA"]
[]
[3,null,"Planned Utility-Scale Renewable Energy Projects"]
[null,1,"Does your country have an estimate of planned installed capacity expected to come online from-utility scale RE projects?",null,{"$f":"IF(B38<>0,IF(ISBLANK(G38),\"NA\",G38),\" \")","v":"No"},"NA","No"]
[null,null,"How much installed capacity from RE is expected to come online in the next 3 years?",null," ","NA","NA"]
[null,2,"How much renewable energy generation is expected to come online in the next 3 years?",null,"NA","NA","NA"]
[null,3,"Is climate resilience incorporated in your IRP or national policy?",null,"No","NA","No"]
[null,null,"Please provide as much information as possible for RE projects currently under development in the box below as:\n- Project Name\n- Developer\n- Offtaker\n- Renewable Energy Technology Type\n- Start of Commercial Operation (Year)\n- Estimated Capacity Factor (in %) OR Estimated Annual Production (in MWh)\n- Installed Capacity (MW)\n- Length of PPA ",null," ","NA","NA"]
[]
[4,null,"Electric Mobility"]
[null,1,"Does your country have policies in place or draft legislation to promote the uptake of electric mobility?",null,{"$f":"IF(B45<>0,IF(ISBLANK(G45),\"NA\",G45),\" \")","v":"No"},"NA","No"]
[null,2,"Does your country have specific targets for the uptake of electric vehicles?",null,"No","NA","No"]
[null,null,"What is the target and target year?",null," ","NA","NA"]
[null,null,"How many electric cars are currently in your country?",null," ","NA","NA"]
[null,null,"How many charging stations are in your country?",null," ","NA","NA"]
[]
[]
[null,null,"Descriptive CREF Index Survey"]
[null,null,"Enabling Environment for Renewable Energy (RE) Investments"]
[null,null,"Renewable energy strategy"]
[null,null,"Which of the rollowing renewable generation options is included in your country's strategic plan to develop renewable energy?\n- Solar PV\n- Offshore wind\n- Biomass\n- Waste to energy\n- Hydro\n-Geothermal\n- Other",null,{"$f":"G55","v":"Solar PV, onshore wind, biomass, hydro"},{"$f":"F6","v":"Solar PV, onshore wind, hydro"},{"$f":"G6","v":"Solar PV, onshore wind, biomass, hydro"}]
[null,null,"What is the target and target year?",null,{"$f":"E8","v":" "},"NA","NA"]
[null,null,"What is the current breakdown of your country's energy mix?",null,{"$f":"G57","v":"85% thermal, 15% Renewable mainly hydro"},"NA","85% thermal, 15% Renewable mainly hydro"]
[null,null,"Utilities"]
[null,null,"On average, how long does it take for the power utility to get investments in RE projects approved by the regulatory authority 9or the relevant entity) for recovery through tariffs?",null,{"$f":"E15","v":" "},{"$f":"F15","v":"NA"},{"$f":"G15","v":"NA"}]
[null,null,"IPPs"]
[null,null,"How long did it take to get your off-take agreement?",null,{"$f":"E18","v":" "},{"$f":"F18","v":"NA"},{"$f":"G18","v":"NA"}]
[null,null,"Distributed Generation"]
[null,null,"What is the number of exisiting distributed scale RE systems in 2018?",null,{"$f":"E25","v":" "},{"$f":"F25","v":"NA"},{"$f":"G25","v":3}]
[null,null,"What is the total installed capacity from renewable distributed generation in your country?",null,{"$f":"G64","v":"Less than 0.5MW"},{"$f":"F27","v":"NA"},"Less than 0.5MW"]
[null,null,"What was the total generation from exisitng distributed scale RE systems in 2018?",null," ","NA","NA"]
[null,null,"Existing renewable generation"]
[null,null,"Existing Utility-Scale Renewable Energy Projects"]
[null,null,"What is the number of existing utility-scale RE projects?",null,{"$f":"E32","v":" "},"NA","In development"]
[null,null,"What was the total electricity generated in 2018 (MWh)?",null,1057110.5,"NA",1057110.5]
[null,null,"What was the total electricity generated from utility-scale RE projects in 2018 (MWh)?",null,170897.75,"NA",170897.75]
[null,null,"Please provide as much information as possible for exisitng RE projects in the box below as:\n- Project Name\n- Developer\n- Offtaker\n- Renewable Energy Technology Type\n- Start of Commercial Operation (Year)\n- Estimated Capacity Factor (in %) OR Estimated Annual Production (in MWh)\n- Installed Capacity (MW)\n- Length of PPA ",null," ","NA","NA"]
[null,null,"Planned renewable generation"]
[null,null,"Potential Utility-Scale Renewable Energy Projects"]
[null,null,"How much installed capacity from RE is expected to come online in the next 3 years?",null,{"$f":"E39","v":" "},"NA","NA"]
[null,null,"How much renewable energy generation is expected to come online in the next 3 years?",null,"NA","NA","NA"]
[null,null,"Please provide as much information as possible for RE projects currently under development in the box below as:\n- Project Name\n- Developer\n- Offtaker\n- Renewable Energy Technology Type\n- Start of Commercial Operation (Year)\n- Estimated Capacity Factor (in %) OR Estimated Annual Production (in MWh)\n- Installed Capacity (MW)\n- Length of PPA ",null,{"$f":"E42","v":" "},{"$f":"F42","v":"NA"},{"$f":"G42","v":"NA"}]
[null,null,"Electric Mobility"]
[null,null,"What is the target and target year?",null,{"$f":"E47","v":" "},{"$f":"F47","v":"NA"},{"$f":"G47","v":"NA"}]
[null,null,"How many electric cars are currently in your country?",null,{"$f":"E48","v":" "},"NA",{"$f":"G48","v":"NA"}]
[null,null,"How many charging stations are in your country?",null," ","NA",{"$f":"G49","v":"NA"}]
[]
[]
[null,null,"Improvement Year-on-Year"]
[null,null,"Enabling environment for renewable energy investments","Change",{"$f":"IF(ISERR(E91-E90),\"\",E91-E90)","v":0.65625}]
[null,null,"2012 Score","0 to 5"]
[null,null,"2013 Score","0 to 5",1.6666666666666665]
[null,null,"2014 Score","0 to 5",1.6666666666666665]
[null,null,"2015 Score","0 to 5",1.6666666666666665]
[null,null,"2016 Score","0 to 5",3.6666666666666665]
[null,null,"2017 Score","0 to 5",0]
[null,null,"2018 Score","0 to 5",{"$f":"VLOOKUP(C84,'RE Index | Ranking inputs'!$D$8:$AM$44,MATCH($B$1,'RE Index | Ranking inputs'!$D$5:$AM$5,0),0)","v":0.65625}]
[null,null,"Existing renewable generation","Change",{"$f":"IF(ISERR(E99-E98),\"\",E99-E98)","v":0.65207491021515729}]
[null,null,"2012 Score","0 to 5"]
[null,null,"2013 Score","0 to 5",4.7549770290964778E-2]
[null,null,"2014 Score","0 to 5",0.46555318643478261]
[null,null,"2015 Score","0 to 5",0.41899786779130432]
[null,null,"2016 Score","0 to 5",0]
[null,null,"2017 Score","0 to 5",0.15625]
[null,null,"2018 Score","0 to 5",{"$f":"VLOOKUP(C92,'RE Index | Ranking inputs'!$D$8:$AM$44,MATCH($B$1,'RE Index | Ranking inputs'!$D$5:$AM$5,0),0)","v":0.80832491021515729}]
[null,null,"Planned renewable generation","Change",{"$f":"IF(ISERR(E107-E106),\"\",E107-E106)","v":0}]
[null,null,"2012 Score","0 to 5"]
[null,null,"2013 Score","0 to 5",4.0052833078101076]
[null,null,"2014 Score","0 to 5",0.37826669770290966]
[null,null,"2015 Score","0 to 5",0.37875592019130438]
[null,null,"2016 Score","0 to 5",0]
[null,null,"2017 Score","0 to 5",0]
[null,null,"2018 Score","0 to 5",{"$f":"VLOOKUP(C100,'RE Index | Ranking inputs'!$D$8:$AM$44,MATCH($B$1,'RE Index | Ranking inputs'!$D$5:$AM$5,0),0)","v":0}]
[null,null,"Electric Mobility","Change","N/A"]
[null,null,"2018 Score","0 to 5",{"$f":"VLOOKUP(C108,'RE Index | Ranking inputs'!$D$8:$AM$44,MATCH($B$1,'RE Index | Ranking inputs'!$D$5:$AM$5,0),0)","v":0}]
[null,null,"Overall Score Year-on-Year","Change",{"$f":"E123-E121","v":0.38728913973121387}]
[null,null,"2012 Overall Score",null,0]
[null,null,"2012 Rank",null,22]
[null,null,"2013 Overall Score",null,1.9064999149225796]
[null,null,"2013 Rank",null,3]
[null,null,"2014 Overall Score",null,0.8368288502681196]
[null,null,"2014 Rank",null,19]
[null,null,"2015 Overall Score",null,0.82147348488309169]
[null,null,"2015 Rank",null,20]
[null,null,"2016 Overall Score",null,1.2222222222222221]
[null,null,"2016 Rank",null,17]
[null,null,"2017 Overall Score",null,5.2083333333333329E-2]
[null,null,"2017 Rank",null,26]
[null,null,"2018 Overall Score",null,{"$f":"VLOOKUP(C123,'RE Index | Ranking inputs'!$D$8:$AM$125,MATCH($B$1,'RE Index | Ranking inputs'!$D$5:$AM$5,0),0)","v":0.43937247306454719}]
[null,null,"2018 Rank",null,{"$f":"VLOOKUP(C124,'RE Index | Ranking inputs'!$D$8:$AM$125,MATCH($B$1,'RE Index | Ranking inputs'!$D$5:$AM$5,0),0)","v":22}]

{"sheet":"Jamaica","index":17,"n_rows":124,"n_cols":8,"rows_kept":124,"cut":false,"hidden":false,"merged":[[73,2,73,3],[77,2,77,3],[78,2,78,3],[79,2,79,3],[82,2,82,3],[69,2,69,3],[46,2,46,3],[47,2,47,3],[48,2,48,3],[51,2,51,3],[58,2,58,3],[60,2,60,3],[62,2,62,3],[63,2,63,3],[64,2,64,3],[67,2,67,3],[68,2,68,3],[33,2,33,3],[0,1,0,4],[4,2,4,3],[11,2,11,3],[12,2,12,3],[13,2,13,3],[14,2,14,3],[23,2,23,3],[28,2,28,3],[1,2,1,4]]}
[null,"Jamaica"]
[null,null,"Overall Indicator",null,null,"Ricardo Case - Jamaica Public Service Co. Ltd.","Carol Palmer - Ministry of Science","Mark Williams - Energy Division"]
[1,null,"Enabling Environment for Renewable Energy (RE) Investments",null,"Consolidated Survey Response","Respondent 20","Respondent 35","Email response for just 2 questions"]
[null,null,"Government - Renewable Energy Strategy",null,"Y/N"]
[null,1,"Does your country have a strategic plan to develop renewble energy?",null,"Yes","Yes","Yes"]
[null,null,"Which of the following renewable generation options is includd in you country's strategic plan to develop renewable energy?",null,{"$f":"IF(B6<>0,IF(ISBLANK(F6),\"NA\",F6),\" \")","v":" "},"Solar PV, onshore wind, biomass, WTE, hydro","Solar PV, Onshore Wind, Offshore Wind, Biomass, WTE, Hydro"]
[null,2,"Does your country have a specific target for renewable energy?",null,"Yes","Yes","Yes"]
[null,null,"If yes, what is the target and target year?",null," ","50% Energy by 2030 - revised October 2018","20% by 2030"]
[null,null,"What is the current breakdown of your country's energy mix?",null," ","RE - 13.9% HFO/ADO - 86% CoGen 0.1%","Petroleum 87% Natural Gas 3% Renewable Energy 8% Other 2%"]
[null,3,"Does your country have an Integrated Resource Plan (IRP) that was produced within the last three years?",null,"Yes","No","Yes"]
[null,null,"Utilities",null,null,"Y/N"]
[null,1,"When planning generation expansion, does the utility consider RE options?",null,"Yes","Yes","Yes"]
[null,2,"Can the utility safely recover RE investments through tariffs like it can recover fossil fuel costs?",null,"No","No","Yes"]
[null,3,"Are there clear, specific planning and permitting processes and rules in place for developing RE?",null,"No","No","Yes"]
[null,null,"On average, how long does it take for the power utility to get investments in RE projects approved by the regulatory authority (or relevant entity) fror recovery through tariffs?",null," ","2-3 years","Tariff setting schedules are specified in the utility's licence. The process/timeline for capacity additions varies."]
[null,null,"IPPs",null,null,"Y/N"]
[null,1,"Can the utility safely recover purchases of RE from third parties, just as it recovers fossil fuel costs?",null,"No","No","Yes"]
[null,null,"How long did it take to get your off-take agreement?",null," ",null,"3 months on average"]
[null,2,"Are there workable precedents or rules for PPA terms and grid operation rules?",null,"Yes","Yes","Yes"]
[null,3,"Are there clear and effective licensing processes and requirements in place for IPPs?",null,"Yes","Yes","Yes"]
[null,4,"Does the utility have an obligation to purchase from IPPs when it is cheaper than generating the power itself?",null,"Yes","Yes","Yes"]
[null,5,"Does the PPA have any take-or-pay arrangements?",null,"No","No","Yes"]
[null,null,"Distributed generation",null,null,"Y/N"]
[null,1,"Do you have a registry or database of distributed generation?",null,"No","No","Yes"]
[null,null,"What was the number of existing distributed scale RE systems in 2018?",null," ",0,500]
[null,null,"Is there an aggregate maximum capacity for distributed generation?",null," ","No","Yes"]
[null,null,"What is the total installed capacity from renewable distributed generation in your country?",null," ",0,"30MW in 2018 (estimated)"]
[null,null,"What was the total generation from existing distributed scale RE systems in 2018?",null," ",0,66000]
[null,2,"Is there a standard arrangement in place for customers to sell electricity to the utility at a reasonable price, for a reasonable timeframe, and with a clear interconnection agreement?",null,"Yes","Yes","Yes"]
[]
[2,null,"Existing renewable generation"]
[null,null,"What is the number of existing Utility-Scale RE projects?",null,{"$f":"IF(B32<>0,IF(ISBLANK(F32),\"NA\",F32),\" \")","v":" "},"6 (Wigton 1, Wigton 2, Wigton 3, BMR, Content & Eight Rivers) JPS Hydro Excluded",0]
[null,1,"What was the total electricity generated in 2018? (MWh)",null,{"$f":"G33","v":4355502},399026059,4355502]
[null,1,"What was the total electricity generated from Utility Scale RE projects in 2018? (MWh) ",null,{"$f":"G34","v":522660.24},55496184,522660.24,522660.24]
[null,null,"Please provide as much information as possible for exisitng RE projects in the box below as:\n- Project Name\n- Developer\n- Offtaker\n- Renewable Energy Technology Type\n- Start of Commercial Operation (Year)\n- Estimated Capacity Factor (in %) OR Estimated Annual Production (in MWh)\n- Installed Capacity (MW)\n- Length of PPA ",null,{"$f":"IF(B35<>0,IF(ISBLANK(F35),\"NA\",F35),\" \")","v":" "},"Project Name Developer Offtaker RE Technology Type Commercial Operations Year Capacity Factor % Installed Capacity (MW) Length of PPA JPS' Munro 3MW Windfarm JPS JPS Wind 2010 15% 3 20 Wigton Windfarm Phase 1 Wigton Windfarm Limited JPS Wind 2004 30% 20 20 Wigton Windfarm Phase 2 Wigton Windfarm Limited JPS Wind 2010 35% 18 20 Wigton Windfarm Phase 3 Wigton Windfarm Limited JPS Wind 2016 24% 24 20 BMR Jamaica Wind Ltd BMR Energy/ acquired in 2016 by Virgin Investments JPS Wind 2016 41% 36.3 20 Content Solar, Limited WRB Energy JPS Solar 2016 23% 20 20 Eight Rivers Energy Company (EREC) Neoen, Rekamniar/MPC Capital JPS Solar 2019 30% 37 20","None"]
[]
[3,null,"Planned Utility-Scale Renewable Energy Projects"]
[null,1,"Does your country have an estimate of planned installed capacity expected to come online from-utility scale RE projects?",null,{"$f":"IF(B38<>0,IF(ISBLANK(F38),\"NA\",F38),\" \")","v":"Yes"},"Yes","Yes"]
[null,null,"How much installed capacity from RE is expected to come online in the next 3 years?",null," ",330,"Minimum 150MW"]
[null,2,"How much renewable energy generation is expected to come online in the next 3 years?",null,{"$f":"H40","v":490339.76},0.2,712000,490339.76]
[null,3,"Is climate resilience incorporated in your IRP or national policy?",null,"Yes","Yes","Yes"]
[null,null,"Please provide as much information as possible for RE projects currently under development in the box below as:\n- Project Name\n- Developer\n- Offtaker\n- Renewable Energy Technology Type\n- Start of Commercial Operation (Year)\n- Estimated Capacity Factor (in %) OR Estimated Annual Production (in MWh)\n- Installed Capacity (MW)\n- Length of PPA ",null," ","None-awaiting publishing of IRP","None"]
[]
[4,null,"Electric Mobility"]
[null,1,"Does your country have policies in place or draft legislation to promote the uptake of electric mobility?",null,{"$f":"IF(B45<>0,IF(ISBLANK(F45),\"NA\",F45),\" \")","v":"Yes"},"Yes","No"]
[null,2,"Does your country have specific targets for the uptake of electric vehicles?",null,"No","No","No"]
[null,null,"What is the target and target year?",null," ","NA"]
[null,null,"How many electric cars are currently in your country?",null," ","<30"]
[null,null,"How many charging stations are in your country?",null," ","2 - Solar Charging by JPS - available to the public free 1 - AC Marriott (Private for guests) 1 - IADB local Office (Private and Demonstration)",10]
[]
[]
[null,null,"Descriptive CREF Index Survey"]
[null,null,"Enabling Environment for Renewable Energy (RE) Investments"]
[null,null,"Renewable energy strategy"]
[null,null,"Which of the rollowing renewable generation options is included in your country's strategic plan to develop renewable energy?\n- Solar PV\n- Offshore wind\n- Biomass\n- Waste to energy\n- Hydro\n-Geothermal\n- Other",null,{"$f":"G55","v":"Solar PV, Onshore Wind, Offshore Wind, Biomass, WTE, Hydro"},{"$f":"F6","v":"Solar PV, onshore wind, biomass, WTE, hydro"},{"$f":"G6","v":"Solar PV, Onshore Wind, Offshore Wind, Biomass, WTE, Hydro"},0]
[null,null,"What is the target and target year?",null,{"$f":"F56","v":"50% Energy by 2030 - revised October 2018"},{"$f":"F8","v":"50% Energy by 2030 - revised October 2018"},{"$f":"G8","v":"20% by 2030"},0]
[null,null,"What is the current breakdown of your country's energy mix?",null,"10-14% RE",{"$f":"F9","v":"RE - 13.9% HFO/ADO - 86% CoGen 0.1%"},{"$f":"G9","v":"Petroleum 87% Natural Gas 3% Renewable Energy 8% Other 2%"},0]
[null,null,"Utilities"]
[null,null,"On average, how long does it take for the power utility to get investments in RE projects approved by the regulatory authority 9or the relevant entity) for recovery through tariffs?",null,{"$f":"F59","v":"2-3 years"},{"$f":"F15","v":"2-3 years"},{"$f":"G15","v":"Tariff setting schedules are specified in the utility's licence. The process/timeline for capacity additions varies."},0]
[null,null,"IPPs"]
[null,null,"How long did it take to get your off-take agreement?",null,{"$f":"E18","v":" "},{"$f":"F18","v":0},{"$f":"G18","v":"3 months on average"},0]
[null,null,"Distributed Generation"]
[null,null,"What is the number of exisiting distributed scale RE systems in 2018?",null,{"$f":"G63","v":500},{"$f":"F25","v":0},{"$f":"G25","v":500},0]
[null,null,"What is the total installed capacity from renewable distributed generation in your country?",null,{"$f":"G64","v":"30MW in 2018 (estimated)"},{"$f":"F27","v":0},{"$f":"G27","v":"30MW in 2018 (estimated)"},0]
[null,null,"What was the total generation from exisitng distributed scale RE systems in 2018?",null,{"$f":"G65","v":66000},{"$f":"F28","v":0},{"$f":"G28","v":66000},0]
[null,null,"Existing renewable generation"]
[null,null,"Existing Utility-Scale Renewable Energy Projects"]
[null,null,"What is the number of existing utility-scale RE projects?",null,{"$f":"F68","v":"6 (Wigton 1, Wigton 2, Wigton 3, BMR, Content & Eight Rivers) JPS Hydro Excluded"},{"$f":"F32","v":"6 (Wigton 1, Wigton 2, Wigton 3, BMR, Content & Eight Rivers) JPS Hydro Excluded"},{"$f":"G32","v":0},0]
[null,null,"What was the total electricity generated in 2018 (MWh)?",null,{"$f":"E33","v":4355502},{"$f":"F33","v":399026059},{"$f":"G33","v":4355502},0]
[null,null,"What was the total electricity generated from utility-scale RE projects in 2018 (MWh)?",null,{"$f":"E34","v":522660.24},{"$f":"F34","v":55496184},{"$f":"G34","v":522660.24},522660.24]
[null,null,"Please provide as much information as possible for exisitng RE projects in the box below as:\n- Project Name\n- Developer\n- Offtaker\n- Renewable Energy Technology Type\n- Start of Commercial Operation (Year)\n- Estimated Capacity Factor (in %) OR Estimated Annual Production (in MWh)\n- Installed Capacity (MW)\n- Length of PPA ",null,{"$f":"F71","v":"Project Name Developer Offtaker RE Technology Type Commercial Operations Year Capacity Factor % Installed Capacity (MW) Length of PPA JPS' Munro 3MW Windfarm JPS JPS Wind 2010 15% 3 20 Wigton Windfarm Phase 1 Wigton Windfarm Limited JPS Wind 2004 30% 20 20 Wigton Windfarm Phase 2 Wigton Windfarm Limited JPS Wind 2010 35% 18 20 Wigton Windfarm Phase 3 Wigton Windfarm Limited JPS Wind 2016 24% 24 20 BMR Jamaica Wind Ltd BMR Energy/ acquired in 2016 by Virgin Investments JPS Wind 2016 41% 36.3 20 Content Solar, Limited WRB Energy JPS Solar 2016 23% 20 20 Eight Rivers Energy Company (EREC) Neoen, Rekamniar/MPC Capital JPS Solar 2019 30% 37 20"},{"$f":"F35","v":"Project Name Developer Offtaker RE Technology Type Commercial Operations Year Capacity Factor % Installed Capacity (MW) Length of PPA JPS' Munro 3MW Windfarm JPS JPS Wind 2010 15% 3 20 Wigton Windfarm Phase 1 Wigton Windfarm Limited JPS Wind 2004 30% 20 20 Wigton Windfarm Phase 2 Wigton Windfarm Limited JPS Wind 2010 35% 18 20 Wigton Windfarm Phase 3 Wigton Windfarm Limited JPS Wind 2016 24% 24 20 BMR Jamaica Wind Ltd BMR Energy/ acquired in 2016 by Virgin Investments JPS Wind 2016 41% 36.3 20 Content Solar, Limited WRB Energy JPS Solar 2016 23% 20 20 Eight Rivers Energy Company (EREC) Neoen, Rekamniar/MPC Capital JPS Solar 2019 30% 37 20"},{"$f":"G35","v":"None"},0]
[null,null,"Planned renewable generation"]
[null,null,"Potential Utility-Scale Renewable Energy Projects"]
[null,null,"How much installed capacity from RE is expected to come online in the next 3 years?",null,"150-330MW",{"$f":"F39","v":330},{"$f":"G39","v":"Minimum 150MW"},0]
[null,null,"How much renewable energy generation is expected to come online in the next 3 years?",null,{"$f":"E40","v":490339.76},{"$f":"F40","v":0.2},{"$f":"G40","v":712000},490339.76]
[null,null,"Please provide as much information as possible for RE projects currently under development in the box below as:\n- Project Name\n- Developer\n- Offtaker\n- Renewable Energy Technology Type\n- Start of Commercial Operation (Year)\n- Estimated Capacity Factor (in %) OR Estimated Annual Production (in MWh)\n- Installed Capacity (MW)\n- Length of PPA ",null,{"$f":"F76","v":"None-awaiting publishing of IRP"},{"$f":"F42","v":"None-awaiting publishing of IRP"},{"$f":"G42","v":"None"},0]
[null,null,"Electric Mobility"]
[null,null,"What is the target and target year?",null,null,{"$f":"F47","v":"NA"},{"$f":"G47","v":0},0]
[null,null,"How many electric cars are currently in your country?",null,{"$f":"F79","v":"<30"},{"$f":"F48","v":"<30"},0,0]
[null,null,"How many charging stations are in your country?",null,{"$f":"F80","v":"2 - Solar Charging by JPS - available to the public free 1 - AC Marriott (Private for guests) 1 - IADB local Office (Private and Demonstration)"},"2 - Solar Charging by JPS - available to the public free 1 - AC Marriott (Private for guests) 1 - IADB local Office (Private and Demonstration)",10,0]
[]
[]
[null,null,"Improvement Year-on-Year"]
[null,null,"Enabling environment for renewable energy investments","Change",{"$f":"IF(ISERR(E91-E90),\"\",E91-E90)","v":0.11979166666666652}]
[null,null,"2012 Score","0 to 5",3.6666666666666665]
[null,null,"2013 Score","0 to 5",3.6666666666666665]
[null,null,"2014 Score","0 to 5",3.6666666666666665]
[null,null,"2015 Score","0 to 5",3.6666666666666665]
[null,null,"2016 Score","0 to 5",4.333333333333333]
[null,null,"2017 Score","0 to 5",3.3333333333333335]
[null,null,"2018 Score","0 to 5",{"$f":"VLOOKUP(C84,'RE Index | Ranking inputs'!$D$8:$AM$44,MATCH($B$1,'RE Index | Ranking inputs'!$D$5:$AM$5,0),0)","v":3.453125}]
[null,null,"Existing renewable generation","Change",{"$f":"IF(ISERR(E99-E98),\"\",E99-E98)","v":-0.19821462796045075}]
[null,null,"2012 Score","0 to 5",0.27]
[null,null,"2013 Score","0 to 5",0.2846569841660827]
[null,null,"2014 Score","0 to 5",0.38498080880421975]
[null,null,"2015 Score","0 to 5",0.34579233587178354]
[null,null,"2016 Score","0 to 5",0.50009941192830321]
[null,null,"2017 Score","0 to 5",0.79821462796045073]
[null,null,"2018 Score","0 to 5",{"$f":"VLOOKUP(C92,'RE Index | Ranking inputs'!$D$8:$AM$44,MATCH($B$1,'RE Index | Ranking inputs'!$D$5:$AM$5,0),0)","v":0.6}]
[null,null,"Planned renewable generation","Change",{"$f":"IF(ISERR(E107-E106),\"\",E107-E106)","v":1.1714268403376336}]
[null,null,"2012 Score","0 to 5",0.06]
[null,null,"2013 Score","0 to 5",0.19418683856730026]
[null,null,"2014 Score","0 to 5",0.18701529637418274]
[null,null,"2015 Score","0 to 5",0.15376134528747368]
[null,null,"2016 Score","0 to 5",7.1835191461638692E-2]
[null,null,"2017 Score","0 to 5",0.12731658808921592]
[null,null,"2018 Score","0 to 5",{"$f":"VLOOKUP(C100,'RE Index | Ranking inputs'!$D$8:$AM$44,MATCH($B$1,'RE Index | Ranking inputs'!$D$5:$AM$5,0),0)","v":1.2987434284268495}]
[null,null,"Electric Mobility","Change","N/A"]
[null,null,"2018 Score","0 to 5",{"$f":"VLOOKUP(C108,'RE Index | Ranking inputs'!$D$8:$AM$44,MATCH($B$1,'RE Index | Ranking inputs'!$D$5:$AM$5,0),0)","v":2.5}]
[null,null,"Overall Score Year-on-Year","Change",{"$f":"E123-E121","v":0.43593901206705454}]
[null,null,"2012 Overall Score",null,1.3189]
[null,null,"2012 Rank",null,7]
[null,null,"2013 Overall Score",null,1.3818368298000163]
[null,null,"2013 Rank",null,10]
[null,null,"2014 Overall Score",null,1.4128875906150229]
[null,null,"2014 Rank",null,8]
[null,null,"2015 Overall Score",null,1.3887401159419746]
[null,null,"2015 Rank",null,13]
[null,null,"2016 Overall Score",null,1.6350893122410917]
[null,null,"2016 Rank",null,10]
[null,null,"2017 Overall Score",null,1.4196215164610002]
[null,null,"2017 Rank",null,15]
[null,null,"2018 Overall Score",null,{"$f":"VLOOKUP(C123,'RE Index | Ranking inputs'!$D$8:$AM$125,MATCH($B$1,'RE Index | Ranking inputs'!$D$5:$AM$5,0),0)","v":1.8555605285280548}]
[null,null,"2018 Rank",null,{"$f":"VLOOKUP(C124,'RE Index | Ranking inputs'!$D$8:$AM$125,MATCH($B$1,'RE Index | Ranking inputs'!$D$5:$AM$5,0),0)","v":8}]

{"sheet":"Montserrat","index":18,"n_rows":124,"n_cols":6,"rows_kept":124,"cut":false,"hidden":false,"merged":[[73,2,73,3],[77,2,77,3],[78,2,78,3],[79,2,79,3],[82,2,82,3],[69,2,69,3],[46,2,46,3],[47,2,47,3],[48,2,48,3],[51,2,51,3],[58,2,58,3],[60,2,60,3],[62,2,62,3],[63,2,63,3],[64,2,64,3],[67,2,67,3],[68,2,68,3],[33,2,33,3],[0,1,0,4],[1,6,1,12],[4,2,4,3],[11,2,11,3],[12,2,12,3],[13,2,13,3],[14,2,14,3],[23,2,23,3],[28,2,28,3],[1,2,1,4]]}
[null,"Montserrat"]
[null,null,"Overall Indicator",null,null,"Kenrick Burke - Director of Energy"]
[1,null,"Enabling Environment for Renewable Energy (RE) Investments",null,"Consolidated Survey Response","Respondent 31"]
[null,null,"Government - Renewable Energy Strategy",null,"Y/N"]
[null,1,"Does your country have a strategic plan to develop renewble energy?"]
[null,null,"Which of the following renewable generation options is includd in you country's strategic plan to develop renewable energy?",null,{"$f":"IF(B6<>0,IF(ISBLANK(F6),\"NA\",F6),\" \")","v":" "},"Solar PV, onshore sind, WTE, geothermal"]
[null,2,"Does your country have a specific target for renewable energy?",null,"No","No"]
[null,null,"If yes, what is the target and target year?",null," ","NA"]
[null,null,"What is the current breakdown of your country's energy mix?",null," ","NA"]
[null,3,"Does your country have an Integrated Resource Plan (IRP) that was produced within the last three years?",null,"No","No"]
[null,null,"Utilities",null,"Y/N"]
[null,1,"When planning generation expansion, does the utility consider RE options?",null,"Yes","Yes"]
[null,2,"Can the utility safely recover RE investments through tariffs like it can recover fossil fuel costs?",null,"No","No"]
[null,3,"Are there clear, specific planning and permitting processes and rules in place for developing RE?",null,"No","No"]
[null,null,"On average, how long does it take for the power utility to get investments in RE projects approved by the regulatory authority (or relevant entity) fror recovery through tariffs?",null," ","NA"]
[null,null,"IPPs",null,"Y/N"]
[null,1,"Can the utility safely recover purchases of RE from third parties, just as it recovers fossil fuel costs?",null,"No","No"]
[null,null,"How long did it take to get your off-take agreement?",null," ","NA"]
[null,2,"Are there workable precedents or rules for PPA terms and grid operation rules?",null,"No","No"]
[null,3,"Are there clear and effective licensing processes and requirements in place for IPPs?",null,"No","No"]
[null,4,"Does the utility have an obligation to purchase from IPPs when it is cheaper than generating the power itself?",null,"No","No"]
[null,5,"Does the PPA have any take-or-pay arrangements?",null,"No","No"]
[null,null,"Distributed generation",null,"Y/N"]
[null,1,"Do you have a registry or database of distributed generation?",null,"No","No"]
[null,null,"What was the number of existing distributed scale RE systems in 2018?",null," ","NA"]
[null,null,"Is there an aggregate maximum capacity for distributed generation?",null," ","No"]
[null,null,"What is the total installed capacity from renewable distributed generation in your country?",null," ","NA"]
[null,null,"What was the total generation from existing distributed scale RE systems in 2018?",null," ","NA"]
[null,2,"Is there a standard arrangement in place for customers to sell electricity to the utility at a reasonable price, for a reasonable timeframe, and with a clear interconnection agreement?",null,"No","No"]
[]
[2,null,"Existing renewable generation"]
[null,null,"What is the number of existing Utility-Scale RE projects?",null,{"$f":"IF(B32<>0,IF(ISBLANK(F32),\"NA\",F32),\" \")","v":" "},1]
[null,1,"What was the total electricity generated in 2018? (MWh)",null,"NA","NA"]
[null,1,"What was the total electricity generated from Utility Scale RE projects in 2018? (MWh) ",null,"NA","NA"]
[null,null,"Please provide as much information as possible for exisitng RE projects in the box below as:\n- Project Name\n- Developer\n- Offtaker\n- Renewable Energy Technology Type\n- Start of Commercial Operation (Year)\n- Estimated Capacity Factor (in %) OR Estimated Annual Production (in MWh)\n- Installed Capacity (MW)\n- Length of PPA ",null," ","250 kW Government of Monstarrat"]
[]
[3,null,"Planned Utility-Scale Renewable Energy Projects"]
[null,1,"Does your country have an estimate of planned installed capacity expected to come online from-utility scale RE projects?",null,{"$f":"IF(B38<>0,IF(ISBLANK(F38),\"NA\",F38),\" \")","v":"Yes"},"Yes"]
[null,null,"How much installed capacity from RE is expected to come online in the next 3 years?",null," ","750 kW PV within the next two years"]
[null,2,"How much renewable energy generation is expected to come online in the next 3 years?",null,"NA","NA"]
[null,3,"Is climate resilience incorporated in your IRP or national policy?",null,"No","NA"]
[null,null,"Please provide as much information as possible for RE projects currently under development in the box below as:\n- Project Name\n- Developer\n- Offtaker\n- Renewable Energy Technology Type\n- Start of Commercial Operation (Year)\n- Estimated Capacity Factor (in %) OR Estimated Annual Production (in MWh)\n- Installed Capacity (MW)\n- Length of PPA ",null," ","NA"]
[]
[4,null,"Electric Mobility"]
[null,1,"Does your country have policies in place or draft legislation to promote the uptake of electric mobility?",null,{"$f":"IF(B45<>0,IF(ISBLANK(F45),\"NA\",F45),\" \")","v":"No"},"No"]
[null,2,"Does your country have specific targets for the uptake of electric vehicles?",null,"No","No"]
[null,null,"What is the target and target year?",null," ","NA"]
[null,null,"How many electric cars are currently in your country?",null," ",1]
[null,null,"How many charging stations are in your country?",null," ",1]
[]
[]
[null,null,"Descriptive CREF Index Survey"]
[null,null,"Enabling Environment for Renewable Energy (RE) Investments"]
[null,null,"Renewable energy strategy"]
[null,null,"Which of the rollowing renewable generation options is included in your country's strategic plan to develop renewable energy?\n- Solar PV\n- Offshore wind\n- Biomass\n- Waste to energy\n- Hydro\n-Geothermal\n- Other",null,{"$f":"F55","v":"Solar PV, onshore sind, WTE, geothermal"},{"$f":"F6","v":"Solar PV, onshore sind, WTE, geothermal"}]
[null,null,"What is the target and target year?",null,{"$f":"E8","v":" "},{"$f":"F8","v":"NA"}]
[null,null,"What is the current breakdown of your country's energy mix?",null,{"$f":"E9","v":" "},{"$f":"F9","v":"NA"}]
[null,null,"Utilities"]
[null,null,"On average, how long does it take for the power utility to get investments in RE projects approved by the regulatory authority 9or the relevant entity) for recovery through tariffs?",null,{"$f":"E15","v":" "},{"$f":"F15","v":"NA"}]
[null,null,"IPPs"]
[null,null,"How long did it take to get your off-take agreement?",null,{"$f":"E18","v":" "},{"$f":"F18","v":"NA"}]
[null,null,"Distributed Generation"]
[null,null,"What is the number of exisiting distributed scale RE systems in 2018?",null,{"$f":"E25","v":" "},{"$f":"F25","v":"NA"}]
[null,null,"What is the total installed capacity from renewable distributed generation in your country?",null,{"$f":"E27","v":" "},{"$f":"F27","v":"NA"}]
[null,null,"What was the total generation from exisitng distributed scale RE systems in 2018?",null,{"$f":"E28","v":" "},{"$f":"F28","v":"NA"}]
[null,null,"Existing renewable generation"]
[null,null,"Existing Utility-Scale Renewable Energy Projects"]
[null,null,"What is the number of existing utility-scale RE projects?",null,{"$f":"E32","v":" "},1]
[null,null,"What was the total electricity generated in 2018 (MWh)?",null,"NA","NA"]
[null,null,"What was the total electricity generated from utility-scale RE projects in 2018 (MWh)?",null,"NA","NA"]
[null,null,"Please provide as much information as possible for exisitng RE projects in the box below as:\n- Project Name\n- Developer\n- Offtaker\n- Renewable Energy Technology Type\n- Start of Commercial Operation (Year)\n- Estimated Capacity Factor (in %) OR Estimated Annual Production (in MWh)\n- Installed Capacity (MW)\n- Length of PPA ",null,{"$f":"F71","v":"250 kW Government of Monstarrat"},"250 kW Government of Monstarrat"]
[null,null,"Planned renewable generation"]
[null,null,"Potential Utility-Scale Renewable Energy Projects"]
[null,null,"How much installed capacity from RE is expected to come online in the next 3 years?",null,{"$f":"F74","v":"750 kW PV within the next two years"},{"$f":"F39","v":"750 kW PV within the next two years"}]
[null,null,"How much renewable energy generation is expected to come online in the next 3 years?",null,{"$f":"E40","v":"NA"},{"$f":"F40","v":"NA"}]
[null,null,"Please provide as much information as possible for RE projects currently under development in the box below as:\n- Project Name\n- Developer\n- Offtaker\n- Renewable Energy Technology Type\n- Start of Commercial Operation (Year)\n- Estimated Capacity Factor (in %) OR Estimated Annual Production (in MWh)\n- Installed Capacity (MW)\n- Length of PPA ",null,{"$f":"E42","v":" "},{"$f":"F42","v":"NA"}]
[null,null,"Electric Mobility"]
[null,null,"What is the target and target year?",null,{"$f":"E47","v":" "},{"$f":"F47","v":"NA"}]
[null,null,"How many electric cars are currently in your country?",null,{"$f":"F79","v":1},{"$f":"F48","v":1}]
[null,null,"How many charging stations are in your country?",null,{"$f":"F80","v":1},1]
[]
[]
[null,null,"Improvement Year-on-Year"]
[null,null,"Enabling environment for renewable energy investments","Change",{"$f":"IF(ISERR(E91-E90),\"\",E91-E90)","v":0.15625}]
[null,null,"2012 Score","0 to 5",1.67]
[null,null,"2013 Score","0 to 5",1.6666666666666665]
[null,null,"2014 Score","0 to 5",1.6666666666666665]
[null,null,"2015 Score","0 to 5",1.6666666666666665]
[null,null,"2016 Score","0 to 5",0]
[null,null,"2017 Score","0 to 5",0]
[null,null,"2018 Score","0 to 5",{"$f":"VLOOKUP(C84,'RE Index | Ranking inputs'!$D$8:$AM$44,MATCH($B$1,'RE Index | Ranking inputs'!$D$5:$AM$5,0),0)","v":0.15625}]
[null,null,"Existing renewable generation","Change",{"$f":"IF(ISERR(E99-E98),\"\",E99-E98)","v":0}]
[null,null,"2012 Score","0 to 5",0]
[null,null,"2013 Score","0 to 5",0]
[null,null,"2014 Score","0 to 5",0]
[null,null,"2015 Score","0 to 5",0]
[null,null,"2016 Score","0 to 5",0]
[null,null,"2017 Score","0 to 5",0]
[null,null,"2018 Score","0 to 5",{"$f":"VLOOKUP(C92,'RE Index | Ranking inputs'!$D$8:$AM$44,MATCH($B$1,'RE Index | Ranking inputs'!$D$5:$AM$5,0),0)","v":0}]
[null,null,"Planned renewable generation","Change",{"$f":"IF(ISERR(E107-E106),\"\",E107-E106)","v":4.0302176627042288}]
[null,null,"2012 Score","0 to 5",4.5]
[null,null,"2013 Score","0 to 5",4.5]
[null,null,"2014 Score","0 to 5",4.5]
[null,null,"2015 Score","0 to 5",4.5]
[null,null,"2016 Score","0 to 5",0]
[null,null,"2017 Score","0 to 5",0]
[null,null,"2018 Score","0 to 5",{"$f":"VLOOKUP(C100,'RE Index | Ranking inputs'!$D$8:$AM$44,MATCH($B$1,'RE Index | Ranking inputs'!$D$5:$AM$5,0),0)","v":4.0302176627042288}]
[null,null,"Electric Mobility","Change","N/A"]
[null,null,"2018 Score","0 to 5",{"$f":"VLOOKUP(C108,'RE Index | Ranking inputs'!$D$8:$AM$44,MATCH($B$1,'RE Index | Ranking inputs'!$D$5:$AM$5,0),0)","v":0}]
[null,null,"Overall Score Year-on-Year","Change",{"$f":"E123-E121","v":1.2559402988112687}]
[null,null,"2012 Overall Score",null,2.0361000000000002]
[null,null,"2012 Rank",null,2]
[null,null,"2013 Overall Score",null,2.0555555555555554]
[null,null,"2013 Rank",null,2]
[null,null,"2014 Overall Score",null,2.0555555555555554]
[null,null,"2014 Rank",null,3]
[null,null,"2015 Overall Score",null,2.0555555555555554]
[null,null,"2015 Rank",null,4]
[null,null,"2016 Overall Score",null,0]
[null,null,"2016 Rank",null,32]
[null,null,"2017 Overall Score",null,0]
[null,null,"2017 Rank",null,28]
[null,null,"2018 Overall Score",null,{"$f":"VLOOKUP(C123,'RE Index | Ranking inputs'!$D$8:$AM$125,MATCH($B$1,'RE Index | Ranking inputs'!$D$5:$AM$5,0),0)","v":1.2559402988112687}]
[null,null,"2018 Rank",null,{"$f":"VLOOKUP(C124,'RE Index | Ranking inputs'!$D$8:$AM$125,MATCH($B$1,'RE Index | Ranking inputs'!$D$5:$AM$5,0),0)","v":16}]

{"sheet":"Nevis","index":19,"n_rows":124,"n_cols":7,"rows_kept":124,"cut":false,"hidden":false,"merged":[[73,2,73,3],[77,2,77,3],[78,2,78,3],[79,2,79,3],[82,2,82,3],[69,2,69,3],[46,2,46,3],[47,2,47,3],[48,2,48,3],[51,2,51,3],[58,2,58,3],[60,2,60,3],[62,2,62,3],[63,2,63,3],[64,2,64,3],[67,2,67,3],[68,2,68,3],[33,2,33,3],[1,7,1,12],[4,2,4,3],[11,2,11,3],[12,2,12,3],[13,2,13,3],[14,2,14,3],[23,2,23,3],[28,2,28,3],[1,2,1,4]]}
[null,"Nevis"]
[null,null,"Overall Indicator",null,null,"Michelle Walters - Energy Commissioner","Wakely Daniel - Permanent Secretary"]
[1,null,"Enabling Environment for Renewable Energy (RE) Investments",null,"Consolidated Survey Response","Respondent 44","Respondent 38, 41"]
[null,null,"Government - Renewable Energy Strategy",null,"Y/N","Y/N"]
[null,1,"Does your country have a strategic plan to develop renewble energy?"]
[null,null,"Which of the following renewable generation options is includd in you country's strategic plan to develop renewable energy?",null,{"$f":"IF(B6<>0,IF(ISBLANK(F6),\"NA\",F6),\" \")","v":" "},"Geothermal","Solar PV, onshore wind, WTE, geothermal"]
[null,2,"Does your country have a specific target for renewable energy?",null,"Yes","Yes","Yes"]
[null,null,"If yes, what is the target and target year?",null," ","100% renewable electricity by 2025","100% Electricity using renewable energy by 2020"]
[null,null,"What is the current breakdown of your country's energy mix?",null," ","96%oil 4% wind","90% fossil fuel and the rest 10% is wind and solar energy."]
[null,3,"Does your country have an Integrated Resource Plan (IRP) that was produced within the last three years?",null,"No","No","Yes"]
[null,null,"Utilities",null,"Y/N","Y/N"]
[null,1,"When planning generation expansion, does the utility consider RE options?",null,{"$f":"IF(B12<>0,IF(ISBLANK(G12),\"NA\",G12),\" \")","v":"Yes"},"NA","Yes"]
[null,2,"Can the utility safely recover RE investments through tariffs like it can recover fossil fuel costs?",null,{"$f":"IF(B13<>0,IF(ISBLANK(G13),\"NA\",G13),\" \")","v":"Yes"},"NA","Yes"]
[null,3,"Are there clear, specific planning and permitting processes and rules in place for developing RE?",null,"Yes","NA","Yes"]
[null,null,"On average, how long does it take for the power utility to get investments in RE projects approved by the regulatory authority (or relevant entity) fror recovery through tariffs?",null," ","NA","It does not very long once the Government approve. On an average it can take a year or less."]
[null,null,"IPPs",null,"Y/N","Y/N"]
[null,1,"Can the utility safely recover purchases of RE from third parties, just as it recovers fossil fuel costs?",null,"NA","NA","NA"]
[null,null,"How long did it take to get your off-take agreement?",null," ","NA","NA"]
[null,2,"Are there workable precedents or rules for PPA terms and grid operation rules?",null,"NA","NA","NA"]
[null,3,"Are there clear and effective licensing processes and requirements in place for IPPs?",null,"NA","NA","NA"]
[null,4,"Does the utility have an obligation to purchase from IPPs when it is cheaper than generating the power itself?",null,"NA","NA","NA"]
[null,5,"Does the PPA have any take-or-pay arrangements?",null,"NA","NA","NA"]
[null,null,"Distributed generation",null,"Y/N","Y/N"]
[null,1,"Do you have a registry or database of distributed generation?",null,"NA","NA","NA"]
[null,null,"What was the number of existing distributed scale RE systems in 2018?",null," ","NA","NA"]
[null,null,"Is there an aggregate maximum capacity for distributed generation?",null," ","NA","NA"]
[null,null,"What is the total installed capacity from renewable distributed generation in your country?",null," ","NA","NA"]
[null,null,"What was the total generation from existing distributed scale RE systems in 2018?",null," ","NA","NA"]
[null,2,"Is there a standard arrangement in place for customers to sell electricity to the utility at a reasonable price, for a reasonable timeframe, and with a clear interconnection agreement?",null,"NA","NA","NA"]
[]
[2,null,"Existing renewable generation"]
[null,null,"What is the number of existing Utility-Scale RE projects?",null,{"$f":"IF(B32<>0,IF(ISBLANK(G32),\"NA\",G32),\" \")","v":" "},"NA","NA"]
[null,1,"What was the total electricity generated in 2018? (MWh)",null,"NA","NA","NA"]
[null,1,"What was the total electricity generated from Utility Scale RE projects in 2018? (MWh) ",null,"NA","NA","NA"]
[null,null,"Please provide as much information as possible for exisitng RE projects in the box below as:\n- Project Name\n- Developer\n- Offtaker\n- Renewable Energy Technology Type\n- Start of Commercial Operation (Year)\n- Estimated Capacity Factor (in %) OR Estimated Annual Production (in MWh)\n- Installed Capacity (MW)\n- Length of PPA ",null," ","NA","NA"]
[]
[3,null,"Planned Utility-Scale Renewable Energy Projects"]
[null,1,"Does your country have an estimate of planned installed capacity expected to come online from-utility scale RE projects?",null,{"$f":"IF(B38<>0,IF(ISBLANK(G38),\"NA\",G38),\" \")","v":"NA"},"NA","NA"]
[null,null,"How much installed capacity from RE is expected to come online in the next 3 years?",null," ","NA","NA"]
[null,2,"How much renewable energy generation is expected to come online in the next 3 years?",null,"NA","NA","NA"]
[null,3,"Is climate resilience incorporated in your IRP or national policy?",null,"NA","NA","NA"]
[null,null,"Please provide as much information as possible for RE projects currently under development in the box below as:\n- Project Name\n- Developer\n- Offtaker\n- Renewable Energy Technology Type\n- Start of Commercial Operation (Year)\n- Estimated Capacity Factor (in %) OR Estimated Annual Production (in MWh)\n- Installed Capacity (MW)\n- Length of PPA ",null," ","NA","NA"]
[]
[4,null,"Electric Mobility"]
[null,1,"Does your country have policies in place or draft legislation to promote the uptake of electric mobility?",null,{"$f":"St_Kitts!F45","v":"No"},"NA","NA"]
[null,2,"Does your country have specific targets for the uptake of electric vehicles?",null,{"$f":"St_Kitts!F46","v":"No"},"NA","NA"]
[null,null,"What is the target and target year?",null,{"$f":"IF(B47<>0,IF(ISBLANK(G47),\"NA\",G47),\" \")","v":" "},"NA","NA"]
[null,null,"How many electric cars are currently in your country?",null," ","NA","NA"]
[null,null,"How many charging stations are in your country?",null," ","NA","NA"]
[]
[]
[null,null,"Descriptive CREF Index Survey"]
[null,null,"Enabling Environment for Renewable Energy (RE) Investments"]
[null,null,"Renewable energy strategy"]
[null,null,"Which of the rollowing renewable generation options is included in your country's strategic plan to develop renewable energy?\n- Solar PV\n- Offshore wind\n- Biomass\n- Waste to energy\n- Hydro\n-Geothermal\n- Other",null,{"$f":"G55","v":"Solar PV, onshore wind, WTE, geothermal"},{"$f":"F6","v":"Geothermal"},{"$f":"G6","v":"Solar PV, onshore wind, WTE, geothermal"}]
[null,null,"What is the target and target year?",null,{"$f":"F56","v":"100% renewable electricity by 2025"},{"$f":"F8","v":"100% renewable electricity by 2025"},"100% Electricity using renewable energy by 2020"]
[null,null,"What is the current breakdown of your country's energy mix?",null,"4-10% RE (wind and solar)","96%oil 4% wind","90% fossil fuel and the rest 10% is wind and solar energy."]
[null,null,"Utilities"]
[null,null,"On average, how long does it take for the power utility to get investments in RE projects approved by the regulatory authority 9or the relevant entity) for recovery through tariffs?",null,{"$f":"G59","v":"It does not very long once the Government approve. On an average it can take a year or less."},{"$f":"F15","v":"NA"},{"$f":"G15","v":"It does not very long once the Government approve. On an average it can take a year or less."}]
[null,null,"IPPs"]
[null,null,"How long did it take to get your off-take agreement?",null,{"$f":"E18","v":" "},{"$f":"F18","v":"NA"},{"$f":"G18","v":"NA"}]
[null,null,"Distributed Generation"]
[null,null,"What is the number of exisiting distributed scale RE systems in 2018?",null,{"$f":"E25","v":" "},{"$f":"F25","v":"NA"},{"$f":"G25","v":"NA"}]
[null,null,"What is the total installed capacity from renewable distributed generation in your country?",null,{"$f":"E27","v":" "},"NA","NA"]
[null,null,"What was the total generation from exisitng distributed scale RE systems in 2018?",null," ","NA","NA"]
[null,null,"Existing renewable generation"]
[null,null,"Existing Utility-Scale Renewable Energy Projects"]
[null,null,"What is the number of existing utility-scale RE projects?",null,{"$f":"E32","v":" "},"NA","NA"]
[null,null,"What was the total electricity generated in 2018 (MWh)?",null,"NA","NA","NA"]
[null,null,"What was the total electricity generated from utility-scale RE projects in 2018 (MWh)?",null,"NA","NA","NA"]
[null,null,"Please provide as much information as possible for exisitng RE projects in the box below as:\n- Project Name\n- Developer\n- Offtaker\n- Renewable Energy Technology Type\n- Start of Commercial Operation (Year)\n- Estimated Capacity Factor (in %) OR Estimated Annual Production (in MWh)\n- Installed Capacity (MW)\n- Length of PPA ",null," ","NA","NA"]
[null,null,"Planned renewable generation"]
[null,null,"Potential Utility-Scale Renewable Energy Projects"]
[null,null,"How much installed capacity from RE is expected to come online in the next 3 years?",null,{"$f":"E39","v":" "},"NA","NA"]
[null,null,"How much renewable energy generation is expected to come online in the next 3 years?",null,"NA","NA","NA"]
[null,null,"Please provide as much information as possible for RE projects currently under development in the box below as:\n- Project Name\n- Developer\n- Offtaker\n- Renewable Energy Technology Type\n- Start of Commercial Operation (Year)\n- Estimated Capacity Factor (in %) OR Estimated Annual Production (in MWh)\n- Installed Capacity (MW)\n- Length of PPA ",null,{"$f":"E42","v":" "},{"$f":"F42","v":"NA"},{"$f":"G42","v":"NA"}]
[null,null,"Electric Mobility"]
[null,null,"What is the target and target year?",null,{"$f":"E47","v":" "},{"$f":"F47","v":"NA"},{"$f":"G47","v":"NA"}]
[null,null,"How many electric cars are currently in your country?",null,{"$f":"E48","v":" "},"NA",{"$f":"G48","v":"NA"}]
[null,null,"How many charging stations are in your country?",null," ","NA",{"$f":"G49","v":"NA"}]
[]
[]
[null,null,"Improvement Year-on-Year"]
[null,null,"Enabling environment for renewable energy investments","Change",{"$f":"IF(ISERR(E91-E90),\"\",E91-E90)","v":-1.1458333333333335}]
[null,null,"2012 Score","0 to 5",2.3333333333333335]
[null,null,"2013 Score","0 to 5",2.3333333333333335]
[null,null,"2014 Score","0 to 5",2.6666666666666665]
[null,null,"2015 Score","0 to 5",2.6666666666666665]
[null,null,"2016 Score","0 to 5",5]
[null,null,"2017 Score","0 to 5",3.9583333333333335]
[null,null,"2018 Score","0 to 5",{"$f":"'RE Index | Ranking inputs'!AC8","v":2.8125}]
[null,null,"Existing renewable generation","Change",{"$f":"IF(ISERR(E99-E98),\"\",E99-E98)","v":-0.13492635732705671}]
[null,null,"2012 Score","0 to 5",0.95]
[null,null,"2013 Score","0 to 5",0.30186521405675404]
[null,null,"2014 Score","0 to 5",0.53058543588130036]
[null,null,"2015 Score","0 to 5",0.47752689229317036]
[null,null,"2016 Score","0 to 5",0]
[null,null,"2017 Score","0 to 5",0.90208397514667982]
[null,null,"2018 Score","0 to 5",{"$f":"'RE Index | Ranking inputs'!AC26","v":0.76715761781962311}]
[null,null,"Planned renewable generation","Change",{"$f":"'RE Index | Ranking inputs'!AC34","v":2.0678216422344908}]
[null,null,"2012 Score","0 to 5",0.5]
[null,null,"2013 Score","0 to 5",0]
[null,null,"2014 Score","0 to 5",0.23004621344712986]
[null,null,"2015 Score","0 to 5",3.211660734302177]
[null,null,"2016 Score","0 to 5",0]
[null,null,"2017 Score","0 to 5",4.06137260942557]
[null,null,"2018 Score","0 to 5",{"$f":"'RE Index | Ranking inputs'!AC34","v":2.0678216422344908}]
[null,null,"Electric Mobility","Change","N/A"]
[null,null,"2018 Score","0 to 5",{"$f":"'RE Index | Ranking inputs'!AC42","v":0}]
[null,null,"Overall Score Year-on-Year","Change",{"$f":"E123-E121","v":-1.2796861946189599}]
[null,null,"2012 Overall Score",null,1.2485000000000002]
[null,null,"2012 Rank",null,8]
[null,null,"2013 Overall Score",null,0.87839951579669584]
[null,null,"2013 Rank",null,19]
[null,null,"2014 Overall Score",null,1.1424327719983656]
[null,null,"2014 Rank",null,13]
[null,null,"2015 Overall Score",null,2.1186180977540046]
[null,null,"2015 Rank",null,3]
[null,null,"2016 Overall Score",null,1.6666666666666665]
[null,null,"2016 Rank",null,8]
[null,null,"2017 Overall Score",null,2.9739299726351942]
[null,null,"2017 Rank",null,1]
[null,null,"2018 Overall Score",null,{"$f":"'RE Index | Ranking inputs'!AC6","v":1.6942437780162343}]
[null,null,"2018 Rank",null,{"$f":"'RE Index | Ranking inputs'!AC123","v":10}]

{"sheet":"St_Kitts","index":20,"n_rows":124,"n_cols":6,"rows_kept":124,"cut":false,"hidden":false,"merged":[[73,2,73,3],[77,2,77,3],[78,2,78,3],[79,2,79,3],[82,2,82,3],[69,2,69,3],[46,2,46,3],[47,2,47,3],[48,2,48,3],[51,2,51,3],[58,2,58,3],[60,2,60,3],[62,2,62,3],[63,2,63,3],[64,2,64,3],[67,2,67,3],[68,2,68,3],[33,2,33,3],[0,1,0,4],[1,6,1,12],[4,2,4,3],[11,2,11,3],[12,2,12,3],[13,2,13,3],[14,2,14,3],[23,2,23,3],[28,2,28,3],[1,2,1,4]]}
[null,"St. Kitts"]
[null,null,"Overall Indicator",null,null,"Bertil Browne - Energy Unit (St. Kitts and Nevis)"]
[1,null,"Enabling Environment for Renewable Energy (RE) Investments",null,"Consolidated Survey Response","Respondent 11"]
[null,null,"Government - Renewable Energy Strategy",null,"Y/N","Y/N"]
[null,1,"Does your country have a strategic plan to develop renewble energy?"]
[null,null,"Which of the following renewable generation options is includd in you country's strategic plan to develop renewable energy?",null,{"$f":"IF(B6<>0,IF(ISBLANK(F6),\"NA\",F6),\" \")","v":" "},"Solar PV, Onshore wind, WTE, Geothermal"]
[null,2,"Does your country have a specific target for renewable energy?",null,"Yes","Yes"]
[null,null,"If yes, what is the target and target year?",null," ","100% generation by 2020"]
[null,null,"What is the current breakdown of your country's energy mix?",null," ","90% deisel,99.8% diesel, 0.1% solar, 0.1% wind"]
[null,3,"Does your country have an Integrated Resource Plan (IRP) that was produced within the last three years?",null,"Yes","Yes"]
[null,null,"Utilities",null,null,"Y/N"]
[null,1,"When planning generation expansion, does the utility consider RE options?",null,"Yes","Yes"]
[null,2,"Can the utility safely recover RE investments through tariffs like it can recover fossil fuel costs?",null,"No","No"]
[null,3,"Are there clear, specific planning and permitting processes and rules in place for developing RE?",null,"No","No"]
[null,null,"On average, how long does it take for the power utility to get investments in RE projects approved by the regulatory authority (or relevant entity) fror recovery through tariffs?",null," ","18 months"]
[null,null,"IPPs",null,null,"Y/N"]
[null,1,"Can the utility safely recover purchases of RE from third parties, just as it recovers fossil fuel costs?",null,"Yes","Yes"]
[null,null,"How long did it take to get your off-take agreement?",null," ","18 months"]
[null,2,"Are there workable precedents or rules for PPA terms and grid operation rules?",null,"No","No"]
[null,3,"Are there clear and effective licensing processes and requirements in place for IPPs?",null,"No","No"]
[null,4,"Does the utility have an obligation to purchase from IPPs when it is cheaper than generating the power itself?",null,"No","No"]
[null,5,"Does the PPA have any take-or-pay arrangements?",null,"Yes","Yes"]
[null,null,"Distributed generation",null,null,"Y/N"]
[null,1,"Do you have a registry or database of distributed generation?",null,"No","No"]
[null,null,"What was the number of existing distributed scale RE systems in 2018?",null," "]
[null,null,"Is there an aggregate maximum capacity for distributed generation?",null," ","No"]
[null,null,"What is the total installed capacity from renewable distributed generation in your country?",null," ","2.5MW"]
[null,null,"What was the total generation from existing distributed scale RE systems in 2018?",null," "]
[null,2,"Is there a standard arrangement in place for customers to sell electricity to the utility at a reasonable price, for a reasonable timeframe, and with a clear interconnection agreement?",null,"No","No"]
[]
[2,null,"Existing renewable generation"]
[null,null,"What is the number of existing Utility-Scale RE projects?",null,{"$f":"IF(B32<>0,IF(ISBLANK(F32),\"NA\",F32),\" \")","v":" "},3]
[null,1,"What was the total electricity generated in 2018? (MWh)",null,"NA"]
[null,1,"What was the total electricity generated from Utility Scale RE projects in 2018? (MWh) ",null,"NA"]
[null,null,"Please provide as much information as possible for exisitng RE projects in the box below as:\n- Project Name\n- Developer\n- Offtaker\n- Renewable Energy Technology Type\n- Start of Commercial Operation (Year)\n- Estimated Capacity Factor (in %) OR Estimated Annual Production (in MWh)\n- Installed Capacity (MW)\n- Length of PPA ",null," ","SKELEC solar farm - Developer:SKELEC; Offtaker: SKELEC; Year: 2015; Technology: Solar PV; Capacity: 0.5 MW SCASPA solar Farm - Developer: SCASPA; Offtaker: SKELEC; Year: 2013; Technology: Solar PV; Capacity: 0.75 MW WinWatt Wind Farm - Developer: WindWatt; Offtaker: NEVLEC; Technology: Wind; Capacity: 2.2 MW"]
[]
[3,null,"Planned Utility-Scale Renewable Energy Projects"]
[null,1,"Does your country have an estimate of planned installed capacity expected to come online from-utility scale RE projects?",null,{"$f":"IF(B38<>0,IF(ISBLANK(F38),\"NA\",F38),\" \")","v":"Yes"},"Yes"]
[null,null,"How much installed capacity from RE is expected to come online in the next 3 years?",null," ","40MW"]
[null,2,"How much renewable energy generation is expected to come online in the next 3 years?",null,"NA"]
[null,3,"Is climate resilience incorporated in your IRP or national policy?",null,"Yes","Yes"]
[null,null,"Please provide as much information as possible for RE projects currently under development in the box below as:\n- Project Name\n- Developer\n- Offtaker\n- Renewable Energy Technology Type\n- Start of Commercial Operation (Year)\n- Estimated Capacity Factor (in %) OR Estimated Annual Production (in MWh)\n- Installed Capacity (MW)\n- Length of PPA ",null," ","Leclanche 35 MW solar farm with 44 MWh of battery storage(PPA signed) Northstar 5 MW wind farm with 2 MW battery storage ((PPA being negotiated)"]
[]
[4,null,"Electric Mobility"]
[null,1,"Does your country have policies in place or draft legislation to promote the uptake of electric mobility?",null,{"$f":"IF(B45<>0,IF(ISBLANK(F45),\"NA\",F45),\" \")","v":"No"},"No"]
[null,2,"Does your country have specific targets for the uptake of electric vehicles?",null,"No","No"]
[null,null,"What is the target and target year?",null," "]
[null,null,"How many electric cars are currently in your country?",null," ","<5"]
[null,null,"How many charging stations are in your country?",null," ",0]
[]
[]
[null,null,"Descriptive CREF Index Survey"]
[null,null,"Enabling Environment for Renewable Energy (RE) Investments"]
[null,null,"Renewable energy strategy"]
[null,null,"Which of the rollowing renewable generation options is included in your country's strategic plan to develop renewable energy?\n- Solar PV\n- Offshore wind\n- Biomass\n- Waste to energy\n- Hydro\n-Geothermal\n- Other",null,{"$f":"F55","v":"Solar PV, Onshore wind, WTE, Geothermal"},{"$f":"F6","v":"Solar PV, Onshore wind, WTE, Geothermal"}]
[null,null,"What is the target and target year?",null,{"$f":"F56","v":"100% generation by 2020"},{"$f":"F8","v":"100% generation by 2020"}]
[null,null,"What is the current breakdown of your country's energy mix?",null,"90% deisel,99.8% diesel, 0.1% solar, 0.1% wind",{"$f":"F9","v":"90% deisel,99.8% diesel, 0.1% solar, 0.1% wind"}]
[null,null,"Utilities"]
[null,null,"On average, how long does it take for the power utility to get investments in RE projects approved by the regulatory authority 9or the relevant entity) for recovery through tariffs?",null,{"$f":"F59","v":"18 months"},{"$f":"F15","v":"18 months"}]
[null,null,"IPPs"]
[null,null,"How long did it take to get your off-take agreement?",null,{"$f":"F61","v":"18 months"},{"$f":"F18","v":"18 months"}]
[null,null,"Distributed Generation"]
[null,null,"What is the number of exisiting distributed scale RE systems in 2018?",null,{"$f":"E25","v":" "},{"$f":"F25","v":0}]
[null,null,"What is the total installed capacity from renewable distributed generation in your country?",null,{"$f":"F64","v":"2.5MW"},{"$f":"F27","v":"2.5MW"}]
[null,null,"What was the total generation from exisitng distributed scale RE systems in 2018?",null,{"$f":"E28","v":" "},{"$f":"F28","v":0}]
[null,null,"Existing renewable generation"]
[null,null,"Existing Utility-Scale Renewable Energy Projects"]
[null,null,"What is the number of existing utility-scale RE projects?",null,{"$f":"F68","v":3},{"$f":"F32","v":3}]
[null,null,"What was the total electricity generated in 2018 (MWh)?",null,"NA",0]
[null,null,"What was the total electricity generated from utility-scale RE projects in 2018 (MWh)?",null,"NA",0]
[null,null,"Please provide as much information as possible for exisitng RE projects in the box below as:\n- Project Name\n- Developer\n- Offtaker\n- Renewable Energy Technology Type\n- Start of Commercial Operation (Year)\n- Estimated Capacity Factor (in %) OR Estimated Annual Production (in MWh)\n- Installed Capacity (MW)\n- Length of PPA ",null,{"$f":"F71","v":"SKELEC solar farm - Developer:SKELEC; Offtaker: SKELEC; Year: 2015; Technology: Solar PV; Capacity: 0.5 MW SCASPA solar Farm - Developer: SCASPA; Offtaker: SKELEC; Year: 2013; Technology: Solar PV; Capacity: 0.75 MW WinWatt Wind Farm - Developer: WindWatt; Offtaker: NEVLEC; Technology: Wind; Capacity: 2.2 MW"},"SKELEC solar farm - Developer:SKELEC; Offtaker: SKELEC; Year: 2015; Technology: Solar PV; Capacity: 0.5 MW SCASPA solar Farm - Developer: SCASPA; Offtaker: SKELEC; Year: 2013; Technology: Solar PV; Capacity: 0.75 MW WinWatt Wind Farm - Developer: WindWatt; Offtaker: NEVLEC; Technology: Wind; Capacity: 2.2 MW"]
[null,null,"Planned renewable generation"]
[null,null,"Potential Utility-Scale Renewable Energy Projects"]
[null,null,"How much installed capacity from RE is expected to come online in the next 3 years?",null,{"$f":"F74","v":"40MW"},{"$f":"F39","v":"40MW"}]
[null,null,"How much renewable energy generation is expected to come online in the next 3 years?",null,{"$f":"E40","v":"NA"},{"$f":"F40","v":0}]
[null,null,"Please provide as much information as possible for RE projects currently under development in the box below as:\n- Project Name\n- Developer\n- Offtaker\n- Renewable Energy Technology Type\n- Start of Commercial Operation (Year)\n- Estimated Capacity Factor (in %) OR Estimated Annual Production (in MWh)\n- Installed Capacity (MW)\n- Length of PPA ",null,{"$f":"F76","v":"Leclanche 35 MW solar farm with 44 MWh of battery storage(PPA signed) Northstar 5 MW wind farm with 2 MW battery storage ((PPA being negotiated)"},{"$f":"F42","v":"Leclanche 35 MW solar farm with 44 MWh of battery storage(PPA signed) Northstar 5 MW wind farm with 2 MW battery storage ((PPA being negotiated)"}]
[null,null,"Electric Mobility"]
[null,null,"What is the target and target year?",null,null,{"$f":"F47","v":0}]
[null,null,"How many electric cars are currently in your country?",null,{"$f":"F79","v":"<5"},{"$f":"F48","v":"<5"}]
[null,null,"How many charging stations are in your country?",null," ",0]
[]
[]
[null,null,"Improvement Year-on-Year"]
[null,null,"Enabling environment for renewable energy investments","Change",{"$f":"IF(ISERR(E91-E90),\"\",E91-E90)","v":-0.11979166666666674}]
[null,null,"2012 Score","0 to 5",1.67]
[null,null,"2013 Score","0 to 5",1.6666666666666665]
[null,null,"2014 Score","0 to 5",2.6666666666666665]
[null,null,"2015 Score","0 to 5",2.6666666666666665]
[null,null,"2016 Score","0 to 5",1.3333333333333333]
[null,null,"2017 Score","0 to 5",1.6666666666666667]
[null,null,"2018 Score","0 to 5",{"$f":"VLOOKUP(C84,'RE Index | Ranking inputs'!$D$8:$AM$44,MATCH($B$1,'RE Index | Ranking inputs'!$D$5:$AM$5,0),0)","v":1.546875}]
[null,null,"Existing renewable generation","Change",{"$f":"IF(ISERR(E99-E98),\"\",E99-E98)","v":-0.25416638095238098}]
[null,null,"2012 Score","0 to 5",0]
[null,null,"2013 Score","0 to 5",0]
[null,null,"2014 Score","0 to 5",0.10948766197183099]
[null,null,"2015 Score","0 to 5",9.8177605200433393E-2]
[null,null,"2016 Score","0 to 5",8.7498301538461526E-2]
[null,null,"2017 Score","0 to 5",0.31701400000000002]
[null,null,"2018 Score","0 to 5",{"$f":"VLOOKUP(C92,'RE Index | Ranking inputs'!$D$8:$AM$44,MATCH($B$1,'RE Index | Ranking inputs'!$D$5:$AM$5,0),0)","v":6.2847619047619055E-2}]
[null,null,"Planned renewable generation","Change",{"$f":"IF(ISERR(E107-E106),\"\",E107-E106)","v":-1.6919526222222225}]
[null,null,"2012 Score","0 to 5",0]
[null,null,"2013 Score","0 to 5",0.30697630985915492]
[null,null,"2014 Score","0 to 5",0]
[null,null,"2015 Score","0 to 5",0]
[null,null,"2016 Score","0 to 5",0]
[null,null,"2017 Score","0 to 5",3.4479360000000003]
[null,null,"2018 Score","0 to 5",{"$f":"VLOOKUP(C100,'RE Index | Ranking inputs'!$D$8:$AM$44,MATCH($B$1,'RE Index | Ranking inputs'!$D$5:$AM$5,0),0)","v":1.7559833777777778}]
[null,null,"Electric Mobility","Change","N/A"]
[null,null,"2018 Score","0 to 5",{"$f":"VLOOKUP(C108,'RE Index | Ranking inputs'!$D$8:$AM$44,MATCH($B$1,'RE Index | Ranking inputs'!$D$5:$AM$5,0),0)","v":0}]
[null,null,"Overall Score Year-on-Year","Change",{"$f":"E123-E121","v":-0.80082708984126993}]
[null,null,"2012 Overall Score",null,0.55110000000000003]
[null,null,"2012 Rank",null,18]
[null,null,"2013 Overall Score",null,0.65788099217527374]
[null,null,"2013 Rank",null,25]
[null,null,"2014 Overall Score",null,0.92538477621283255]
[null,null,"2014 Rank",null,17]
[null,null,"2015 Overall Score",null,0.9216147572890333]
[null,null,"2015 Rank",null,18]
[null,null,"2016 Overall Score",null,0.47361054495726496]
[null,null,"2016 Rank",null,24]
[null,null,"2017 Overall Score",null,1.8105388888888889]
[null,null,"2017 Rank",null,9]
[null,null,"2018 Overall Score",null,{"$f":"VLOOKUP(C123,'RE Index | Ranking inputs'!$D$8:$AM$125,MATCH($B$1,'RE Index | Ranking inputs'!$D$5:$AM$5,0),0)","v":1.009711799047619}]
[null,null,"2018 Rank",null,{"$f":"VLOOKUP(C124,'RE Index | Ranking inputs'!$D$8:$AM$125,MATCH($B$1,'RE Index | Ranking inputs'!$D$5:$AM$5,0),0)","v":18}]

{"sheet":"St_Lucia","index":21,"n_rows":124,"n_cols":6,"rows_kept":124,"cut":false,"hidden":false,"merged":[[73,2,73,3],[77,2,77,3],[78,2,78,3],[79,2,79,3],[82,2,82,3],[69,2,69,3],[46,2,46,3],[47,2,47,3],[48,2,48,3],[51,2,51,3],[58,2,58,3],[60,2,60,3],[62,2,62,3],[63,2,63,3],[64,2,64,3],[67,2,67,3],[68,2,68,3],[33,2,33,3],[0,1,0,4],[1,6,1,12],[4,2,4,3],[11,2,11,3],[12,2,12,3],[13,2,13,3],[14,2,14,3],[23,2,23,3],[28,2,28,3],[1,2,1,4]]}
[null,"St. Lucia"]
[null,null,"Overall Indicator",null,null,"Terrence Gilliard - Chief Energy Science and Technology Officer, Department of Intrastructure, Ports, and Energy"]
[1,null,"Enabling Environment for Renewable Energy (RE) Investments",null,"Consolidated Survey Response","Respondent 32"]
[null,null,"Government - Renewable Energy Strategy",null,"Y/N"]
[null,1,"Does your country have a strategic plan to develop renewble energy?",null,"Yes","Yes"]
[null,null,"Which of the following renewable generation options is includd in you country's strategic plan to develop renewable energy?",null,{"$f":"IF(B6<>0,IF(ISBLANK(F6),\"NA\",F6),\" \")","v":" "},"Solar PV, onshore wind, geothermal"]
[null,2,"Does your country have a specific target for renewable energy?",null,"Yes","Yes"]
[null,null,"If yes, what is the target and target year?",null," ","35% by 2025 and 50% 2030"]
[null,null,"What is the current breakdown of your country's energy mix?",null," ","88.4 MW -FF 4MW -Solar"]
[null,3,"Does your country have an Integrated Resource Plan (IRP) that was produced within the last three years?",null,"Yes","No"]
[null,null,"Utilities",null,"Y/N"]
[null,1,"When planning generation expansion, does the utility consider RE options?",null,"Yes","Yes"]
[null,2,"Can the utility safely recover RE investments through tariffs like it can recover fossil fuel costs?",null,"No","No"]
[null,3,"Are there clear, specific planning and permitting processes and rules in place for developing RE?",null,"No","No"]
[null,null,"On average, how long does it take for the power utility to get investments in RE projects approved by the regulatory authority (or relevant entity) fror recovery through tariffs?",null," ","There are no specific laws and regulations to empower the regulator to impose such on the utility"]
[null,null,"IPPs",null,"Y/N"]
[null,1,"Can the utility safely recover purchases of RE from third parties, just as it recovers fossil fuel costs?",null,"No","No"]
[null,null,"How long did it take to get your off-take agreement?",null," ","There are regulations in force as yet to govern this"]
[null,2,"Are there workable precedents or rules for PPA terms and grid operation rules?",null,"No","No"]
[null,3,"Are there clear and effective licensing processes and requirements in place for IPPs?",null,"No","No"]
[null,4,"Does the utility have an obligation to purchase from IPPs when it is cheaper than generating the power itself?",null,"No","No"]
[null,5,"Does the PPA have any take-or-pay arrangements?",null,"No","No"]
[null,null,"Distributed generation",null,"Y/N"]
[null,1,"Do you have a registry or database of distributed generation?",null,"Yes","Yes"]
[null,null,"What was the number of existing distributed scale RE systems in 2018?",null," ",99]
[null,null,"Is there an aggregate maximum capacity for distributed generation?",null," ","No"]
[null,null,"What is the total installed capacity from renewable distributed generation in your country?",null," ","1.06285 MW"]
[null,null,"What was the total generation from existing distributed scale RE systems in 2018?",null," ","1663.2 MWh"]
[null,2,"Is there a standard arrangement in place for customers to sell electricity to the utility at a reasonable price, for a reasonable timeframe, and with a clear interconnection agreement?",null,"No","No"]
[]
[2,null,"Existing renewable generation"]
[null,null,"What is the number of existing Utility-Scale RE projects?",null,{"$f":"IF(B32<>0,IF(ISBLANK(F32),\"NA\",F32),\" \")","v":" "},1]
[null,1,"What was the total electricity generated in 2018? (MWh)",null,39928,39928]
[null,1,"What was the total electricity generated from Utility Scale RE projects in 2018? (MWh) ",null,5000,5000]
[null,null,"Please provide as much information as possible for exisitng RE projects in the box below as:\n- Project Name\n- Developer\n- Offtaker\n- Renewable Energy Technology Type\n- Start of Commercial Operation (Year)\n- Estimated Capacity Factor (in %) OR Estimated Annual Production (in MWh)\n- Installed Capacity (MW)\n- Length of PPA ",null," ","1.Name: Solar Demo PV Project Contractor -FDL-High Peaks -Owner-Government of Saint Lucia Offtaker -Lucelec RE Technology type - Solar PV Start of commercial year -2019 Annual production -396 MWh Installed capacity - 0.2 MW Length of PPA- TBD 2. Project name : Solar carport project Contractor -Gearing up limited Owner -Government of Saint Lucia Offtaker -Lucelec RET- Solar PV Start of commercial year - 2019 Estimated annual production: 114.84 MWh Installed Capacity - 58kW Length of PPA-TBD 3. Project Name - Renewable Energy Sector Development Project Developer: Government of Saint Lucia Offtaker -Lucelec RET -Geothermal Start of Commercial Operation: 2025 Estimated capacity - Installed capacity (projected) - 30 MW Length of PPA - TBD"]
[]
[3,null,"Planned Utility-Scale Renewable Energy Projects"]
[null,1,"Does your country have an estimate of planned installed capacity expected to come online from-utility scale RE projects?",null,{"$f":"IF(B38<>0,IF(ISBLANK(F38),\"NA\",F38),\" \")","v":"Yes"},"Yes"]
[null,null,"How much installed capacity from RE is expected to come online in the next 3 years?",null," ","22MW"]
[null,2,"How much renewable energy generation is expected to come online in the next 3 years?",null,60000,"60GWh"]
[null,3,"Is climate resilience incorporated in your IRP or national policy?",null,"No","No"]
[null,null,"Please provide as much information as possible for RE projects currently under development in the box below as:\n- Project Name\n- Developer\n- Offtaker\n- Renewable Energy Technology Type\n- Start of Commercial Operation (Year)\n- Estimated Capacity Factor (in %) OR Estimated Annual Production (in MWh)\n- Installed Capacity (MW)\n- Length of PPA ",null," ","Project Name : Developer : Masdar Offtaker: Lucelec Renewable energy technology type: Solar PV Status as of July 2019: prefeasibility Expected commercial operation: 2020 Estimated Annual Production:900 MWh Installed Capacity: (planned) 500-800kW Length of PPA:TBD(legislative framework not yet in place"]
[]
[4,null,"Electric Mobility"]
[null,1,"Does your country have policies in place or draft legislation to promote the uptake of electric mobility?",null,{"$f":"IF(B45<>0,IF(ISBLANK(F45),\"NA\",F45),\" \")","v":"Yes"},"Yes"]
[null,2,"Does your country have specific targets for the uptake of electric vehicles?",null,"No","No"]
[null,null,"What is the target and target year?",null," "]
[null,null,"How many electric cars are currently in your country?",null," ","Government of Saint Lucia -owns 3 full EVs Private sector - data being tallied"]
[null,null,"How many charging stations are in your country?",null," ",3]
[]
[]
[null,null,"Descriptive CREF Index Survey"]
[null,null,"Enabling Environment for Renewable Energy (RE) Investments"]
[null,null,"Renewable energy strategy"]
[null,null,"Which of the rollowing renewable generation options is included in your country's strategic plan to develop renewable energy?\n- Solar PV\n- Offshore wind\n- Biomass\n- Waste to energy\n- Hydro\n-Geothermal\n- Other",null,{"$f":"F55","v":"Solar PV, onshore wind, geothermal"},{"$f":"F6","v":"Solar PV, onshore wind, geothermal"}]
[null,null,"What is the target and target year?",null,{"$f":"F56","v":"35% by 2025 and 50% 2030"},{"$f":"F8","v":"35% by 2025 and 50% 2030"}]
[null,null,"What is the current breakdown of your country's energy mix?",null,{"$f":"F57","v":"88.4 MW -FF 4MW -Solar"},{"$f":"F9","v":"88.4 MW -FF 4MW -Solar"}]
[null,null,"Utilities"]
[null,null,"On average, how long does it take for the power utility to get investments in RE projects approved by the regulatory authority 9or the relevant entity) for recovery through tariffs?",null,{"$f":"F59","v":"There are no specific laws and regulations to empower the regulator to impose such on the utility"},{"$f":"F15","v":"There are no specific laws and regulations to empower the regulator to impose such on the utility"}]
[null,null,"IPPs"]
[null,null,"How long did it take to get your off-take agreement?",null,{"$f":"F61","v":"There are regulations in force as yet to govern this"},{"$f":"F18","v":"There are regulations in force as yet to govern this"}]
[null,null,"Distributed Generation"]
[null,null,"What is the number of exisiting distributed scale RE systems in 2018?",null,{"$f":"F63","v":99},{"$f":"F25","v":99}]
[null,null,"What is the total installed capacity from renewable distributed generation in your country?",null,{"$f":"F64","v":"1.06285 MW"},{"$f":"F27","v":"1.06285 MW"}]
[null,null,"What was the total generation from exisitng distributed scale RE systems in 2018?",null,"1663.2 MWh",{"$f":"F28","v":"1663.2 MWh"}]
[null,null,"Existing renewable generation"]
[null,null,"Existing Utility-Scale Renewable Energy Projects"]
[null,null,"What is the number of existing utility-scale RE projects?",null,{"$f":"F68","v":1},{"$f":"F32","v":1}]
[null,null,"What was the total electricity generated in 2018 (MWh)?",null,39928,39928]
[null,null,"What was the total electricity generated from utility-scale RE projects in 2018 (MWh)?",null,5000,5000]
[null,null,"Please provide as much information as possible for exisitng RE projects in the box below as:\n- Project Name\n- Developer\n- Offtaker\n- Renewable Energy Technology Type\n- Start of Commercial Operation (Year)\n- Estimated Capacity Factor (in %) OR Estimated Annual Production (in MWh)\n- Installed Capacity (MW)\n- Length of PPA ",null,{"$f":"F71","v":"1.Name: Solar Demo PV Project Contractor -FDL-High Peaks -Owner-Government of Saint Lucia Offtaker -Lucelec RE Technology type - Solar PV Start of commercial year -2019 Annual production -396 MWh Installed capacity - 0.2 MW Length of PPA- TBD 2. Project name : Solar carport project Contractor -Gearing up limited Owner -Government of Saint Lucia Offtaker -Lucelec RET- Solar PV Start of commercial year - 2019 Estimated annual production: 114.84 MWh Installed Capacity - 58kW Length of PPA-TBD 3. Project Name - Renewable Energy Sector Development Project Developer: Government of Saint Lucia Offtaker -Lucelec RET -Geothermal Start of Commercial Operation: 2025 Estimated capacity - Installed capacity (projected) - 30 MW Length of PPA - TBD"},"1.Name: Solar Demo PV Project Contractor -FDL-High Peaks -Owner-Government of Saint Lucia Offtaker -Lucelec RE Technology type - Solar PV Start of commercial year -2019 Annual production -396 MWh Installed capacity - 0.2 MW Length of PPA- TBD 2. Project name : Solar carport project Contractor -Gearing up limited Owner -Government of Saint Lucia Offtaker -Lucelec RET- Solar PV Start of commercial year - 2019 Estimated annual production: 114.84 MWh Installed Capacity - 58kW Length of PPA-TBD 3. Project Name - Renewable Energy Sector Development Project Developer: Government of Saint Lucia Offtaker -Lucelec RET -Geothermal Start of Commercial Operation: 2025 Estimated capacity - Installed capacity (projected) - 30 MW Length of PPA - TBD"]
[null,null,"Planned renewable generation"]
[null,null,"Potential Utility-Scale Renewable Energy Projects"]
[null,null,"How much installed capacity from RE is expected to come online in the next 3 years?",null,{"$f":"F74","v":"22MW"},{"$f":"F39","v":"22MW"}]
[null,null,"How much renewable energy generation is expected to come online in the next 3 years?",null,{"$f":"E40","v":60000},{"$f":"F40","v":"60GWh"}]
[null,null,"Please provide as much information as possible for RE projects currently under development in the box below as:\n- Project Name\n- Developer\n- Offtaker\n- Renewable Energy Technology Type\n- Start of Commercial Operation (Year)\n- Estimated Capacity Factor (in %) OR Estimated Annual Production (in MWh)\n- Installed Capacity (MW)\n- Length of PPA ",null,{"$f":"F76","v":"Project Name : Developer : Masdar Offtaker: Lucelec Renewable energy technology type: Solar PV Status as of July 2019: prefeasibility Expected commercial operation: 2020 Estimated Annual Production:900 MWh Installed Capacity: (planned) 500-800kW Length of PPA:TBD(legislative framework not yet in place"},{"$f":"F42","v":"Project Name : Developer : Masdar Offtaker: Lucelec Renewable energy technology type: Solar PV Status as of July 2019: prefeasibility Expected commercial operation: 2020 Estimated Annual Production:900 MWh Installed Capacity: (planned) 500-800kW Length of PPA:TBD(legislative framework not yet in place"}]
[null,null,"Electric Mobility"]
[null,null,"What is the target and target year?",null,{"$f":"E47","v":" "},{"$f":"F47","v":0}]
[null,null,"How many electric cars are currently in your country?",null,{"$f":"F79","v":"Government of Saint Lucia -owns 3 full EVs Private sector - data being tallied"},{"$f":"F48","v":"Government of Saint Lucia -owns 3 full EVs Private sector - data being tallied"}]
[null,null,"How many charging stations are in your country?",null,{"$f":"F80","v":3},3]
[]
[]
[null,null,"Improvement Year-on-Year"]
[null,null,"Enabling environment for renewable energy investments","Change",{"$f":"IF(ISERR(E91-E90),\"\",E91-E90)","v":-2.734375}]
[null,null,"2012 Score","0 to 5",2.33]
[null,null,"2013 Score","0 to 5",2.333333333333333]
[null,null,"2014 Score","0 to 5",2.333333333333333]
[null,null,"2015 Score","0 to 5",2.333333333333333]
[null,null,"2016 Score","0 to 5",1.3333333333333333]
[null,null,"2017 Score","0 to 5",3.125]
[null,null,"2018 Score","0 to 5",{"$f":"VLOOKUP(C84,'RE Index | Ranking inputs'!$D$8:$AM$44,MATCH($B$1,'RE Index | Ranking inputs'!$D$5:$AM$5,0),0)","v":0.390625}]
[null,null,"Existing renewable generation","Change",{"$f":"IF(ISERR(E99-E98),\"\",E99-E98)","v":0.28797888050342474}]
[null,null,"2012 Score","0 to 5",0.01]
[null,null,"2013 Score","0 to 5",6.8489162146818288E-4]
[null,null,"2014 Score","0 to 5",9.469627339572192E-4]
[null,null,"2015 Score","0 to 5",8.1071160406778265E-4]
[null,null,"2016 Score","0 to 5",0]
[null,null,"2017 Score","0 to 5",0.33814814814814814]
[null,null,"2018 Score","0 to 5",{"$f":"VLOOKUP(C92,'RE Index | Ranking inputs'!$D$8:$AM$44,MATCH($B$1,'RE Index | Ranking inputs'!$D$5:$AM$5,0),0)","v":0.62612702865157288}]
[null,null,"Planned renewable generation","Change",{"$f":"IF(ISERR(E107-E106),\"\",E107-E106)","v":0.36293537386554942}]
[null,null,"2012 Score","0 to 5",1.01]
[null,null,"2013 Score","0 to 5",0]
[null,null,"2014 Score","0 to 5",5.5321570859419467E-2]
[null,null,"2015 Score","0 to 5",5.55825952540107E-2]
[null,null,"2016 Score","0 to 5",0]
[null,null,"2017 Score","0 to 5",2.697128296296297]
[null,null,"2018 Score","0 to 5",{"$f":"VLOOKUP(C100,'RE Index | Ranking inputs'!$D$8:$AM$44,MATCH($B$1,'RE Index | Ranking inputs'!$D$5:$AM$5,0),0)","v":3.0600636701618464}]
[null,null,"Electric Mobility","Change","N/A"]
[null,null,"2018 Score","0 to 5",{"$f":"VLOOKUP(C108,'RE Index | Ranking inputs'!$D$8:$AM$44,MATCH($B$1,'RE Index | Ranking inputs'!$D$5:$AM$5,0),0)","v":2.5}]
[null,null,"Overall Score Year-on-Year","Change",{"$f":"E123-E121","v":-0.5803807718374554}]
[null,null,"2012 Overall Score",null,1.1055000000000001]
[null,null,"2012 Rank",null,12]
[null,null,"2013 Overall Score",null,0.77800607498493379]
[null,null,"2013 Rank",null,22]
[null,null,"2014 Overall Score",null,0.79653395564223661]
[null,null,"2014 Rank",null,22]
[null,null,"2015 Overall Score",null,0.79657554673047049]
[null,null,"2015 Rank",null,23]
[null,null,"2016 Overall Score",null,0.44444444444444442]
[null,null,"2016 Rank",null,25]
[null,null,"2017 Overall Score",null,2.0534254814814812]
[null,null,"2017 Rank",null,6]
[null,null,"2018 Overall Score",null,{"$f":"VLOOKUP(C123,'RE Index | Ranking inputs'!$D$8:$AM$125,MATCH($B$1,'RE Index | Ranking inputs'!$D$5:$AM$5,0),0)","v":1.4730447096440258}]
[null,null,"2018 Rank",null,{"$f":"VLOOKUP(C124,'RE Index | Ranking inputs'!$D$8:$AM$125,MATCH($B$1,'RE Index | Ranking inputs'!$D$5:$AM$5,0),0)","v":12}]

{"sheet":"Turks_and_Caicos","index":22,"n_rows":124,"n_cols":7,"rows_kept":124,"cut":false,"hidden":false,"merged":[[73,2,73,3],[77,2,77,3],[78,2,78,3],[79,2,79,3],[82,2,82,3],[69,2,69,3],[46,2,46,3],[47,2,47,3],[48,2,48,3],[51,2,51,3],[58,2,58,3],[60,2,60,3],[62,2,62,3],[63,2,63,3],[64,2,64,3],[67,2,67,3],[68,2,68,3],[33,2,33,3],[0,1,0,4],[4,2,4,3],[11,2,11,3],[12,2,12,3],[13,2,13,3],[14,2,14,3],[23,2,23,3],[28,2,28,3],[1,2,1,4]]}
[null,"Turks and Caicos Islands"]
[null,null,"Overall Indicator",null,null,"Rachell Roulett - Fortis","Malike Cummings, Energy and Utilities Commissioner"]
[1,null,"Enabling Environment for Renewable Energy (RE) Investments",null,"Consolidated Survey Response","Respondent 21","Respondent 13"]
[null,null,"Government - Renewable Energy Strategy",null,"Y/N"]
[null,1,"Does your country have a strategic plan to develop renewble energy?"]
[null,null,"Which of the following renewable generation options is includd in you country's strategic plan to develop renewable energy?",null,{"$f":"IF(B6<>0,IF(ISBLANK(F6),\"NA\",F6),\" \")","v":" "},"Solar PV","Solar PV, onshore wind, offshore wind, biomass, WTE"]
[null,2,"Does your country have a specific target for renewable energy?",null,"No","No","No"]
[null,null,"If yes, what is the target and target year?",null," "]
[null,null,"What is the current breakdown of your country's energy mix?",null," ","99% diesel 1% solar"]
[null,3,"Does your country have an Integrated Resource Plan (IRP) that was produced within the last three years?",null,"Yes","Yes","Yes"]
[null,null,"Utilities"]
[null,1,"When planning generation expansion, does the utility consider RE options?",null,"Yes","Yes","Yes"]
[null,2,"Can the utility safely recover RE investments through tariffs like it can recover fossil fuel costs?",null,"No","No"]
[null,3,"Are there clear, specific planning and permitting processes and rules in place for developing RE?",null,"No","No","No"]
[null,null,"On average, how long does it take for the power utility to get investments in RE projects approved by the regulatory authority (or relevant entity) fror recovery through tariffs?",null," ","for utility scale: 3 years and counting"]
[null,null,"IPPs"]
[null,1,"Can the utility safely recover purchases of RE from third parties, just as it recovers fossil fuel costs?",null,{"$f":"IF(B17<>0,IF(ISBLANK(G17),\"NA\",G17),\" \")","v":"No"},null,"No"]
[null,null,"How long did it take to get your off-take agreement?",null," ","There is no policy in place for IPP/PPA"]
[null,2,"Are there workable precedents or rules for PPA terms and grid operation rules?",null,"No","No","No"]
[null,3,"Are there clear and effective licensing processes and requirements in place for IPPs?",null,"No","No","No"]
[null,4,"Does the utility have an obligation to purchase from IPPs when it is cheaper than generating the power itself?",null,"NA"]
[null,5,"Does the PPA have any take-or-pay arrangements?",null,"NA"]
[null,null,"Distributed generation"]
[null,1,"Do you have a registry or database of distributed generation?",null,"Yes","Yes"]
[null,null,"What was the number of existing distributed scale RE systems in 2018?",null," ","9 - only utility distributed system"]
[null,null,"Is there an aggregate maximum capacity for distributed generation?",null," ","Yes"]
[null,null,"What is the total installed capacity from renewable distributed generation in your country?",null," ","1MW"]
[null,null,"What was the total generation from existing distributed scale RE systems in 2018?",null," ","500,000 kWh"]
[null,2,"Is there a standard arrangement in place for customers to sell electricity to the utility at a reasonable price, for a reasonable timeframe, and with a clear interconnection agreement?",null,"Yes","Yes"]
[]
[2,null,"Existing renewable generation"]
[null,null,"What is the number of existing Utility-Scale RE projects?",null,{"$f":"IF(B32<>0,IF(ISBLANK(F32),\"NA\",F32),\" \")","v":" "},0]
[null,1,"What was the total electricity generated in 2018? (MWh)",null,"NA",0]
[null,1,"What was the total electricity generated from Utility Scale RE projects in 2018? (MWh) ",null,{"$f":"1%*'Jurisdictions | Generation'!E34","v":2417.6424795399998}]
[null,null,"Please provide as much information as possible for exisitng RE projects in the box below as:\n- Project Name\n- Developer\n- Offtaker\n- Renewable Energy Technology Type\n- Start of Commercial Operation (Year)\n- Estimated Capacity Factor (in %) OR Estimated Annual Production (in MWh)\n- Installed Capacity (MW)\n- Length of PPA ",null," ","Our proposed 1 MW Utility scale PV project is still waiting for Govt. Planning Approval"]
[]
[3,null,"Planned Utility-Scale Renewable Energy Projects"]
[null,1,"Does your country have an estimate of planned installed capacity expected to come online from-utility scale RE projects?",null,{"$f":"IF(B38<>0,IF(ISBLANK(F38),\"NA\",F38),\" \")","v":"Yes"},"Yes"]
[null,null,"How much installed capacity from RE is expected to come online in the next 3 years?",null," "]
[null,2,"How much renewable energy generation is expected to come online in the next 3 years?",null,"NA"]
[null,3,"Is climate resilience incorporated in your IRP or national policy?",null,"Yes","Yes"]
[null,null,"Please provide as much information as possible for RE projects currently under development in the box below as:\n- Project Name\n- Developer\n- Offtaker\n- Renewable Energy Technology Type\n- Start of Commercial Operation (Year)\n- Estimated Capacity Factor (in %) OR Estimated Annual Production (in MWh)\n- Installed Capacity (MW)\n- Length of PPA ",null," "]
[]
[4,null,"Electric Mobility"]
[null,1,"Does your country have policies in place or draft legislation to promote the uptake of electric mobility?",null,{"$f":"IF(B45<>0,IF(ISBLANK(F45),\"NA\",F45),\" \")","v":"No"},"No"]
[null,2,"Does your country have specific targets for the uptake of electric vehicles?",null,"No","No"]
[null,null,"What is the target and target year?",null," "]
[null,null,"How many electric cars are currently in your country?",null," ",2]
[null,null,"How many charging stations are in your country?",null," ",1]
[]
[]
[null,null,"Descriptive CREF Index Survey"]
[null,null,"Enabling Environment for Renewable Energy (RE) Investments"]
[null,null,"Renewable energy strategy"]
[null,null,"Which of the rollowing renewable generation options is included in your country's strategic plan to develop renewable energy?\n- Solar PV\n- Offshore wind\n- Biomass\n- Waste to energy\n- Hydro\n-Geothermal\n- Other",null,{"$f":"G55","v":"Solar PV, onshore wind, offshore wind, biomass, WTE"},{"$f":"F6","v":"Solar PV"},"Solar PV, onshore wind, offshore wind, biomass, WTE"]
[null,null,"What is the target and target year?",null,{"$f":"E8","v":" "},{"$f":"F8","v":0},0]
[null,null,"What is the current breakdown of your country's energy mix?",null,{"$f":"E10","v":"Yes"},{"$f":"F10","v":"Yes"},"Yes"]
[null,null,"Utilities"]
[null,null,"On average, how long does it take for the power utility to get investments in RE projects approved by the regulatory authority 9or the relevant entity) for recovery through tariffs?",null,{"$f":"F59","v":"for utility scale: 3 years and counting"},{"$f":"F15","v":"for utility scale: 3 years and counting"},0]
[null,null,"IPPs"]
[null,null,"How long did it take to get your off-take agreement?",null,{"$f":"F61","v":"There is no policy in place for IPP/PPA"},{"$f":"F18","v":"There is no policy in place for IPP/PPA"},0]
[null,null,"Distributed Generation"]
[null,null,"What is the number of exisiting distributed scale RE systems in 2018?",null,{"$f":"F63","v":"9 - only utility distributed system"},{"$f":"F25","v":"9 - only utility distributed system"},0]
[null,null,"What is the total installed capacity from renewable distributed generation in your country?",null,{"$f":"F64","v":"1MW"},{"$f":"F27","v":"1MW"},0]
[null,null,"What was the total generation from exisitng distributed scale RE systems in 2018?",null,{"$f":"F65","v":"500,000 kWh"},{"$f":"F28","v":"500,000 kWh"},0]
[null,null,"Existing renewable generation"]
[null,null,"Existing Utility-Scale Renewable Energy Projects"]
[null,null,"What is the number of existing utility-scale RE projects?",null,{"$f":"E32","v":" "},{"$f":"F32","v":0},0]
[null,null,"What was the total electricity generated in 2018 (MWh)?",null,{"$f":"E33","v":"NA"},{"$f":"F33","v":0},0]
[null,null,"What was the total electricity generated from utility-scale RE projects in 2018 (MWh)?",null,{"$f":"E34","v":2417.6424795399998},{"$f":"F34","v":0},0]
[null,null,"Please provide as much information as possible for exisitng RE projects in the box below as:\n- Project Name\n- Developer\n- Offtaker\n- Renewable Energy Technology Type\n- Start of Commercial Operation (Year)\n- Estimated Capacity Factor (in %) OR Estimated Annual Production (in MWh)\n- Installed Capacity (MW)\n- Length of PPA ",null,{"$f":"F71","v":"Our proposed 1 MW Utility scale PV project is still waiting for Govt. Planning Approval"},{"$f":"F35","v":"Our proposed 1 MW Utility scale PV project is still waiting for Govt. Planning Approval"},0]
[null,null,"Planned renewable generation"]
[null,null,"Potential Utility-Scale Renewable Energy Projects"]
[null,null,"How much installed capacity from RE is expected to come online in the next 3 years?",null,{"$f":"E39","v":" "},{"$f":"F39","v":0},0]
[null,null,"How much renewable energy generation is expected to come online in the next 3 years?",null,{"$f":"E40","v":"NA"},{"$f":"F40","v":0},0]
[null,null,"Please provide as much information as possible for RE projects currently under development in the box below as:\n- Project Name\n- Developer\n- Offtaker\n- Renewable Energy Technology Type\n- Start of Commercial Operation (Year)\n- Estimated Capacity Factor (in %) OR Estimated Annual Production (in MWh)\n- Installed Capacity (MW)\n- Length of PPA ",null,{"$f":"E42","v":" "},{"$f":"F42","v":0},0]
[null,null,"Electric Mobility"]
[null,null,"What is the target and target year?",null,{"$f":"E47","v":" "},{"$f":"F47","v":0},0]
[null,null,"How many electric cars are currently in your country?",null,{"$f":"F79","v":2},{"$f":"F48","v":2},0]
[null,null,"How many charging stations are in your country?",null,{"$f":"F80","v":1},1,0]
[]
[]
[null,null,"Improvement Year-on-Year"]
[null,null,"Enabling environment for renewable energy investments","Change",{"$f":"IF(ISERR(E91-E90),\"\",E91-E90)","v":-0.98958333333333348}]
[null,null,"2012 Score","0 to 5",2]
[null,null,"2013 Score","0 to 5",1.9999999999999998]
[null,null,"2014 Score","0 to 5",1.9999999999999998]
[null,null,"2015 Score","0 to 5",1.9999999999999998]
[null,null,"2016 Score","0 to 5",1.3333333333333333]
[null,null,"2017 Score","0 to 5",2.7083333333333335]
[null,null,"2018 Score","0 to 5",{"$f":"VLOOKUP(C84,'RE Index | Ranking inputs'!$D$8:$AM$44,MATCH($B$1,'RE Index | Ranking inputs'!$D$5:$AM$5,0),0)","v":1.71875}]
[null,null,"Existing renewable generation","Change",{"$f":"IF(ISERR(E99-E98),\"\",E99-E98)","v":-0.2}]
[null,null,"2012 Score","0 to 5",0]
[null,null,"2013 Score","0 to 5",0]
[null,null,"2014 Score","0 to 5",1.1368223412131897E-3]
[null,null,"2015 Score","0 to 5",1.0231401070918708E-3]
[null,null,"2016 Score","0 to 5",0]
[null,null,"2017 Score","0 to 5",0.25]
[null,null,"2018 Score","0 to 5",{"$f":"VLOOKUP(C92,'RE Index | Ranking inputs'!$D$8:$AM$44,MATCH($B$1,'RE Index | Ranking inputs'!$D$5:$AM$5,0),0)","v":0.05}]
[null,null,"Planned renewable generation","Change",{"$f":"IF(ISERR(E107-E106),\"\",E107-E106)","v":0.98963663734612395}]
[null,null,"2012 Score","0 to 5",0]
[null,null,"2013 Score","0 to 5",0]
[null,null,"2014 Score","0 to 5",0]
[null,null,"2015 Score","0 to 5",0]
[null,null,"2016 Score","0 to 5",0]
[null,null,"2017 Score","0 to 5",0.1368133835971207]
[null,null,"2018 Score","0 to 5",{"$f":"VLOOKUP(C100,'RE Index | Ranking inputs'!$D$8:$AM$44,MATCH($B$1,'RE Index | Ranking inputs'!$D$5:$AM$5,0),0)","v":1.1264500209432446}]
[null,null,"Electric Mobility","Change","N/A"]
[null,null,"2018 Score","0 to 5",{"$f":"VLOOKUP(C108,'RE Index | Ranking inputs'!$D$8:$AM$44,MATCH($B$1,'RE Index | Ranking inputs'!$D$5:$AM$5,0),0)","v":0}]
[null,null,"Overall Score Year-on-Year","Change",{"$f":"E123-E121","v":-0.16315556602717796}]
[null,null,"2012 Overall Score",null,0.66]
[null,null,"2012 Rank",null,17]
[null,null,"2013 Overall Score",null,0.66666666666666652]
[null,null,"2013 Rank",null,24]
[null,null,"2014 Overall Score",null,0.66704560744707087]
[null,null,"2014 Rank",null,26]
[null,null,"2015 Overall Score",null,0.66700771336903053]
[null,null,"2015 Rank",null,28]
[null,null,"2016 Overall Score",null,0.44444444444444442]
[null,null,"2016 Rank",null,25]
[null,null,"2017 Overall Score",null,1.0317155723101514]
[null,null,"2017 Rank",null,22]
[null,null,"2018 Overall Score",null,{"$f":"VLOOKUP(C123,'RE Index | Ranking inputs'!$D$8:$AM$125,MATCH($B$1,'RE Index | Ranking inputs'!$D$5:$AM$5,0),0)","v":0.86856000628297347}]
[null,null,"2018 Rank",null,{"$f":"VLOOKUP(C124,'RE Index | Ranking inputs'!$D$8:$AM$125,MATCH($B$1,'RE Index | Ranking inputs'!$D$5:$AM$5,0),0)","v":19}]

{"sheet":"St_Vincent_Grenadines","index":23,"n_rows":124,"n_cols":6,"rows_kept":124,"cut":false,"hidden":false,"merged":[[73,2,73,3],[77,2,77,3],[78,2,78,3],[79,2,79,3],[82,2,82,3],[69,2,69,3],[46,2,46,3],[47,2,47,3],[48,2,48,3],[51,2,51,3],[58,2,58,3],[60,2,60,3],[62,2,62,3],[63,2,63,3],[64,2,64,3],[67,2,67,3],[68,2,68,3],[33,2,33,3],[0,1,0,4],[1,6,1,12],[4,2,4,3],[11,2,11,3],[12,2,12,3],[13,2,13,3],[14,2,14,3],[23,2,23,3],[28,2,28,3],[1,2,1,4]]}
[null,"St. Vincent & Grenadines"]
[null,null,"Overall Indicator",null,null,"Vaughn Lewis - St. Vincent Electricity Services Ltd."]
[1,null,"Enabling Environment for Renewable Energy (RE) Investments",null,"Consolidated Survey Response","Respondent 34,37"]
[null,null,"Government - Renewable Energy Strategy",null,null,"Y/N"]
[null,1,"Does your country have a strategic plan to develop renewble energy?",null,null,"Yes"]
[null,null,"Which of the following renewable generation options is includd in you country's strategic plan to develop renewable energy?",null,{"$f":"IF(B6<>0,IF(ISBLANK(F6),\"NA\",F6),\" \")","v":" "},"Solar PV, Onshore Wind, Hydro, Geothermal"]
[null,2,"Does your country have a specific target for renewable energy?",null,"Yes","Yes"]
[null,null,"If yes, what is the target and target year?",null," ","60% by 2020"]
[null,null,"What is the current breakdown of your country's energy mix?",null," ","80-81% Diesel 15-17% Hydro 2% Solar"]
[null,3,"Does your country have an Integrated Resource Plan (IRP) that was produced within the last three years?",null,"No","No"]
[null,null,"Utilities",null,null,"Y/N"]
[null,1,"When planning generation expansion, does the utility consider RE options?",null,"Yes","Yes"]
[null,2,"Can the utility safely recover RE investments through tariffs like it can recover fossil fuel costs?",null,"No","No"]
[null,3,"Are there clear, specific planning and permitting processes and rules in place for developing RE?",null,"No","No"]
[null,null,"On average, how long does it take for the power utility to get investments in RE projects approved by the regulatory authority (or relevant entity) fror recovery through tariffs?",null," ","Approval not required"]
[null,null,"IPPs",null,null,"Y/N"]
[null,1,"Can the utility safely recover purchases of RE from third parties, just as it recovers fossil fuel costs?",null,"NA"]
[null,null,"How long did it take to get your off-take agreement?",null," "]
[null,2,"Are there workable precedents or rules for PPA terms and grid operation rules?",null,"NA"]
[null,3,"Are there clear and effective licensing processes and requirements in place for IPPs?",null,"NA"]
[null,4,"Does the utility have an obligation to purchase from IPPs when it is cheaper than generating the power itself?",null,"NA"]
[null,5,"Does the PPA have any take-or-pay arrangements?",null,"NA"]
[null,null,"Distributed generation",null,null,"Y/N"]
[null,1,"Do you have a registry or database of distributed generation?",null,"NA"]
[null,null,"What was the number of existing distributed scale RE systems in 2018?",null," "]
[null,null,"Is there an aggregate maximum capacity for distributed generation?",null," "]
[null,null,"What is the total installed capacity from renewable distributed generation in your country?",null," "]
[null,null,"What was the total generation from existing distributed scale RE systems in 2018?",null," "]
[null,2,"Is there a standard arrangement in place for customers to sell electricity to the utility at a reasonable price, for a reasonable timeframe, and with a clear interconnection agreement?",null,"NA"]
[]
[2,null,"Existing renewable generation"]
[null,null,"What is the number of existing Utility-Scale RE projects?",null,{"$f":"IF(B32<>0,IF(ISBLANK(F32),\"NA\",F32),\" \")","v":" "}]
[null,1,"What was the total electricity generated in 2018? (MWh)",null,"NA"]
[null,1,"What was the total electricity generated from Utility Scale RE projects in 2018? (MWh) ",null,{"$f":"17%*'Jurisdictions | Generation'!E30","v":25612.880000000001}]
[null,null,"Please provide as much information as possible for exisitng RE projects in the box below as:\n- Project Name\n- Developer\n- Offtaker\n- Renewable Energy Technology Type\n- Start of Commercial Operation (Year)\n- Estimated Capacity Factor (in %) OR Estimated Annual Production (in MWh)\n- Installed Capacity (MW)\n- Length of PPA ",null," "]
[]
[3,null,"Planned Utility-Scale Renewable Energy Projects"]
[null,1,"Does your country have an estimate of planned installed capacity expected to come online from-utility scale RE projects?",null,{"$f":"IF(B38<>0,IF(ISBLANK(F38),\"NA\",F38),\" \")","v":"NA"}]
[null,null,"How much installed capacity from RE is expected to come online in the next 3 years?",null," "]
[null,2,"How much renewable energy generation is expected to come online in the next 3 years?",null,"NA"]
[null,3,"Is climate resilience incorporated in your IRP or national policy?",null,"NA"]
[null,null,"Please provide as much information as possible for RE projects currently under development in the box below as:\n- Project Name\n- Developer\n- Offtaker\n- Renewable Energy Technology Type\n- Start of Commercial Operation (Year)\n- Estimated Capacity Factor (in %) OR Estimated Annual Production (in MWh)\n- Installed Capacity (MW)\n- Length of PPA ",null," "]
[]
[4,null,"Electric Mobility"]
[null,1,"Does your country have policies in place or draft legislation to promote the uptake of electric mobility?",null,{"$f":"IF(B45<>0,IF(ISBLANK(F45),\"NA\",F45),\" \")","v":"NA"}]
[null,2,"Does your country have specific targets for the uptake of electric vehicles?",null,"NA"]
[null,null,"What is the target and target year?",null," "]
[null,null,"How many electric cars are currently in your country?",null," "]
[null,null,"How many charging stations are in your country?",null," "]
[]
[]
[null,null,"Descriptive CREF Index Survey"]
[null,null,"Enabling Environment for Renewable Energy (RE) Investments"]
[null,null,"Renewable energy strategy"]
[null,null,"Which of the rollowing renewable generation options is included in your country's strategic plan to develop renewable energy?\n- Solar PV\n- Offshore wind\n- Biomass\n- Waste to energy\n- Hydro\n-Geothermal\n- Other",null,{"$f":"F55","v":"Solar PV, Onshore Wind, Hydro, Geothermal"},{"$f":"F6","v":"Solar PV, Onshore Wind, Hydro, Geothermal"}]
[null,null,"What is the target and target year?",null,{"$f":"F56","v":"60% by 2020"},{"$f":"F8","v":"60% by 2020"}]
[null,null,"What is the current breakdown of your country's energy mix?",null,"80-81% Diesel 15-17% Hydro 2% Solar",{"$f":"F9","v":"80-81% Diesel 15-17% Hydro 2% Solar"}]
[null,null,"Utilities"]
[null,null,"On average, how long does it take for the power utility to get investments in RE projects approved by the regulatory authority 9or the relevant entity) for recovery through tariffs?",null,{"$f":"F59","v":"Approval not required"},{"$f":"F15","v":"Approval not required"}]
[null,null,"IPPs"]
[null,null,"How long did it take to get your off-take agreement?",null,{"$f":"E18","v":" "},{"$f":"F18","v":0}]
[null,null,"Distributed Generation"]
[null,null,"What is the number of exisiting distributed scale RE systems in 2018?",null,{"$f":"E25","v":" "},{"$f":"F25","v":0}]
[null,null,"What is the total installed capacity from renewable distributed generation in your country?",null,{"$f":"E27","v":" "},{"$f":"F27","v":0}]
[null,null,"What was the total generation from exisitng distributed scale RE systems in 2018?",null,{"$f":"E28","v":" "},{"$f":"F28","v":0}]
[null,null,"Existing renewable generation"]
[null,null,"Existing Utility-Scale Renewable Energy Projects"]
[null,null,"What is the number of existing utility-scale RE projects?",null,{"$f":"E32","v":" "},0]
[null,null,"What was the total electricity generated in 2018 (MWh)?",null,"NA",0]
[null,null,"What was the total electricity generated from utility-scale RE projects in 2018 (MWh)?",null,25612.880000000001,0]
[null,null,"Please provide as much information as possible for exisitng RE projects in the box below as:\n- Project Name\n- Developer\n- Offtaker\n- Renewable Energy Technology Type\n- Start of Commercial Operation (Year)\n- Estimated Capacity Factor (in %) OR Estimated Annual Production (in MWh)\n- Installed Capacity (MW)\n- Length of PPA ",null," ",0]
[null,null,"Planned renewable generation"]
[null,null,"Potential Utility-Scale Renewable Energy Projects"]
[null,null,"How much installed capacity from RE is expected to come online in the next 3 years?",null,{"$f":"E39","v":" "},{"$f":"F39","v":0}]
[null,null,"How much renewable energy generation is expected to come online in the next 3 years?",null,{"$f":"E40","v":"NA"},{"$f":"F40","v":0}]
[null,null,"Please provide as much information as possible for RE projects currently under development in the box below as:\n- Project Name\n- Developer\n- Offtaker\n- Renewable Energy Technology Type\n- Start of Commercial Operation (Year)\n- Estimated Capacity Factor (in %) OR Estimated Annual Production (in MWh)\n- Installed Capacity (MW)\n- Length of PPA ",null,{"$f":"E42","v":" "},{"$f":"F42","v":0}]
[null,null,"Electric Mobility"]
[null,null,"What is the target and target year?",null,{"$f":"E47","v":" "},{"$f":"F47","v":0}]
[null,null,"How many electric cars are currently in your country?",null,{"$f":"E48","v":" "},0]
[null,null,"How many charging stations are in your country?",null," ",0]
[]
[]
[null,null,"Improvement Year-on-Year"]
[null,null,"Enabling environment for renewable energy investments","Change",{"$f":"IF(ISERR(E91-E90),\"\",E91-E90)","v":-3.59375}]
[null,null,"2012 Score","0 to 5",3]
[null,null,"2013 Score","0 to 5",3]
[null,null,"2014 Score","0 to 5",3]
[null,null,"2015 Score","0 to 5",3]
[null,null,"2016 Score","0 to 5",4.333333333333333]
[null,null,"2017 Score","0 to 5",3.75]
[null,null,"2018 Score","0 to 5",{"$f":"'RE Index | Ranking inputs'!AH8","v":0.15625}]
[null,null,"Existing renewable generation","Change",{"$f":"IF(ISERR(E99-E98),\"\",E99-E98)","v":-1.3565873952993299}]
[null,null,"2012 Score","0 to 5",1.22]
[null,null,"2013 Score","0 to 5",1.0240373996907901]
[null,null,"2014 Score","0 to 5",1.1080454379919942]
[null,null,"2015 Score","0 to 5",0.99621956661599642]
[null,null,"2016 Score","0 to 5",0]
[null,null,"2017 Score","0 to 5",2.20658739529933]
[null,null,"2018 Score","0 to 5",{"$f":"'RE Index | Ranking inputs'!AH26","v":0.85000000000000009}]
[null,null,"Planned renewable generation","Change",{"$f":"IF(ISERR(E107-E106),\"\",E107-E106)","v":-1.5767651803959906}]
[null,null,"2012 Score","0 to 5",0]
[null,null,"2013 Score","0 to 5",0.70101216716974657]
[null,null,"2014 Score","0 to 5",4.4971730840020777E-2]
[null,null,"2015 Score","0 to 5",2.1559900019609497]
[null,null,"2016 Score","0 to 5",0]
[null,null,"2017 Score","0 to 5",2.3877585634647174]
[null,null,"2018 Score","0 to 5",{"$f":"'RE Index | Ranking inputs'!AH34","v":0.81099338306872681}]
[null,null,"Electric Mobility","Change","N/A"]
[null,null,"2018 Score","0 to 5",{"$f":"'RE Index | Ranking inputs'!AH42","v":0}]
[null,null,"Overall Score Year-on-Year","Change",{"$f":"E123-E121","v":-2.2362756380007314}]
[null,null,"2012 Overall Score",null,1.3926000000000001]
[null,null,"2012 Rank",null,5]
[null,null,"2013 Overall Score",null,1.5750165222868455]
[null,null,"2013 Rank",null,9]
[null,null,"2014 Overall Score",null,1.3843390562773383]
[null,null,"2014 Rank",null,9]
[null,null,"2015 Overall Score",null,2.050736522858982]
[null,null,"2015 Rank",null,5]
[null,null,"2016 Overall Score",null,1.4444444444444442]
[null,null,"2016 Rank",null,13]
[null,null,"2017 Overall Score",null,2.7814486529213491]
[null,null,"2017 Rank",null,2]
[null,null,"2018 Overall Score",null,{"$f":"'RE Index | Ranking inputs'!AH6","v":0.54517301492061798}]
[null,null,"2018 Rank",null,{"$f":"'RE Index | Ranking inputs'!AH123","v":21}]

{"sheet":"Suriname","index":24,"n_rows":124,"n_cols":7,"rows_kept":124,"cut":false,"hidden":false,"merged":[[73,2,73,3],[77,2,77,3],[78,2,78,3],[79,2,79,3],[82,2,82,3],[69,2,69,3],[46,2,46,3],[47,2,47,3],[48,2,48,3],[51,2,51,3],[58,2,58,3],[60,2,60,3],[62,2,62,3],[63,2,63,3],[64,2,64,3],[67,2,67,3],[68,2,68,3],[33,2,33,3],[0,1,0,4],[4,2,4,3],[11,2,11,3],[12,2,12,3],[13,2,13,3],[14,2,14,3],[23,2,23,3],[28,2,28,3],[1,2,1,4]]}
[null,"Suriname"]
[null,null,"Overall Indicator",null,null,"Shamir Bakridi -NV Energiebedrijven Suriname","Lesely Rahan - Electric Utility EBS"]
[1,null,"Enabling Environment for Renewable Energy (RE) Investments",null,"Consolidated Survey Response","Respondent 23","Respondent 30"]
[null,null,"Government - Renewable Energy Strategy",null,"Y/N"]
[null,1,"Does your country have a strategic plan to develop renewble energy?"]
[null,null,"Which of the following renewable generation options is includd in you country's strategic plan to develop renewable energy?",null,{"$f":"IF(B6<>0,IF(ISBLANK(F6),\"NA\",F6),\" \")","v":" "},"Solar PV","Solar PV, Biomass, Hydro"]
[null,2,"Does your country have a specific target for renewable energy?",null,"Yes","No"]
[null,null,"If yes, what is the target and target year?",null," "]
[null,null,"What is the current breakdown of your country's energy mix?",null," ","40% hydro and 58% hydro 2 % solar"]
[null,3,"Does your country have an Integrated Resource Plan (IRP) that was produced within the last three years?",null,"No","No","Yes"]
[null,null,"Utilities",null,null,"Y/N"]
[null,1,"When planning generation expansion, does the utility consider RE options?",null,{"$f":"G12","v":"Yes"},"Yes","Yes"]
[null,2,"Can the utility safely recover RE investments through tariffs like it can recover fossil fuel costs?",null,{"$f":"G13","v":"Yes"},"No","Yes"]
[null,3,"Are there clear, specific planning and permitting processes and rules in place for developing RE?",null,"Yes","Yes","Yes"]
[null,null,"On average, how long does it take for the power utility to get investments in RE projects approved by the regulatory authority (or relevant entity) fror recovery through tariffs?",null," "]
[null,null,"IPPs",null,null,"Y/N"]
[null,1,"Can the utility safely recover purchases of RE from third parties, just as it recovers fossil fuel costs?",null,{"$f":"F17","v":"No"},"No","Yes"]
[null,null,"How long did it take to get your off-take agreement?",null," "]
[null,2,"Are there workable precedents or rules for PPA terms and grid operation rules?",null,{"$f":"F19","v":"No"},"No","Yes"]
[null,3,"Are there clear and effective licensing processes and requirements in place for IPPs?",null,"No","No","Yes"]
[null,4,"Does the utility have an obligation to purchase from IPPs when it is cheaper than generating the power itself?",null,"Yes","Yes","Yes"]
[null,5,"Does the PPA have any take-or-pay arrangements?",null,"No","No","Yes"]
[null,null,"Distributed generation",null,null,"Y/N"]
[null,1,"Do you have a registry or database of distributed generation?",null,"No","No","Yes"]
[null,null,"What was the number of existing distributed scale RE systems in 2018?",null," ","5.5MW"]
[null,null,"Is there an aggregate maximum capacity for distributed generation?",null," ","No","No"]
[null,null,"What is the total installed capacity from renewable distributed generation in your country?",null," "]
[null,null,"What was the total generation from existing distributed scale RE systems in 2018?",null," "]
[null,2,"Is there a standard arrangement in place for customers to sell electricity to the utility at a reasonable price, for a reasonable timeframe, and with a clear interconnection agreement?",null,"No","No","Yes"]
[]
[2,null,"Existing renewable generation"]
[null,null,"What is the number of existing Utility-Scale RE projects?",null,{"$f":"IF(B32<>0,IF(ISBLANK(F32),\"NA\",F32),\" \")","v":" "},"500kWp"]
[null,1,"What was the total electricity generated in 2018? (MWh)",null,"NA"]
[null,1,"What was the total electricity generated from Utility Scale RE projects in 2018? (MWh) ",null,"NA"]
[null,null,"Please provide as much information as possible for exisitng RE projects in the box below as:\n- Project Name\n- Developer\n- Offtaker\n- Renewable Energy Technology Type\n- Start of Commercial Operation (Year)\n- Estimated Capacity Factor (in %) OR Estimated Annual Production (in MWh)\n- Installed Capacity (MW)\n- Length of PPA ",null," "]
[]
[3,null,"Planned Utility-Scale Renewable Energy Projects"]
[null,1,"Does your country have an estimate of planned installed capacity expected to come online from-utility scale RE projects?",null,{"$f":"IF(B38<>0,IF(ISBLANK(G38),\"NA\",G38),\" \")","v":"Yes"},null,"Yes"]
[null,null,"How much installed capacity from RE is expected to come online in the next 3 years?",null,{"$f":"IF(B39<>0,IF(ISBLANK(F39),\"NA\",F39),\" \")","v":" "},null,"2MW"]
[null,2,"How much renewable energy generation is expected to come online in the next 3 years?",null,{"$f":"0.8*23%*365*24","v":1611.8400000000001},null,"0.8MW"]
[null,3,"Is climate resilience incorporated in your IRP or national policy?",null,"No"]
[null,null,"Please provide as much information as possible for RE projects currently under development in the box below as:\n- Project Name\n- Developer\n- Offtaker\n- Renewable Energy Technology Type\n- Start of Commercial Operation (Year)\n- Estimated Capacity Factor (in %) OR Estimated Annual Production (in MWh)\n- Installed Capacity (MW)\n- Length of PPA "]
[]
[4,null,"Electric Mobility"]
[null,1,"Does your country have policies in place or draft legislation to promote the uptake of electric mobility?",null,{"$f":"IF(B45<>0,IF(ISBLANK(G45),\"NA\",G45),\" \")","v":"No"},null,"No"]
[null,2,"Does your country have specific targets for the uptake of electric vehicles?",null,{"$f":"IF(B46<>0,IF(ISBLANK(G46),\"NA\",G46),\" \")","v":"No"},null,"No"]
[null,null,"What is the target and target year?",null," "]
[null,null,"How many electric cars are currently in your country?",null," "]
[null,null,"How many charging stations are in your country?"]
[]
[]
[null,null,"Descriptive CREF Index Survey"]
[null,null,"Enabling Environment for Renewable Energy (RE) Investments"]
[null,null,"Renewable energy strategy"]
[null,null,"Which of the rollowing renewable generation options is included in your country's strategic plan to develop renewable energy?\n- Solar PV\n- Offshore wind\n- Biomass\n- Waste to energy\n- Hydro\n-Geothermal\n- Other",null,{"$f":"F6","v":"Solar PV"},{"$f":"F6","v":"Solar PV"},{"$f":"G6","v":"Solar PV, Biomass, Hydro"}]
[null,null,"What is the target and target year?",null,{"$f":"F8","v":0},{"$f":"F8","v":0},{"$f":"G8","v":0}]
[null,null,"What is the current breakdown of your country's energy mix?",null,{"$f":"F9","v":"40% hydro and 58% hydro 2 % solar"},{"$f":"F9","v":"40% hydro and 58% hydro 2 % solar"},{"$f":"G9","v":0}]
[null,null,"Utilities"]
[null,null,"On average, how long does it take for the power utility to get investments in RE projects approved by the regulatory authority 9or the relevant entity) for recovery through tariffs?",null,{"$f":"F15","v":0},{"$f":"F15","v":0},{"$f":"G15","v":0}]
[null,null,"IPPs"]
[null,null,"How long did it take to get your off-take agreement?",null,{"$f":"F18","v":0},{"$f":"F18","v":0},{"$f":"G18","v":0}]
[null,null,"Distributed Generation"]
[null,null,"What is the number of exisiting distributed scale RE systems in 2018?",null,{"$f":"F25","v":"5.5MW"},{"$f":"F25","v":"5.5MW"},{"$f":"G25","v":0}]
[null,null,"What is the total installed capacity from renewable distributed generation in your country?",null,{"$f":"F27","v":0},{"$f":"F27","v":0},{"$f":"G27","v":0}]
[null,null,"What was the total generation from exisitng distributed scale RE systems in 2018?",null,{"$f":"F28","v":0},{"$f":"F28","v":0},{"$f":"G28","v":0}]
[null,null,"Existing renewable generation"]
[null,null,"Existing Utility-Scale Renewable Energy Projects"]
[null,null,"What is the number of existing utility-scale RE projects?",null,{"$f":"F32","v":"500kWp"},{"$f":"F32","v":"500kWp"},0]
[null,null,"What was the total electricity generated in 2018 (MWh)?",null,{"$f":"F33","v":0},0,0]
[null,null,"What was the total electricity generated from utility-scale RE projects in 2018 (MWh)?",null,{"$f":"F34","v":0},0,0]
[null,null,"Please provide as much information as possible for exisitng RE projects in the box below as:\n- Project Name\n- Developer\n- Offtaker\n- Renewable Energy Technology Type\n- Start of Commercial Operation (Year)\n- Estimated Capacity Factor (in %) OR Estimated Annual Production (in MWh)\n- Installed Capacity (MW)\n- Length of PPA ",null,{"$f":"F35","v":0},0,0]
[null,null,"Planned renewable generation"]
[null,null,"Potential Utility-Scale Renewable Energy Projects"]
[null,null,"How much installed capacity from RE is expected to come online in the next 3 years?",null,{"$f":"G74","v":"2MW"},{"$f":"F39","v":0},{"$f":"G39","v":"2MW"}]
[null,null,"How much renewable energy generation is expected to come online in the next 3 years?",null,{"$f":"G75","v":"0.8MW"},{"$f":"F40","v":0},{"$f":"G40","v":"0.8MW"}]
[null,null,"Please provide as much information as possible for RE projects currently under development in the box below as:\n- Project Name\n- Developer\n- Offtaker\n- Renewable Energy Technology Type\n- Start of Commercial Operation (Year)\n- Estimated Capacity Factor (in %) OR Estimated Annual Production (in MWh)\n- Installed Capacity (MW)\n- Length of PPA ",null,{"$f":"F42","v":0},{"$f":"F42","v":0},{"$f":"G42","v":0}]
[null,null,"Electric Mobility"]
[null,null,"What is the target and target year?",null,{"$f":"F47","v":0},{"$f":"F47","v":0},{"$f":"G47","v":0}]
[null,null,"How many electric cars are currently in your country?",null,{"$f":"F48","v":0},{"$f":"F48","v":0},0]
[null,null,"How many charging stations are in your country?",null,{"$f":"F49","v":0},0,0]
[]
[]
[null,null,"Improvement Year-on-Year"]
[null,null,"Enabling environment for renewable energy investments","Change",{"$f":"IF(ISERR(E91-E90),\"\",E91-E90)","v":0.46875}]
[null,null,"2012 Score","0 to 5",0]
[null,null,"2013 Score","0 to 5",0]
[null,null,"2014 Score","0 to 5",0]
[null,null,"2015 Score","0 to 5",0]
[null,null,"2016 Score","0 to 5",0]
[null,null,"2017 Score","0 to 5",2.5]
[null,null,"2018 Score","0 to 5",{"$f":"VLOOKUP(C84,'RE Index | Ranking inputs'!$D$8:$AM$44,MATCH($B$1,'RE Index | Ranking inputs'!$D$5:$AM$5,0),0)","v":2.96875}]
[null,null,"Existing renewable generation","Change",{"$f":"IF(ISERR(E99-E98),\"\",E99-E98)","v":-0.41490985601671015}]
[null,null,"2012 Score","0 to 5",0]
[null,null,"2013 Score","0 to 5",2.4419620253164558]
[null,null,"2014 Score","0 to 5",2.738240638253183]
[null,null,"2015 Score","0 to 5",2.4644165744278648]
[null,null,"2016 Score","0 to 5",2.4669115111367259]
[null,null,"2017 Score","0 to 5",2.5862229602367246]
[null,null,"2018 Score","0 to 5",{"$f":"VLOOKUP(C92,'RE Index | Ranking inputs'!$D$8:$AM$44,MATCH($B$1,'RE Index | Ranking inputs'!$D$5:$AM$5,0),0)","v":2.1713131042200144}]
[null,null,"Planned renewable generation","Change",{"$f":"IF(ISERR(E107-E106),\"\",E107-E106)","v":0.55689875555555557}]
[null,null,"2012 Score","0 to 5",0]
[null,null,"2013 Score","0 to 5",0]
[null,null,"2014 Score","0 to 5",0.28764751302750186]
[null,null,"2015 Score","0 to 5",0]
[null,null,"2016 Score","0 to 5",0]
[null,null,"2017 Score","0 to 5",0]
[null,null,"2018 Score","0 to 5",{"$f":"VLOOKUP(C100,'RE Index | Ranking inputs'!$D$8:$AM$44,MATCH($B$1,'RE Index | Ranking inputs'!$D$5:$AM$5,0),0)","v":0.55689875555555557}]
[null,null,"Electric Mobility","Change","N/A"]
[null,null,"2018 Score","0 to 5",{"$f":"VLOOKUP(C108,'RE Index | Ranking inputs'!$D$8:$AM$44,MATCH($B$1,'RE Index | Ranking inputs'!$D$5:$AM$5,0),0)","v":0}]
[null,null,"Overall Score Year-on-Year","Change",{"$f":"E123-E121","v":1.3680904520429582E-2}]
[null,null,"2012 Overall Score",null,0]
[null,null,"2012 Rank",null,22]
[null,null,"2013 Overall Score",null,0.81398734177215193]
[null,null,"2013 Rank",null,20]
[null,null,"2014 Overall Score",null,1.0086293837602283]
[null,null,"2014 Rank",null,16]
[null,null,"2015 Overall Score",null,0.82147219147595485]
[null,null,"2015 Rank",null,22]
[null,null,"2016 Overall Score",null,0.8223038370455753]
[null,null,"2016 Rank",null,22]
[null,null,"2017 Overall Score",null,1.6954076534122415]
[null,null,"2017 Rank",null,12]
[null,null,"2018 Overall Score",null,{"$f":"VLOOKUP(C123,'RE Index | Ranking inputs'!$D$8:$AM$125,MATCH($B$1,'RE Index | Ranking inputs'!$D$5:$AM$5,0),0)","v":1.7090885579326711}]
[null,null,"2018 Rank",null,{"$f":"VLOOKUP(C124,'RE Index | Ranking inputs'!$D$8:$AM$125,MATCH($B$1,'RE Index | Ranking inputs'!$D$5:$AM$5,0),0)","v":9}]

{"sheet":"Trinidad_Tobago","index":25,"n_rows":124,"n_cols":8,"rows_kept":124,"cut":false,"hidden":false,"merged":[[125,2,125,4],[73,2,73,3],[77,2,77,3],[78,2,78,3],[79,2,79,3],[82,2,82,3],[69,2,69,3],[46,2,46,3],[47,2,47,3],[48,2,48,3],[51,2,51,3],[58,2,58,3],[60,2,60,3],[62,2,62,3],[63,2,63,3],[64,2,64,3],[67,2,67,3],[68,2,68,3],[23,2,23,3],[28,2,28,3],[33,2,33,3],[0,1,0,4],[4,2,4,3],[11,2,11,3],[12,2,12,3],[13,2,13,3],[14,2,14,3],[1,2,1,4]]}
[null,"Trinidad & Tobago"]
[null,null,"Overall Indicator",null,null,"RIC - Single submission on behalf of Rishi Maharaj","T&TEC - Wendell Mayers","T&TEC - Kenrick Bobb"]
[1,null,"Enabling Environment for Renewable Energy (RE) Investments",null,"Consolidated Survey Response","Respondent 43","Respondent 50","Respondent 51"]
[null,null,"Government - Renewable Energy Strategy",null,"Y/N"]
[null,1,"Does your country have a strategic plan to develop renewble energy?"]
[null,null,"Which of the following renewable generation options is includd in you country's strategic plan to develop renewable energy?",null,{"$f":"IF(B6<>0,IF(ISBLANK(F6),\"NA\",F6),\" \")","v":" "},"Solar PV, Onshore wind, WTE","Solar PV, Onshore wind","Solar PV, Onshore wind, WTE"]
[null,2,"Does your country have a specific target for renewable energy?",null,"Yes","Yes","Yes","Yes"]
[null,null,"If yes, what is the target and target year?",null," ","10% of electricity generation by 2021.","10% Renewable Energy Generation by 2021","10% of our Energy mix must be via Renewable Energy Sources"]
[null,null,"What is the current breakdown of your country's energy mix?",null," ","100% electricity generation from fossil fuels (natural gas)","100% Natural Gas","Natural Gas"]
[null,3,"Does your country have an Integrated Resource Plan (IRP) that was produced within the last three years?",null,"No","No","No","No"]
[null,null,"Utilities",null,"Y/N"]
[null,1,"When planning generation expansion, does the utility consider RE options?",null,"Yes","See email from Rishi Marahaj","Yes","Yes"]
[null,2,"Can the utility safely recover RE investments through tariffs like it can recover fossil fuel costs?",null,{"$f":"IF(B13<>0,IF(ISBLANK(H13),\"NA\",H13),\" \")","v":"No"},"Yes","No","No"]
[null,3,"Are there clear, specific planning and permitting processes and rules in place for developing RE?",null,"No","No","Yes","No"]
[null,null,"On average, how long does it take for the power utility to get investments in RE projects approved by the regulatory authority (or relevant entity) fror recovery through tariffs?",null," ","There have been no major RE projects that have been started by the utility, therefore, this has not been considered. Notwithstanding, approval by the regulator, of investment in RE or any traditional capital projects, take place during a Price Review. This is statutorily set to happen every 5 years."]
[null,null,"IPPs",null,"Y/N"]
[null,1,"Can the utility safely recover purchases of RE from third parties, just as it recovers fossil fuel costs?",null,"No","No"]
[null,null,"How long did it take to get your off-take agreement?",null," ","There is no arrangement for purchase of RE by the utility at this time, therefore, this is not applicable."]
[null,2,"Are there workable precedents or rules for PPA terms and grid operation rules?",null,"No","No"]
[null,3,"Are there clear and effective licensing processes and requirements in place for IPPs?",null,"No","No"]
[null,4,"Does the utility have an obligation to purchase from IPPs when it is cheaper than generating the power itself?",null,"No","No"]
[null,5,"Does the PPA have any take-or-pay arrangements?",null,"No","See email from Rishi Marahaj"]
[null,null,"Distributed generation",null,"Y/N"]
[null,1,"Do you have a registry or database of distributed generation?",null,{"$f":"IF(B24<>0,IF(ISBLANK(F24),\"NA\",F24),\" \")","v":"No"},"No"]
[null,null,"What was the number of existing distributed scale RE systems in 2018?",null," ",0]
[null,null,"Is there an aggregate maximum capacity for distributed generation?",null," ","No"]
[null,null,"What is the total installed capacity from renewable distributed generation in your country?",null," ",0]
[null,null,"What was the total generation from existing distributed scale RE systems in 2018?",null," ",0]
[null,2,"Is there a standard arrangement in place for customers to sell electricity to the utility at a reasonable price, for a reasonable timeframe, and with a clear interconnection agreement?",null,"No","No"]
[]
[2,null,"Existing renewable generation"]
[null,null,"What is the number of existing Utility-Scale RE projects?",null,{"$f":"IF(B32<>0,IF(ISBLANK(F32),\"NA\",F32),\" \")","v":" "},0]
[null,1,"What was the total electricity generated in 2018? (MWh)",null,8463413,8463413]
[null,1,"What was the total electricity generated from Utility Scale RE projects in 2018? (MWh) ",null,0,0]
[null,null,"Please provide as much information as possible for exisitng RE projects in the box below as:\n- Project Name\n- Developer\n- Offtaker\n- Renewable Energy Technology Type\n- Start of Commercial Operation (Year)\n- Estimated Capacity Factor (in %) OR Estimated Annual Production (in MWh)\n- Installed Capacity (MW)\n- Length of PPA ",null," "]
[]
[3,null,"Planned Utility-Scale Renewable Energy Projects"]
[null,1,"Does your country have an estimate of planned installed capacity expected to come online from-utility scale RE projects?",null,{"$f":"IF(B38<>0,IF(ISBLANK(F38),\"NA\",F38),\" \")","v":"Yes"},"Yes"]
[null,null,"How much installed capacity from RE is expected to come online in the next 3 years?",null," ","130MW"]
[null,2,"How much renewable energy generation is expected to come online in the next 3 years?",null,"NA","Unkown at this time"]
[null,3,"Is climate resilience incorporated in your IRP or national policy?",null,"No","No"]
[null,null,"Please provide as much information as possible for RE projects currently under development in the box below as:\n- Project Name\n- Developer\n- Offtaker\n- Renewable Energy Technology Type\n- Start of Commercial Operation (Year)\n- Estimated Capacity Factor (in %) OR Estimated Annual Production (in MWh)\n- Installed Capacity (MW)\n- Length of PPA ",null," ","None currently exists"]
[]
[4,null,"Electric Mobility"]
[null,1,"Does your country have policies in place or draft legislation to promote the uptake of electric mobility?",null,{"$f":"IF(B45<>0,IF(ISBLANK(F45),\"NA\",F45),\" \")","v":"No"},"No"]
[null,2,"Does your country have specific targets for the uptake of electric vehicles?",null,"No","No"]
[null,null,"What is the target and target year?",null," "]
[null,null,"How many electric cars are currently in your country?",null," ","<50"]
[null,null,"How many charging stations are in your country?",null," ","<5"]
[]
[]
[null,null,"Descriptive CREF Index Survey"]
[null,null,"Enabling Environment for Renewable Energy (RE) Investments"]
[null,null,"Renewable energy strategy"]
[null,null,"Which of the rollowing renewable generation options is included in your country's strategic plan to develop renewable energy?\n- Solar PV\n- Offshore wind\n- Biomass\n- Waste to energy\n- Hydro\n-Geothermal\n- Other",null,{"$f":"F55","v":"Solar PV, Onshore wind, WTE"},{"$f":"F6","v":"Solar PV, Onshore wind, WTE"},{"$f":"G6","v":"Solar PV, Onshore wind"}]
[null,null,"What is the target and target year?",null,{"$f":"F56","v":"10% of electricity generation by 2021."},{"$f":"F8","v":"10% of electricity generation by 2021."},{"$f":"G8","v":"10% Renewable Energy Generation by 2021"}]
[null,null,"What is the current breakdown of your country's energy mix?",null,{"$f":"F57","v":"100% electricity generation from fossil fuels (natural gas)"},{"$f":"F9","v":"100% electricity generation from fossil fuels (natural gas)"},{"$f":"G9","v":"100% Natural Gas"}]
[null,null,"Utilities"]
[null,null,"On average, how long does it take for the power utility to get investments in RE projects approved by the regulatory authority 9or the relevant entity) for recovery through tariffs?",null,{"$f":"F59","v":"There have been no major RE projects that have been started by the utility, therefore, this has not been considered. Notwithstanding, approval by the regulator, of investment in RE or any traditional capital projects, take place during a Price Review. This is statutorily set to happen every 5 years."},{"$f":"F15","v":"There have been no major RE projects that have been started by the utility, therefore, this has not been considered. Notwithstanding, approval by the regulator, of investment in RE or any traditional capital projects, take place during a Price Review. This is statutorily set to happen every 5 years."},{"$f":"G15","v":0}]
[null,null,"IPPs"]
[null,null,"How long did it take to get your off-take agreement?",null,{"$f":"F61","v":"There is no arrangement for purchase of RE by the utility at this time, therefore, this is not applicable."},{"$f":"F18","v":"There is no arrangement for purchase of RE by the utility at this time, therefore, this is not applicable."},{"$f":"G18","v":0}]
[null,null,"Distributed Generation"]
[null,null,"What is the number of exisiting distributed scale RE systems in 2018?",null,{"$f":"E25","v":" "},{"$f":"F25","v":0},{"$f":"G25","v":0}]
[null,null,"What is the total installed capacity from renewable distributed generation in your country?",null,{"$f":"E27","v":" "},0,0]
[null,null,"What was the total generation from exisitng distributed scale RE systems in 2018?",null," ",0,0]
[null,null,"Existing renewable generation"]
[null,null,"Existing Utility-Scale Renewable Energy Projects"]
[null,null,"What is the number of existing utility-scale RE projects?",null,{"$f":"E32","v":" "},0,0]
[null,null,"What was the total electricity generated in 2018 (MWh)?",null,8463413,8463413,0]
[null,null,"What was the total electricity generated from utility-scale RE projects in 2018 (MWh)?",null,0,0,0]
[null,null,"Please provide as much information as possible for exisitng RE projects in the box below as:\n- Project Name\n- Developer\n- Offtaker\n- Renewable Energy Technology Type\n- Start of Commercial Operation (Year)\n- Estimated Capacity Factor (in %) OR Estimated Annual Production (in MWh)\n- Installed Capacity (MW)\n- Length of PPA ",null," ",0,0]
[null,null,"Planned renewable generation"]
[null,null,"Potential Utility-Scale Renewable Energy Projects"]
[null,null,"How much installed capacity from RE is expected to come online in the next 3 years?",null,{"$f":"F74","v":"130MW"},{"$f":"F39","v":"130MW"},{"$f":"G39","v":0}]
[null,null,"How much renewable energy generation is expected to come online in the next 3 years?",null,{"$f":"F75","v":"Unkown at this time"},{"$f":"F40","v":"Unkown at this time"},{"$f":"G40","v":0}]
[null,null,"Please provide as much information as possible for RE projects currently under development in the box below as:\n- Project Name\n- Developer\n- Offtaker\n- Renewable Energy Technology Type\n- Start of Commercial Operation (Year)\n- Estimated Capacity Factor (in %) OR Estimated Annual Production (in MWh)\n- Installed Capacity (MW)\n- Length of PPA ",null,{"$f":"F76","v":"None currently exists"},{"$f":"F42","v":"None currently exists"},{"$f":"G42","v":0}]
[null,null,"Electric Mobility"]
[null,null,"What is the target and target year?",null,{"$f":"E47","v":" "},{"$f":"F47","v":0},{"$f":"G47","v":0}]
[null,null,"How many electric cars are currently in your country?",null,{"$f":"F79","v":"<50"},{"$f":"F48","v":"<50"},0]
[null,null,"How many charging stations are in your country?",null,{"$f":"F80","v":"<5"},"<5",0]
[]
[]
[null,null,"Improvement Year-on-Year"]
[null,null,"Enabling environment for renewable energy investments","Change",{"$f":"IF(ISERR(E91-E90),\"\",E91-E90)","v":-1.328125}]
[null,null,"2012 Score","0 to 5",2.33]
[null,null,"2013 Score","0 to 5",2.3333333333333335]
[null,null,"2014 Score","0 to 5",2.333333333333333]
[null,null,"2015 Score","0 to 5",3]
[null,null,"2016 Score","0 to 5",1.3333333333333333]
[null,null,"2017 Score","0 to 5",1.5625]
[null,null,"2018 Score","0 to 5",{"$f":"'RE Index | Ranking inputs'!AK8","v":0.234375}]
[null,null,"Existing renewable generation","Change",{"$f":"IF(ISERR(E99-E98),\"\",E99-E98)","v":-0.25}]
[null,null,"2012 Score","0 to 5",0]
[null,null,"2013 Score","0 to 5",3.5961909145832739E-6]
[null,null,"2014 Score","0 to 5",2.5210465116279066E-5]
[null,null,"2015 Score","0 to 5",4.7970154650648241E-5]
[null,null,"2016 Score","0 to 5",0]
[null,null,"2017 Score","0 to 5",0.25]
[null,null,"2018 Score","0 to 5",{"$f":"'RE Index | Ranking inputs'!AK26","v":0}]
[null,null,"Planned renewable generation","Change",{"$f":"'RE Index | Ranking inputs'!AK34","v":0.55555555555555558}]
[null,null,"2012 Score","0 to 5",0]
[null,null,"2013 Score","0 to 5",0]
[null,null,"2014 Score","0 to 5",0]
[null,null,"2015 Score","0 to 5",0]
[null,null,"2016 Score","0 to 5",0]
[null,null,"2017 Score","0 to 5",0.10000000000000003]
[null,null,"2018 Score","0 to 5",{"$f":"'RE Index | Ranking inputs'!AK34","v":0.55555555555555558}]
[null,null,"Electric Mobility","Change","N/A"]
[null,null,"2018 Score","0 to 5",{"$f":"'RE Index | Ranking inputs'!AK42","v":0}]
[null,null,"Overall Score Year-on-Year","Change",{"$f":"E123-E121","v":-0.40052083333333333}]
[null,null,"2012 Overall Score",null,0.76890000000000003]
[null,null,"2012 Rank",null,16]
[null,null,"2013 Overall Score",null,0.7777789765080827]
[null,null,"2013 Rank",null,23]
[null,null,"2014 Overall Score",null,0.77778618126614973]
[null,null,"2014 Rank",null,23]
[null,null,"2015 Overall Score",null,1.0000159900515502]
[null,null,"2015 Rank",null,17]
[null,null,"2016 Overall Score",null,0.44444444444444442]
[null,null,"2016 Rank",null,25]
[null,null,"2017 Overall Score",null,0.63749999999999996]
[null,null,"2017 Rank",null,25]
[null,null,"2018 Overall Score",null,{"$f":"'RE Index | Ranking inputs'!AK6","v":0.23697916666666666}]
[null,null,"2018 Rank",null,{"$f":"'RE Index | Ranking inputs'!AK123","v":24}]

{"sheet":"2019 Response Template","index":26,"n_rows":120,"n_cols":7,"rows_kept":120,"cut":false,"hidden":true,"merged":[[73,4,73,5],[77,4,77,5],[78,4,78,5],[79,4,79,5],[82,4,82,5],[58,4,58,5],[60,4,60,5],[1,4,1,5],[69,4,69,5],[62,4,62,5],[63,4,63,5],[64,4,64,5],[67,4,67,5],[68,4,68,5],[0,3,0,6],[1,8,1,14],[28,4,28,5],[51,4,51,5],[4,4,4,5],[13,4,13,5],[12,4,12,5],[11,4,11,5],[14,4,14,5],[46,4,46,5],[47,4,47,5],[48,4,48,5],[16,7,21,7],[23,4,23,5],[33,4,33,5]]}
[]
[null,null,null,null,"Overall Indicator"]
[null,null,1,null,"Enabling Environment for Renewable Energy (RE) Investments"]
[null,null,null,null,"Government - Renewable Energy Strategy",null,"Y/N"]
[null,null,null,1,"Does your country have a strategic plan to develop renewble energy?",null,"Y if check any of the boxes"]
[null,null,null,null,"Which of the following renewable generation options is includd in you country's strategic plan to develop renewable energy?"]
[null,4,null,2,"Does your country have a specific target for renewable energy?"]
[null,null,null,null,"If yes, what is the target and target year?"]
[null,null,null,null,"What is the current breakdown of your country's energy mix?"]
[null,5,null,3,"Does your country have an Integrated Resource Plan (IRP) that was produced within the last three years?"]
[null,null,null,null,"Utilities",null,"Y/N"]
[null,6,null,1,"When planning generation expansion, does the utility consider RE options?"]
[null,null,null,2,"Can the utility safely recover RE investments through tariffs like it can recover fossil fuel costs?"]
[null,9,null,3,"Are there clear, specific planning and permitting processes and rules in place for developing RE?"]
[null,null,null,null,"On average, how long does it take for the power utility to get investments in RE projects approved by the regulatory authority (or relevant entity) fror recovery through tariffs?"]
[null,null,null,null,"IPPs",null,"Y/N"]
[null,12,null,1,"Can the utility safely recover purchases of RE from third parties, just as it recovers fossil fuel costs?"]
[null,null,null,null,"How long did it take to get your off-take agreement?"]
[null,14,null,2,"Are there workable precedents or rules for PPA terms and grid operation rules?"]
[null,15,null,3,"Are there clear and effective licensing processes and requirements in place for IPPs?"]
[null,16,null,4,"Does the utility have an obligation to purchase from IPPs when it is cheaper than generating the power itself?"]
[null,17,null,5,"Does the PPA have any take-or-pay arrangements?"]
[null,null,null,null,"Distributed generation",null,"Y/N"]
[null,null,null,1,"Do you have a registry or database of distributed generation?"]
[null,null,null,null,"What was the number of existing distributed scale RE systems in 2018?"]
[null,null,null,null,"Is there an aggregate maximum capacity for distributed generation?"]
[null,null,null,null,"What is the total installed capacity from renewable distributed generation in your country?"]
[null,null,null,null,"What was the total generation from existing distributed scale RE systems in 2018?"]
[null,null,null,2,"Is there a standard arrangement in place for customers to sell electricity to the utility at a reasonable price, for a reasonable timeframe, and with a clear interconnection agreement?"]
[]
[null,null,2,null,"Existing renewable generation"]
[null,24,null,null,"What is the number of existing Utility-Scale RE projects?"]
[null,22,null,null,"What was the total electricity generated in 2018? (MWh)"]
[null,23,null,1,"What was the total electricity generated from Utility Scale RE projects in 2018? (MWh) "]
[null,null,null,null,"Please provide as much information as possible for exisitng RE projects in the box below as:\n- Project Name\n- Developer\n- Offtaker\n- Renewable Energy Technology Type\n- Start of Commercial Operation (Year)\n- Estimated Capacity Factor (in %) OR Estimated Annual Production (in MWh)\n- Installed Capacity (MW)\n- Length of PPA "]
[]
[null,null,3,null,"Planned Utility-Scale Renewable Energy Projects"]
[null,32,null,1,"Does your country have an estimate of planned installed capacity expected to come online from-utility scale RE projects?"]
[null,null,null,null,"How much installed capacity from RE is expected to come online in the next 3 years?"]
[null,null,null,2,"How much renewable energy generation is expected to come online in the next 3 years?"]
[null,null,null,3,"Is climate resilience incorporated in your IRP or national policy?"]
[null,null,null,null,"Please provide as much information as possible for RE projects currently under development in the box below as:\n- Project Name\n- Developer\n- Offtaker\n- Renewable Energy Technology Type\n- Start of Commercial Operation (Year)\n- Estimated Capacity Factor (in %) OR Estimated Annual Production (in MWh)\n- Installed Capacity (MW)\n- Length of PPA "]
[]
[null,null,4,null,"Electric Mobility"]
[null,null,null,1,"Does your country have policies in place or draft legislation to promote the uptake of electric mobility?"]
[null,null,null,2,"Does your country have specific targets for the uptake of electric vehicles?"]
[null,null,null,null,"What is the target and target year?"]
[null,null,null,null,"How many electric cars are currently in your country?"]
[null,null,null,null,"How many charging stations are in your country?"]
[]
[]
[null,null,null,null,"Descriptive CREF Index Survey"]
[null,null,null,null,"Enabling Environment for Renewable Energy (RE) Investments"]
[null,null,null,null,"Renewable energy strategy"]
[null,null,null,null,"Which of the rollowing renewable generation options is included in your country's strategic plan to develop renewable energy?\n- Solar PV\n- Offshore wind\n- Biomass\n- Waste to energy\n- Hydro\n-Geothermal\n- Other",null,{"$f":"G6","v":0}]
[null,null,null,null,"What is the target and target year?",null,{"$f":"G8","v":0}]
[null,null,null,null,"What is the current breakdown of your country's energy mix?",null,{"$f":"G9","v":0}]
[null,null,null,null,"Utilities"]
[null,null,null,null,"On average, how long does it take for the power utility to get investments in RE projects approved by the regulatory authority 9or the relevant entity) for recovery through tariffs?",null,{"$f":"G15","v":0}]
[null,null,null,null,"IPPs"]
[null,null,null,null,"How long did it take to get your off-take agreement?",null,{"$f":"G18","v":0}]
[null,null,null,null,"Distributed Generation"]
[null,null,null,null,"What is the number of exisiting distributed scale RE systems in 2018?",null,{"$f":"G25","v":0}]
[null,null,null,null,"What is the total installed capacity from renewable distributed generation in your country?",null,{"$f":"G27","v":0}]
[null,null,null,null,"What was the total generation from exisitng distributed scale RE systems in 2018?",null,{"$f":"G28","v":0}]
[null,null,null,null,"Existing renewable generation"]
[null,null,null,null,"Existing Utility-Scale Renewable Energy Projects"]
[null,null,null,null,"What is the number of existing utility-scale RE projects?",null,{"$f":"G32","v":0}]
[null,null,null,null,"What was the total electricity generated in 2018 (MWh)?",null,{"$f":"G33","v":0}]
[null,null,null,null,"What was the total electricity generated from utility-scale RE projects in 2018 (MWh)?",null,{"$f":"G34","v":0}]
[null,27,null,null,"Please provide as much information as possible for exisitng RE projects in the box below as:\n- Project Name\n- Developer\n- Offtaker\n- Renewable Energy Technology Type\n- Start of Commercial Operation (Year)\n- Estimated Capacity Factor (in %) OR Estimated Annual Production (in MWh)\n- Installed Capacity (MW)\n- Length of PPA ",null,{"$f":"G35","v":0}]
[null,null,null,null,"Planned renewable generation"]
[null,null,null,null,"Potential Utility-Scale Renewable Energy Projects"]
[null,null,null,null,"How much installed capacity from RE is expected to come online in the next 3 years?",null,{"$f":"G39","v":0}]
[null,null,null,null,"How much renewable energy generation is expected to come online in the next 3 years?",null,{"$f":"G40","v":0}]
[null,35,null,null,"Please provide as much information as possible for RE projects currently under development in the box below as:\n- Project Name\n- Developer\n- Offtaker\n- Renewable Energy Technology Type\n- Start of Commercial Operation (Year)\n- Estimated Capacity Factor (in %) OR Estimated Annual Production (in MWh)\n- Installed Capacity (MW)\n- Length of PPA ",null,{"$f":"G42","v":0}]
[null,null,null,null,"Electric Mobility"]
[null,null,null,null,"What is the target and target year?",null,{"$f":"G47","v":0}]
[null,null,null,null,"How many electric cars are currently in your country?",null,{"$f":"G48","v":0}]
[null,null,null,null,"How many charging stations are in your country?",null,0]
[]
[]
[null,null,null,null,"Improvement Year-on-Year"]
[null,null,null,null,"Enabling environment for renewable energy investments","Change",{"$f":"IF(ISERR(G90-G89),\"\",G90-G89)","v":""}]
[null,null,null,null,"2012 Score","0 to 5",2.3333333333333335]
[null,null,null,null,"2013 Score","0 to 5",2.3333333333333335]
[null,null,null,null,"2014 Score","0 to 5",2.3333333333333335]
[null,null,null,null,"2015 Score","0 to 5",2.3333333333333335]
[null,null,null,null,"2016 Score","0 to 5",1.3333333333333333]
[null,null,null,null,"2017 Score","0 to 5",{"$f":"#REF!","v":{"$error":"#REF!"}}]
[null,null,null,null,"Existing renewable generation","Change",{"$f":"IF(ISERR(G97-G96),\"\",G97-G96)","v":""}]
[null,null,null,null,"2012 Score","0 to 5",0.01]
[null,null,null,null,"2013 Score","0 to 5",0]
[null,null,null,null,"2014 Score","0 to 5",8.4686434362367599E-2]
[null,null,null,null,"2015 Score","0 to 5",6.7815814156560753E-2]
[null,null,null,null,"2016 Score","0 to 5",{"$f":"#REF!","v":{"$error":"#REF!"}}]
[null,null,null,null,"2017 Score","0 to 5",{"$f":"#REF!","v":{"$error":"#REF!"}}]
[null,null,null,null,"2013 Old Method Score","0 to 5"]
[null,null,null,null,"Planned renewable generation","Change",{"$f":"IF(ISERR(G105-G104),\"\",G105-G104)","v":""}]
[null,null,null,null,"2012 Score","0 to 5",0.26]
[null,null,null,null,"2013 Score","0 to 5",6.3811188811188815E-2]
[null,null,null,null,"2014 Score","0 to 5",0.17561119865884323]
[null,null,null,null,"2015 Score","0 to 5",0.24491375533524537]
[null,null,null,null,"2016 Score","0 to 5",0]
[null,null,null,null,"2017 Score","0 to 5",{"$f":"#REF!","v":{"$error":"#REF!"}}]
[null,null,null,null,"2013 Old Method Score","0 to 5"]
[null,null,null,null,"Overall Score Year-on-Year"]
[null,null,null,null,"2012 Overall Score",null,{"$f":" (1/3) * G85 + (1/3) * G92 + (1/3) * G100","v":0.86777777777777776}]
[null,null,null,null,"2012 Rank"]
[null,null,null,null,"2013 Overall Score",null,{"$f":" (1/3) * G86 + (1/3) * G93 + (1/3) * G101","v":0.79904817404817408}]
[null,null,null,null,"2013 Rank"]
[null,null,null,null,"2014 Overall Score",null,{"$f":" (1/3) * G87 + (1/3) * G94 + (1/3) * G102","v":0.86454365545151468}]
[null,null,null,null,"2014 Rank"]
[null,null,null,null,"2015 Overall Score",null,{"$f":" (1/3) * G88 + (1/3) * G95 + (1/3) * G103","v":0.88202096760837989}]
[null,null,null,null,"2015 Rank"]
[null,null,null,null,"2016 Overall Score",null,{"$f":" (1/3) * G89 + (1/3) * G96 + (1/3) * G104","v":{"$error":"#REF!"}}]
[null,null,null,null,"2016 Rank"]
[null,null,null,null,"2017 Overall Score",null,{"$f":" (1/3) * G90 + (1/3) * G97 + (1/3) * G105","v":{"$error":"#REF!"}}]
[null,null,null,null,"2017 Rank"]
[null,null,null,null,"Rank change from 2017 to 2016"]

{"sheet":"USVI","index":27,"n_rows":124,"n_cols":6,"rows_kept":124,"cut":false,"hidden":false,"merged":[[73,2,73,3],[77,2,77,3],[78,2,78,3],[79,2,79,3],[82,2,82,3],[69,2,69,3],[46,2,46,3],[47,2,47,3],[48,2,48,3],[51,2,51,3],[58,2,58,3],[60,2,60,3],[62,2,62,3],[63,2,63,3],[64,2,64,3],[67,2,67,3],[68,2,68,3],[33,2,33,3],[0,1,0,4],[1,2,1,3],[1,6,1,12],[4,2,4,3],[11,2,11,3],[12,2,12,3],[13,2,13,3],[14,2,14,3],[23,2,23,3],[28,2,28,3]]}
[null,"US Vigin Islands"]
[null,null,"Overall Indicator"]
[1,null,"Enabling Environment for Renewable Energy (RE) Investments",null,"Consolidated Survey Response","Lawrence Kupfer - VIWPA"]
[null,null,"Government - Renewable Energy Strategy",null,"Y/N"]
[null,1,"Does your country have a strategic plan to develop renewble energy?"]
[null,null,"Which of the following renewable generation options is includd in you country's strategic plan to develop renewable energy?",null,{"$f":"IF(B6<>0,IF(ISBLANK(F6),\"NA\",F6),\" \")","v":" "},"Solar PV, onshore wind, WTE"]
[null,2,"Does your country have a specific target for renewable energy?",null,{"$f":"IF(B7<>0,IF(ISBLANK(F7),\"NA\",F7),\" \")","v":"Yes"},"Yes"]
[null,null,"If yes, what is the target and target year?",null," ","Installed capacity of 50% of peak demand by 2025"]
[null,null,"What is the current breakdown of your country's energy mix?",null," ","Utility scale solar 1.5%, customer solar 4%"]
[null,3,"Does your country have an Integrated Resource Plan (IRP) that was produced within the last three years?",null,"Yes","Yes"]
[null,null,"Utilities",null,"Y/N"]
[null,1,"When planning generation expansion, does the utility consider RE options?",null,"Yes","Yes"]
[null,2,"Can the utility safely recover RE investments through tariffs like it can recover fossil fuel costs?",null,"NA"]
[null,3,"Are there clear, specific planning and permitting processes and rules in place for developing RE?",null,"Yes","Yes"]
[null,null,"On average, how long does it take for the power utility to get investments in RE projects approved by the regulatory authority (or relevant entity) fror recovery through tariffs?",null," ","2 years"]
[null,null,"IPPs",null,"Y/N"]
[null,1,"Can the utility safely recover purchases of RE from third parties, just as it recovers fossil fuel costs?",null,"NA"]
[null,null,"How long did it take to get your off-take agreement?",null," "]
[null,2,"Are there workable precedents or rules for PPA terms and grid operation rules?",null,"Yes","Yes"]
[null,3,"Are there clear and effective licensing processes and requirements in place for IPPs?",null,"Yes","Yes"]
[null,4,"Does the utility have an obligation to purchase from IPPs when it is cheaper than generating the power itself?",null,"Yes","Yes"]
[null,5,"Does the PPA have any take-or-pay arrangements?",null,"No","No"]
[null,null,"Distributed generation",null,"Y/N"]
[null,1,"Do you have a registry or database of distributed generation?",null,"NA"]
[null,null,"What was the number of existing distributed scale RE systems in 2018?",null," "]
[null,null,"Is there an aggregate maximum capacity for distributed generation?",null," "]
[null,null,"What is the total installed capacity from renewable distributed generation in your country?",null," "]
[null,null,"What was the total generation from existing distributed scale RE systems in 2018?",null," "]
[null,2,"Is there a standard arrangement in place for customers to sell electricity to the utility at a reasonable price, for a reasonable timeframe, and with a clear interconnection agreement?",null,"NA"]
[]
[2,null,"Existing renewable generation"]
[null,null,"What is the number of existing Utility-Scale RE projects?",null,"NA"]
[null,null,"What was the total electricity generated in 2018? (MWh)",null,"NA"]
[null,1,"What was the total electricity generated from Utility Scale RE projects in 2018? (MWh) ",null,"NA"]
[null,null,"Please provide as much information as possible for exisitng RE projects in the box below as:\n- Project Name\n- Developer\n- Offtaker\n- Renewable Energy Technology Type\n- Start of Commercial Operation (Year)\n- Estimated Capacity Factor (in %) OR Estimated Annual Production (in MWh)\n- Installed Capacity (MW)\n- Length of PPA ",null,"NA"]
[]
[3,null,"Planned Utility-Scale Renewable Energy Projects"]
[null,1,"Does your country have an estimate of planned installed capacity expected to come online from-utility scale RE projects?",null,"NA"]
[null,null,"How much installed capacity from RE is expected to come online in the next 3 years?",null,"NA"]
[null,2,"How much renewable energy generation is expected to come online in the next 3 years?",null,"NA"]
[null,3,"Is climate resilience incorporated in your IRP or national policy?",null,"NA"]
[null,null,"Please provide as much information as possible for RE projects currently under development in the box below as:\n- Project Name\n- Developer\n- Offtaker\n- Renewable Energy Technology Type\n- Start of Commercial Operation (Year)\n- Estimated Capacity Factor (in %) OR Estimated Annual Production (in MWh)\n- Installed Capacity (MW)\n- Length of PPA ",null,"NA"]
[]
[4,null,"Electric Mobility"]
[null,1,"Does your country have policies in place or draft legislation to promote the uptake of electric mobility?",null,"NA"]
[null,2,"Does your country have specific targets for the uptake of electric vehicles?",null,"NA"]
[null,null,"What is the target and target year?",null,"NA"]
[null,null,"How many electric cars are currently in your country?",null,"NA"]
[null,null,"How many charging stations are in your country?",null,"NA"]
[]
[]
[null,null,"Descriptive CREF Index Survey"]
[null,null,"Enabling Environment for Renewable Energy (RE) Investments"]
[null,null,"Renewable energy strategy"]
[null,null,"Which of the rollowing renewable generation options is included in your country's strategic plan to develop renewable energy?\n- Solar PV\n- Offshore wind\n- Biomass\n- Waste to energy\n- Hydro\n-Geothermal\n- Other",null,{"$f":"F55","v":"Solar PV, onshore wind, WTE"},{"$f":"F6","v":"Solar PV, onshore wind, WTE"}]
[null,null,"What is the target and target year?",null,{"$f":"F56","v":"Installed capacity of 50% of peak demand by 2025"},{"$f":"F8","v":"Installed capacity of 50% of peak demand by 2025"}]
[null,null,"What is the current breakdown of your country's energy mix?",null,{"$f":"F57","v":"Utility scale solar 1.5%, customer solar 4%"},{"$f":"F9","v":"Utility scale solar 1.5%, customer solar 4%"}]
[null,null,"Utilities"]
[null,null,"On average, how long does it take for the power utility to get investments in RE projects approved by the regulatory authority 9or the relevant entity) for recovery through tariffs?",null,{"$f":"F59","v":"2 years"},{"$f":"F15","v":"2 years"}]
[null,null,"IPPs"]
[null,null,"How long did it take to get your off-take agreement?",null,{"$f":"E18","v":" "},{"$f":"F18","v":0}]
[null,null,"Distributed Generation"]
[null,null,"What is the number of exisiting distributed scale RE systems in 2018?",null,{"$f":"E25","v":" "},{"$f":"F25","v":0}]
[null,null,"What is the total installed capacity from renewable distributed generation in your country?",null,{"$f":"E27","v":" "},{"$f":"F27","v":0}]
[null,null,"What was the total generation from exisitng distributed scale RE systems in 2018?",null,{"$f":"E28","v":" "},{"$f":"F28","v":0}]
[null,null,"Existing renewable generation"]
[null,null,"Existing Utility-Scale Renewable Energy Projects"]
[null,null,"What is the number of existing utility-scale RE projects?",null,{"$f":"E32","v":"NA"},0]
[null,null,"What was the total electricity generated in 2018 (MWh)?",null,"NA",0]
[null,null,"What was the total electricity generated from utility-scale RE projects in 2018 (MWh)?",null,"NA",0]
[null,null,"Please provide as much information as possible for exisitng RE projects in the box below as:\n- Project Name\n- Developer\n- Offtaker\n- Renewable Energy Technology Type\n- Start of Commercial Operation (Year)\n- Estimated Capacity Factor (in %) OR Estimated Annual Production (in MWh)\n- Installed Capacity (MW)\n- Length of PPA ",null,"NA",0]
[null,null,"Planned renewable generation"]
[null,null,"Potential Utility-Scale Renewable Energy Projects"]
[null,null,"How much installed capacity from RE is expected to come online in the next 3 years?",null,{"$f":"E39","v":"NA"},{"$f":"F39","v":0}]
[null,null,"How much renewable energy generation is expected to come online in the next 3 years?",null,{"$f":"E40","v":"NA"},{"$f":"F40","v":0}]
[null,null,"Please provide as much information as possible for RE projects currently under development in the box below as:\n- Project Name\n- Developer\n- Offtaker\n- Renewable Energy Technology Type\n- Start of Commercial Operation (Year)\n- Estimated Capacity Factor (in %) OR Estimated Annual Production (in MWh)\n- Installed Capacity (MW)\n- Length of PPA ",null,{"$f":"E42","v":"NA"},{"$f":"F42","v":0}]
[null,null,"Electric Mobility"]
[null,null,"What is the target and target year?",null,{"$f":"E47","v":"NA"},{"$f":"F47","v":0}]
[null,null,"How many electric cars are currently in your country?",null,{"$f":"E48","v":"NA"},0]
[null,null,"How many charging stations are in your country?",null,"NA",0]
[]
[]
[null,null,"Improvement Year-on-Year"]
[null,null,"Enabling environment for renewable energy investments","Change",{"$f":"IF(ISERR(E91-E90),\"\",E91-E90)","v":-2.953125}]
[null,null,"2012 Score","0 to 5","NA"]
[null,null,"2013 Score","0 to 5","NA"]
[null,null,"2014 Score","0 to 5",2]
[null,null,"2015 Score","0 to 5",2]
[null,null,"2016 Score","0 to 5",3.6666666666666665]
[null,null,"2017 Score","0 to 5",5]
[null,null,"2018 Score","0 to 5",{"$f":"'RE Index | Ranking inputs'!AM8","v":2.046875}]
[null,null,"Existing renewable generation","Change",{"$f":"IF(ISERR(E99-E98),\"\",E99-E98)","v":-0.18787610329561305}]
[null,null,"2012 Score","0 to 5","NA"]
[null,null,"2013 Score","0 to 5","NA"]
[null,null,"2014 Score","0 to 5",0.19231225176823699]
[null,null,"2015 Score","0 to 5",0.16795613663836267]
[null,null,"2016 Score","0 to 5",0.22608807722185753]
[null,null,"2017 Score","0 to 5",0.30203541465819289]
[null,null,"2018 Score","0 to 5",{"$f":"'RE Index | Ranking inputs'!AM26","v":0.11415931136257983}]
[null,null,"Planned renewable generation","Change",{"$f":"IF(ISERR(E107-E106),\"\",E107-E106)","v":-0.18247050858456812}]
[null,null,"2012 Score","0 to 5","NA"]
[null,null,"2013 Score","0 to 5","NA"]
[null,null,"2014 Score","0 to 5",0.43940046720090742]
[null,null,"2015 Score","0 to 5",0.16824068614145271]
[null,null,"2016 Score","0 to 5",0]
[null,null,"2017 Score","0 to 5",0.23485462549568359]
[null,null,"2018 Score","0 to 5",{"$f":"'RE Index | Ranking inputs'!AM34","v":5.2384116911115476E-2}]
[null,null,"Electric Mobility","Change","N/A"]
[null,null,"2018 Score","0 to 5",{"$f":"'RE Index | Ranking inputs'!AM42","v":0}]
[null,null,"Overall Score Year-on-Year","Change",{"$f":"E123-E121","v":-1.1816044849025169}]
[null,null,"2012 Overall Score",null,0]
[null,null,"2012 Rank",null,22]
[null,null,"2013 Overall Score"]
[null,null,"2013 Rank",null,31]
[null,null,"2014 Overall Score",null,0.87723757298971483]
[null,null,"2014 Rank",null,18]
[null,null,"2015 Overall Score",null,0.77873227425993841]
[null,null,"2015 Rank",null,24]
[null,null,"2016 Overall Score",null,1.297584914629508]
[null,null,"2016 Rank",null,15]
[null,null,"2017 Overall Score",null,1.8456300133846253]
[null,null,"2017 Rank",null,8]
[null,null,"2018 Overall Score",null,{"$f":"'RE Index | Ranking inputs'!AM6","v":0.6640255284821085}]
[null,null,"2018 Rank",null,{"$f":"'RE Index | Ranking inputs'!AM7","v":20}]

{"sheet":"Anguilla","index":28,"n_rows":124,"n_cols":5,"rows_kept":124,"cut":false,"hidden":true,"merged":[[73,2,73,3],[77,2,77,3],[78,2,78,3],[79,2,79,3],[82,2,82,3],[69,2,69,3],[46,2,46,3],[47,2,47,3],[48,2,48,3],[51,2,51,3],[58,2,58,3],[60,2,60,3],[62,2,62,3],[63,2,63,3],[64,2,64,3],[67,2,67,3],[68,2,68,3],[33,2,33,3],[0,1,0,4],[1,2,1,3],[1,6,1,12],[4,2,4,3],[11,2,11,3],[12,2,12,3],[13,2,13,3],[14,2,14,3],[16,5,21,5],[23,2,23,3],[28,2,28,3]]}
[null,"Anguilla"]
[null,null,"Overall Indicator",null,"Excluded from RE Index - insufficient data"]
[1,null,"Enabling Environment for Renewable Energy (RE) Investments",null,"Consolidated Survey Response"]
[null,null,"Government - Renewable Energy Strategy",null,"Y/N"]
[null,1,"Does your country have a strategic plan to develop renewble energy?"]
[null,null,"Which of the following renewable generation options is includd in you country's strategic plan to develop renewable energy?",null,"NA"]
[null,2,"Does your country have a specific target for renewable energy?",null,"NA"]
[null,null,"If yes, what is the target and target year?",null,"NA"]
[null,null,"What is the current breakdown of your country's energy mix?",null,"NA"]
[null,3,"Does your country have an Integrated Resource Plan (IRP) that was produced within the last three years?",null,"NA"]
[null,null,"Utilities",null,"Y/N"]
[null,1,"When planning generation expansion, does the utility consider RE options?",null,"NA"]
[null,2,"Can the utility safely recover RE investments through tariffs like it can recover fossil fuel costs?",null,"NA"]
[null,3,"Are there clear, specific planning and permitting processes and rules in place for developing RE?",null,"NA"]
[null,null,"On average, how long does it take for the power utility to get investments in RE projects approved by the regulatory authority (or relevant entity) fror recovery through tariffs?",null,"NA"]
[null,null,"IPPs",null,"Y/N"]
[null,1,"Can the utility safely recover purchases of RE from third parties, just as it recovers fossil fuel costs?",null,"NA"]
[null,null,"How long did it take to get your off-take agreement?",null,"NA"]
[null,2,"Are there workable precedents or rules for PPA terms and grid operation rules?",null,"NA"]
[null,3,"Are there clear and effective licensing processes and requirements in place for IPPs?",null,"NA"]
[null,4,"Does the utility have an obligation to purchase from IPPs when it is cheaper than generating the power itself?",null,"NA"]
[null,5,"Does the PPA have any take-or-pay arrangements?",null,"NA"]
[null,null,"Distributed generation",null,"Y/N"]
[null,1,"Do you have a registry or database of distributed generation?",null,"NA"]
[null,null,"What was the number of existing distributed scale RE systems in 2018?",null,"NA"]
[null,null,"Is there an aggregate maximum capacity for distributed generation?",null,"NA"]
[null,null,"What is the total installed capacity from renewable distributed generation in your country?",null,"NA"]
[null,null,"What was the total generation from existing distributed scale RE systems in 2018?",null,"NA"]
[null,2,"Is there a standard arrangement in place for customers to sell electricity to the utility at a reasonable price, for a reasonable timeframe, and with a clear interconnection agreement?",null,"NA"]
[]
[2,null,"Existing renewable generation"]
[null,null,"What is the number of existing Utility-Scale RE projects?",null,"NA"]
[null,1,"What was the total electricity generated in 2018? (MWh)",null,"NA"]
[null,1,"What was the total electricity generated from Utility Scale RE projects in 2018? (MWh) ",null,"NA"]
[null,null,"Please provide as much information as possible for exisitng RE projects in the box below as:\n- Project Name\n- Developer\n- Offtaker\n- Renewable Energy Technology Type\n- Start of Commercial Operation (Year)\n- Estimated Capacity Factor (in %) OR Estimated Annual Production (in MWh)\n- Installed Capacity (MW)\n- Length of PPA ",null,"NA"]
[]
[3,null,"Planned Utility-Scale Renewable Energy Projects"]
[null,1,"Does your country have an estimate of planned installed capacity expected to come online from-utility scale RE projects?",null,"NA"]
[null,null,"How much installed capacity from RE is expected to come online in the next 3 years?",null,"NA"]
[null,2,"How much renewable energy generation is expected to come online in the next 3 years?",null,"NA"]
[null,3,"Is climate resilience incorporated in your IRP or national policy?",null,"NA"]
[null,null,"Please provide as much information as possible for RE projects currently under development in the box below as:\n- Project Name\n- Developer\n- Offtaker\n- Renewable Energy Technology Type\n- Start of Commercial Operation (Year)\n- Estimated Capacity Factor (in %) OR Estimated Annual Production (in MWh)\n- Installed Capacity (MW)\n- Length of PPA ",null,"NA"]
[]
[4,null,"Electric Mobility"]
[null,1,"Does your country have policies in place or draft legislation to promote the uptake of electric mobility?",null,"NA"]
[null,2,"Does your country have specific targets for the uptake of electric vehicles?",null,"NA"]
[null,null,"What is the target and target year?",null,"NA"]
[null,null,"How many electric cars are currently in your country?",null,"NA"]
[null,null,"How many charging stations are in your country?",null,"NA"]
[]
[]
[null,null,"Descriptive CREF Index Survey"]
[null,null,"Enabling Environment for Renewable Energy (RE) Investments"]
[null,null,"Renewable energy strategy"]
[null,null,"Which of the rollowing renewable generation options is included in your country's strategic plan to develop renewable energy?\n- Solar PV\n- Offshore wind\n- Biomass\n- Waste to energy\n- Hydro\n-Geothermal\n- Other",null,{"$f":"E6","v":"NA"}]
[null,null,"What is the target and target year?",null,{"$f":"E8","v":"NA"}]
[null,null,"What is the current breakdown of your country's energy mix?",null,{"$f":"E9","v":"NA"}]
[null,null,"Utilities"]
[null,null,"On average, how long does it take for the power utility to get investments in RE projects approved by the regulatory authority 9or the relevant entity) for recovery through tariffs?",null,{"$f":"E15","v":"NA"}]
[null,null,"IPPs"]
[null,null,"How long did it take to get your off-take agreement?",null,{"$f":"E18","v":"NA"}]
[null,null,"Distributed Generation"]
[null,null,"What is the number of exisiting distributed scale RE systems in 2018?",null,{"$f":"E25","v":"NA"}]
[null,null,"What is the total installed capacity from renewable distributed generation in your country?",null,{"$f":"E27","v":"NA"}]
[null,null,"What was the total generation from exisitng distributed scale RE systems in 2018?",null,{"$f":"E28","v":"NA"}]
[null,null,"Existing renewable generation"]
[null,null,"Existing Utility-Scale Renewable Energy Projects"]
[null,null,"What is the number of existing utility-scale RE projects?",null,{"$f":"E32","v":"NA"}]
[null,null,"What was the total electricity generated in 2018 (MWh)?",null,{"$f":"E33","v":"NA"}]
[null,null,"What was the total electricity generated from utility-scale RE projects in 2018 (MWh)?",null,{"$f":"E34","v":"NA"}]
[null,null,"Please provide as much information as possible for exisitng RE projects in the box below as:\n- Project Name\n- Developer\n- Offtaker\n- Renewable Energy Technology Type\n- Start of Commercial Operation (Year)\n- Estimated Capacity Factor (in %) OR Estimated Annual Production (in MWh)\n- Installed Capacity (MW)\n- Length of PPA ",null,{"$f":"E35","v":"NA"}]
[null,null,"Planned renewable generation"]
[null,null,"Potential Utility-Scale Renewable Energy Projects"]
[null,null,"How much installed capacity from RE is expected to come online in the next 3 years?",null,{"$f":"E39","v":"NA"}]
[null,null,"How much renewable energy generation is expected to come online in the next 3 years?",null,{"$f":"E40","v":"NA"}]
[null,null,"Please provide as much information as possible for RE projects currently under development in the box below as:\n- Project Name\n- Developer\n- Offtaker\n- Renewable Energy Technology Type\n- Start of Commercial Operation (Year)\n- Estimated Capacity Factor (in %) OR Estimated Annual Production (in MWh)\n- Installed Capacity (MW)\n- Length of PPA ",null,{"$f":"E42","v":"NA"}]
[null,null,"Electric Mobility"]
[null,null,"What is the target and target year?",null,{"$f":"E47","v":"NA"}]
[null,null,"How many electric cars are currently in your country?",null,{"$f":"E48","v":"NA"}]
[null,null,"How many charging stations are in your country?",null,"NA"]
[]
[]
[null,null,"Improvement Year-on-Year"]
[null,null,"Enabling environment for renewable energy investments","Change",{"$f":"IF(ISERR(E91-E90),\"\",E91-E90)","v":-1.875}]
[null,null,"2012 Score","0 to 5",2.3333333333333335]
[null,null,"2013 Score","0 to 5",2.3333333333333335]
[null,null,"2014 Score","0 to 5",2.3333333333333335]
[null,null,"2015 Score","0 to 5",2.3333333333333335]
[null,null,"2016 Score","0 to 5",1.3333333333333333]
[null,null,"2017 Score","0 to 5",1.875]
[null,null,"2018 Score","0 to 5",{"$f":"VLOOKUP(C84,'RE Index | Ranking inputs'!$D$8:$AM$44,MATCH($B$1,'RE Index | Ranking inputs'!$D$5:$AM$5,0),0)","v":0}]
[null,null,"Existing renewable generation","Change",{"$f":"IF(ISERR(E99-E98),\"\",E99-E98)","v":-0.13}]
[null,null,"2012 Score","0 to 5",0.01]
[null,null,"2013 Score","0 to 5",0]
[null,null,"2014 Score","0 to 5",8.4686434362367599E-2]
[null,null,"2015 Score","0 to 5",6.7815814156560753E-2]
[null,null,"2016 Score","0 to 5",0]
[null,null,"2017 Score","0 to 5",0.13]
[null,null,"2018 Score","0 to 5",{"$f":"VLOOKUP(C92,'RE Index | Ranking inputs'!$D$8:$AM$44,MATCH($B$1,'RE Index | Ranking inputs'!$D$5:$AM$5,0),0)","v":0}]
[null,null,"Planned renewable generation","Change",{"$f":"IF(ISERR(E107-E106),\"\",E107-E106)","v":0}]
[null,null,"2012 Score","0 to 5",0.26]
[null,null,"2013 Score","0 to 5",6.3811188811188815E-2]
[null,null,"2014 Score","0 to 5",0.17561119865884323]
[null,null,"2015 Score","0 to 5",0.24491375533524537]
[null,null,"2016 Score","0 to 5",0]
[null,null,"2017 Score","0 to 5",0]
[null,null,"2018 Score","0 to 5",{"$f":"VLOOKUP(C100,'RE Index | Ranking inputs'!$D$8:$AM$44,MATCH($B$1,'RE Index | Ranking inputs'!$D$5:$AM$5,0),0)","v":0}]
[null,null,"Electric Mobility","Change","N/A"]
[null,null,"2018 Score","0 to 5",{"$f":"VLOOKUP(C108,'RE Index | Ranking inputs'!$D$8:$AM$44,MATCH($B$1,'RE Index | Ranking inputs'!$D$5:$AM$5,0),0)","v":0}]
[null,null,"Overall Score Year-on-Year","Change",{"$f":"E123-E121","v":-0.66833333333333333}]
[null,null,"2012 Overall Score",null,0.85910000000000009]
[null,null,"2012 Rank",null,13]
[null,null,"2013 Overall Score",null,0.79904817404817408]
[null,null,"2013 Rank",null,21]
[null,null,"2014 Overall Score",null,0.86454365545151468]
[null,null,"2014 Rank",null,18]
[null,null,"2015 Overall Score",null,0.88202096760837989]
[null,null,"2015 Rank",null,19]
[null,null,"2016 Overall Score",null,0.44444444444444442]
[null,null,"2016 Rank",null,25]
[null,null,"2017 Overall Score",null,0.66833333333333333]
[null,null,"2017 Rank",null,25]
[null,null,"2018 Overall Score",null,{"$f":"VLOOKUP(C123,'RE Index | Ranking inputs'!$D$8:$AM$125,MATCH($B$1,'RE Index | Ranking inputs'!$D$5:$AM$5,0),0)","v":0}]
[null,null,"2018 Rank",null,{"$f":"VLOOKUP(C124,'RE Index | Ranking inputs'!$D$8:$AM$125,MATCH($B$1,'RE Index | Ranking inputs'!$D$5:$AM$5,0),0)","v":31}]

{"sheet":"Aruba","index":29,"n_rows":124,"n_cols":5,"rows_kept":124,"cut":false,"hidden":true,"merged":[[73,2,73,3],[77,2,77,3],[78,2,78,3],[79,2,79,3],[82,2,82,3],[69,2,69,3],[46,2,46,3],[47,2,47,3],[48,2,48,3],[51,2,51,3],[58,2,58,3],[60,2,60,3],[62,2,62,3],[63,2,63,3],[64,2,64,3],[67,2,67,3],[68,2,68,3],[33,2,33,3],[0,1,0,4],[1,2,1,3],[1,6,1,12],[4,2,4,3],[11,2,11,3],[12,2,12,3],[13,2,13,3],[14,2,14,3],[16,5,21,5],[23,2,23,3],[28,2,28,3]]}
[null,"Aruba"]
[null,null,"Overall Indicator",null,"Excluded from RE Index - insufficient data"]
[1,null,"Enabling Environment for Renewable Energy (RE) Investments",null,"Consolidated Survey Response"]
[null,null,"Government - Renewable Energy Strategy",null,"Y/N"]
[null,1,"Does your country have a strategic plan to develop renewble energy?"]
[null,null,"Which of the following renewable generation options is includd in you country's strategic plan to develop renewable energy?",null,"NA"]
[null,2,"Does your country have a specific target for renewable energy?",null,"NA"]
[null,null,"If yes, what is the target and target year?",null,"NA"]
[null,null,"What is the current breakdown of your country's energy mix?",null,"NA"]
[null,3,"Does your country have an Integrated Resource Plan (IRP) that was produced within the last three years?",null,"NA"]
[null,null,"Utilities",null,"Y/N"]
[null,1,"When planning generation expansion, does the utility consider RE options?",null,"NA"]
[null,2,"Can the utility safely recover RE investments through tariffs like it can recover fossil fuel costs?",null,"NA"]
[null,3,"Are there clear, specific planning and permitting processes and rules in place for developing RE?",null,"NA"]
[null,null,"On average, how long does it take for the power utility to get investments in RE projects approved by the regulatory authority (or relevant entity) fror recovery through tariffs?",null,"NA"]
[null,null,"IPPs",null,"Y/N"]
[null,1,"Can the utility safely recover purchases of RE from third parties, just as it recovers fossil fuel costs?",null,"NA"]
[null,null,"How long did it take to get your off-take agreement?",null,"NA"]
[null,2,"Are there workable precedents or rules for PPA terms and grid operation rules?",null,"NA"]
[null,3,"Are there clear and effective licensing processes and requirements in place for IPPs?",null,"NA"]
[null,4,"Does the utility have an obligation to purchase from IPPs when it is cheaper than generating the power itself?",null,"NA"]
[null,5,"Does the PPA have any take-or-pay arrangements?",null,"NA"]
[null,null,"Distributed generation",null,"Y/N"]
[null,1,"Do you have a registry or database of distributed generation?",null,"NA"]
[null,null,"What was the number of existing distributed scale RE systems in 2018?",null,"NA"]
[null,null,"Is there an aggregate maximum capacity for distributed generation?",null,"NA"]
[null,null,"What is the total installed capacity from renewable distributed generation in your country?",null,"NA"]
[null,null,"What was the total generation from existing distributed scale RE systems in 2018?",null,"NA"]
[null,2,"Is there a standard arrangement in place for customers to sell electricity to the utility at a reasonable price, for a reasonable timeframe, and with a clear interconnection agreement?",null,"NA"]
[]
[2,null,"Existing renewable generation"]
[null,null,"What is the number of existing Utility-Scale RE projects?",null,"NA"]
[null,1,"What was the total electricity generated in 2018? (MWh)",null,"NA"]
[null,1,"What was the total electricity generated from Utility Scale RE projects in 2018? (MWh) ",null,"NA"]
[null,null,"Please provide as much information as possible for exisitng RE projects in the box below as:\n- Project Name\n- Developer\n- Offtaker\n- Renewable Energy Technology Type\n- Start of Commercial Operation (Year)\n- Estimated Capacity Factor (in %) OR Estimated Annual Production (in MWh)\n- Installed Capacity (MW)\n- Length of PPA ",null,"NA"]
[]
[3,null,"Planned Utility-Scale Renewable Energy Projects"]
[null,1,"Does your country have an estimate of planned installed capacity expected to come online from-utility scale RE projects?",null,"NA"]
[null,null,"How much installed capacity from RE is expected to come online in the next 3 years?",null,"NA"]
[null,2,"How much renewable energy generation is expected to come online in the next 3 years?",null,"NA"]
[null,3,"Is climate resilience incorporated in your IRP or national policy?",null,"NA"]
[null,null,"Please provide as much information as possible for RE projects currently under development in the box below as:\n- Project Name\n- Developer\n- Offtaker\n- Renewable Energy Technology Type\n- Start of Commercial Operation (Year)\n- Estimated Capacity Factor (in %) OR Estimated Annual Production (in MWh)\n- Installed Capacity (MW)\n- Length of PPA ",null,"NA"]
[]
[4,null,"Electric Mobility"]
[null,1,"Does your country have policies in place or draft legislation to promote the uptake of electric mobility?",null,"NA"]
[null,2,"Does your country have specific targets for the uptake of electric vehicles?",null,"NA"]
[null,null,"What is the target and target year?",null,"NA"]
[null,null,"How many electric cars are currently in your country?",null,"NA"]
[null,null,"How many charging stations are in your country?",null,"NA"]
[]
[]
[null,null,"Descriptive CREF Index Survey"]
[null,null,"Enabling Environment for Renewable Energy (RE) Investments"]
[null,null,"Renewable energy strategy"]
[null,null,"Which of the rollowing renewable generation options is included in your country's strategic plan to develop renewable energy?\n- Solar PV\n- Offshore wind\n- Biomass\n- Waste to energy\n- Hydro\n-Geothermal\n- Other",null,{"$f":"E6","v":"NA"}]
[null,null,"What is the target and target year?",null,{"$f":"E8","v":"NA"}]
[null,null,"What is the current breakdown of your country's energy mix?",null,{"$f":"E9","v":"NA"}]
[null,null,"Utilities"]
[null,null,"On average, how long does it take for the power utility to get investments in RE projects approved by the regulatory authority 9or the relevant entity) for recovery through tariffs?",null,{"$f":"E15","v":"NA"}]
[null,null,"IPPs"]
[null,null,"How long did it take to get your off-take agreement?",null,{"$f":"E18","v":"NA"}]
[null,null,"Distributed Generation"]
[null,null,"What is the number of exisiting distributed scale RE systems in 2018?",null,{"$f":"E25","v":"NA"}]
[null,null,"What is the total installed capacity from renewable distributed generation in your country?",null,{"$f":"E27","v":"NA"}]
[null,null,"What was the total generation from exisitng distributed scale RE systems in 2018?",null,{"$f":"E28","v":"NA"}]
[null,null,"Existing renewable generation"]
[null,null,"Existing Utility-Scale Renewable Energy Projects"]
[null,null,"What is the number of existing utility-scale RE projects?",null,{"$f":"E32","v":"NA"}]
[null,null,"What was the total electricity generated in 2018 (MWh)?",null,{"$f":"E33","v":"NA"}]
[null,null,"What was the total electricity generated from utility-scale RE projects in 2018 (MWh)?",null,{"$f":"E34","v":"NA"}]
[null,null,"Please provide as much information as possible for exisitng RE projects in the box below as:\n- Project Name\n- Developer\n- Offtaker\n- Renewable Energy Technology Type\n- Start of Commercial Operation (Year)\n- Estimated Capacity Factor (in %) OR Estimated Annual Production (in MWh)\n- Installed Capacity (MW)\n- Length of PPA ",null,{"$f":"E35","v":"NA"}]
[null,null,"Planned renewable generation"]
[null,null,"Potential Utility-Scale Renewable Energy Projects"]
[null,null,"How much installed capacity from RE is expected to come online in the next 3 years?",null,{"$f":"E39","v":"NA"}]
[null,null,"How much renewable energy generation is expected to come online in the next 3 years?",null,{"$f":"E40","v":"NA"}]
[null,null,"Please provide as much information as possible for RE projects currently under development in the box below as:\n- Project Name\n- Developer\n- Offtaker\n- Renewable Energy Technology Type\n- Start of Commercial Operation (Year)\n- Estimated Capacity Factor (in %) OR Estimated Annual Production (in MWh)\n- Installed Capacity (MW)\n- Length of PPA ",null,{"$f":"E42","v":"NA"}]
[null,null,"Electric Mobility"]
[null,null,"What is the target and target year?",null,{"$f":"E47","v":"NA"}]
[null,null,"How many electric cars are currently in your country?",null,{"$f":"E48","v":"NA"}]
[null,null,"How many charging stations are in your country?",null,"NA"]
[]
[]
[null,null,"Improvement Year-on-Year"]
[null,null,"Enabling environment for renewable energy investments","Change",{"$f":"IF(ISERR(E91-E90),\"\",E91-E90)","v":-3.6458333333333335}]
[null,null,"2012 Score","0 to 5",1.9999999999999998]
[null,null,"2013 Score","0 to 5",1.9999999999999998]
[null,null,"2014 Score","0 to 5",4]
[null,null,"2015 Score","0 to 5",4]
[null,null,"2016 Score","0 to 5",2.6666666666666665]
[null,null,"2017 Score","0 to 5",3.6458333333333335]
[null,null,"2018 Score","0 to 5",{"$f":"VLOOKUP(C84,'RE Index | Ranking inputs'!$D$8:$AM$44,MATCH($B$1,'RE Index | Ranking inputs'!$D$5:$AM$5,0),0)","v":0}]
[null,null,"Existing renewable generation","Change",{"$f":"IF(ISERR(E99-E98),\"\",E99-E98)","v":0.63545761616161611}]
[null,null,"2012 Score","0 to 5",0.5]
[null,null,"2013 Score","0 to 5",0.65542995689307737]
[null,null,"2014 Score","0 to 5",0.83624804169180622]
[null,null,"2015 Score","0 to 5",0.75294455015398032]
[null,null,"2016 Score","0 to 5",0.77253787353089165]
[null,null,"2017 Score","0 to 5",0.10707975757575759]
[null,null,"2018 Score","0 to 5",{"$f":"VLOOKUP(C92,'RE Index | Ranking inputs'!$D$8:$AM$44,MATCH($B$1,'RE Index | Ranking inputs'!$D$5:$AM$5,0),0)","v":0.74253737373737372}]
[null,null,"Planned renewable generation","Change",{"$f":"IF(ISERR(E107-E106),\"\",E107-E106)","v":1.9865319865319864E-2}]
[null,null,"2012 Score","0 to 5",0.05]
[null,null,"2013 Score","0 to 5",0.10076820813410756]
[null,null,"2014 Score","0 to 5",0.6533827084387589]
[null,null,"2015 Score","0 to 5",0.3064347123288122]
[null,null,"2016 Score","0 to 5",6.7456771357661441E-2]
[null,null,"2017 Score","0 to 5",0]
[null,null,"2018 Score","0 to 5",{"$f":"VLOOKUP(C100,'RE Index | Ranking inputs'!$D$8:$AM$44,MATCH($B$1,'RE Index | Ranking inputs'!$D$5:$AM$5,0),0)","v":1.9865319865319864E-2}]
[null,null,"Electric Mobility","Change","N/A"]
[null,null,"2018 Score","0 to 5",{"$f":"VLOOKUP(C108,'RE Index | Ranking inputs'!$D$8:$AM$44,MATCH($B$1,'RE Index | Ranking inputs'!$D$5:$AM$5,0),0)","v":0}]
[null,null,"Overall Score Year-on-Year","Change",{"$f":"E123-E121","v":-1.0222502222222221}]
[null,null,"2012 Overall Score",null,0.84149999999999991]
[null,null,"2012 Rank",null,14]
[null,null,"2013 Overall Score",null,0.91873272167572817]
[null,null,"2013 Rank",null,18]
[null,null,"2014 Overall Score",null,1.8298769167101885]
[null,null,"2014 Rank",null,4]
[null,null,"2015 Overall Score",null,1.6864597541609307]
[null,null,"2015 Rank",null,10]
[null,null,"2016 Overall Score",null,1.1688871038517399]
[null,null,"2016 Rank",null,20]
[null,null,"2017 Overall Score",null,1.2509710303030301]
[null,null,"2017 Rank",null,21]
[null,null,"2018 Overall Score",null,{"$f":"VLOOKUP(C123,'RE Index | Ranking inputs'!$D$8:$AM$125,MATCH($B$1,'RE Index | Ranking inputs'!$D$5:$AM$5,0),0)","v":0.22872080808080808}]
[null,null,"2018 Rank",null,{"$f":"VLOOKUP(C124,'RE Index | Ranking inputs'!$D$8:$AM$125,MATCH($B$1,'RE Index | Ranking inputs'!$D$5:$AM$5,0),0)","v":25}]

{"sheet":"BVI","index":30,"n_rows":124,"n_cols":5,"rows_kept":124,"cut":false,"hidden":true,"merged":[[73,2,73,3],[77,2,77,3],[78,2,78,3],[79,2,79,3],[82,2,82,3],[69,2,69,3],[46,2,46,3],[47,2,47,3],[48,2,48,3],[51,2,51,3],[58,2,58,3],[60,2,60,3],[62,2,62,3],[63,2,63,3],[64,2,64,3],[67,2,67,3],[68,2,68,3],[33,2,33,3],[0,1,0,4],[1,2,1,3],[1,6,1,12],[4,2,4,3],[11,2,11,3],[12,2,12,3],[13,2,13,3],[14,2,14,3],[16,5,21,5],[23,2,23,3],[28,2,28,3]]}
[null,"British Virgin Islands"]
[null,null,"Overall Indicator",null,"Excluded from RE Index - insufficient data"]
[1,null,"Enabling Environment for Renewable Energy (RE) Investments",null,"Consolidated Survey Response"]
[null,null,"Government - Renewable Energy Strategy",null,"Y/N"]
[null,1,"Does your country have a strategic plan to develop renewble energy?"]
[null,null,"Which of the following renewable generation options is includd in you country's strategic plan to develop renewable energy?",null,"NA"]
[null,2,"Does your country have a specific target for renewable energy?",null,"NA"]
[null,null,"If yes, what is the target and target year?",null,"NA"]
[null,null,"What is the current breakdown of your country's energy mix?",null,"NA"]
[null,3,"Does your country have an Integrated Resource Plan (IRP) that was produced within the last three years?",null,"NA"]
[null,null,"Utilities",null,"Y/N"]
[null,1,"When planning generation expansion, does the utility consider RE options?",null,"NA"]
[null,2,"Can the utility safely recover RE investments through tariffs like it can recover fossil fuel costs?",null,"NA"]
[null,3,"Are there clear, specific planning and permitting processes and rules in place for developing RE?",null,"NA"]
[null,null,"On average, how long does it take for the power utility to get investments in RE projects approved by the regulatory authority (or relevant entity) fror recovery through tariffs?",null,"NA"]
[null,null,"IPPs",null,"Y/N"]
[null,1,"Can the utility safely recover purchases of RE from third parties, just as it recovers fossil fuel costs?",null,"NA"]
[null,null,"How long did it take to get your off-take agreement?",null,"NA"]
[null,2,"Are there workable precedents or rules for PPA terms and grid operation rules?",null,"NA"]
[null,3,"Are there clear and effective licensing processes and requirements in place for IPPs?",null,"NA"]
[null,4,"Does the utility have an obligation to purchase from IPPs when it is cheaper than generating the power itself?",null,"NA"]
[null,5,"Does the PPA have any take-or-pay arrangements?",null,"NA"]
[null,null,"Distributed generation",null,"Y/N"]
[null,1,"Do you have a registry or database of distributed generation?",null,"NA"]
[null,null,"What was the number of existing distributed scale RE systems in 2018?",null,"NA"]
[null,null,"Is there an aggregate maximum capacity for distributed generation?",null,"NA"]
[null,null,"What is the total installed capacity from renewable distributed generation in your country?",null,"NA"]
[null,null,"What was the total generation from existing distributed scale RE systems in 2018?",null,"NA"]
[null,2,"Is there a standard arrangement in place for customers to sell electricity to the utility at a reasonable price, for a reasonable timeframe, and with a clear interconnection agreement?",null,"NA"]
[]
[2,null,"Existing renewable generation"]
[null,null,"What is the number of existing Utility-Scale RE projects?"]
[null,1,"What was the total electricity generated in 2018? (MWh)"]
[null,1,"What was the total electricity generated from Utility Scale RE projects in 2018? (MWh) ",null,"NA"]
[null,null,"Please provide as much information as possible for exisitng RE projects in the box below as:\n- Project Name\n- Developer\n- Offtaker\n- Renewable Energy Technology Type\n- Start of Commercial Operation (Year)\n- Estimated Capacity Factor (in %) OR Estimated Annual Production (in MWh)\n- Installed Capacity (MW)\n- Length of PPA "]
[]
[3,null,"Planned Utility-Scale Renewable Energy Projects"]
[null,1,"Does your country have an estimate of planned installed capacity expected to come online from-utility scale RE projects?",null,"NA"]
[null,null,"How much installed capacity from RE is expected to come online in the next 3 years?"]
[null,2,"How much renewable energy generation is expected to come online in the next 3 years?",null,"NA"]
[null,3,"Is climate resilience incorporated in your IRP or national policy?",null,"NA"]
[null,null,"Please provide as much information as possible for RE projects currently under development in the box below as:\n- Project Name\n- Developer\n- Offtaker\n- Renewable Energy Technology Type\n- Start of Commercial Operation (Year)\n- Estimated Capacity Factor (in %) OR Estimated Annual Production (in MWh)\n- Installed Capacity (MW)\n- Length of PPA "]
[]
[4,null,"Electric Mobility"]
[null,1,"Does your country have policies in place or draft legislation to promote the uptake of electric mobility?",null,"NA"]
[null,2,"Does your country have specific targets for the uptake of electric vehicles?",null,"NA"]
[null,null,"What is the target and target year?"]
[null,null,"How many electric cars are currently in your country?"]
[null,null,"How many charging stations are in your country?"]
[]
[]
[null,null,"Descriptive CREF Index Survey"]
[null,null,"Enabling Environment for Renewable Energy (RE) Investments"]
[null,null,"Renewable energy strategy"]
[null,null,"Which of the rollowing renewable generation options is included in your country's strategic plan to develop renewable energy?\n- Solar PV\n- Offshore wind\n- Biomass\n- Waste to energy\n- Hydro\n-Geothermal\n- Other",null,{"$f":"E6","v":"NA"}]
[null,null,"What is the target and target year?",null,{"$f":"E8","v":"NA"}]
[null,null,"What is the current breakdown of your country's energy mix?",null,{"$f":"E9","v":"NA"}]
[null,null,"Utilities"]
[null,null,"On average, how long does it take for the power utility to get investments in RE projects approved by the regulatory authority 9or the relevant entity) for recovery through tariffs?",null,{"$f":"E15","v":"NA"}]
[null,null,"IPPs"]
[null,null,"How long did it take to get your off-take agreement?",null,{"$f":"E18","v":"NA"}]
[null,null,"Distributed Generation"]
[null,null,"What is the number of exisiting distributed scale RE systems in 2018?",null,{"$f":"E25","v":"NA"}]
[null,null,"What is the total installed capacity from renewable distributed generation in your country?",null,{"$f":"E27","v":"NA"}]
[null,null,"What was the total generation from exisitng distributed scale RE systems in 2018?",null,{"$f":"E28","v":"NA"}]
[null,null,"Existing renewable generation"]
[null,null,"Existing Utility-Scale Renewable Energy Projects"]
[null,null,"What is the number of existing utility-scale RE projects?",null,{"$f":"E32","v":0}]
[null,null,"What was the total electricity generated in 2018 (MWh)?",null,{"$f":"E33","v":0}]
[null,null,"What was the total electricity generated from utility-scale RE projects in 2018 (MWh)?",null,{"$f":"E34","v":"NA"}]
[null,null,"Please provide as much information as possible for exisitng RE projects in the box below as:\n- Project Name\n- Developer\n- Offtaker\n- Renewable Energy Technology Type\n- Start of Commercial Operation (Year)\n- Estimated Capacity Factor (in %) OR Estimated Annual Production (in MWh)\n- Installed Capacity (MW)\n- Length of PPA ",null,{"$f":"E35","v":0}]
[null,null,"Planned renewable generation"]
[null,null,"Potential Utility-Scale Renewable Energy Projects"]
[null,null,"How much installed capacity from RE is expected to come online in the next 3 years?",null,{"$f":"E39","v":0}]
[null,null,"How much renewable energy generation is expected to come online in the next 3 years?",null,{"$f":"E40","v":"NA"}]
[null,null,"Please provide as much information as possible for RE projects currently under development in the box below as:\n- Project Name\n- Developer\n- Offtaker\n- Renewable Energy Technology Type\n- Start of Commercial Operation (Year)\n- Estimated Capacity Factor (in %) OR Estimated Annual Production (in MWh)\n- Installed Capacity (MW)\n- Length of PPA ",null,{"$f":"E42","v":0}]
[null,null,"Electric Mobility"]
[null,null,"What is the target and target year?",null,{"$f":"E47","v":0}]
[null,null,"How many electric cars are currently in your country?",null,{"$f":"E48","v":0}]
[null,null,"How many charging stations are in your country?",null,0]
[]
[]
[null,null,"Improvement Year-on-Year"]
[null,null,"Enabling environment for renewable energy investments","Change",{"$f":"IF(ISERR(E91-E90),\"\",E91-E90)","v":-4.375}]
[null,null,"2012 Score","0 to 5",1]
[null,null,"2013 Score","0 to 5",1]
[null,null,"2014 Score","0 to 5",1]
[null,null,"2015 Score","0 to 5",2]
[null,null,"2016 Score","0 to 5",1.3333333333333333]
[null,null,"2017 Score","0 to 5",4.375]
[null,null,"2018 Score","0 to 5",{"$f":"VLOOKUP(C84,'RE Index | Ranking inputs'!$D$8:$AM$44,MATCH($B$1,'RE Index | Ranking inputs'!$D$5:$AM$5,0),0)","v":0}]
[null,null,"Existing renewable generation","Change",{"$f":"IF(ISERR(E99-E98),\"\",E99-E98)","v":-0.25}]
[null,null,"2012 Score","0 to 5",0]
[null,null,"2013 Score","0 to 5",0]
[null,null,"2014 Score","0 to 5",0.19085937600000003]
[null,null,"2015 Score","0 to 5",0.15303478879646401]
[null,null,"2016 Score","0 to 5",0.15343047062233445]
[null,null,"2017 Score","0 to 5",0.25]
[null,null,"2018 Score","0 to 5",{"$f":"VLOOKUP(C92,'RE Index | Ranking inputs'!$D$8:$AM$44,MATCH($B$1,'RE Index | Ranking inputs'!$D$5:$AM$5,0),0)","v":0}]
[null,null,"Planned renewable generation","Change",{"$f":"IF(ISERR(E107-E106),\"\",E107-E106)","v":0.33579999999999999}]
[null,null,"2012 Score","0 to 5",0]
[null,null,"2013 Score","0 to 5",0]
[null,null,"2014 Score","0 to 5",0]
[null,null,"2015 Score","0 to 5",0]
[null,null,"2016 Score","0 to 5",0.37019627320591419]
[null,null,"2017 Score","0 to 5",0]
[null,null,"2018 Score","0 to 5",{"$f":"VLOOKUP(C100,'RE Index | Ranking inputs'!$D$8:$AM$44,MATCH($B$1,'RE Index | Ranking inputs'!$D$5:$AM$5,0),0)","v":0.33579999999999999}]
[null,null,"Electric Mobility","Change","N/A"]
[null,null,"2018 Score","0 to 5",{"$f":"VLOOKUP(C108,'RE Index | Ranking inputs'!$D$8:$AM$44,MATCH($B$1,'RE Index | Ranking inputs'!$D$5:$AM$5,0),0)","v":0}]
[null,null,"Overall Score Year-on-Year","Change",{"$f":"E123-E121","v":-1.4409266666666665}]
[null,null,"2012 Overall Score",null,0.33]
[null,null,"2012 Rank",null,21]
[null,null,"2013 Overall Score",null,0.33333333333333331]
[null,null,"2013 Rank",null,28]
[null,null,"2014 Overall Score",null,0.39695312533333332]
[null,null,"2014 Rank",null,28]
[null,null,"2015 Overall Score",null,0.71767826293215464]
[null,null,"2015 Rank",null,25]
[null,null,"2016 Overall Score",null,0.61898669238719395]
[null,null,"2016 Rank",null,23]
[null,null,"2017 Overall Score",null,1.5416666666666665]
[null,null,"2017 Rank",null,13]
[null,null,"2018 Overall Score",null,{"$f":"VLOOKUP(C123,'RE Index | Ranking inputs'!$D$8:$AM$125,MATCH($B$1,'RE Index | Ranking inputs'!$D$5:$AM$5,0),0)","v":0.10074}]
[null,null,"2018 Rank",null,{"$f":"VLOOKUP(C124,'RE Index | Ranking inputs'!$D$8:$AM$125,MATCH($B$1,'RE Index | Ranking inputs'!$D$5:$AM$5,0),0)","v":29}]

{"sheet":"Cuba","index":31,"n_rows":124,"n_cols":5,"rows_kept":124,"cut":false,"hidden":true,"merged":[[73,2,73,3],[77,2,77,3],[78,2,78,3],[79,2,79,3],[82,2,82,3],[69,2,69,3],[46,2,46,3],[47,2,47,3],[48,2,48,3],[51,2,51,3],[58,2,58,3],[60,2,60,3],[62,2,62,3],[63,2,63,3],[64,2,64,3],[67,2,67,3],[68,2,68,3],[33,2,33,3],[0,1,0,4],[1,2,1,3],[1,6,1,12],[4,2,4,3],[11,2,11,3],[12,2,12,3],[13,2,13,3],[14,2,14,3],[16,5,21,5],[23,2,23,3],[28,2,28,3]]}
[null,"Cuba"]
[null,null,"Overall Indicator",null,"Excluded from RE Index - insufficient data"]
[1,null,"Enabling Environment for Renewable Energy (RE) Investments",null,"Consolidated Survey Response"]
[null,null,"Government - Renewable Energy Strategy",null,"Y/N"]
[null,1,"Does your country have a strategic plan to develop renewble energy?"]
[null,null,"Which of the following renewable generation options is includd in you country's strategic plan to develop renewable energy?",null,"NA"]
[null,2,"Does your country have a specific target for renewable energy?",null,"NA"]
[null,null,"If yes, what is the target and target year?",null,"NA"]
[null,null,"What is the current breakdown of your country's energy mix?",null,"NA"]
[null,3,"Does your country have an Integrated Resource Plan (IRP) that was produced within the last three years?",null,"NA"]
[null,null,"Utilities",null,"Y/N"]
[null,1,"When planning generation expansion, does the utility consider RE options?",null,"NA"]
[null,2,"Can the utility safely recover RE investments through tariffs like it can recover fossil fuel costs?",null,"NA"]
[null,3,"Are there clear, specific planning and permitting processes and rules in place for developing RE?",null,"NA"]
[null,null,"On average, how long does it take for the power utility to get investments in RE projects approved by the regulatory authority (or relevant entity) fror recovery through tariffs?",null,"NA"]
[null,null,"IPPs",null,"Y/N"]
[null,1,"Can the utility safely recover purchases of RE from third parties, just as it recovers fossil fuel costs?",null,"NA"]
[null,null,"How long did it take to get your off-take agreement?",null,"NA"]
[null,2,"Are there workable precedents or rules for PPA terms and grid operation rules?",null,"NA"]
[null,3,"Are there clear and effective licensing processes and requirements in place for IPPs?",null,"NA"]
[null,4,"Does the utility have an obligation to purchase from IPPs when it is cheaper than generating the power itself?",null,"NA"]
[null,5,"Does the PPA have any take-or-pay arrangements?",null,"NA"]
[null,null,"Distributed generation",null,"Y/N"]
[null,1,"Do you have a registry or database of distributed generation?",null,"NA"]
[null,null,"What was the number of existing distributed scale RE systems in 2018?",null,"NA"]
[null,null,"Is there an aggregate maximum capacity for distributed generation?",null,"NA"]
[null,null,"What is the total installed capacity from renewable distributed generation in your country?",null,"NA"]
[null,null,"What was the total generation from existing distributed scale RE systems in 2018?",null,"NA"]
[null,2,"Is there a standard arrangement in place for customers to sell electricity to the utility at a reasonable price, for a reasonable timeframe, and with a clear interconnection agreement?",null,"NA"]
[]
[2,null,"Existing renewable generation"]
[null,null,"What is the number of existing Utility-Scale RE projects?",null,"NA"]
[null,1,"What was the total electricity generated in 2018? (MWh)",null,"NA"]
[null,1,"What was the total electricity generated from Utility Scale RE projects in 2018? (MWh) ",null,"NA"]
[null,null,"Please provide as much information as possible for exisitng RE projects in the box below as:\n- Project Name\n- Developer\n- Offtaker\n- Renewable Energy Technology Type\n- Start of Commercial Operation (Year)\n- Estimated Capacity Factor (in %) OR Estimated Annual Production (in MWh)\n- Installed Capacity (MW)\n- Length of PPA ",null,"NA"]
[]
[3,null,"Planned Utility-Scale Renewable Energy Projects"]
[null,1,"Does your country have an estimate of planned installed capacity expected to come online from-utility scale RE projects?",null,"NA"]
[null,null,"How much installed capacity from RE is expected to come online in the next 3 years?",null,"NA"]
[null,2,"How much renewable energy generation is expected to come online in the next 3 years?",null,"NA"]
[null,3,"Is climate resilience incorporated in your IRP or national policy?",null,"NA"]
[null,null,"Please provide as much information as possible for RE projects currently under development in the box below as:\n- Project Name\n- Developer\n- Offtaker\n- Renewable Energy Technology Type\n- Start of Commercial Operation (Year)\n- Estimated Capacity Factor (in %) OR Estimated Annual Production (in MWh)\n- Installed Capacity (MW)\n- Length of PPA ",null,"NA"]
[]
[4,null,"Electric Mobility"]
[null,1,"Does your country have policies in place or draft legislation to promote the uptake of electric mobility?",null,"NA"]
[null,2,"Does your country have specific targets for the uptake of electric vehicles?",null,"NA"]
[null,null,"What is the target and target year?",null,"NA"]
[null,null,"How many electric cars are currently in your country?",null,"NA"]
[null,null,"How many charging stations are in your country?",null,"NA"]
[]
[]
[null,null,"Descriptive CREF Index Survey"]
[null,null,"Enabling Environment for Renewable Energy (RE) Investments"]
[null,null,"Renewable energy strategy"]
[null,null,"Which of the rollowing renewable generation options is included in your country's strategic plan to develop renewable energy?\n- Solar PV\n- Offshore wind\n- Biomass\n- Waste to energy\n- Hydro\n-Geothermal\n- Other",null,{"$f":"E6","v":"NA"}]
[null,null,"What is the target and target year?",null,{"$f":"E8","v":"NA"}]
[null,null,"What is the current breakdown of your country's energy mix?",null,{"$f":"E9","v":"NA"}]
[null,null,"Utilities"]
[null,null,"On average, how long does it take for the power utility to get investments in RE projects approved by the regulatory authority 9or the relevant entity) for recovery through tariffs?",null,{"$f":"E15","v":"NA"}]
[null,null,"IPPs"]
[null,null,"How long did it take to get your off-take agreement?",null,{"$f":"E18","v":"NA"}]
[null,null,"Distributed Generation"]
[null,null,"What is the number of exisiting distributed scale RE systems in 2018?",null,{"$f":"E25","v":"NA"}]
[null,null,"What is the total installed capacity from renewable distributed generation in your country?",null,{"$f":"E27","v":"NA"}]
[null,null,"What was the total generation from exisitng distributed scale RE systems in 2018?",null,{"$f":"E28","v":"NA"}]
[null,null,"Existing renewable generation"]
[null,null,"Existing Utility-Scale Renewable Energy Projects"]
[null,null,"What is the number of existing utility-scale RE projects?",null,{"$f":"E32","v":"NA"}]
[null,null,"What was the total electricity generated in 2018 (MWh)?",null,{"$f":"E33","v":"NA"}]
[null,null,"What was the total electricity generated from utility-scale RE projects in 2018 (MWh)?",null,{"$f":"E34","v":"NA"}]
[null,null,"Please provide as much information as possible for exisitng RE projects in the box below as:\n- Project Name\n- Developer\n- Offtaker\n- Renewable Energy Technology Type\n- Start of Commercial Operation (Year)\n- Estimated Capacity Factor (in %) OR Estimated Annual Production (in MWh)\n- Installed Capacity (MW)\n- Length of PPA ",null,{"$f":"E35","v":"NA"}]
[null,null,"Planned renewable generation"]
[null,null,"Potential Utility-Scale Renewable Energy Projects"]
[null,null,"How much installed capacity from RE is expected to come online in the next 3 years?",null,{"$f":"E39","v":"NA"}]
[null,null,"How much renewable energy generation is expected to come online in the next 3 years?",null,{"$f":"E40","v":"NA"}]
[null,null,"Please provide as much information as possible for RE projects currently under development in the box below as:\n- Project Name\n- Developer\n- Offtaker\n- Renewable Energy Technology Type\n- Start of Commercial Operation (Year)\n- Estimated Capacity Factor (in %) OR Estimated Annual Production (in MWh)\n- Installed Capacity (MW)\n- Length of PPA ",null,{"$f":"E42","v":"NA"}]
[null,null,"Electric Mobility"]
[null,null,"What is the target and target year?",null,{"$f":"E47","v":"NA"}]
[null,null,"How many electric cars are currently in your country?",null,{"$f":"E48","v":"NA"}]
[null,null,"How many charging stations are in your country?",null,"NA"]
[]
[]
[null,null,"Improvement Year-on-Year"]
[null,null,"Enabling environment for renewable energy investments","Change",{"$f":"IF(ISERR(E91-E90),\"\",E91-E90)","v":0}]
[null,null,"2012 Score","0 to 5",0]
[null,null,"2013 Score","0 to 5",0]
[null,null,"2014 Score","0 to 5",0]
[null,null,"2015 Score","0 to 5",1]
[null,null,"2016 Score","0 to 5",0]
[null,null,"2017 Score","0 to 5",0]
[null,null,"2018 Score","0 to 5",{"$f":"VLOOKUP(C84,'RE Index | Ranking inputs'!$D$8:$AM$44,MATCH($B$1,'RE Index | Ranking inputs'!$D$5:$AM$5,0),0)","v":0}]
[null,null,"Existing renewable generation","Change",{"$f":"IF(ISERR(E99-E98),\"\",E99-E98)","v":2.0784167166863807E-2}]
[null,null,"2012 Score","0 to 5",0]
[null,null,"2013 Score","0 to 5",3.5962932505731078E-2]
[null,null,"2014 Score","0 to 5",4.0663459456410589E-2]
[null,null,"2015 Score","0 to 5",3.6486605616940976E-2]
[null,null,"2016 Score","0 to 5",0]
[null,null,"2017 Score","0 to 5",0]
[null,null,"2018 Score","0 to 5",{"$f":"VLOOKUP(C92,'RE Index | Ranking inputs'!$D$8:$AM$44,MATCH($B$1,'RE Index | Ranking inputs'!$D$5:$AM$5,0),0)","v":2.0784167166863807E-2}]
[null,null,"Planned renewable generation","Change",{"$f":"IF(ISERR(E107-E106),\"\",E107-E106)","v":0.36494270217251756}]
[null,null,"2012 Score","0 to 5",0]
[null,null,"2013 Score","0 to 5",0]
[null,null,"2014 Score","0 to 5",8.8293744650074737E-2]
[null,null,"2015 Score","0 to 5",8.9977923221835662E-2]
[null,null,"2016 Score","0 to 5",0.22173401161568562]
[null,null,"2017 Score","0 to 5",0]
[null,null,"2018 Score","0 to 5",{"$f":"VLOOKUP(C100,'RE Index | Ranking inputs'!$D$8:$AM$44,MATCH($B$1,'RE Index | Ranking inputs'!$D$5:$AM$5,0),0)","v":0.36494270217251756}]
[null,null,"Electric Mobility","Change","N/A"]
[null,null,"2018 Score","0 to 5",{"$f":"VLOOKUP(C108,'RE Index | Ranking inputs'!$D$8:$AM$44,MATCH($B$1,'RE Index | Ranking inputs'!$D$5:$AM$5,0),0)","v":0}]
[null,null,"Overall Score Year-on-Year","Change",{"$f":"E123-E121","v":0.1157180608018144}]
[null,null,"2012 Overall Score",null,0]
[null,null,"2012 Rank",null,22]
[null,null,"2013 Overall Score",null,1.1987644168577026E-2]
[null,null,"2013 Rank",null,30]
[null,null,"2014 Overall Score",null,4.2985734702161771E-2]
[null,null,"2014 Rank",null,29]
[null,null,"2015 Overall Score",null,0.37548817627959219]
[null,null,"2015 Rank",null,30]
[null,null,"2016 Overall Score",null,7.3911337205228536E-2]
[null,null,"2016 Rank",null,29]
[null,null,"2017 Overall Score",null,0]
[null,null,"2017 Rank",null,28]
[null,null,"2018 Overall Score",null,{"$f":"VLOOKUP(C123,'RE Index | Ranking inputs'!$D$8:$AM$125,MATCH($B$1,'RE Index | Ranking inputs'!$D$5:$AM$5,0),0)","v":0.1157180608018144}]
[null,null,"2018 Rank",null,{"$f":"VLOOKUP(C124,'RE Index | Ranking inputs'!$D$8:$AM$125,MATCH($B$1,'RE Index | Ranking inputs'!$D$5:$AM$5,0),0)","v":28}]

{"sheet":"Guyana","index":32,"n_rows":124,"n_cols":5,"rows_kept":124,"cut":false,"hidden":true,"merged":[[73,2,73,3],[77,2,77,3],[78,2,78,3],[79,2,79,3],[82,2,82,3],[69,2,69,3],[46,2,46,3],[47,2,47,3],[48,2,48,3],[51,2,51,3],[58,2,58,3],[60,2,60,3],[62,2,62,3],[63,2,63,3],[64,2,64,3],[67,2,67,3],[68,2,68,3],[33,2,33,3],[0,1,0,4],[1,2,1,3],[1,6,1,12],[4,2,4,3],[11,2,11,3],[12,2,12,3],[13,2,13,3],[14,2,14,3],[16,5,21,5],[23,2,23,3],[28,2,28,3]]}
[null,"Guyana"]
[null,null,"Overall Indicator",null,"Excluded from RE Index - insufficient data"]
[1,null,"Enabling Environment for Renewable Energy (RE) Investments",null,"Consolidated Survey Response"]
[null,null,"Government - Renewable Energy Strategy",null,"Y/N"]
[null,1,"Does your country have a strategic plan to develop renewble energy?"]
[null,null,"Which of the following renewable generation options is includd in you country's strategic plan to develop renewable energy?",null,"NA"]
[null,2,"Does your country have a specific target for renewable energy?",null,"NA"]
[null,null,"If yes, what is the target and target year?",null,"NA"]
[null,null,"What is the current breakdown of your country's energy mix?",null,"NA"]
[null,3,"Does your country have an Integrated Resource Plan (IRP) that was produced within the last three years?",null,"NA"]
[null,null,"Utilities",null,"Y/N"]
[null,1,"When planning generation expansion, does the utility consider RE options?",null,"NA"]
[null,2,"Can the utility safely recover RE investments through tariffs like it can recover fossil fuel costs?",null,"NA"]
[null,3,"Are there clear, specific planning and permitting processes and rules in place for developing RE?",null,"NA"]
[null,null,"On average, how long does it take for the power utility to get investments in RE projects approved by the regulatory authority (or relevant entity) fror recovery through tariffs?",null,"NA"]
[null,null,"IPPs",null,"Y/N"]
[null,1,"Can the utility safely recover purchases of RE from third parties, just as it recovers fossil fuel costs?",null,"NA"]
[null,null,"How long did it take to get your off-take agreement?",null,"NA"]
[null,2,"Are there workable precedents or rules for PPA terms and grid operation rules?",null,"NA"]
[null,3,"Are there clear and effective licensing processes and requirements in place for IPPs?",null,"NA"]
[null,4,"Does the utility have an obligation to purchase from IPPs when it is cheaper than generating the power itself?",null,"NA"]
[null,5,"Does the PPA have any take-or-pay arrangements?",null,"NA"]
[null,null,"Distributed generation",null,"Y/N"]
[null,1,"Do you have a registry or database of distributed generation?",null,"NA"]
[null,null,"What was the number of existing distributed scale RE systems in 2018?",null,"NA"]
[null,null,"Is there an aggregate maximum capacity for distributed generation?",null,"NA"]
[null,null,"What is the total installed capacity from renewable distributed generation in your country?",null,"NA"]
[null,null,"What was the total generation from existing distributed scale RE systems in 2018?",null,"NA"]
[null,2,"Is there a standard arrangement in place for customers to sell electricity to the utility at a reasonable price, for a reasonable timeframe, and with a clear interconnection agreement?",null,"NA"]
[]
[2,null,"Existing renewable generation"]
[null,null,"What is the number of existing Utility-Scale RE projects?",null,"NA"]
[null,1,"What was the total electricity generated in 2018? (MWh)",null,"NA"]
[null,1,"What was the total electricity generated from Utility Scale RE projects in 2018? (MWh) ",null,"NA"]
[null,null,"Please provide as much information as possible for exisitng RE projects in the box below as:\n- Project Name\n- Developer\n- Offtaker\n- Renewable Energy Technology Type\n- Start of Commercial Operation (Year)\n- Estimated Capacity Factor (in %) OR Estimated Annual Production (in MWh)\n- Installed Capacity (MW)\n- Length of PPA ",null,"NA"]
[]
[3,null,"Planned Utility-Scale Renewable Energy Projects"]
[null,1,"Does your country have an estimate of planned installed capacity expected to come online from-utility scale RE projects?",null,"NA"]
[null,null,"How much installed capacity from RE is expected to come online in the next 3 years?",null,"NA"]
[null,2,"How much renewable energy generation is expected to come online in the next 3 years?",null,"NA"]
[null,3,"Is climate resilience incorporated in your IRP or national policy?",null,"NA"]
[null,null,"Please provide as much information as possible for RE projects currently under development in the box below as:\n- Project Name\n- Developer\n- Offtaker\n- Renewable Energy Technology Type\n- Start of Commercial Operation (Year)\n- Estimated Capacity Factor (in %) OR Estimated Annual Production (in MWh)\n- Installed Capacity (MW)\n- Length of PPA ",null,"NA"]
[]
[4,null,"Electric Mobility"]
[null,1,"Does your country have policies in place or draft legislation to promote the uptake of electric mobility?",null,"NA"]
[null,2,"Does your country have specific targets for the uptake of electric vehicles?",null,"NA"]
[null,null,"What is the target and target year?",null,"NA"]
[null,null,"How many electric cars are currently in your country?",null,"NA"]
[null,null,"How many charging stations are in your country?",null,"NA"]
[]
[]
[null,null,"Descriptive CREF Index Survey"]
[null,null,"Enabling Environment for Renewable Energy (RE) Investments"]
[null,null,"Renewable energy strategy"]
[null,null,"Which of the rollowing renewable generation options is included in your country's strategic plan to develop renewable energy?\n- Solar PV\n- Offshore wind\n- Biomass\n- Waste to energy\n- Hydro\n-Geothermal\n- Other",null,{"$f":"E6","v":"NA"}]
[null,null,"What is the target and target year?",null,{"$f":"E8","v":"NA"}]
[null,null,"What is the current breakdown of your country's energy mix?",null,{"$f":"E9","v":"NA"}]
[null,null,"Utilities"]
[null,null,"On average, how long does it take for the power utility to get investments in RE projects approved by the regulatory authority 9or the relevant entity) for recovery through tariffs?",null,{"$f":"E15","v":"NA"}]
[null,null,"IPPs"]
[null,null,"How long did it take to get your off-take agreement?",null,{"$f":"E18","v":"NA"}]
[null,null,"Distributed Generation"]
[null,null,"What is the number of exisiting distributed scale RE systems in 2018?",null,{"$f":"E25","v":"NA"}]
[null,null,"What is the total installed capacity from renewable distributed generation in your country?",null,{"$f":"E27","v":"NA"}]
[null,null,"What was the total generation from exisitng distributed scale RE systems in 2018?",null,{"$f":"E28","v":"NA"}]
[null,null,"Existing renewable generation"]
[null,null,"Existing Utility-Scale Renewable Energy Projects"]
[null,null,"What is the number of existing utility-scale RE projects?",null,{"$f":"E32","v":"NA"}]
[null,null,"What was the total electricity generated in 2018 (MWh)?",null,{"$f":"E33","v":"NA"}]
[null,null,"What was the total electricity generated from utility-scale RE projects in 2018 (MWh)?",null,{"$f":"E34","v":"NA"}]
[null,null,"Please provide as much information as possible for exisitng RE projects in the box below as:\n- Project Name\n- Developer\n- Offtaker\n- Renewable Energy Technology Type\n- Start of Commercial Operation (Year)\n- Estimated Capacity Factor (in %) OR Estimated Annual Production (in MWh)\n- Installed Capacity (MW)\n- Length of PPA ",null,{"$f":"E35","v":"NA"}]
[null,null,"Planned renewable generation"]
[null,null,"Potential Utility-Scale Renewable Energy Projects"]
[null,null,"How much installed capacity from RE is expected to come online in the next 3 years?",null,{"$f":"E39","v":"NA"}]
[null,null,"How much renewable energy generation is expected to come online in the next 3 years?",null,{"$f":"E40","v":"NA"}]
[null,null,"Please provide as much information as possible for RE projects currently under development in the box below as:\n- Project Name\n- Developer\n- Offtaker\n- Renewable Energy Technology Type\n- Start of Commercial Operation (Year)\n- Estimated Capacity Factor (in %) OR Estimated Annual Production (in MWh)\n- Installed Capacity (MW)\n- Length of PPA ",null,{"$f":"E42","v":"NA"}]
[null,null,"Electric Mobility"]
[null,null,"What is the target and target year?",null,{"$f":"E47","v":"NA"}]
[null,null,"How many electric cars are currently in your country?",null,{"$f":"E48","v":"NA"}]
[null,null,"How many charging stations are in your country?",null,"NA"]
[]
[]
[null,null,"Improvement Year-on-Year"]
[null,null,"Enabling environment for renewable energy investments","Change",{"$f":"IF(ISERR(E91-E90),\"\",E91-E90)","v":0}]
[null,null,"2012 Score","0 to 5"]
[null,null,"2013 Score","0 to 5",1.6666666666666665]
[null,null,"2014 Score","0 to 5",1.6666666666666665]
[null,null,"2015 Score","0 to 5",1.6666666666666665]
[null,null,"2016 Score","0 to 5",3.6666666666666665]
[null,null,"2017 Score","0 to 5",0]
[null,null,"2018 Score","0 to 5",{"$f":"'RE Index | Ranking inputs'!X8","v":0}]
[null,null,"Existing renewable generation","Change",{"$f":"IF(ISERR(E99-E98),\"\",E99-E98)","v":0.3336027447736688}]
[null,null,"2012 Score","0 to 5"]
[null,null,"2013 Score","0 to 5",4.7549770290964778E-2]
[null,null,"2014 Score","0 to 5",0.46555318643478261]
[null,null,"2015 Score","0 to 5",0.41899786779130432]
[null,null,"2016 Score","0 to 5",0]
[null,null,"2017 Score","0 to 5",0.15625]
[null,null,"2018 Score","0 to 5",{"$f":"'RE Index | Ranking inputs'!X26","v":0.4898527447736688}]
[null,null,"Planned renewable generation","Change",{"$f":"IF(ISERR(E107-E106),\"\",E107-E106)","v":0.10786609028046319}]
[null,null,"2012 Score","0 to 5"]
[null,null,"2013 Score","0 to 5",4.0052833078101076]
[null,null,"2014 Score","0 to 5",0.37826669770290966]
[null,null,"2015 Score","0 to 5",0.37875592019130438]
[null,null,"2016 Score","0 to 5",0]
[null,null,"2017 Score","0 to 5",0]
[null,null,"2018 Score","0 to 5",{"$f":"'RE Index | Ranking inputs'!X34","v":0.10786609028046319}]
[null,null,"Electric Mobility","Change","N/A"]
[null,null,"2018 Score","0 to 5",{"$f":"'RE Index | Ranking inputs'!X42","v":0}]
[null,null,"Overall Score Year-on-Year","Change",{"$f":"E123-E121","v":0.12723231718290628}]
[null,null,"2012 Overall Score",null,0]
[null,null,"2012 Rank",null,22]
[null,null,"2013 Overall Score",null,1.9064999149225796]
[null,null,"2013 Rank",null,3]
[null,null,"2014 Overall Score",null,0.8368288502681196]
[null,null,"2014 Rank",null,19]
[null,null,"2015 Overall Score",null,0.82147348488309169]
[null,null,"2015 Rank",null,20]
[null,null,"2016 Overall Score",null,1.2222222222222221]
[null,null,"2016 Rank",null,17]
[null,null,"2017 Overall Score",null,5.2083333333333329E-2]
[null,null,"2017 Rank",null,26]
[null,null,"2018 Overall Score",null,{"$f":"'RE Index | Ranking inputs'!X6","v":0.1793156505162396}]
[null,null,"2018 Rank",null,{"$f":"'RE Index | Ranking inputs'!X123","v":26}]

{"sheet":"Martinique","index":33,"n_rows":124,"n_cols":5,"rows_kept":124,"cut":false,"hidden":true,"merged":[[73,2,73,3],[77,2,77,3],[78,2,78,3],[79,2,79,3],[82,2,82,3],[69,2,69,3],[46,2,46,3],[47,2,47,3],[48,2,48,3],[51,2,51,3],[58,2,58,3],[60,2,60,3],[62,2,62,3],[63,2,63,3],[64,2,64,3],[67,2,67,3],[68,2,68,3],[33,2,33,3],[0,1,0,4],[1,2,1,3],[1,6,1,12],[4,2,4,3],[11,2,11,3],[12,2,12,3],[13,2,13,3],[14,2,14,3],[16,5,21,5],[23,2,23,3],[28,2,28,3]]}
[null,"Martinique"]
[null,null,"Overall Indicator",null,"Excluded from RE Index - insufficient data"]
[1,null,"Enabling Environment for Renewable Energy (RE) Investments",null,"Consolidated Survey Response"]
[null,null,"Government - Renewable Energy Strategy",null,"Y/N"]
[null,1,"Does your country have a strategic plan to develop renewble energy?"]
[null,null,"Which of the following renewable generation options is includd in you country's strategic plan to develop renewable energy?",null,"NA"]
[null,2,"Does your country have a specific target for renewable energy?",null,"NA"]
[null,null,"If yes, what is the target and target year?",null,"NA"]
[null,null,"What is the current breakdown of your country's energy mix?",null,"NA"]
[null,3,"Does your country have an Integrated Resource Plan (IRP) that was produced within the last three years?",null,"NA"]
[null,null,"Utilities",null,"Y/N"]
[null,1,"When planning generation expansion, does the utility consider RE options?",null,"NA"]
[null,2,"Can the utility safely recover RE investments through tariffs like it can recover fossil fuel costs?",null,"NA"]
[null,3,"Are there clear, specific planning and permitting processes and rules in place for developing RE?",null,"NA"]
[null,null,"On average, how long does it take for the power utility to get investments in RE projects approved by the regulatory authority (or relevant entity) fror recovery through tariffs?",null,"NA"]
[null,null,"IPPs",null,"Y/N"]
[null,1,"Can the utility safely recover purchases of RE from third parties, just as it recovers fossil fuel costs?",null,"NA"]
[null,null,"How long did it take to get your off-take agreement?",null,"NA"]
[null,2,"Are there workable precedents or rules for PPA terms and grid operation rules?",null,"NA"]
[null,3,"Are there clear and effective licensing processes and requirements in place for IPPs?",null,"NA"]
[null,4,"Does the utility have an obligation to purchase from IPPs when it is cheaper than generating the power itself?",null,"NA"]
[null,5,"Does the PPA have any take-or-pay arrangements?",null,"NA"]
[null,null,"Distributed generation",null,"Y/N"]
[null,1,"Do you have a registry or database of distributed generation?",null,"NA"]
[null,null,"What was the number of existing distributed scale RE systems in 2018?",null,"NA"]
[null,null,"Is there an aggregate maximum capacity for distributed generation?",null,"NA"]
[null,null,"What is the total installed capacity from renewable distributed generation in your country?",null,"NA"]
[null,null,"What was the total generation from existing distributed scale RE systems in 2018?",null,"NA"]
[null,2,"Is there a standard arrangement in place for customers to sell electricity to the utility at a reasonable price, for a reasonable timeframe, and with a clear interconnection agreement?",null,"NA"]
[]
[2,null,"Existing renewable generation"]
[null,null,"What is the number of existing Utility-Scale RE projects?",null,"NA"]
[null,1,"What was the total electricity generated in 2018? (MWh)",null,"NA"]
[null,1,"What was the total electricity generated from Utility Scale RE projects in 2018? (MWh) ",null,{"$f":"7%*'Jurisdictions | Generation'!E22","v":109200.00000000001}]
[null,null,"Please provide as much information as possible for exisitng RE projects in the box below as:\n- Project Name\n- Developer\n- Offtaker\n- Renewable Energy Technology Type\n- Start of Commercial Operation (Year)\n- Estimated Capacity Factor (in %) OR Estimated Annual Production (in MWh)\n- Installed Capacity (MW)\n- Length of PPA ",null,"NA"]
[]
[3,null,"Planned Utility-Scale Renewable Energy Projects"]
[null,1,"Does your country have an estimate of planned installed capacity expected to come online from-utility scale RE projects?",null,"NA"]
[null,null,"How much installed capacity from RE is expected to come online in the next 3 years?",null,"NA"]
[null,2,"How much renewable energy generation is expected to come online in the next 3 years?",null,"NA"]
[null,3,"Is climate resilience incorporated in your IRP or national policy?",null,"NA"]
[null,null,"Please provide as much information as possible for RE projects currently under development in the box below as:\n- Project Name\n- Developer\n- Offtaker\n- Renewable Energy Technology Type\n- Start of Commercial Operation (Year)\n- Estimated Capacity Factor (in %) OR Estimated Annual Production (in MWh)\n- Installed Capacity (MW)\n- Length of PPA ",null,"NA"]
[]
[4,null,"Electric Mobility"]
[null,1,"Does your country have policies in place or draft legislation to promote the uptake of electric mobility?",null,"NA"]
[null,2,"Does your country have specific targets for the uptake of electric vehicles?",null,"NA"]
[null,null,"What is the target and target year?",null,"NA"]
[null,null,"How many electric cars are currently in your country?",null,"NA"]
[null,null,"How many charging stations are in your country?",null,"NA"]
[]
[]
[null,null,"Descriptive CREF Index Survey"]
[null,null,"Enabling Environment for Renewable Energy (RE) Investments"]
[null,null,"Renewable energy strategy"]
[null,null,"Which of the rollowing renewable generation options is included in your country's strategic plan to develop renewable energy?\n- Solar PV\n- Offshore wind\n- Biomass\n- Waste to energy\n- Hydro\n-Geothermal\n- Other",null,{"$f":"E6","v":"NA"}]
[null,null,"What is the target and target year?",null,{"$f":"E8","v":"NA"}]
[null,null,"What is the current breakdown of your country's energy mix?",null,{"$f":"E9","v":"NA"}]
[null,null,"Utilities"]
[null,null,"On average, how long does it take for the power utility to get investments in RE projects approved by the regulatory authority 9or the relevant entity) for recovery through tariffs?",null,{"$f":"E15","v":"NA"}]
[null,null,"IPPs"]
[null,null,"How long did it take to get your off-take agreement?",null,{"$f":"E18","v":"NA"}]
[null,null,"Distributed Generation"]
[null,null,"What is the number of exisiting distributed scale RE systems in 2018?",null,{"$f":"E25","v":"NA"}]
[null,null,"What is the total installed capacity from renewable distributed generation in your country?",null,{"$f":"E27","v":"NA"}]
[null,null,"What was the total generation from exisitng distributed scale RE systems in 2018?",null,{"$f":"E28","v":"NA"}]
[null,null,"Existing renewable generation"]
[null,null,"Existing Utility-Scale Renewable Energy Projects"]
[null,null,"What is the number of existing utility-scale RE projects?",null,{"$f":"E32","v":"NA"}]
[null,null,"What was the total electricity generated in 2018 (MWh)?",null,{"$f":"E33","v":"NA"}]
[null,null,"What was the total electricity generated from utility-scale RE projects in 2018 (MWh)?",null,{"$f":"E34","v":109200.00000000001}]
[null,null,"Please provide as much information as possible for exisitng RE projects in the box below as:\n- Project Name\n- Developer\n- Offtaker\n- Renewable Energy Technology Type\n- Start of Commercial Operation (Year)\n- Estimated Capacity Factor (in %) OR Estimated Annual Production (in MWh)\n- Installed Capacity (MW)\n- Length of PPA ",null,{"$f":"E35","v":"NA"}]
[null,null,"Planned renewable generation"]
[null,null,"Potential Utility-Scale Renewable Energy Projects"]
[null,null,"How much installed capacity from RE is expected to come online in the next 3 years?",null,{"$f":"E39","v":"NA"}]
[null,null,"How much renewable energy generation is expected to come online in the next 3 years?",null,{"$f":"E40","v":"NA"}]
[null,null,"Please provide as much information as possible for RE projects currently under development in the box below as:\n- Project Name\n- Developer\n- Offtaker\n- Renewable Energy Technology Type\n- Start of Commercial Operation (Year)\n- Estimated Capacity Factor (in %) OR Estimated Annual Production (in MWh)\n- Installed Capacity (MW)\n- Length of PPA ",null,{"$f":"E42","v":"NA"}]
[null,null,"Electric Mobility"]
[null,null,"What is the target and target year?",null,{"$f":"E47","v":"NA"}]
[null,null,"How many electric cars are currently in your country?",null,{"$f":"E48","v":"NA"}]
[null,null,"How many charging stations are in your country?",null,"NA"]
[]
[]
[null,null,"Improvement Year-on-Year"]
[null,null,"Enabling environment for renewable energy investments","Change",{"$f":"IF(ISERR(E91-E90),\"\",E91-E90)","v":-3.3333333333333335}]
[null,null,"2012 Score","0 to 5",3]
[null,null,"2013 Score","0 to 5",4]
[null,null,"2014 Score","0 to 5",4.333333333333333]
[null,null,"2015 Score","0 to 5",4.333333333333333]
[null,null,"2016 Score","0 to 5",5]
[null,null,"2017 Score","0 to 5",3.3333333333333335]
[null,null,"2018 Score","0 to 5",{"$f":"VLOOKUP(C84,'RE Index | Ranking inputs'!$D$8:$AM$44,MATCH($B$1,'RE Index | Ranking inputs'!$D$5:$AM$5,0),0)","v":0}]
[null,null,"Existing renewable generation","Change",{"$f":"IF(ISERR(E99-E98),\"\",E99-E98)","v":-0.4482146279604507}]
[null,null,"2012 Score","0 to 5",0.15]
[null,null,"2013 Score","0 to 5",0.14466907139704258]
[null,null,"2014 Score","0 to 5",0.33737001331016375]
[null,null,"2015 Score","0 to 5",0.28229866062914194]
[null,null,"2016 Score","0 to 5",0.26614456001991288]
[null,null,"2017 Score","0 to 5",0.79821462796045073]
[null,null,"2018 Score","0 to 5",{"$f":"VLOOKUP(C92,'RE Index | Ranking inputs'!$D$8:$AM$44,MATCH($B$1,'RE Index | Ranking inputs'!$D$5:$AM$5,0),0)","v":0.35000000000000003}]
[null,null,"Planned renewable generation","Change",{"$f":"IF(ISERR(E107-E106),\"\",E107-E106)","v":-8.1457613730241574E-2}]
[null,null,"2012 Score","0 to 5",0.86]
[null,null,"2013 Score","0 to 5",0.82424095646656359]
[null,null,"2014 Score","0 to 5",0.61334066624764294]
[null,null,"2015 Score","0 to 5",0.61334291927015938]
[null,null,"2016 Score","0 to 5",0.80785123298841521]
[null,null,"2017 Score","0 to 5",0.12731658808921592]
[null,null,"2018 Score","0 to 5",{"$f":"VLOOKUP(C100,'RE Index | Ranking inputs'!$D$8:$AM$44,MATCH($B$1,'RE Index | Ranking inputs'!$D$5:$AM$5,0),0)","v":4.5858974358974354E-2}]
[null,null,"Electric Mobility","Change","N/A"]
[null,null,"2018 Score","0 to 5",{"$f":"VLOOKUP(C108,'RE Index | Ranking inputs'!$D$8:$AM$44,MATCH($B$1,'RE Index | Ranking inputs'!$D$5:$AM$5,0),0)","v":0}]
[null,null,"Overall Score Year-on-Year","Change",{"$f":"E123-E121","v":-1.3008638241533079}]
[null,null,"2012 Overall Score",null,1.3233000000000001]
[null,null,"2012 Rank",null,6]
[null,null,"2013 Overall Score",null,1.6563033426212019]
[null,null,"2013 Rank",null,8]
[null,null,"2014 Overall Score",null,1.7613480042970464]
[null,null,"2014 Rank",null,5]
[null,null,"2015 Overall Score",null,1.7429916377442114]
[null,null,"2015 Rank",null,6]
[null,null,"2016 Overall Score",null,2.0246652643361092]
[null,null,"2016 Rank",null,4]
[null,null,"2017 Overall Score",null,1.4196215164610002]
[null,null,"2017 Rank",null,15]
[null,null,"2018 Overall Score",null,{"$f":"VLOOKUP(C123,'RE Index | Ranking inputs'!$D$8:$AM$125,MATCH($B$1,'RE Index | Ranking inputs'!$D$5:$AM$5,0),0)","v":0.11875769230769231}]
[null,null,"2018 Rank",null,{"$f":"VLOOKUP(C124,'RE Index | Ranking inputs'!$D$8:$AM$125,MATCH($B$1,'RE Index | Ranking inputs'!$D$5:$AM$5,0),0)","v":27}]

{"sheet":"Puerto_Rico","index":34,"n_rows":124,"n_cols":5,"rows_kept":124,"cut":false,"hidden":true,"merged":[[73,2,73,3],[77,2,77,3],[78,2,78,3],[79,2,79,3],[82,2,82,3],[69,2,69,3],[46,2,46,3],[47,2,47,3],[48,2,48,3],[51,2,51,3],[58,2,58,3],[60,2,60,3],[62,2,62,3],[63,2,63,3],[64,2,64,3],[67,2,67,3],[68,2,68,3],[33,2,33,3],[0,1,0,4],[1,2,1,3],[1,6,1,12],[4,2,4,3],[11,2,11,3],[12,2,12,3],[13,2,13,3],[14,2,14,3],[16,5,21,5],[23,2,23,3],[28,2,28,3]]}
[null,"Puerto Rico"]
[null,null,"Overall Indicator",null,"Excluded from RE Index - insufficient data"]
[1,null,"Enabling Environment for Renewable Energy (RE) Investments",null,"Consolidated Survey Response"]
[null,null,"Government - Renewable Energy Strategy",null,"Y/N"]
[null,1,"Does your country have a strategic plan to develop renewble energy?"]
[null,null,"Which of the following renewable generation options is includd in you country's strategic plan to develop renewable energy?",null,"NA"]
[null,2,"Does your country have a specific target for renewable energy?",null,"NA"]
[null,null,"If yes, what is the target and target year?",null,"NA"]
[null,null,"What is the current breakdown of your country's energy mix?",null,"NA"]
[null,3,"Does your country have an Integrated Resource Plan (IRP) that was produced within the last three years?",null,"NA"]
[null,null,"Utilities",null,"Y/N"]
[null,1,"When planning generation expansion, does the utility consider RE options?",null,"NA"]
[null,2,"Can the utility safely recover RE investments through tariffs like it can recover fossil fuel costs?",null,"NA"]
[null,3,"Are there clear, specific planning and permitting processes and rules in place for developing RE?",null,"NA"]
[null,null,"On average, how long does it take for the power utility to get investments in RE projects approved by the regulatory authority (or relevant entity) fror recovery through tariffs?",null,"NA"]
[null,null,"IPPs",null,"Y/N"]
[null,1,"Can the utility safely recover purchases of RE from third parties, just as it recovers fossil fuel costs?",null,"NA"]
[null,null,"How long did it take to get your off-take agreement?",null,"NA"]
[null,2,"Are there workable precedents or rules for PPA terms and grid operation rules?",null,"NA"]
[null,3,"Are there clear and effective licensing processes and requirements in place for IPPs?",null,"NA"]
[null,4,"Does the utility have an obligation to purchase from IPPs when it is cheaper than generating the power itself?",null,"NA"]
[null,5,"Does the PPA have any take-or-pay arrangements?",null,"NA"]
[null,null,"Distributed generation",null,"Y/N"]
[null,1,"Do you have a registry or database of distributed generation?",null,"NA"]
[null,null,"What was the number of existing distributed scale RE systems in 2018?",null,"NA"]
[null,null,"Is there an aggregate maximum capacity for distributed generation?",null,"NA"]
[null,null,"What is the total installed capacity from renewable distributed generation in your country?",null,"NA"]
[null,null,"What was the total generation from existing distributed scale RE systems in 2018?",null,"NA"]
[null,2,"Is there a standard arrangement in place for customers to sell electricity to the utility at a reasonable price, for a reasonable timeframe, and with a clear interconnection agreement?",null,"NA"]
[]
[2,null,"Existing renewable generation"]
[null,null,"What is the number of existing Utility-Scale RE projects?",null,"NA"]
[null,1,"What was the total electricity generated in 2018? (MWh)",null,"NA"]
[null,1,"What was the total electricity generated from Utility Scale RE projects in 2018? (MWh) ",null,"NA"]
[null,null,"Please provide as much information as possible for exisitng RE projects in the box below as:\n- Project Name\n- Developer\n- Offtaker\n- Renewable Energy Technology Type\n- Start of Commercial Operation (Year)\n- Estimated Capacity Factor (in %) OR Estimated Annual Production (in MWh)\n- Installed Capacity (MW)\n- Length of PPA ",null,"NA"]
[]
[3,null,"Planned Utility-Scale Renewable Energy Projects"]
[null,1,"Does your country have an estimate of planned installed capacity expected to come online from-utility scale RE projects?",null,"NA"]
[null,null,"How much installed capacity from RE is expected to come online in the next 3 years?",null,"NA"]
[null,2,"How much renewable energy generation is expected to come online in the next 3 years?",null,"NA"]
[null,3,"Is climate resilience incorporated in your IRP or national policy?",null,"NA"]
[null,null,"Please provide as much information as possible for RE projects currently under development in the box below as:\n- Project Name\n- Developer\n- Offtaker\n- Renewable Energy Technology Type\n- Start of Commercial Operation (Year)\n- Estimated Capacity Factor (in %) OR Estimated Annual Production (in MWh)\n- Installed Capacity (MW)\n- Length of PPA ",null,"NA"]
[]
[4,null,"Electric Mobility"]
[null,1,"Does your country have policies in place or draft legislation to promote the uptake of electric mobility?",null,"NA"]
[null,2,"Does your country have specific targets for the uptake of electric vehicles?",null,"NA"]
[null,null,"What is the target and target year?",null,"NA"]
[null,null,"How many electric cars are currently in your country?",null,"NA"]
[null,null,"How many charging stations are in your country?",null,"NA"]
[]
[]
[null,null,"Descriptive CREF Index Survey"]
[null,null,"Enabling Environment for Renewable Energy (RE) Investments"]
[null,null,"Renewable energy strategy"]
[null,null,"Which of the rollowing renewable generation options is included in your country's strategic plan to develop renewable energy?\n- Solar PV\n- Offshore wind\n- Biomass\n- Waste to energy\n- Hydro\n-Geothermal\n- Other",null,{"$f":"E6","v":"NA"}]
[null,null,"What is the target and target year?",null,{"$f":"E8","v":"NA"}]
[null,null,"What is the current breakdown of your country's energy mix?",null,{"$f":"E9","v":"NA"}]
[null,null,"Utilities"]
[null,null,"On average, how long does it take for the power utility to get investments in RE projects approved by the regulatory authority 9or the relevant entity) for recovery through tariffs?",null,{"$f":"E15","v":"NA"}]
[null,null,"IPPs"]
[null,null,"How long did it take to get your off-take agreement?",null,{"$f":"E18","v":"NA"}]
[null,null,"Distributed Generation"]
[null,null,"What is the number of exisiting distributed scale RE systems in 2018?",null,{"$f":"E25","v":"NA"}]
[null,null,"What is the total installed capacity from renewable distributed generation in your country?",null,{"$f":"E27","v":"NA"}]
[null,null,"What was the total generation from exisitng distributed scale RE systems in 2018?",null,{"$f":"E28","v":"NA"}]
[null,null,"Existing renewable generation"]
[null,null,"Existing Utility-Scale Renewable Energy Projects"]
[null,null,"What is the number of existing utility-scale RE projects?",null,{"$f":"E32","v":"NA"}]
[null,null,"What was the total electricity generated in 2018 (MWh)?",null,{"$f":"E33","v":"NA"}]
[null,null,"What was the total electricity generated from utility-scale RE projects in 2018 (MWh)?",null,{"$f":"E34","v":"NA"}]
[null,null,"Please provide as much information as possible for exisitng RE projects in the box below as:\n- Project Name\n- Developer\n- Offtaker\n- Renewable Energy Technology Type\n- Start of Commercial Operation (Year)\n- Estimated Capacity Factor (in %) OR Estimated Annual Production (in MWh)\n- Installed Capacity (MW)\n- Length of PPA ",null,{"$f":"E35","v":"NA"}]
[null,null,"Planned renewable generation"]
[null,null,"Potential Utility-Scale Renewable Energy Projects"]
[null,null,"How much installed capacity from RE is expected to come online in the next 3 years?",null,{"$f":"E39","v":"NA"}]
[null,null,"How much renewable energy generation is expected to come online in the next 3 years?",null,{"$f":"E40","v":"NA"}]
[null,null,"Please provide as much information as possible for RE projects currently under development in the box below as:\n- Project Name\n- Developer\n- Offtaker\n- Renewable Energy Technology Type\n- Start of Commercial Operation (Year)\n- Estimated Capacity Factor (in %) OR Estimated Annual Production (in MWh)\n- Installed Capacity (MW)\n- Length of PPA ",null,{"$f":"E42","v":"NA"}]
[null,null,"Electric Mobility"]
[null,null,"What is the target and target year?",null,{"$f":"E47","v":"NA"}]
[null,null,"How many electric cars are currently in your country?",null,{"$f":"E48","v":"NA"}]
[null,null,"How many charging stations are in your country?",null,"NA"]
[]
[]
[null,null,"Improvement Year-on-Year"]
[null,null,"Enabling environment for renewable energy investments","Change",{"$f":"IF(ISERR(E91-E90),\"\",E91-E90)","v":-2.8125}]
[null,null,"2012 Score","0 to 5"]
[null,null,"2013 Score","0 to 5",3.333333333333333]
[null,null,"2014 Score","0 to 5",2]
[null,null,"2015 Score","0 to 5",2]
[null,null,"2016 Score","0 to 5",3.6666666666666665]
[null,null,"2017 Score","0 to 5",2.8125]
[null,null,"2018 Score","0 to 5",{"$f":"VLOOKUP(C84,'RE Index | Ranking inputs'!$D$8:$AM$44,MATCH($B$1,'RE Index | Ranking inputs'!$D$5:$AM$5,0),0)","v":0}]
[null,null,"Existing renewable generation","Change",{"$f":"IF(ISERR(E99-E98),\"\",E99-E98)","v":-9.8844665069671461E-2}]
[null,null,"2012 Score","0 to 5"]
[null,null,"2013 Score","0 to 5",0.10090843837380969]
[null,null,"2014 Score","0 to 5",0.10544559381438179]
[null,null,"2015 Score","0 to 5",9.3144445421987548E-2]
[null,null,"2016 Score","0 to 5",0.21468909736516367]
[null,null,"2017 Score","0 to 5",0.19884466506967147]
[null,null,"2018 Score","0 to 5",{"$f":"VLOOKUP(C92,'RE Index | Ranking inputs'!$D$8:$AM$44,MATCH($B$1,'RE Index | Ranking inputs'!$D$5:$AM$5,0),0)","v":0.1}]
[null,null,"Planned renewable generation","Change",{"$f":"IF(ISERR(E107-E106),\"\",E107-E106)","v":0.68861935870676749}]
[null,null,"2012 Score","0 to 5"]
[null,null,"2013 Score","0 to 5",6.0755105895985942E-2]
[null,null,"2014 Score","0 to 5",0]
[null,null,"2015 Score","0 to 5",5.9521681209052948E-2]
[null,null,"2016 Score","0 to 5",0]
[null,null,"2017 Score","0 to 5",7.6003189935775317E-2]
[null,null,"2018 Score","0 to 5",{"$f":"VLOOKUP(C100,'RE Index | Ranking inputs'!$D$8:$AM$44,MATCH($B$1,'RE Index | Ranking inputs'!$D$5:$AM$5,0),0)","v":0.76462254864254275}]
[null,null,"Electric Mobility","Change","N/A"]
[null,null,"2018 Score","0 to 5",{"$f":"VLOOKUP(C108,'RE Index | Ranking inputs'!$D$8:$AM$44,MATCH($B$1,'RE Index | Ranking inputs'!$D$5:$AM$5,0),0)","v":0}]
[null,null,"Overall Score Year-on-Year","Change",{"$f":"E123-E121","v":-0.76972918707571947}]
[null,null,"2012 Overall Score",null,0]
[null,null,"2012 Rank",null,22]
[null,null,"2013 Overall Score",null,1.1649989592010428]
[null,null,"2013 Rank",null,15]
[null,null,"2014 Overall Score",null,0.70181519793812719]
[null,null,"2014 Rank",null,24]
[null,null,"2015 Overall Score",null,0.7175553755436801]
[null,null,"2015 Rank",null,26]
[null,null,"2016 Overall Score",null,1.2937852546772766]
[null,null,"2016 Rank",null,16]
[null,null,"2017 Overall Score",null,1.0291159516684822]
[null,null,"2017 Rank",null,23]
[null,null,"2018 Overall Score",null,{"$f":"VLOOKUP(C123,'RE Index | Ranking inputs'!$D$8:$AM$125,MATCH($B$1,'RE Index | Ranking inputs'!$D$5:$AM$5,0),0)","v":0.25938676459276278}]
[null,null,"2018 Rank",null,{"$f":"VLOOKUP(C124,'RE Index | Ranking inputs'!$D$8:$AM$125,MATCH($B$1,'RE Index | Ranking inputs'!$D$5:$AM$5,0),0)","v":23}]

{"sheet":"Saint_Martin","index":35,"n_rows":124,"n_cols":5,"rows_kept":124,"cut":false,"hidden":true,"merged":[[73,2,73,3],[77,2,77,3],[78,2,78,3],[79,2,79,3],[82,2,82,3],[69,2,69,3],[46,2,46,3],[47,2,47,3],[48,2,48,3],[51,2,51,3],[58,2,58,3],[60,2,60,3],[62,2,62,3],[63,2,63,3],[64,2,64,3],[67,2,67,3],[68,2,68,3],[33,2,33,3],[0,1,0,4],[1,2,1,3],[1,6,1,12],[4,2,4,3],[11,2,11,3],[12,2,12,3],[13,2,13,3],[14,2,14,3],[16,5,21,5],[23,2,23,3],[28,2,28,3]]}
[null,"Saint-Martin"]
[null,null,"Overall Indicator",null,"Excluded from RE Index - insufficient data"]
[1,null,"Enabling Environment for Renewable Energy (RE) Investments",null,"Consolidated Survey Response"]
[null,null,"Government - Renewable Energy Strategy",null,"Y/N"]
[null,1,"Does your country have a strategic plan to develop renewble energy?"]
[null,null,"Which of the following renewable generation options is includd in you country's strategic plan to develop renewable energy?",null,"NA"]
[null,2,"Does your country have a specific target for renewable energy?",null,"NA"]
[null,null,"If yes, what is the target and target year?",null,"NA"]
[null,null,"What is the current breakdown of your country's energy mix?",null,"NA"]
[null,3,"Does your country have an Integrated Resource Plan (IRP) that was produced within the last three years?",null,"NA"]
[null,null,"Utilities",null,"Y/N"]
[null,1,"When planning generation expansion, does the utility consider RE options?",null,"NA"]
[null,2,"Can the utility safely recover RE investments through tariffs like it can recover fossil fuel costs?",null,"NA"]
[null,3,"Are there clear, specific planning and permitting processes and rules in place for developing RE?",null,"NA"]
[null,null,"On average, how long does it take for the power utility to get investments in RE projects approved by the regulatory authority (or relevant entity) fror recovery through tariffs?",null,"NA"]
[null,null,"IPPs",null,"Y/N"]
[null,1,"Can the utility safely recover purchases of RE from third parties, just as it recovers fossil fuel costs?",null,"NA"]
[null,null,"How long did it take to get your off-take agreement?",null,"NA"]
[null,2,"Are there workable precedents or rules for PPA terms and grid operation rules?",null,"NA"]
[null,3,"Are there clear and effective licensing processes and requirements in place for IPPs?",null,"NA"]
[null,4,"Does the utility have an obligation to purchase from IPPs when it is cheaper than generating the power itself?",null,"NA"]
[null,5,"Does the PPA have any take-or-pay arrangements?",null,"NA"]
[null,null,"Distributed generation",null,"Y/N"]
[null,1,"Do you have a registry or database of distributed generation?",null,"NA"]
[null,null,"What was the number of existing distributed scale RE systems in 2018?",null,"NA"]
[null,null,"Is there an aggregate maximum capacity for distributed generation?",null,"NA"]
[null,null,"What is the total installed capacity from renewable distributed generation in your country?",null,"NA"]
[null,null,"What was the total generation from existing distributed scale RE systems in 2018?",null,"NA"]
[null,2,"Is there a standard arrangement in place for customers to sell electricity to the utility at a reasonable price, for a reasonable timeframe, and with a clear interconnection agreement?",null,"NA"]
[]
[2,null,"Existing renewable generation"]
[null,null,"What is the number of existing Utility-Scale RE projects?",null,"NA"]
[null,null,"What was the total electricity generated in 2018? (MWh)",null,"NA"]
[null,1,"What was the total electricity generated from Utility Scale RE projects in 2018? (MWh) ",null,"NA"]
[null,null,"Please provide as much information as possible for exisitng RE projects in the box below as:\n- Project Name\n- Developer\n- Offtaker\n- Renewable Energy Technology Type\n- Start of Commercial Operation (Year)\n- Estimated Capacity Factor (in %) OR Estimated Annual Production (in MWh)\n- Installed Capacity (MW)\n- Length of PPA ",null,"NA"]
[]
[3,null,"Planned Utility-Scale Renewable Energy Projects"]
[null,1,"Does your country have an estimate of planned installed capacity expected to come online from-utility scale RE projects?",null,"NA"]
[null,null,"How much installed capacity from RE is expected to come online in the next 3 years?",null,"NA"]
[null,2,"How much renewable energy generation is expected to come online in the next 3 years?",null,"NA"]
[null,3,"Is climate resilience incorporated in your IRP or national policy?",null,"NA"]
[null,null,"Please provide as much information as possible for RE projects currently under development in the box below as:\n- Project Name\n- Developer\n- Offtaker\n- Renewable Energy Technology Type\n- Start of Commercial Operation (Year)\n- Estimated Capacity Factor (in %) OR Estimated Annual Production (in MWh)\n- Installed Capacity (MW)\n- Length of PPA ",null,"NA"]
[]
[4,null,"Electric Mobility"]
[null,1,"Does your country have policies in place or draft legislation to promote the uptake of electric mobility?",null,"NA"]
[null,2,"Does your country have specific targets for the uptake of electric vehicles?",null,"NA"]
[null,null,"What is the target and target year?",null,"NA"]
[null,null,"How many electric cars are currently in your country?",null,"NA"]
[null,null,"How many charging stations are in your country?",null,"NA"]
[]
[]
[null,null,"Descriptive CREF Index Survey"]
[null,null,"Enabling Environment for Renewable Energy (RE) Investments"]
[null,null,"Renewable energy strategy"]
[null,null,"Which of the rollowing renewable generation options is included in your country's strategic plan to develop renewable energy?\n- Solar PV\n- Offshore wind\n- Biomass\n- Waste to energy\n- Hydro\n-Geothermal\n- Other",null,{"$f":"E6","v":"NA"}]
[null,null,"What is the target and target year?",null,{"$f":"E8","v":"NA"}]
[null,null,"What is the current breakdown of your country's energy mix?",null,{"$f":"E9","v":"NA"}]
[null,null,"Utilities"]
[null,null,"On average, how long does it take for the power utility to get investments in RE projects approved by the regulatory authority 9or the relevant entity) for recovery through tariffs?",null,{"$f":"E15","v":"NA"}]
[null,null,"IPPs"]
[null,null,"How long did it take to get your off-take agreement?",null,{"$f":"E18","v":"NA"}]
[null,null,"Distributed Generation"]
[null,null,"What is the number of exisiting distributed scale RE systems in 2018?",null,{"$f":"E25","v":"NA"}]
[null,null,"What is the total installed capacity from renewable distributed generation in your country?",null,{"$f":"E27","v":"NA"}]
[null,null,"What was the total generation from exisitng distributed scale RE systems in 2018?",null,{"$f":"E28","v":"NA"}]
[null,null,"Existing renewable generation"]
[null,null,"Existing Utility-Scale Renewable Energy Projects"]
[null,null,"What is the number of existing utility-scale RE projects?",null,{"$f":"E32","v":"NA"}]
[null,null,"What was the total electricity generated in 2018 (MWh)?",null,{"$f":"E33","v":"NA"}]
[null,null,"What was the total electricity generated from utility-scale RE projects in 2018 (MWh)?",null,{"$f":"E34","v":"NA"}]
[null,null,"Please provide as much information as possible for exisitng RE projects in the box below as:\n- Project Name\n- Developer\n- Offtaker\n- Renewable Energy Technology Type\n- Start of Commercial Operation (Year)\n- Estimated Capacity Factor (in %) OR Estimated Annual Production (in MWh)\n- Installed Capacity (MW)\n- Length of PPA ",null,{"$f":"E35","v":"NA"}]
[null,null,"Planned renewable generation"]
[null,null,"Potential Utility-Scale Renewable Energy Projects"]
[null,null,"How much installed capacity from RE is expected to come online in the next 3 years?",null,{"$f":"E39","v":"NA"}]
[null,null,"How much renewable energy generation is expected to come online in the next 3 years?",null,{"$f":"E40","v":"NA"}]
[null,null,"Please provide as much information as possible for RE projects currently under development in the box below as:\n- Project Name\n- Developer\n- Offtaker\n- Renewable Energy Technology Type\n- Start of Commercial Operation (Year)\n- Estimated Capacity Factor (in %) OR Estimated Annual Production (in MWh)\n- Installed Capacity (MW)\n- Length of PPA ",null,{"$f":"E42","v":"NA"}]
[null,null,"Electric Mobility"]
[null,null,"What is the target and target year?",null,{"$f":"E47","v":"NA"}]
[null,null,"How many electric cars are currently in your country?",null,{"$f":"E48","v":"NA"}]
[null,null,"How many charging stations are in your country?",null,"NA"]
[]
[]
[null,null,"Improvement Year-on-Year"]
[null,null,"Enabling environment for renewable energy investments","Change",{"$f":"IF(ISERR(E91-E90),\"\",E91-E90)","v":0}]
[null,null,"2012 Score","0 to 5",0]
[null,null,"2013 Score","0 to 5",0]
[null,null,"2014 Score","0 to 5",0]
[null,null,"2015 Score","0 to 5",0]
[null,null,"2016 Score","0 to 5",0]
[null,null,"2017 Score","0 to 5",0]
[null,null,"2018 Score","0 to 5",{"$f":"VLOOKUP(C84,'RE Index | Ranking inputs'!$D$8:$AM$44,MATCH($B$1,'RE Index | Ranking inputs'!$D$5:$AM$5,0),0)","v":0}]
[null,null,"Existing renewable generation","Change",{"$f":"IF(ISERR(E99-E98),\"\",E99-E98)","v":0}]
[null,null,"2012 Score","0 to 5",0]
[null,null,"2013 Score","0 to 5",4.0586436170212764E-2]
[null,null,"2014 Score","0 to 5",7.9773208163265288E-2]
[null,null,"2015 Score","0 to 5",7.1235893061224478E-2]
[null,null,"2016 Score","0 to 5",7.3981033414634148E-2]
[null,null,"2017 Score","0 to 5",0]
[null,null,"2018 Score","0 to 5",{"$f":"VLOOKUP(C92,'RE Index | Ranking inputs'!$D$8:$AM$44,MATCH($B$1,'RE Index | Ranking inputs'!$D$5:$AM$5,0),0)","v":0}]
[null,null,"Planned renewable generation","Change",{"$f":"IF(ISERR(E107-E106),\"\",E107-E106)","v":0}]
[null,null,"2012 Score","0 to 5",0]
[null,null,"2013 Score","0 to 5",1.1497500000000001E-2]
[null,null,"2014 Score","0 to 5",1.9909373558118903E-2]
[null,null,"2015 Score","0 to 5",0]
[null,null,"2016 Score","0 to 5",0]
[null,null,"2017 Score","0 to 5",0]
[null,null,"2018 Score","0 to 5",{"$f":"VLOOKUP(C100,'RE Index | Ranking inputs'!$D$8:$AM$44,MATCH($B$1,'RE Index | Ranking inputs'!$D$5:$AM$5,0),0)","v":0}]
[null,null,"Electric Mobility","Change","N/A"]
[null,null,"2018 Score","0 to 5",{"$f":"VLOOKUP(C108,'RE Index | Ranking inputs'!$D$8:$AM$44,MATCH($B$1,'RE Index | Ranking inputs'!$D$5:$AM$5,0),0)","v":0}]
[null,null,"Overall Score Year-on-Year","Change",{"$f":"E123-E121","v":2}]
[null,null,"2012 Overall Score",null,0]
[null,null,"2012 Rank",null,22]
[null,null,"2013 Overall Score",null,1.7361312056737587E-2]
[null,null,"2013 Rank",null,29]
[null,null,"2014 Overall Score",null,3.3227527240461394E-2]
[null,null,"2014 Rank",null,30]
[null,null,"2015 Overall Score",null,2.3745297687074826E-2]
[null,null,"2015 Rank",null,31]
[null,null,"2016 Overall Score",null,2.4660344471544714E-2]
[null,null,"2016 Rank",null,30]
[null,null,"2017 Overall Score",null,0]
[null,null,"2017 Rank",null,28]
[null,null,"2018 Overall Score",null,2]
[null,null,"2018 Rank",null,{"$f":"VLOOKUP(C124,'RE Index | Ranking inputs'!$D$8:$AM$125,MATCH($B$1,'RE Index | Ranking inputs'!$D$5:$AM$5,0),0)","v":31}]

{"sheet":"Sint_Marteen","index":36,"n_rows":124,"n_cols":5,"rows_kept":124,"cut":false,"hidden":true,"merged":[[73,2,73,3],[77,2,77,3],[78,2,78,3],[79,2,79,3],[82,2,82,3],[69,2,69,3],[46,2,46,3],[47,2,47,3],[48,2,48,3],[51,2,51,3],[58,2,58,3],[60,2,60,3],[62,2,62,3],[63,2,63,3],[64,2,64,3],[67,2,67,3],[68,2,68,3],[33,2,33,3],[0,1,0,4],[1,2,1,3],[1,6,1,12],[4,2,4,3],[11,2,11,3],[12,2,12,3],[13,2,13,3],[14,2,14,3],[16,5,21,5],[23,2,23,3],[28,2,28,3]]}
[null,"Sint-Marteen"]
[null,null,"Overall Indicator",null,"Excluded from RE Index - insufficient data"]
[1,null,"Enabling Environment for Renewable Energy (RE) Investments",null,"Consolidated Survey Response"]
[null,null,"Government - Renewable Energy Strategy",null,"Y/N"]
[null,1,"Does your country have a strategic plan to develop renewble energy?"]
[null,null,"Which of the following renewable generation options is includd in you country's strategic plan to develop renewable energy?",null,"NA"]
[null,2,"Does your country have a specific target for renewable energy?",null,"NA"]
[null,null,"If yes, what is the target and target year?",null,"NA"]
[null,null,"What is the current breakdown of your country's energy mix?",null,"NA"]
[null,3,"Does your country have an Integrated Resource Plan (IRP) that was produced within the last three years?",null,"NA"]
[null,null,"Utilities",null,"Y/N"]
[null,1,"When planning generation expansion, does the utility consider RE options?",null,"NA"]
[null,2,"Can the utility safely recover RE investments through tariffs like it can recover fossil fuel costs?",null,"NA"]
[null,3,"Are there clear, specific planning and permitting processes and rules in place for developing RE?",null,"NA"]
[null,null,"On average, how long does it take for the power utility to get investments in RE projects approved by the regulatory authority (or relevant entity) fror recovery through tariffs?",null,"NA"]
[null,null,"IPPs",null,"Y/N"]
[null,1,"Can the utility safely recover purchases of RE from third parties, just as it recovers fossil fuel costs?",null,"NA"]
[null,null,"How long did it take to get your off-take agreement?",null,"NA"]
[null,2,"Are there workable precedents or rules for PPA terms and grid operation rules?",null,"NA"]
[null,3,"Are there clear and effective licensing processes and requirements in place for IPPs?",null,"NA"]
[null,4,"Does the utility have an obligation to purchase from IPPs when it is cheaper than generating the power itself?",null,"NA"]
[null,5,"Does the PPA have any take-or-pay arrangements?",null,"NA"]
[null,null,"Distributed generation",null,"Y/N"]
[null,1,"Do you have a registry or database of distributed generation?",null,"NA"]
[null,null,"What was the number of existing distributed scale RE systems in 2018?",null,"NA"]
[null,null,"Is there an aggregate maximum capacity for distributed generation?",null,"NA"]
[null,null,"What is the total installed capacity from renewable distributed generation in your country?",null,"NA"]
[null,null,"What was the total generation from existing distributed scale RE systems in 2018?",null,"NA"]
[null,2,"Is there a standard arrangement in place for customers to sell electricity to the utility at a reasonable price, for a reasonable timeframe, and with a clear interconnection agreement?",null,"NA"]
[]
[2,null,"Existing renewable generation"]
[null,null,"What is the number of existing Utility-Scale RE projects?",null,"NA"]
[null,1,"What was the total electricity generated in 2018? (MWh)",null,"NA"]
[null,1,"What was the total electricity generated from Utility Scale RE projects in 2018? (MWh) ",null,"NA"]
[null,null,"Please provide as much information as possible for exisitng RE projects in the box below as:\n- Project Name\n- Developer\n- Offtaker\n- Renewable Energy Technology Type\n- Start of Commercial Operation (Year)\n- Estimated Capacity Factor (in %) OR Estimated Annual Production (in MWh)\n- Installed Capacity (MW)\n- Length of PPA ",null,"NA"]
[]
[3,null,"Planned Utility-Scale Renewable Energy Projects"]
[null,1,"Does your country have an estimate of planned installed capacity expected to come online from-utility scale RE projects?",null,"NA"]
[null,null,"How much installed capacity from RE is expected to come online in the next 3 years?",null,"NA"]
[null,2,"How much renewable energy generation is expected to come online in the next 3 years?",null,"NA"]
[null,3,"Is climate resilience incorporated in your IRP or national policy?",null,"NA"]
[null,null,"Please provide as much information as possible for RE projects currently under development in the box below as:\n- Project Name\n- Developer\n- Offtaker\n- Renewable Energy Technology Type\n- Start of Commercial Operation (Year)\n- Estimated Capacity Factor (in %) OR Estimated Annual Production (in MWh)\n- Installed Capacity (MW)\n- Length of PPA ",null,"NA"]
[]
[4,null,"Electric Mobility"]
[null,1,"Does your country have policies in place or draft legislation to promote the uptake of electric mobility?",null,"NA"]
[null,2,"Does your country have specific targets for the uptake of electric vehicles?",null,"NA"]
[null,null,"What is the target and target year?",null,"NA"]
[null,null,"How many electric cars are currently in your country?",null,"NA"]
[null,null,"How many charging stations are in your country?",null,"NA"]
[]
[]
[null,null,"Descriptive CREF Index Survey"]
[null,null,"Enabling Environment for Renewable Energy (RE) Investments"]
[null,null,"Renewable energy strategy"]
[null,null,"Which of the rollowing renewable generation options is included in your country's strategic plan to develop renewable energy?\n- Solar PV\n- Offshore wind\n- Biomass\n- Waste to energy\n- Hydro\n-Geothermal\n- Other",null,{"$f":"E6","v":"NA"}]
[null,null,"What is the target and target year?",null,{"$f":"E8","v":"NA"}]
[null,null,"What is the current breakdown of your country's energy mix?",null,{"$f":"E9","v":"NA"}]
[null,null,"Utilities"]
[null,null,"On average, how long does it take for the power utility to get investments in RE projects approved by the regulatory authority 9or the relevant entity) for recovery through tariffs?",null,{"$f":"E15","v":"NA"}]
[null,null,"IPPs"]
[null,null,"How long did it take to get your off-take agreement?",null,{"$f":"E18","v":"NA"}]
[null,null,"Distributed Generation"]
[null,null,"What is the number of exisiting distributed scale RE systems in 2018?",null,{"$f":"E25","v":"NA"}]
[null,null,"What is the total installed capacity from renewable distributed generation in your country?",null,{"$f":"E27","v":"NA"}]
[null,null,"What was the total generation from exisitng distributed scale RE systems in 2018?",null,{"$f":"E28","v":"NA"}]
[null,null,"Existing renewable generation"]
[null,null,"Existing Utility-Scale Renewable Energy Projects"]
[null,null,"What is the number of existing utility-scale RE projects?",null,{"$f":"E32","v":"NA"}]
[null,null,"What was the total electricity generated in 2018 (MWh)?",null,{"$f":"E33","v":"NA"}]
[null,null,"What was the total electricity generated from utility-scale RE projects in 2018 (MWh)?",null,{"$f":"E34","v":"NA"}]
[null,null,"Please provide as much information as possible for exisitng RE projects in the box below as:\n- Project Name\n- Developer\n- Offtaker\n- Renewable Energy Technology Type\n- Start of Commercial Operation (Year)\n- Estimated Capacity Factor (in %) OR Estimated Annual Production (in MWh)\n- Installed Capacity (MW)\n- Length of PPA ",null,{"$f":"E35","v":"NA"}]
[null,null,"Planned renewable generation"]
[null,null,"Potential Utility-Scale Renewable Energy Projects"]
[null,null,"How much installed capacity from RE is expected to come online in the next 3 years?",null,{"$f":"E39","v":"NA"}]
[null,null,"How much renewable energy generation is expected to come online in the next 3 years?",null,{"$f":"E40","v":"NA"}]
[null,null,"Please provide as much information as possible for RE projects currently under development in the box below as:\n- Project Name\n- Developer\n- Offtaker\n- Renewable Energy Technology Type\n- Start of Commercial Operation (Year)\n- Estimated Capacity Factor (in %) OR Estimated Annual Production (in MWh)\n- Installed Capacity (MW)\n- Length of PPA ",null,{"$f":"E42","v":"NA"}]
[null,null,"Electric Mobility"]
[null,null,"What is the target and target year?",null,{"$f":"E47","v":"NA"}]
[null,null,"How many electric cars are currently in your country?",null,{"$f":"E48","v":"NA"}]
[null,null,"How many charging stations are in your country?",null,"NA"]
[]
[]
[null,null,"Improvement Year-on-Year"]
[null,null,"Enabling environment for renewable energy investments","Change",{"$f":"IF(ISERR(E91-E90),\"\",E91-E90)","v":0}]
[null,null,"2012 Score","0 to 5",0]
[null,null,"2013 Score","0 to 5",0]
[null,null,"2014 Score","0 to 5",0]
[null,null,"2015 Score","0 to 5",0]
[null,null,"2016 Score","0 to 5",0]
[null,null,"2017 Score","0 to 5",0]
[null,null,"2018 Score","0 to 5",{"$f":"'RE Index | Ranking inputs'!AF8","v":0}]
[null,null,"Existing renewable generation","Change",{"$f":"IF(ISERR(E99-E98),\"\",E99-E98)","v":0}]
[null,null,"2012 Score","0 to 5",0]
[null,null,"2013 Score","0 to 5",0]
[null,null,"2014 Score","0 to 5",1.9109375000000001E-2]
[null,null,"2015 Score","0 to 5",1.531438172043011E-2]
[null,null,"2016 Score","0 to 5",1.5312457572127385E-2]
[null,null,"2017 Score","0 to 5",0]
[null,null,"2018 Score","0 to 5",{"$f":"'RE Index | Ranking inputs'!AF26","v":0}]
[null,null,"Planned renewable generation","Change",{"$f":"IF(ISERR(E107-E106),\"\",E107-E106)","v":0}]
[null,null,"2012 Score","0 to 5",0]
[null,null,"2013 Score","0 to 5",0]
[null,null,"2014 Score","0 to 5",0]
[null,null,"2015 Score","0 to 5",0]
[null,null,"2016 Score","0 to 5",0]
[null,null,"2017 Score","0 to 5",0]
[null,null,"2018 Score","0 to 5",{"$f":"'RE Index | Ranking inputs'!AF34","v":0}]
[null,null,"Electric Mobility","Change","N/A"]
[null,null,"2018 Score","0 to 5",{"$f":"'RE Index | Ranking inputs'!AF42","v":0}]
[null,null,"Overall Score Year-on-Year","Change",{"$f":"E123-E121","v":0}]
[null,null,"2012 Overall Score",null,0]
[null,null,"2012 Rank",null,22]
[null,null,"2013 Overall Score",null,0]
[null,null,"2013 Rank",null,31]
[null,null,"2014 Overall Score",null,6.3697916666666668E-3]
[null,null,"2014 Rank",null,31]
[null,null,"2015 Overall Score",null,5.1047939068100366E-3]
[null,null,"2015 Rank",null,32]
[null,null,"2016 Overall Score",null,5.1041525240424612E-3]
[null,null,"2016 Rank",null,31]
[null,null,"2017 Overall Score",null,0]
[null,null,"2017 Rank",null,28]
[null,null,"2018 Overall Score",null,{"$f":"'RE Index | Ranking inputs'!AF6","v":0}]
[null,null,"2018 Rank",null,{"$f":"'RE Index | Ranking inputs'!AF7","v":31}]

{"sheet":"Jurisdictions | Generation","index":37,"n_rows":35,"n_cols":15,"rows_kept":35,"cut":false,"hidden":false,"merged":[[0,4,0,7],[0,8,0,11],[0,1,0,3]]}
["Jurisdiction","Population",null,null,"Total Generation",null,null,null,"Customers",null,null,null,"RE Generation (according to database)"]
["Name","Number","Source","Link","MWh","Year","Source","Link","Customers","Year","Source","Link",2018,null,"Helper"]
["Anguilla",17422,"CIA Factbook 2018 Est.","https://www.cia.gov/library/publications/resources/the-world-factbook/geos/xx.html",100446,2016,"ANGLEC 2016 Annual Report","https://www.anglec.com/documents/annrep2016.pdf",8000,2016,"CARILEC 2012 Tariff Survey, The Anguillian","http://carilec.com/technical/CARILEC_TariffSurvey_Sept2012.pdf, https://theanguillian.com/2016/09/anglec-turns-to-sun-for-greater-power/",{"$f":"SUMIFS(Marketplace!$Q$3:$Q$423,Marketplace!$C$3:$C$423,'Jurisdictions | Generation'!O3,Marketplace!$K$3:$K$423,\"Operational\",Marketplace!$J$3:$J$423,\"Utility/IPP\",Marketplace!$AJ$3:$AJ$423,\"Confident\",Marketplace!$AG$3:$AG$423,\"<2019\")","v":0},null,"Anguilla"]
["Antigua_Barbuda",95882,"CIA Factbook 2018 Est.","https://www.cia.gov/library/publications/resources/the-world-factbook/geos/av.html",330000,2017,"Energy Report Card 2017","https://europa.eu/capacity4dev/covenantinsubsaharanafrica/file/88842/download?token=OvZBliiG",38000,2017,"Energy Report Card 2017","https://www.google.com/search?rlz=1C1CAFC_enUS858US858&ei=mnpEXbeVCKum_Qbi8pGAAw&q=antigua+and+barbuda+energy+report+card&oq=antigua+and+barbuda+energy+report+card&gs_l=psy-ab.3..35i39.93063.95893..96013...0.0..0.75.1107.19......0....1..gws-wiz.......0i71j0i67j0i20i263j0j0i3j0i22i30j0i22i10i30.RUyRYnu4Nbk&ved=0ahUKEwi3yom-4uTjAhUrU98KHWJ5BDAQ4dUDCAo&uact=5#",{"$f":"SUMIFS(Marketplace!$Q$3:$Q$423,Marketplace!$C$3:$C$423,'Jurisdictions | Generation'!O4,Marketplace!$K$3:$K$423,\"Operational\",Marketplace!$J$3:$J$423,\"Utility/IPP\",Marketplace!$AJ$3:$AJ$423,\"Confident\",Marketplace!$AG$3:$AG$423,\"<2019\")","v":4665},null,"Antigua & Barbuda"]
["Aruba",116576,"CIA Factbook 2018 Est.","https://www.cia.gov/library/publications/resources/the-world-factbook/geos/ac.html",990000,2015,"National Renewable Energy Laboratory","https://www.nrel.gov/docs/fy15osti/62709.pdf",40238,2010,"CARILEC 2010 Tariff Survey","http://www.carilec.com/services/Tariff2010.pdf",{"$f":"SUMIFS(Marketplace!$Q$3:$Q$423,Marketplace!$C$3:$C$423,'Jurisdictions | Generation'!O5,Marketplace!$K$3:$K$423,\"Operational\",Marketplace!$J$3:$J$423,\"Utility/IPP\",Marketplace!$AJ$3:$AJ$423,\"Confident\",Marketplace!$AG$3:$AG$423,\"<2019\")","v":147022.39999999999},null,"Aruba"]
["Bahamas",332634,"CIA Factbook 2018 Est.","https://www.cia.gov/library/publications/resources/the-world-factbook/geos/aa.html",1930000,2015,"National Renewable Energy Laboratory","https://www.nrel.gov/docs/fy15osti/62691.pdf",{"$f":"95000+19000","v":114000},2015,"Energy Report Card 2017","https://europa.eu/capacity4dev/pg/file/88839/download?token=kpuJGblj",{"$f":"SUMIFS(Marketplace!$Q$3:$Q$423,Marketplace!$C$3:$C$423,'Jurisdictions | Generation'!O6,Marketplace!$K$3:$K$423,\"Operational\",Marketplace!$J$3:$J$423,\"Utility/IPP\",Marketplace!$AJ$3:$AJ$423,\"Confident\",Marketplace!$AG$3:$AG$423,\"<2019\")","v":0},null,"The Bahamas"]
["Barbados",293131,"CIA Factbook 2018 Est.","https://www.cia.gov/library/publications/resources/the-world-factbook/geos/bb.html",915200,2015,"Emera Caribbean 2015 Annual Report ","http://www.emeracaribbean.com/site-emera/media/EmeraCaribbean/Emera%2017%20Final%20Approved%20(OPT).pdf",126200,2015,"Emera Caribbean 2015 Annual Report ","http://www.emeracaribbean.com/site-emera/media/EmeraCaribbean/Emera%2017%20Final%20Approved%20(OPT).pdf",{"$f":"SUMIFS(Marketplace!$Q$3:$Q$423,Marketplace!$C$3:$C$423,'Jurisdictions | Generation'!O7,Marketplace!$K$3:$K$423,\"Operational\",Marketplace!$J$3:$J$423,\"Utility/IPP\",Marketplace!$AJ$3:$AJ$423,\"Confident\",Marketplace!$AG$3:$AG$423,\"<2019\")","v":20200},null,"Barbados"]
["Belize","385,854 ","CIA Factbook 2018 Est.","https://www.cia.gov/library/publications/resources/the-world-factbook/geos/bh.html",630159,2017,"BEL 2015 Annual Report","http://www.bel.com.bz/annual_reports/Annual%20Report%202017.pdf",97714,2018,"BEL 2018 Annual Report","http://www.bel.com.bz/annual_reports/Annual%20Report%202018.pdf",{"$f":"SUMIFS(Marketplace!$Q$3:$Q$423,Marketplace!$C$3:$C$423,'Jurisdictions | Generation'!O8,Marketplace!$K$3:$K$423,\"Operational\",Marketplace!$J$3:$J$423,\"Utility/IPP\",Marketplace!$AJ$3:$AJ$423,\"Confident\",Marketplace!$AG$3:$AG$423,\"<2019\")","v":391585.72},null,"Belize"]
["Bermuda",71176,"CIA Factbook 2018 Est.","https://www.cia.gov/library/publications/resources/the-world-factbook/geos/bd.html",567827,2018,"Ascendant Group 2018 Annual Report","https://ascendant.bm/wp-content/uploads/2019/07/AGL-Annual-Report-for-BSX-28Jun19.pdf",38013,2018,"Ascendant Group 2018 Annual Report","https://ascendant.bm/wp-content/uploads/2019/07/AGL-Annual-Report-for-BSX-28Jun19.pdf",{"$f":"SUMIFS(Marketplace!$Q$3:$Q$423,Marketplace!$C$3:$C$423,'Jurisdictions | Generation'!O9,Marketplace!$K$3:$K$423,\"Operational\",Marketplace!$J$3:$J$423,\"Utility/IPP\",Marketplace!$AJ$3:$AJ$423,\"Confident\",Marketplace!$AG$3:$AG$423,\"<2019\")","v":30805.999999999996},null,"Bermuda"]
["Bonaire",20100,"Netherlands Centraal Bureau voor de Statistiek","https://www.cbs.nl/en-gb/news/2019/31/caribbean-dutch-population-larger-and-older-by-2030",75000,2015,"National Renewable Energy Laboratory","https://www.nrel.gov/docs/fy15osti/64119.pdf",8283,2013,"CARILEC 2010 Tariff Survey","http://www.carilec.com/services/Tariff2010.pdf",{"$f":"SUMIFS(Marketplace!$Q$3:$Q$423,Marketplace!$C$3:$C$423,'Jurisdictions | Generation'!O10,Marketplace!$K$3:$K$423,\"Operational\",Marketplace!$J$3:$J$423,\"Utility/IPP\",Marketplace!$AJ$3:$AJ$423,\"Confident\",Marketplace!$AG$3:$AG$423,\"<2019\")","v":35000},null,"Bonaire"]
["BVI",35802,"CIA Factbook 2018 Est.","https://www.cia.gov/library/publications/resources/the-world-factbook/geos/vi.html",50000,2015,"National Renewable Energy Laboratory","https://www.nrel.gov/docs/fy15osti/62703.pdf",16638,2016,"British Virgin Islands Energy Policy 2016","http://www.bvi.gov.vg/sites/default/files/resources/energy_policy_of_the_virgin_islands_oct_2016.pdf",{"$f":"SUMIFS(Marketplace!$Q$3:$Q$423,Marketplace!$C$3:$C$423,'Jurisdictions | Generation'!O11,Marketplace!$K$3:$K$423,\"Operational\",Marketplace!$J$3:$J$423,\"Utility/IPP\",Marketplace!$AJ$3:$AJ$423,\"Confident\",Marketplace!$AG$3:$AG$423,\"<2019\")","v":0},null,"British Virgin Islands"]
["Cayman_Islands",59613,"CIA Factbook 2018 Est.","https://www.cia.gov/library/publications/resources/the-world-factbook/geos/cj.html",641800,2018,"CUC 2018 Annual Report","https://www.cuc-cayman.com/annual-reports",29000,2018,"CUC 2018 Annual Report","https://www.cuc-cayman.com/annual-reports",{"$f":"SUMIFS(Marketplace!$Q$3:$Q$423,Marketplace!$C$3:$C$423,'Jurisdictions | Generation'!O12,Marketplace!$K$3:$K$423,\"Operational\",Marketplace!$J$3:$J$423,\"Utility/IPP\",Marketplace!$AJ$3:$AJ$423,\"Confident\",Marketplace!$AG$3:$AG$423,\"<2019\")","v":11125.2},null,"Cayman Islands"]
["Cuba",11116396,"CIA Factbook 2018 Est.","https://www.cia.gov/library/publications/resources/the-world-factbook/geos/cu.html",20458600,2016,"Cuba Oficina Nacional de Estadistica","http://www.one.cu/aec2016/10%20Mineria%20y%20energia.pdf",3400000,2013,"Cuba Unión Eléctrica","http://www.olade.org/eficiencia/Documents/ponencias/Sesion%207/7-3-Cuba-Montes.pdf",{"$f":"SUMIFS(Marketplace!$Q$3:$Q$423,Marketplace!$C$3:$C$423,'Jurisdictions | Generation'!O13,Marketplace!$K$3:$K$423,\"Operational\",Marketplace!$J$3:$J$423,\"Utility/IPP\",Marketplace!$AJ$3:$AJ$423,\"Confident\",Marketplace!$AG$3:$AG$423,\"<2019\")","v":85042.992479999986},null,"Cuba"]
["Curacao",150241,"CIA Factbook 2018 Est.","https://www.cia.gov/library/publications/resources/the-world-factbook/geos/uc.html",891400,2017,"Curacao Central Bureau of Statistics","https://www.cbs.cw/website/manufacturing-energy_3319/item/manufacturing-energy-tables_1111.html",74024,2013,"CARILEC 2012 Tariff Survey","http://carilec.com/technical/CARILEC_TariffSurvey_Sept2012.pdf",{"$f":"SUMIFS(Marketplace!$Q$3:$Q$423,Marketplace!$C$3:$C$423,'Jurisdictions | Generation'!O14,Marketplace!$K$3:$K$423,\"Operational\",Marketplace!$J$3:$J$423,\"Utility/IPP\",Marketplace!$AJ$3:$AJ$423,\"Confident\",Marketplace!$AG$3:$AG$423,\"<2019\")","v":233000},null,"Curaҫao"]
["Dominica",74027,"CIA Factbook 2018 Est.","https://www.cia.gov/library/publications/resources/the-world-factbook/geos/do.html",56289,2018,"Domlec 2018 Annual Report","http://www.domlec.dm/pdf/DomlecAR2018.pdf",28353,2018,"Domlec 2018 Annual Report","http://www.domlec.dm/pdf/DomlecAR2018.pdf",{"$f":"SUMIFS(Marketplace!$Q$3:$Q$423,Marketplace!$C$3:$C$423,'Jurisdictions | Generation'!O15,Marketplace!$K$3:$K$423,\"Operational\",Marketplace!$J$3:$J$423,\"Utility/IPP\",Marketplace!$AJ$3:$AJ$423,\"Confident\",Marketplace!$AG$3:$AG$423,\"<2019\")","v":54548.520000000004},null,"Dominica"]
["Dominican_Republic",10298756,"CIA Factbook 2018 Est.","https://www.cia.gov/library/publications/resources/the-world-factbook/geos/dr.html",19651017,2018,"Comision Nacional de Energia (CNE)","https://www.cne.gob.do/estadisticas-energeticas/",2310930,2017,"Energy Report Card 2017","https://europa.eu/capacity4dev/file/88824/download?token=lFvP5JCK",{"$f":"SUMIFS(Marketplace!$Q$3:$Q$423,Marketplace!$C$3:$C$423,'Jurisdictions | Generation'!O16,Marketplace!$K$3:$K$423,\"Operational\",Marketplace!$J$3:$J$423,\"Utility/IPP\",Marketplace!$AJ$3:$AJ$423,\"Confident\",Marketplace!$AG$3:$AG$423,\"<2019\")","v":17233902.390124232},null,"Dominican Republic"]
["Grenada",112207,"CIA Factbook 2018 Est.","https://www.cia.gov/library/publications/resources/the-world-factbook/geos/gj.html",224456,2018,"GRENLEC 2018 Annual Report ","http://grenlec.com/Portals/0/AnnualReportsPDF/Grenlec_AR_2018.pdf",51218,2018,"GRENLEC 2018 Annual Report ","http://grenlec.com/Portals/0/AnnualReportsPDF/Grenlec_AR_2018.pdf",{"$f":"SUMIFS(Marketplace!$Q$3:$Q$423,Marketplace!$C$3:$C$423,'Jurisdictions | Generation'!O17,Marketplace!$K$3:$K$423,\"Operational\",Marketplace!$J$3:$J$423,\"Utility/IPP\",Marketplace!$AJ$3:$AJ$423,\"Confident\",Marketplace!$AG$3:$AG$423,\"<2019\")","v":700.8},null,"Grenada"]
["Guadeloupe",448767,"Worldometers","https://www.worldometers.info/world-population/guadeloupe-population/",1704000,2015,"Les Chiffres Clés de  L’énergie en Guadeloupe","https://www.guadeloupe-energie.gp/download/122/orec-chiffres-clefs-de-lenergie/8680/orec-chiffres-cles-de-lenergie-2018.pdf",227000,2012,"CARILEC 2012 Tariff Survey","http://carilec.com/technical/CARILEC_TariffSurvey_Sept2012.pdf",{"$f":"SUMIFS(Marketplace!$Q$3:$Q$423,Marketplace!$C$3:$C$423,'Jurisdictions | Generation'!O18,Marketplace!$K$3:$K$423,\"Operational\",Marketplace!$J$3:$J$423,\"Utility/IPP\",Marketplace!$AJ$3:$AJ$423,\"Confident\",Marketplace!$AG$3:$AG$423,\"<2019\")","v":266941.11111111112},null,"Guadeloupe"]
["Guyana",740685,"CIA Factbook 2018 Est.","https://www.cia.gov/library/publications/resources/the-world-factbook/geos/gy.html",809411,2017,"Energy Report Card 2017","https://europa.eu/capacity4dev/file/88815/download?token=RJeOyw7b",188664,2017,"Energy Report Card 2017","https://europa.eu/capacity4dev/file/88815/download?token=RJeOyw7b",{"$f":"SUMIFS(Marketplace!$Q$3:$Q$423,Marketplace!$C$3:$C$423,'Jurisdictions | Generation'!O19,Marketplace!$K$3:$K$423,\"Operational\",Marketplace!$J$3:$J$423,\"Utility/IPP\",Marketplace!$AJ$3:$AJ$423,\"Confident\",Marketplace!$AG$3:$AG$423,\"<2019\")","v":79298.44},null,"Guyana "]
["Haiti",10788440,"CIA Factbook 2018 Est.","https://www.cia.gov/library/publications/resources/the-world-factbook/geos/ha.html",875000,2011,"National Renewable Energy Laboratory","https://www.nrel.gov/docs/fy15osti/64121.pdf",245300,2015,"Energy Report Card 2017","https://europa.eu/capacity4dev/file/88812/download?token=Sm9bXYCG",{"$f":"SUMIFS(Marketplace!$Q$3:$Q$423,Marketplace!$C$3:$C$423,'Jurisdictions | Generation'!O20,Marketplace!$K$3:$K$423,\"Operational\",Marketplace!$J$3:$J$423,\"Utility/IPP\",Marketplace!$AJ$3:$AJ$423,\"Confident\",Marketplace!$AG$3:$AG$423,\"<2019\")","v":402084},null,"Haiti"]
["Jamaica",2812090,"CIA Factbook 2018 Est.","https://www.cia.gov/library/publications/resources/the-world-factbook/geos/jm.html",4363000,2017,"JPS 2017 Annual Report","https://s26303.pcdn.co/wp-content/uploads/2018/07/JPS-2017-AR.pdf",642944,2017,"JPS 2017 Annual Report","https://s26303.pcdn.co/wp-content/uploads/2018/07/JPS-2017-AR.pdf",{"$f":"SUMIFS(Marketplace!$Q$3:$Q$423,Marketplace!$C$3:$C$423,'Jurisdictions | Generation'!O21,Marketplace!$K$3:$K$423,\"Operational\",Marketplace!$J$3:$J$423,\"Utility/IPP\",Marketplace!$AJ$3:$AJ$423,\"Confident\",Marketplace!$AG$3:$AG$423,\"<2019\")","v":441653.54359999998},null,"Jamaica"]
["Martinique",385341,"Worldometers","https://www.worldometers.info/world-population/martinique-population/",1560000,2017,"EDF 2017 Bilan Prévisionnel de l'Equilibre Offre/Demande ","https://www.edf.mq/sites/default/files/SEI/producteurs/martinique/edf_sei_bp2018_martinique.pdf",186800,2013,"CARILEC 2012 Tariff Survey","http://carilec.com/technical/CARILEC_TariffSurvey_Sept2012.pdf",{"$f":"SUMIFS(Marketplace!$Q$3:$Q$423,Marketplace!$C$3:$C$423,'Jurisdictions | Generation'!O22,Marketplace!$K$3:$K$423,\"Operational\",Marketplace!$J$3:$J$423,\"Utility/IPP\",Marketplace!$AJ$3:$AJ$423,\"Confident\",Marketplace!$AG$3:$AG$423,\"<2019\")","v":327900},null,"Martinique"]
["Montserrat",5315,"CIA Factbook 2018 Est.","https://www.cia.gov/library/publications/resources/the-world-factbook/geos/mh.html",12282,2016,"Montserrat Energy Policy 2016-2030","http://www.gov.ms/wp-content/uploads/2016/02/The-Power-to-Change-MNEP-Cabinet-Approved.pdf",3590,2016,"Montserrat Energy Policy 2016-2030","http://www.gov.ms/wp-content/uploads/2016/02/The-Power-to-Change-MNEP-Cabinet-Approved.pdf",{"$f":"SUMIFS(Marketplace!$Q$3:$Q$423,Marketplace!$C$3:$C$423,'Jurisdictions | Generation'!O23,Marketplace!$K$3:$K$423,\"Operational\",Marketplace!$J$3:$J$423,\"Utility/IPP\",Marketplace!$AJ$3:$AJ$423,\"Confident\",Marketplace!$AG$3:$AG$423,\"<2019\")","v":0},null,"Montserrat"]
["Nevis",{"$f":"53094*0.23976","v":12729.817440000001},"CIA Factbook 2017 Est.","https://www.cia.gov/library/publications/the-world-factbook/geos/sc.html",57779,2015,"NEVLEC Surcharge Calculations","http://www.nevlec.com/surcharge-calculations-september-2015/",6750,2012,"CARILEC 2012 Tariff Survey","http://carilec.com/technical/CARILEC_TariffSurvey_Sept2012.pdf",{"$f":"SUMIFS(Marketplace!$Q$3:$Q$423,Marketplace!$C$3:$C$423,'Jurisdictions | Generation'!O24,Marketplace!$K$3:$K$423,\"Operational\",Marketplace!$J$3:$J$423,\"Utility/IPP\",Marketplace!$AJ$3:$AJ$423,\"Confident\",Marketplace!$AG$3:$AG$423,\"<2019\")","v":8865.1200000000008},null,"Nevis "]
["Puerto_Rico",3294626,"CIA Factbook 2018 Est.","https://www.cia.gov/library/publications/resources/the-world-factbook/geos/rq.html",17706414,2018,"PREPA","https://aeepr.com/es-pr/investors/FinancialInformation/Monthly%20Reports/2019/January%202019.pdf",1470605,2018,"PREPA","https://aeepr.com/es-pr/investors/FinancialInformation/Monthly%20Reports/2019/January%202019.pdf",{"$f":"SUMIFS(Marketplace!$Q$3:$Q$423,Marketplace!$C$3:$C$423,'Jurisdictions | Generation'!O25,Marketplace!$K$3:$K$423,\"Operational\",Marketplace!$J$3:$J$423,\"Utility/IPP\",Marketplace!$AJ$3:$AJ$423,\"Confident\",Marketplace!$AG$3:$AG$423,\"<2019\")","v":392131.30200000003},null,"Puerto Rico"]
["St_Barthelemy",7160,"CIA Factbook 2018 Est.","https://www.cia.gov/library/publications/resources/the-world-factbook/geos/tb.html",107000,2017,"EDF 2017 Bilan Prévisionnel de l'Equilibre Offre/Demande ","https://www.edf.gp/sites/default/files/SEI/producteurs/guadeloupe/edf_sei_bp2018_saint-barthelemy.pdf",4600,2013,"EDF (phone interview)",null,{"$f":"SUMIFS(Marketplace!$Q$3:$Q$423,Marketplace!$C$3:$C$423,'Jurisdictions | Generation'!O26,Marketplace!$K$3:$K$423,\"Operational\",Marketplace!$J$3:$J$423,\"Utility/IPP\",Marketplace!$AJ$3:$AJ$423,\"Confident\",Marketplace!$AG$3:$AG$423,\"<2019\")","v":0},null,"St. Barthelemy"]
["St_Kitts",{"$f":"53094*0.761","v":40404.534},"CIA Factbook 2017 Est.","https://www.cia.gov/library/publications/the-world-factbook/geos/sc.html",150000,2015,"National Renewable Energy Laboratory","http://www.nrel.gov/docs/fy15osti/62706.pdf",13000,2013,"The World Bank","http://www-wds.worldbank.org/external/default/WDSContentServer/WDSP/IB/2011/05/30/000356161_20110530015337/Rendered/PDF/515760PAD0P1010e0only0900BOX358362B.pdf",{"$f":"SUMIFS(Marketplace!$Q$3:$Q$423,Marketplace!$C$3:$C$423,'Jurisdictions | Generation'!O27,Marketplace!$K$3:$K$423,\"Operational\",Marketplace!$J$3:$J$423,\"Utility/IPP\",Marketplace!$AJ$3:$AJ$423,\"Confident\",Marketplace!$AG$3:$AG$423,\"<2019\")","v":1885.4285714285716},null,"St. Kitts"]
["St_Lucia",165510,"CIA Factbook 2018 Est.","https://www.cia.gov/library/publications/resources/the-world-factbook/geos/st.html",361623,2018,"Lucelec Annual Report 2018","https://www.lucelec.com/sites/default/files/annual-reports/LUCELEC-2018-Annual-Report.pdf",67301,2018,"Lucelec Annual Report 2018","https://www.lucelec.com/sites/default/files/annual-reports/LUCELEC-2018-Annual-Report.pdf",{"$f":"SUMIFS(Marketplace!$Q$3:$Q$423,Marketplace!$C$3:$C$423,'Jurisdictions | Generation'!O28,Marketplace!$K$3:$K$423,\"Operational\",Marketplace!$J$3:$J$423,\"Utility/IPP\",Marketplace!$AJ$3:$AJ$423,\"Confident\",Marketplace!$AG$3:$AG$423,\"<2019\")","v":7000},null,"St. Lucia "]
["Saint_Martin",32284,"CIA Factbook 2018 Est.","https://www.cia.gov/library/publications/resources/the-world-factbook/geos/rn.html",175000,2017,"EDF 2017 Bilan Prévisionnel de l'Equilibre Offre/Demande ","https://www.edf.gp/sites/default/files/SEI/producteurs/guadeloupe/edf_sei_bp2018_saint-martin.pdf",16000,2013,"EDF (phone interview)",null,{"$f":"SUMIFS(Marketplace!$Q$3:$Q$423,Marketplace!$C$3:$C$423,'Jurisdictions | Generation'!O29,Marketplace!$K$3:$K$423,\"Operational\",Marketplace!$J$3:$J$423,\"Utility/IPP\",Marketplace!$AJ$3:$AJ$423,\"Confident\",Marketplace!$AG$3:$AG$423,\"<2019\")","v":0},null,"Saint-Martin"]
["St_Vincent_Grenadines",101844,"CIA Factbook 2018 Est.","https://www.cia.gov/library/publications/resources/the-world-factbook/geos/vc.html",150664,2017,"Energy Report Card 2017","https://europa.eu/capacity4dev/file/88797/download?token=uMM5Ps04",44522,2017,"https://europa.eu/capacity4dev/file/88797/download?token=uMM5Ps04","http://carilec.com/technical/CARILEC_TariffSurvey_Sept2012.pdf",{"$f":"SUMIFS(Marketplace!$Q$3:$Q$423,Marketplace!$C$3:$C$423,'Jurisdictions | Generation'!O30,Marketplace!$K$3:$K$423,\"Operational\",Marketplace!$J$3:$J$423,\"Utility/IPP\",Marketplace!$AJ$3:$AJ$423,\"Confident\",Marketplace!$AG$3:$AG$423,\"<2019\")","v":778.76400000000001},null,"St. Vincent and the Grenadines"]
["Sint_Marteen",42677,"CIA Factbook 2018 Est.","https://www.cia.gov/library/publications/resources/the-world-factbook/geos/nn.html",372671,2015,"NREL","https://www.nrel.gov/docs/fy15osti/64122.pdf",20034,2014,"Sint Maarten National Energy Policy","http://www.sintmaartengov.org/Policy%20and%20Reports/140822-National%20Energy%20Policy%20SXM%20-DEF%202-0.pdf",{"$f":"SUMIFS(Marketplace!$Q$3:$Q$423,Marketplace!$C$3:$C$423,'Jurisdictions | Generation'!O31,Marketplace!$K$3:$K$423,\"Operational\",Marketplace!$J$3:$J$423,\"Utility/IPP\",Marketplace!$AJ$3:$AJ$423,\"Confident\",Marketplace!$AG$3:$AG$423,\"<2019\")","v":0},null,"Sint Maarten"]
["Suriname",597927,"CIA Factbook 2018 Est.","https://www.cia.gov/library/publications/resources/the-world-factbook/geos/ns.html",2000000,2016,"U.S. Energy Information Administration","https://www.eia.gov/beta/international/data/browser/#/?pa=00000000000000000000000000000fvu&c=0000000000000000000000000000000000000000002&ct=0&tl_id=2-A&vs=INTL.2-12-SUR-BKWH.A&cy=2016&vo=0&v=H&start=1980&end=2017",124700,2013,"NV EBS","http://www.carilec.com/members2/uploads/ENG2010_Presentations/JointSessions/3SMehairjanRMehairjan_DevelopmentsandFutureExpansionsPotentialinSuriname.pdf",{"$f":"SUMIFS(Marketplace!$Q$3:$Q$423,Marketplace!$C$3:$C$423,'Jurisdictions | Generation'!O32,Marketplace!$K$3:$K$423,\"Operational\",Marketplace!$J$3:$J$423,\"Utility/IPP\",Marketplace!$AJ$3:$AJ$423,\"Confident\",Marketplace!$AG$3:$AG$423,\"<2019\")","v":868525.24168800586},null,"Suriname"]
["Trinidad_Tobago",1215527,"CIA Factbook 2018 Est.","https://www.cia.gov/library/publications/resources/the-world-factbook/geos/td.html",9318244,2017,"Energy Report Card 2017","https://europa.eu/capacity4dev/file/88794/download?token=U6hVP1fQ",487877,2017,"Energy Report Card 2017","https://europa.eu/capacity4dev/file/88794/download?token=U6hVP1fQ",{"$f":"SUMIFS(Marketplace!$Q$3:$Q$423,Marketplace!$C$3:$C$423,'Jurisdictions | Generation'!O33,Marketplace!$K$3:$K$423,\"Operational\",Marketplace!$J$3:$J$423,\"Utility/IPP\",Marketplace!$AJ$3:$AJ$423,\"Confident\",Marketplace!$AG$3:$AG$423,\"<2019\")","v":0},null,"Trinidad and Tobago"]
["Turks_and_Caicos",53701,"CIA Factbook 2018 Est.","https://www.cia.gov/library/publications/resources/the-world-factbook/geos/tk.html",241764.24795399999,2017,"Fortis Inc. 2017 Annual Report","http://www.fortisinc.com/InvestorCentre/FinancialReports/AnnualReport/",15000,2018,"Fortis Inc. 2018 Annual Report","https://www.fortisinc.com/docs/default-source/finance-regulatory-reports/annual-reports/fortis-2018-annual-report-final1.pdf?sfvrsn=42767798_2",{"$f":"SUMIFS(Marketplace!$Q$3:$Q$423,Marketplace!$C$3:$C$423,'Jurisdictions | Generation'!O34,Marketplace!$K$3:$K$423,\"Operational\",Marketplace!$J$3:$J$423,\"Utility/IPP\",Marketplace!$AJ$3:$AJ$423,\"Confident\",Marketplace!$AG$3:$AG$423,\"<2019\")","v":0},null,"Turks and Caicos Islands"]
["USVI",106977,"CIA Factbook 2018 Est.","https://www.cia.gov/library/publications/resources/the-world-factbook/geos/vq.html",641034,2014,"VI WAPA 2014 Annual Report","http://www.viwapa.vi/Libraries/PDFs/Audit_Electric_System_FS2012_FINAL_2.sflb.ashx",54917,2013,"VI WAPA 2014 Annual Report","http://www.viwapa.vi/Libraries/PDFs/Audit_Electric_System_FS2012_FINAL_2.sflb.ashx",{"$f":"SUMIFS(Marketplace!$Q$3:$Q$423,Marketplace!$C$3:$C$423,'Jurisdictions | Generation'!O35,Marketplace!$K$3:$K$423,\"Operational\",Marketplace!$J$3:$J$423,\"Utility/IPP\",Marketplace!$AJ$3:$AJ$423,\"Confident\",Marketplace!$AG$3:$AG$423,\"<2019\")","v":14636},null,"U.S. Virgin Islands"]

{"sheet":"Jurisdictions | RE targets","index":38,"n_rows":34,"n_cols":10,"rows_kept":34,"cut":false,"hidden":false,"merged":[[0,1,0,2]]}
[null,null,null,"Renewable Energy Share",null,"Renewable Energy Target ","Ministry ","Renewable Energy  Institution","Regulator","Utility"]
[]
["Aruba","Aruba",null,{"$f":"HLOOKUP(A3,'RE Index | Ranking inputs'!$H$4:$AM$28,25,FALSE)","v":0.14850747474747475},1,"100% by 2020","Ministry of Finance, Communication, Utilities and Energy","WEB Aruba N.V. and N.V. Elmar","None","WEB Aruba N.V. and N.V. Elmar"]
["Bonaire","Bonaire",null,{"$f":"HLOOKUP(A4,'RE Index | Ranking inputs'!$H$4:$AM$28,25,FALSE)","v":0.41666666666666669},0.5,"50% by 2030","Ministry of Economic Affairs","Ministry of Infrastructure and the Environment","Authority for Consumers and Markets","WEB Bonaire N.V."]
["Dominica","Dominica",null,{"$f":"HLOOKUP(A5,'RE Index | Ranking inputs'!$H$4:$AM$28,25,FALSE)","v":0.28000000000000003},1,"100% by 2030","Ministry of Public Works, Energy, and Ports","Energy Unit within the Ministry","Independent Regulatory Commission","Dominica Electricity Services Limited"]
["Martinique","Martinique",null,{"$f":"HLOOKUP(A6,'RE Index | Ranking inputs'!$H$4:$AM$28,25,FALSE)","v":7.0000000000000007E-2},1,"100% by 2030","Department of Energy and Utilities","None","None","Électricité de France S.A. (EDF)"]
["Nevis","Nevis ",null,{"$f":"HLOOKUP(A7,'RE Index | Ranking inputs'!$H$4:$AM$28,25,FALSE)","v":0.15343152356392462},1,"100% by 2025","Ministry of Public Works, Housing, Energy, and Utilities","None","None","Nevis Electricity Company Ltd. (NEVLEC)"]
["St_Kitts","St. Kitts",null,{"$f":"HLOOKUP(A8,'RE Index | Ranking inputs'!$H$4:$AM$28,25,FALSE)","v":1.256952380952381E-2},1,"100% by 2020","Ministry of Public Works, Housing, Energy, and Utilities","None","None","St. Kitts Electricity Company Ltd. (SKELEC)"]
["Puerto_Rico","Puerto Rico",null,{"$f":"HLOOKUP(A9,'RE Index | Ranking inputs'!$H$4:$AM$28,25,FALSE)","v":0.02},1,"100% by 2025","Energy Public Policy Office","Puerto Rico Energy Commission","Puerto Rico Energy Commission","Puerto Rico Electric Power Authority (PREPA)"]
["Belize","Belize",null,{"$f":"HLOOKUP(A10,'RE Index | Ranking inputs'!$H$4:$AM$28,25,FALSE)","v":0.54197875748899127},0.85,"85% by 2030","Ministry of Energy, Science and Technology, and Public Utilities","None","Public Utilities Commission","Bellize Electricity Limited"]
["Sint_Marteen","Sint Maarten",null,{"$f":"HLOOKUP(A11,'RE Index | Ranking inputs'!$H$4:$AM$28,25,FALSE)","v":0},0.8,"80% by 2020","Ministry of Public Housing, Spatial Planning, Environment and Infrastructure ","Ministry of Public Housing, Spatial Planning, Environment and Infrastructure ","None","NV GEBE"]
["Cayman_Islands","Cayman Islands",null,{"$f":"HLOOKUP(A12,'RE Index | Ranking inputs'!$H$4:$AM$28,25,FALSE)","v":1.4379684870735812E-2},0.7,"70% by 2037","Ministry of Communication, Works, and Infrastrucutre","None","Electricity Regulatory Authority of the Cayman Islands ","Caribbean Utilities Company, Ltd. "]
["St_Vincent_Grenadines","SVG",null,{"$f":"HLOOKUP(A13,'RE Index | Ranking inputs'!$H$4:$AM$28,25,FALSE)","v":0.17},0.6,"60% by 2020","Ministry of National Security, Air and Sea Port Development","Ministry of National Security, Air and Sea Port Development","None","St. Vincent Electricity Services Ltd. (VINLEC)"]
["Guadeloupe","Guadeloupe",null,{"$f":"HLOOKUP(A14,'RE Index | Ranking inputs'!$H$4:$AM$28,25,FALSE)","v":0.21244131455399062},0.5,"50% by 2020","Directorate of the Environment, of the Interior and Housing ","Directorate of the Environment, of the Interior and Housing ","Commission for Regulation of Energy","Électricité de France S.A. (EDF)"]
["Haiti","Haiti",null,{"$f":"HLOOKUP(A15,'RE Index | Ranking inputs'!$H$4:$AM$28,25,FALSE)","v":0.16166498204303145},0.5,"50% by 2030","Ministry of Public Worls, Transport, and Communication ","Office of Energy Security","None","Electricite d’Haiti (EDH)"]
["Jamaica","Jamaica",null,{"$f":"HLOOKUP(A16,'RE Index | Ranking inputs'!$H$4:$AM$28,25,FALSE)","v":0.12},0.5,"50% by 2030","Ministry of Science, Technology, Energy and Mining","Ministry of Science, Technology, Energy and Mining","Office of Utilities Regulation","Jamaica Public Services Company Limited"]
["Bermuda","Bermuda",null,{"$f":"HLOOKUP(A17,'RE Index | Ranking inputs'!$H$4:$AM$28,25,FALSE)","v":5.0134932313162475E-2},0.3,"30% by 2020","Ministry of Economic Development","Department of Energy","Regulatory Authority of Bermuda","Bermuda Electric Light Company Ltd. (BELCO)"]
["St_Lucia","St. Lucia ",null,{"$f":"HLOOKUP(A18,'RE Index | Ranking inputs'!$H$4:$AM$28,25,FALSE)","v":0.12522540573031457},0.35,"35% by 2025","Ministry of Sustainable Development, Energy, and Science and Technology","Energy Policy Advisory Committee","Ministry of Communications, Works, Transport, and Public Utilities","St. Lucia Electricity Services Limited"]
["Anguilla","Anguilla",null,{"$f":"HLOOKUP(A19,'RE Index | Ranking inputs'!$H$4:$AM$28,25,FALSE)","v":0},0.3,"30% by 2030","Ministry of Infrastrcuture, Communications, Utilities, Housing","Anguilla Renewable Energy Office","Ministry of Infrastrcuture, Communications, Utilities, Housing","Anguilla Electricity Company Limited (ANGLEC)"]
["Bahamas","The Bahamas",null,{"$f":"HLOOKUP(A20,'RE Index | Ranking inputs'!$H$4:$AM$28,25,FALSE)","v":0},0.3,"30% by 2030","Ministry of the Environmnet","None","Utilities Competition Regulatory Agency ","Bahamas Electrictity Coporation and Grand Bahama Power Corporation"]
["BVI","British Virgin Islands",null,{"$f":"HLOOKUP(A21,'RE Index | Ranking inputs'!$H$4:$AM$28,25,FALSE)","v":0},0.3,"30% by 2023","Ministry of Communications and Works","None","British Virgin Islands Government","British Virign Islands Electricity Corporation "]
["Curacao","Curaҫao",null,{"$f":"HLOOKUP(A22,'RE Index | Ranking inputs'!$H$4:$AM$28,25,FALSE)","v":0.27459319358878642},0.3,"30% by 2020","Electricity Monitor, Bureau of Telecommunications and Post","Electricity Monitor, Bureau of Telecommunications and Post","Electricity Monitor, Bureau of Telecommunications and Post","Aqualectra"]
["USVI","U.S. Virgin Islands",null,{"$f":"HLOOKUP(A23,'RE Index | Ranking inputs'!$H$4:$AM$28,25,FALSE)","v":2.2831862272515966E-2},0.3,"30% by 2025","Virigin Islands Energy Office","Virigin Islands Energy Office","Virigin Islands Public Service Commission","Virigin Islands Water and Power Authority"]
["Barbados","Barbados",null,{"$f":"HLOOKUP(A24,'RE Index | Ranking inputs'!$H$4:$AM$28,25,FALSE)","v":1.8048963181952305E-2},1,"100% by 2030","Energy Division, Office of the Prime Minister","Renewable Energy and Energy Conversation Unit","Utility Regulation Department, Fair Trading Commission","Barbados Light And Power Company Limited"]
["Guyana","Guyana ",null,{"$f":"HLOOKUP(A25,'RE Index | Ranking inputs'!$H$4:$AM$28,25,FALSE)","v":9.7970548954733755E-2},0.28000000000000003,"28% by 2022","Guyana Energy Agency ","None","Public Utilities Commission ","Guyana Power and Light Inc. (GPL)"]
["Dominican_Republic","Dominican Republic",null,{"$f":"HLOOKUP(A26,'RE Index | Ranking inputs'!$H$4:$AM$28,25,FALSE)","v":0.16},0.25,"25% by 2020","National Energy Commission","National Energy Commission","Superintendency of Electricity ","CDEEE and EGE Haina"]
["Suriname","Suriname",null,{"$f":"HLOOKUP(A27,'RE Index | Ranking inputs'!$H$4:$AM$28,25,FALSE)","v":0.43426262084400291},0.25,"25% by 2025","Ministry of Natural Resources","None","None","N.V. EnergieBedrijven Suriname (EBS)"]
["Cuba","Cuba",null,{"$f":"HLOOKUP(A28,'RE Index | Ranking inputs'!$H$4:$AM$28,25,FALSE)","v":4.1568334333727617E-3},0.24,"24% by 2030","Ministry of Energy and Mines","None","None","Unión Eléctrica de Cuba (UNE)"]
["Grenada","Grenada",null,{"$f":"HLOOKUP(A29,'RE Index | Ranking inputs'!$H$4:$AM$28,25,FALSE)","v":7.1717075180186621E-3},0.2,"20% by 2020","Ministry of Finance, Planning, Economic Development, Trade, Energy, and Cooperatives","Department of Energy and Sustainable Development","In development","Grenada Electricity Services Limited"]
["Antigua_Barbuda","Antigua and Barbuda",null,{"$f":"HLOOKUP(A30,'RE Index | Ranking inputs'!$H$4:$AM$28,25,FALSE)","v":0.01},0.2,"20% by 2020","Ministry of Tourism, Econonomic Development, Investment and Energy","Ministry of Tourism, Econonomic Development, Investment and Energy","Ministry of Public Utilities, Civil Aviation, and Transportation","Antigua Public Utilities Authorities (APUA)"]
["Trinidad_Tobago","Trinidad and Tobago",null,{"$f":"HLOOKUP(A31,'RE Index | Ranking inputs'!$H$4:$AM$28,25,FALSE)","v":0},0.1,"10% by 2021","Ministry of Energy and Energy Affairs","Energy Research and Planning Division, Mistry of Energy and Energy Affairs","Regulated Industries Commission","Trinidad and Tobago Electricity Commission"]
["Montserrat","Montserrat",null,{"$f":"HLOOKUP(A32,'RE Index | Ranking inputs'!$H$4:$AM$28,25,FALSE)","v":0},null,"None","Ministry of Communications, Works, Energy and Labour","Ministry of Communications, Works, Energy and Labour","Ministry of Communications, Works, Energy and Labour","Montserrat Utilities Limited"]
["Saint_Martin","Saint-Martin",null,{"$f":"HLOOKUP(A33,'RE Index | Ranking inputs'!$H$4:$AM$28,25,FALSE)","v":0},null,"None","None","None","Commission for Regulation of Energy","Électricité de France S.A. (EDF)"]
["Turks_and_Caicos","Turks and Caicos Islands",null,{"$f":"HLOOKUP(A34,'RE Index | Ranking inputs'!$H$4:$AM$28,25,FALSE)","v":0.01},null,"None","Ministry of Government Support, Services, Energy and Utilities Department ","None","The Electricity Commissioner","FortisTCI"]

{"sheet":"Market. | Juris capex&capacity","index":39,"n_rows":39,"n_cols":15,"rows_kept":39,"cut":false,"hidden":true,"merged":[[3,0,3,6],[3,8,3,13]]}
[]
[]
[]
["Capacity",null,null,null,null,null,null,"Total Capacity ","Capex",null,null,null,null,null,"Total CAPEX"]
[]
["Total",{"$f":"SUM(B8:B39)","v":588985},{"$f":"SUM(C8:C39)","v":292365},871220,14700,14000,169900,null,{"$f":"SUM(I8:I39)","v":4279872819.545455},{"$f":"SUM(J8:J39)","v":721489521.29473996},2616420920,70000000,121000000,535400000]
[null,"Wind","Solar PV","Hydro","Geothermal","Waste-to-Energy","Biomass",null,"Wind","Solar PV","Hydro","Geothermal","Waste-to-Energy","Biomass"]
["Anguilla",{"$f":"SUM(IF($A8=Marketplace!$C$3:$C$309,IF(B$7=Marketplace!$G$3:$G$309,IF(Marketplace!$J$3:$J$309=\"Utility/IPP\",IF(Marketplace!$K$3:$K$309=\"Operational\",IF(Marketplace!$AJ$3:$AJ$309= \"Confident\",Marketplace!$N$3:$N$309))))))","v":0},{"$f":"SUM(IF($A8=Marketplace!$C$3:$C$309,IF(C$7=Marketplace!$G$3:$G$309,IF(Marketplace!$J$3:$J$309=\"Utility/IPP\",IF(Marketplace!$K$3:$K$309=\"Operational\",IF(Marketplace!$AJ$3:$AJ$309= \"Confident\",Marketplace!$N$3:$N$309))))))","v":0},{"$f":"SUM(IF($A8=Marketplace!$C$3:$C$309,IF(D$7=Marketplace!$G$3:$G$309,IF(Marketplace!$J$3:$J$309=\"Utility/IPP\",IF(Marketplace!$K$3:$K$309=\"Operational\",IF(Marketplace!$AJ$3:$AJ$309= \"Confident\",Marketplace!$N$3:$N$309))))))","v":0},{"$f":"SUM(IF($A8=Marketplace!$C$3:$C$309,IF(E$7=Marketplace!$G$3:$G$309,IF(Marketplace!$J$3:$J$309=\"Utility/IPP\",IF(Marketplace!$K$3:$K$309=\"Operational\",IF(Marketplace!$AJ$3:$AJ$309= \"Confident\",Marketplace!$N$3:$N$309))))))","v":0},{"$f":"SUM(IF($A8=Marketplace!$C$3:$C$309,IF(F$7=Marketplace!$G$3:$G$309,IF(Marketplace!$J$3:$J$309=\"Utility/IPP\",IF(Marketplace!$K$3:$K$309=\"Operational\",IF(Marketplace!$AJ$3:$AJ$309= \"Confident\",Marketplace!$N$3:$N$309))))))","v":0},{"$f":"SUM(IF($A8=Marketplace!$C$3:$C$309,IF(G$7=Marketplace!$G$3:$G$309,IF(Marketplace!$J$3:$J$309=\"Utility/IPP\",IF(Marketplace!$K$3:$K$309=\"Operational\",IF(Marketplace!$AJ$3:$AJ$309= \"Confident\",Marketplace!$N$3:$N$309))))))","v":0},{"$f":"SUM(B8:G8)","v":0},{"$f":"SUM(IF($A8=Marketplace!$C$3:$C$309,IF(I$7=Marketplace!$G$3:$G$309,IF(Marketplace!$J$3:$J$309=\"Utility/IPP\",IF(Marketplace!$K$3:$K$309=\"Operational\",IF(Marketplace!$AJ$3:$AJ$309= \"Confident\",Marketplace!$Y$3:$Y$309))))))","v":0},{"$f":"SUM(IF($A8=Marketplace!$C$3:$C$309,IF(J$7=Marketplace!$G$3:$G$309,IF(Marketplace!$J$3:$J$309=\"Utility/IPP\",IF(Marketplace!$K$3:$K$309=\"Operational\",IF(Marketplace!$AJ$3:$AJ$309= \"Confident\",Marketplace!$Y$3:$Y$309))))))","v":0},{"$f":"SUM(IF($A8=Marketplace!$C$3:$C$309,IF(K$7=Marketplace!$G$3:$G$309,IF(Marketplace!$J$3:$J$309=\"Utility/IPP\",IF(Marketplace!$K$3:$K$309=\"Operational\",IF(Marketplace!$AJ$3:$AJ$309= \"Confident\",Marketplace!$Y$3:$Y$309))))))","v":0},{"$f":"SUM(IF($A8=Marketplace!$C$3:$C$309,IF(L$7=Marketplace!$G$3:$G$309,IF(Marketplace!$J$3:$J$309=\"Utility/IPP\",IF(Marketplace!$K$3:$K$309=\"Operational\",IF(Marketplace!$AJ$3:$AJ$309= \"Confident\",Marketplace!$Y$3:$Y$309))))))","v":0},{"$f":"SUM(IF($A8=Marketplace!$C$3:$C$309,IF(M$7=Marketplace!$G$3:$G$309,IF(Marketplace!$J$3:$J$309=\"Utility/IPP\",IF(Marketplace!$K$3:$K$309=\"Operational\",IF(Marketplace!$AJ$3:$AJ$309= \"Confident\",Marketplace!$Y$3:$Y$309))))))","v":0},{"$f":"SUM(IF($A8=Marketplace!$C$3:$C$309,IF(N$7=Marketplace!$G$3:$G$309,IF(Marketplace!$J$3:$J$309=\"Utility/IPP\",IF(Marketplace!$K$3:$K$309=\"Operational\",IF(Marketplace!$AJ$3:$AJ$309= \"Confident\",Marketplace!$Y$3:$Y$309))))))","v":0},{"$f":"SUM(I8:N8)","v":0}]
["Antigua & Barbuda",{"$f":"SUM(IF($A9=Marketplace!$C$3:$C$309,IF(B$7=Marketplace!$G$3:$G$309,IF(Marketplace!$J$3:$J$309=\"Utility/IPP\",IF(Marketplace!$K$3:$K$309=\"Operational\",IF(Marketplace!$AJ$3:$AJ$309= \"Confident\",Marketplace!$N$3:$N$309))))))","v":0},{"$f":"SUM(IF($A9=Marketplace!$C$3:$C$309,IF(C$7=Marketplace!$G$3:$G$309,IF(Marketplace!$J$3:$J$309=\"Utility/IPP\",IF(Marketplace!$K$3:$K$309=\"Operational\",IF(Marketplace!$AJ$3:$AJ$309= \"Confident\",Marketplace!$N$3:$N$309))))))","v":3019},{"$f":"SUM(IF($A9=Marketplace!$C$3:$C$309,IF(D$7=Marketplace!$G$3:$G$309,IF(Marketplace!$J$3:$J$309=\"Utility/IPP\",IF(Marketplace!$K$3:$K$309=\"Operational\",IF(Marketplace!$AJ$3:$AJ$309= \"Confident\",Marketplace!$N$3:$N$309))))))","v":0},{"$f":"SUM(IF($A9=Marketplace!$C$3:$C$309,IF(E$7=Marketplace!$G$3:$G$309,IF(Marketplace!$J$3:$J$309=\"Utility/IPP\",IF(Marketplace!$K$3:$K$309=\"Operational\",IF(Marketplace!$AJ$3:$AJ$309= \"Confident\",Marketplace!$N$3:$N$309))))))","v":0},{"$f":"SUM(IF($A9=Marketplace!$C$3:$C$309,IF(F$7=Marketplace!$G$3:$G$309,IF(Marketplace!$J$3:$J$309=\"Utility/IPP\",IF(Marketplace!$K$3:$K$309=\"Operational\",IF(Marketplace!$AJ$3:$AJ$309= \"Confident\",Marketplace!$N$3:$N$309))))))","v":0},{"$f":"SUM(IF($A9=Marketplace!$C$3:$C$309,IF(G$7=Marketplace!$G$3:$G$309,IF(Marketplace!$J$3:$J$309=\"Utility/IPP\",IF(Marketplace!$K$3:$K$309=\"Operational\",IF(Marketplace!$AJ$3:$AJ$309= \"Confident\",Marketplace!$N$3:$N$309))))))","v":0},{"$f":"SUM(B9:G9)","v":3019},{"$f":"SUM(IF($A9=Marketplace!$C$3:$C$309,IF(I$7=Marketplace!$G$3:$G$309,IF(Marketplace!$J$3:$J$309=\"Utility/IPP\",IF(Marketplace!$K$3:$K$309=\"Operational\",IF(Marketplace!$AJ$3:$AJ$309= \"Confident\",Marketplace!$Y$3:$Y$309))))))","v":0},{"$f":"SUM(IF($A9=Marketplace!$C$3:$C$309,IF(J$7=Marketplace!$G$3:$G$309,IF(Marketplace!$J$3:$J$309=\"Utility/IPP\",IF(Marketplace!$K$3:$K$309=\"Operational\",IF(Marketplace!$AJ$3:$AJ$309= \"Confident\",Marketplace!$Y$3:$Y$309))))))","v":6177213.2947399942},{"$f":"SUM(IF($A9=Marketplace!$C$3:$C$309,IF(K$7=Marketplace!$G$3:$G$309,IF(Marketplace!$J$3:$J$309=\"Utility/IPP\",IF(Marketplace!$K$3:$K$309=\"Operational\",IF(Marketplace!$AJ$3:$AJ$309= \"Confident\",Marketplace!$Y$3:$Y$309))))))","v":0},{"$f":"SUM(IF($A9=Marketplace!$C$3:$C$309,IF(L$7=Marketplace!$G$3:$G$309,IF(Marketplace!$J$3:$J$309=\"Utility/IPP\",IF(Marketplace!$K$3:$K$309=\"Operational\",IF(Marketplace!$AJ$3:$AJ$309= \"Confident\",Marketplace!$Y$3:$Y$309))))))","v":0},{"$f":"SUM(IF($A9=Marketplace!$C$3:$C$309,IF(M$7=Marketplace!$G$3:$G$309,IF(Marketplace!$J$3:$J$309=\"Utility/IPP\",IF(Marketplace!$K$3:$K$309=\"Operational\",IF(Marketplace!$AJ$3:$AJ$309= \"Confident\",Marketplace!$Y$3:$Y$309))))))","v":0},{"$f":"SUM(IF($A9=Marketplace!$C$3:$C$309,IF(N$7=Marketplace!$G$3:$G$309,IF(Marketplace!$J$3:$J$309=\"Utility/IPP\",IF(Marketplace!$K$3:$K$309=\"Operational\",IF(Marketplace!$AJ$3:$AJ$309= \"Confident\",Marketplace!$Y$3:$Y$309))))))","v":0},{"$f":"SUM(I9:N9)","v":6177213.2947399942}]
["Aruba",{"$f":"SUM(IF($A10=Marketplace!$C$3:$C$309,IF(B$7=Marketplace!$G$3:$G$309,IF(Marketplace!$J$3:$J$309=\"Utility/IPP\",IF(Marketplace!$K$3:$K$309=\"Operational\",IF(Marketplace!$AJ$3:$AJ$309= \"Confident\",Marketplace!$N$3:$N$309))))))","v":30000},{"$f":"SUM(IF($A10=Marketplace!$C$3:$C$309,IF(C$7=Marketplace!$G$3:$G$309,IF(Marketplace!$J$3:$J$309=\"Utility/IPP\",IF(Marketplace!$K$3:$K$309=\"Operational\",IF(Marketplace!$AJ$3:$AJ$309= \"Confident\",Marketplace!$N$3:$N$309))))))","v":3474},{"$f":"SUM(IF($A10=Marketplace!$C$3:$C$309,IF(D$7=Marketplace!$G$3:$G$309,IF(Marketplace!$J$3:$J$309=\"Utility/IPP\",IF(Marketplace!$K$3:$K$309=\"Operational\",IF(Marketplace!$AJ$3:$AJ$309= \"Confident\",Marketplace!$N$3:$N$309))))))","v":0},{"$f":"SUM(IF($A10=Marketplace!$C$3:$C$309,IF(E$7=Marketplace!$G$3:$G$309,IF(Marketplace!$J$3:$J$309=\"Utility/IPP\",IF(Marketplace!$K$3:$K$309=\"Operational\",IF(Marketplace!$AJ$3:$AJ$309= \"Confident\",Marketplace!$N$3:$N$309))))))","v":0},{"$f":"SUM(IF($A10=Marketplace!$C$3:$C$309,IF(F$7=Marketplace!$G$3:$G$309,IF(Marketplace!$J$3:$J$309=\"Utility/IPP\",IF(Marketplace!$K$3:$K$309=\"Operational\",IF(Marketplace!$AJ$3:$AJ$309= \"Confident\",Marketplace!$N$3:$N$309))))))","v":2000},{"$f":"SUM(IF($A10=Marketplace!$C$3:$C$309,IF(G$7=Marketplace!$G$3:$G$309,IF(Marketplace!$J$3:$J$309=\"Utility/IPP\",IF(Marketplace!$K$3:$K$309=\"Operational\",IF(Marketplace!$AJ$3:$AJ$309= \"Confident\",Marketplace!$N$3:$N$309))))))","v":0},35474,{"$f":"SUM(IF($A10=Marketplace!$C$3:$C$309,IF(I$7=Marketplace!$G$3:$G$309,IF(Marketplace!$J$3:$J$309=\"Utility/IPP\",IF(Marketplace!$K$3:$K$309=\"Operational\",IF(Marketplace!$AJ$3:$AJ$309= \"Confident\",Marketplace!$Y$3:$Y$309))))))","v":75000000},{"$f":"SUM(IF($A10=Marketplace!$C$3:$C$309,IF(J$7=Marketplace!$G$3:$G$309,IF(Marketplace!$J$3:$J$309=\"Utility/IPP\",IF(Marketplace!$K$3:$K$309=\"Operational\",IF(Marketplace!$AJ$3:$AJ$309= \"Confident\",Marketplace!$Y$3:$Y$309))))))","v":8955972},{"$f":"SUM(IF($A10=Marketplace!$C$3:$C$309,IF(K$7=Marketplace!$G$3:$G$309,IF(Marketplace!$J$3:$J$309=\"Utility/IPP\",IF(Marketplace!$K$3:$K$309=\"Operational\",IF(Marketplace!$AJ$3:$AJ$309= \"Confident\",Marketplace!$Y$3:$Y$309))))))","v":0},{"$f":"SUM(IF($A10=Marketplace!$C$3:$C$309,IF(L$7=Marketplace!$G$3:$G$309,IF(Marketplace!$J$3:$J$309=\"Utility/IPP\",IF(Marketplace!$K$3:$K$309=\"Operational\",IF(Marketplace!$AJ$3:$AJ$309= \"Confident\",Marketplace!$Y$3:$Y$309))))))","v":0},{"$f":"SUM(IF($A10=Marketplace!$C$3:$C$309,IF(M$7=Marketplace!$G$3:$G$309,IF(Marketplace!$J$3:$J$309=\"Utility/IPP\",IF(Marketplace!$K$3:$K$309=\"Operational\",IF(Marketplace!$AJ$3:$AJ$309= \"Confident\",Marketplace!$Y$3:$Y$309))))))","v":6000000},{"$f":"SUM(IF($A10=Marketplace!$C$3:$C$309,IF(N$7=Marketplace!$G$3:$G$309,IF(Marketplace!$J$3:$J$309=\"Utility/IPP\",IF(Marketplace!$K$3:$K$309=\"Operational\",IF(Marketplace!$AJ$3:$AJ$309= \"Confident\",Marketplace!$Y$3:$Y$309))))))","v":0},89955972]
["Barbados",{"$f":"SUM(IF($A11=Marketplace!$C$3:$C$309,IF(B$7=Marketplace!$G$3:$G$309,IF(Marketplace!$J$3:$J$309=\"Utility/IPP\",IF(Marketplace!$K$3:$K$309=\"Operational\",IF(Marketplace!$AJ$3:$AJ$309= \"Confident\",Marketplace!$N$3:$N$309))))))","v":0},{"$f":"SUM(IF($A11=Marketplace!$C$3:$C$309,IF(C$7=Marketplace!$G$3:$G$309,IF(Marketplace!$J$3:$J$309=\"Utility/IPP\",IF(Marketplace!$K$3:$K$309=\"Operational\",IF(Marketplace!$AJ$3:$AJ$309= \"Confident\",Marketplace!$N$3:$N$309))))))","v":10000},{"$f":"SUM(IF($A11=Marketplace!$C$3:$C$309,IF(D$7=Marketplace!$G$3:$G$309,IF(Marketplace!$J$3:$J$309=\"Utility/IPP\",IF(Marketplace!$K$3:$K$309=\"Operational\",IF(Marketplace!$AJ$3:$AJ$309= \"Confident\",Marketplace!$N$3:$N$309))))))","v":0},{"$f":"SUM(IF($A11=Marketplace!$C$3:$C$309,IF(E$7=Marketplace!$G$3:$G$309,IF(Marketplace!$J$3:$J$309=\"Utility/IPP\",IF(Marketplace!$K$3:$K$309=\"Operational\",IF(Marketplace!$AJ$3:$AJ$309= \"Confident\",Marketplace!$N$3:$N$309))))))","v":0},{"$f":"SUM(IF($A11=Marketplace!$C$3:$C$309,IF(F$7=Marketplace!$G$3:$G$309,IF(Marketplace!$J$3:$J$309=\"Utility/IPP\",IF(Marketplace!$K$3:$K$309=\"Operational\",IF(Marketplace!$AJ$3:$AJ$309= \"Confident\",Marketplace!$N$3:$N$309))))))","v":0},{"$f":"SUM(IF($A11=Marketplace!$C$3:$C$309,IF(G$7=Marketplace!$G$3:$G$309,IF(Marketplace!$J$3:$J$309=\"Utility/IPP\",IF(Marketplace!$K$3:$K$309=\"Operational\",IF(Marketplace!$AJ$3:$AJ$309= \"Confident\",Marketplace!$N$3:$N$309))))))","v":0},10000,{"$f":"SUM(IF($A11=Marketplace!$C$3:$C$309,IF(I$7=Marketplace!$G$3:$G$309,IF(Marketplace!$J$3:$J$309=\"Utility/IPP\",IF(Marketplace!$K$3:$K$309=\"Operational\",IF(Marketplace!$AJ$3:$AJ$309= \"Confident\",Marketplace!$Y$3:$Y$309))))))","v":0},{"$f":"SUM(IF($A11=Marketplace!$C$3:$C$309,IF(J$7=Marketplace!$G$3:$G$309,IF(Marketplace!$J$3:$J$309=\"Utility/IPP\",IF(Marketplace!$K$3:$K$309=\"Operational\",IF(Marketplace!$AJ$3:$AJ$309= \"Confident\",Marketplace!$Y$3:$Y$309))))))","v":21500000},{"$f":"SUM(IF($A11=Marketplace!$C$3:$C$309,IF(K$7=Marketplace!$G$3:$G$309,IF(Marketplace!$J$3:$J$309=\"Utility/IPP\",IF(Marketplace!$K$3:$K$309=\"Operational\",IF(Marketplace!$AJ$3:$AJ$309= \"Confident\",Marketplace!$Y$3:$Y$309))))))","v":0},{"$f":"SUM(IF($A11=Marketplace!$C$3:$C$309,IF(L$7=Marketplace!$G$3:$G$309,IF(Marketplace!$J$3:$J$309=\"Utility/IPP\",IF(Marketplace!$K$3:$K$309=\"Operational\",IF(Marketplace!$AJ$3:$AJ$309= \"Confident\",Marketplace!$Y$3:$Y$309))))))","v":0},{"$f":"SUM(IF($A11=Marketplace!$C$3:$C$309,IF(M$7=Marketplace!$G$3:$G$309,IF(Marketplace!$J$3:$J$309=\"Utility/IPP\",IF(Marketplace!$K$3:$K$309=\"Operational\",IF(Marketplace!$AJ$3:$AJ$309= \"Confident\",Marketplace!$Y$3:$Y$309))))))","v":0},{"$f":"SUM(IF($A11=Marketplace!$C$3:$C$309,IF(N$7=Marketplace!$G$3:$G$309,IF(Marketplace!$J$3:$J$309=\"Utility/IPP\",IF(Marketplace!$K$3:$K$309=\"Operational\",IF(Marketplace!$AJ$3:$AJ$309= \"Confident\",Marketplace!$Y$3:$Y$309))))))","v":0},21500000]
["Belize",{"$f":"SUM(IF($A12=Marketplace!$C$3:$C$309,IF(B$7=Marketplace!$G$3:$G$309,IF(Marketplace!$J$3:$J$309=\"Utility/IPP\",IF(Marketplace!$K$3:$K$309=\"Operational\",IF(Marketplace!$AJ$3:$AJ$309= \"Confident\",Marketplace!$N$3:$N$309))))))","v":0},{"$f":"SUM(IF($A12=Marketplace!$C$3:$C$309,IF(C$7=Marketplace!$G$3:$G$309,IF(Marketplace!$J$3:$J$309=\"Utility/IPP\",IF(Marketplace!$K$3:$K$309=\"Operational\",IF(Marketplace!$AJ$3:$AJ$309= \"Confident\",Marketplace!$N$3:$N$309))))))","v":0},{"$f":"SUM(IF($A12=Marketplace!$C$3:$C$309,IF(D$7=Marketplace!$G$3:$G$309,IF(Marketplace!$J$3:$J$309=\"Utility/IPP\",IF(Marketplace!$K$3:$K$309=\"Operational\",IF(Marketplace!$AJ$3:$AJ$309= \"Confident\",Marketplace!$N$3:$N$309))))))","v":54900},{"$f":"SUM(IF($A12=Marketplace!$C$3:$C$309,IF(E$7=Marketplace!$G$3:$G$309,IF(Marketplace!$J$3:$J$309=\"Utility/IPP\",IF(Marketplace!$K$3:$K$309=\"Operational\",IF(Marketplace!$AJ$3:$AJ$309= \"Confident\",Marketplace!$N$3:$N$309))))))","v":0},{"$f":"SUM(IF($A12=Marketplace!$C$3:$C$309,IF(F$7=Marketplace!$G$3:$G$309,IF(Marketplace!$J$3:$J$309=\"Utility/IPP\",IF(Marketplace!$K$3:$K$309=\"Operational\",IF(Marketplace!$AJ$3:$AJ$309= \"Confident\",Marketplace!$N$3:$N$309))))))","v":0},{"$f":"SUM(IF($A12=Marketplace!$C$3:$C$309,IF(G$7=Marketplace!$G$3:$G$309,IF(Marketplace!$J$3:$J$309=\"Utility/IPP\",IF(Marketplace!$K$3:$K$309=\"Operational\",IF(Marketplace!$AJ$3:$AJ$309= \"Confident\",Marketplace!$N$3:$N$309))))))","v":80000},134900,{"$f":"SUM(IF($A12=Marketplace!$C$3:$C$309,IF(I$7=Marketplace!$G$3:$G$309,IF(Marketplace!$J$3:$J$309=\"Utility/IPP\",IF(Marketplace!$K$3:$K$309=\"Operational\",IF(Marketplace!$AJ$3:$AJ$309= \"Confident\",Marketplace!$Y$3:$Y$309))))))","v":0},{"$f":"SUM(IF($A12=Marketplace!$C$3:$C$309,IF(J$7=Marketplace!$G$3:$G$309,IF(Marketplace!$J$3:$J$309=\"Utility/IPP\",IF(Marketplace!$K$3:$K$309=\"Operational\",IF(Marketplace!$AJ$3:$AJ$309= \"Confident\",Marketplace!$Y$3:$Y$309))))))","v":0},{"$f":"SUM(IF($A12=Marketplace!$C$3:$C$309,IF(K$7=Marketplace!$G$3:$G$309,IF(Marketplace!$J$3:$J$309=\"Utility/IPP\",IF(Marketplace!$K$3:$K$309=\"Operational\",IF(Marketplace!$AJ$3:$AJ$309= \"Confident\",Marketplace!$Y$3:$Y$309))))))","v":208458400},{"$f":"SUM(IF($A12=Marketplace!$C$3:$C$309,IF(L$7=Marketplace!$G$3:$G$309,IF(Marketplace!$J$3:$J$309=\"Utility/IPP\",IF(Marketplace!$K$3:$K$309=\"Operational\",IF(Marketplace!$AJ$3:$AJ$309= \"Confident\",Marketplace!$Y$3:$Y$309))))))","v":0},{"$f":"SUM(IF($A12=Marketplace!$C$3:$C$309,IF(M$7=Marketplace!$G$3:$G$309,IF(Marketplace!$J$3:$J$309=\"Utility/IPP\",IF(Marketplace!$K$3:$K$309=\"Operational\",IF(Marketplace!$AJ$3:$AJ$309= \"Confident\",Marketplace!$Y$3:$Y$309))))))","v":0},{"$f":"SUM(IF($A12=Marketplace!$C$3:$C$309,IF(N$7=Marketplace!$G$3:$G$309,IF(Marketplace!$J$3:$J$309=\"Utility/IPP\",IF(Marketplace!$K$3:$K$309=\"Operational\",IF(Marketplace!$AJ$3:$AJ$309= \"Confident\",Marketplace!$Y$3:$Y$309))))))","v":181500000},389958400]
["Bermuda",{"$f":"SUM(IF($A13=Marketplace!$C$3:$C$309,IF(B$7=Marketplace!$G$3:$G$309,IF(Marketplace!$J$3:$J$309=\"Utility/IPP\",IF(Marketplace!$K$3:$K$309=\"Operational\",IF(Marketplace!$AJ$3:$AJ$309= \"Confident\",Marketplace!$N$3:$N$309))))))","v":0},{"$f":"SUM(IF($A13=Marketplace!$C$3:$C$309,IF(C$7=Marketplace!$G$3:$G$309,IF(Marketplace!$J$3:$J$309=\"Utility/IPP\",IF(Marketplace!$K$3:$K$309=\"Operational\",IF(Marketplace!$AJ$3:$AJ$309= \"Confident\",Marketplace!$N$3:$N$309))))))","v":0},{"$f":"SUM(IF($A13=Marketplace!$C$3:$C$309,IF(D$7=Marketplace!$G$3:$G$309,IF(Marketplace!$J$3:$J$309=\"Utility/IPP\",IF(Marketplace!$K$3:$K$309=\"Operational\",IF(Marketplace!$AJ$3:$AJ$309= \"Confident\",Marketplace!$N$3:$N$309))))))","v":0},{"$f":"SUM(IF($A13=Marketplace!$C$3:$C$309,IF(E$7=Marketplace!$G$3:$G$309,IF(Marketplace!$J$3:$J$309=\"Utility/IPP\",IF(Marketplace!$K$3:$K$309=\"Operational\",IF(Marketplace!$AJ$3:$AJ$309= \"Confident\",Marketplace!$N$3:$N$309))))))","v":0},{"$f":"SUM(IF($A13=Marketplace!$C$3:$C$309,IF(F$7=Marketplace!$G$3:$G$309,IF(Marketplace!$J$3:$J$309=\"Utility/IPP\",IF(Marketplace!$K$3:$K$309=\"Operational\",IF(Marketplace!$AJ$3:$AJ$309= \"Confident\",Marketplace!$N$3:$N$309))))))","v":5000},{"$f":"SUM(IF($A13=Marketplace!$C$3:$C$309,IF(G$7=Marketplace!$G$3:$G$309,IF(Marketplace!$J$3:$J$309=\"Utility/IPP\",IF(Marketplace!$K$3:$K$309=\"Operational\",IF(Marketplace!$AJ$3:$AJ$309= \"Confident\",Marketplace!$N$3:$N$309))))))","v":0},5000,{"$f":"SUM(IF($A13=Marketplace!$C$3:$C$309,IF(I$7=Marketplace!$G$3:$G$309,IF(Marketplace!$J$3:$J$309=\"Utility/IPP\",IF(Marketplace!$K$3:$K$309=\"Operational\",IF(Marketplace!$AJ$3:$AJ$309= \"Confident\",Marketplace!$Y$3:$Y$309))))))","v":0},{"$f":"SUM(IF($A13=Marketplace!$C$3:$C$309,IF(J$7=Marketplace!$G$3:$G$309,IF(Marketplace!$J$3:$J$309=\"Utility/IPP\",IF(Marketplace!$K$3:$K$309=\"Operational\",IF(Marketplace!$AJ$3:$AJ$309= \"Confident\",Marketplace!$Y$3:$Y$309))))))","v":0},{"$f":"SUM(IF($A13=Marketplace!$C$3:$C$309,IF(K$7=Marketplace!$G$3:$G$309,IF(Marketplace!$J$3:$J$309=\"Utility/IPP\",IF(Marketplace!$K$3:$K$309=\"Operational\",IF(Marketplace!$AJ$3:$AJ$309= \"Confident\",Marketplace!$Y$3:$Y$309))))))","v":0},{"$f":"SUM(IF($A13=Marketplace!$C$3:$C$309,IF(L$7=Marketplace!$G$3:$G$309,IF(Marketplace!$J$3:$J$309=\"Utility/IPP\",IF(Marketplace!$K$3:$K$309=\"Operational\",IF(Marketplace!$AJ$3:$AJ$309= \"Confident\",Marketplace!$Y$3:$Y$309))))))","v":0},{"$f":"SUM(IF($A13=Marketplace!$C$3:$C$309,IF(M$7=Marketplace!$G$3:$G$309,IF(Marketplace!$J$3:$J$309=\"Utility/IPP\",IF(Marketplace!$K$3:$K$309=\"Operational\",IF(Marketplace!$AJ$3:$AJ$309= \"Confident\",Marketplace!$Y$3:$Y$309))))))","v":70000000},{"$f":"SUM(IF($A13=Marketplace!$C$3:$C$309,IF(N$7=Marketplace!$G$3:$G$309,IF(Marketplace!$J$3:$J$309=\"Utility/IPP\",IF(Marketplace!$K$3:$K$309=\"Operational\",IF(Marketplace!$AJ$3:$AJ$309= \"Confident\",Marketplace!$Y$3:$Y$309))))))","v":0},70000000]
["Bonaire",{"$f":"SUM(IF($A14=Marketplace!$C$3:$C$309,IF(B$7=Marketplace!$G$3:$G$309,IF(Marketplace!$J$3:$J$309=\"Utility/IPP\",IF(Marketplace!$K$3:$K$309=\"Operational\",IF(Marketplace!$AJ$3:$AJ$309= \"Confident\",Marketplace!$N$3:$N$309))))))","v":11130},{"$f":"SUM(IF($A14=Marketplace!$C$3:$C$309,IF(C$7=Marketplace!$G$3:$G$309,IF(Marketplace!$J$3:$J$309=\"Utility/IPP\",IF(Marketplace!$K$3:$K$309=\"Operational\",IF(Marketplace!$AJ$3:$AJ$309= \"Confident\",Marketplace!$N$3:$N$309))))))","v":0},{"$f":"SUM(IF($A14=Marketplace!$C$3:$C$309,IF(D$7=Marketplace!$G$3:$G$309,IF(Marketplace!$J$3:$J$309=\"Utility/IPP\",IF(Marketplace!$K$3:$K$309=\"Operational\",IF(Marketplace!$AJ$3:$AJ$309= \"Confident\",Marketplace!$N$3:$N$309))))))","v":0},{"$f":"SUM(IF($A14=Marketplace!$C$3:$C$309,IF(E$7=Marketplace!$G$3:$G$309,IF(Marketplace!$J$3:$J$309=\"Utility/IPP\",IF(Marketplace!$K$3:$K$309=\"Operational\",IF(Marketplace!$AJ$3:$AJ$309= \"Confident\",Marketplace!$N$3:$N$309))))))","v":0},{"$f":"SUM(IF($A14=Marketplace!$C$3:$C$309,IF(F$7=Marketplace!$G$3:$G$309,IF(Marketplace!$J$3:$J$309=\"Utility/IPP\",IF(Marketplace!$K$3:$K$309=\"Operational\",IF(Marketplace!$AJ$3:$AJ$309= \"Confident\",Marketplace!$N$3:$N$309))))))","v":0},{"$f":"SUM(IF($A14=Marketplace!$C$3:$C$309,IF(G$7=Marketplace!$G$3:$G$309,IF(Marketplace!$J$3:$J$309=\"Utility/IPP\",IF(Marketplace!$K$3:$K$309=\"Operational\",IF(Marketplace!$AJ$3:$AJ$309= \"Confident\",Marketplace!$N$3:$N$309))))))","v":0},11130,{"$f":"SUM(IF($A14=Marketplace!$C$3:$C$309,IF(I$7=Marketplace!$G$3:$G$309,IF(Marketplace!$J$3:$J$309=\"Utility/IPP\",IF(Marketplace!$K$3:$K$309=\"Operational\",IF(Marketplace!$AJ$3:$AJ$309= \"Confident\",Marketplace!$Y$3:$Y$309))))))","v":60000000},{"$f":"SUM(IF($A14=Marketplace!$C$3:$C$309,IF(J$7=Marketplace!$G$3:$G$309,IF(Marketplace!$J$3:$J$309=\"Utility/IPP\",IF(Marketplace!$K$3:$K$309=\"Operational\",IF(Marketplace!$AJ$3:$AJ$309= \"Confident\",Marketplace!$Y$3:$Y$309))))))","v":0},{"$f":"SUM(IF($A14=Marketplace!$C$3:$C$309,IF(K$7=Marketplace!$G$3:$G$309,IF(Marketplace!$J$3:$J$309=\"Utility/IPP\",IF(Marketplace!$K$3:$K$309=\"Operational\",IF(Marketplace!$AJ$3:$AJ$309= \"Confident\",Marketplace!$Y$3:$Y$309))))))","v":0},{"$f":"SUM(IF($A14=Marketplace!$C$3:$C$309,IF(L$7=Marketplace!$G$3:$G$309,IF(Marketplace!$J$3:$J$309=\"Utility/IPP\",IF(Marketplace!$K$3:$K$309=\"Operational\",IF(Marketplace!$AJ$3:$AJ$309= \"Confident\",Marketplace!$Y$3:$Y$309))))))","v":0},{"$f":"SUM(IF($A14=Marketplace!$C$3:$C$309,IF(M$7=Marketplace!$G$3:$G$309,IF(Marketplace!$J$3:$J$309=\"Utility/IPP\",IF(Marketplace!$K$3:$K$309=\"Operational\",IF(Marketplace!$AJ$3:$AJ$309= \"Confident\",Marketplace!$Y$3:$Y$309))))))","v":0},{"$f":"SUM(IF($A14=Marketplace!$C$3:$C$309,IF(N$7=Marketplace!$G$3:$G$309,IF(Marketplace!$J$3:$J$309=\"Utility/IPP\",IF(Marketplace!$K$3:$K$309=\"Operational\",IF(Marketplace!$AJ$3:$AJ$309= \"Confident\",Marketplace!$Y$3:$Y$309))))))","v":0},60000000]
["British Virgin Islands",{"$f":"SUM(IF($A15=Marketplace!$C$3:$C$309,IF(B$7=Marketplace!$G$3:$G$309,IF(Marketplace!$J$3:$J$309=\"Utility/IPP\",IF(Marketplace!$K$3:$K$309=\"Operational\",IF(Marketplace!$AJ$3:$AJ$309= \"Confident\",Marketplace!$N$3:$N$309))))))","v":0},{"$f":"SUM(IF($A15=Marketplace!$C$3:$C$309,IF(C$7=Marketplace!$G$3:$G$309,IF(Marketplace!$J$3:$J$309=\"Utility/IPP\",IF(Marketplace!$K$3:$K$309=\"Operational\",IF(Marketplace!$AJ$3:$AJ$309= \"Confident\",Marketplace!$N$3:$N$309))))))","v":0},{"$f":"SUM(IF($A15=Marketplace!$C$3:$C$309,IF(D$7=Marketplace!$G$3:$G$309,IF(Marketplace!$J$3:$J$309=\"Utility/IPP\",IF(Marketplace!$K$3:$K$309=\"Operational\",IF(Marketplace!$AJ$3:$AJ$309= \"Confident\",Marketplace!$N$3:$N$309))))))","v":0},{"$f":"SUM(IF($A15=Marketplace!$C$3:$C$309,IF(E$7=Marketplace!$G$3:$G$309,IF(Marketplace!$J$3:$J$309=\"Utility/IPP\",IF(Marketplace!$K$3:$K$309=\"Operational\",IF(Marketplace!$AJ$3:$AJ$309= \"Confident\",Marketplace!$N$3:$N$309))))))","v":0},{"$f":"SUM(IF($A15=Marketplace!$C$3:$C$309,IF(F$7=Marketplace!$G$3:$G$309,IF(Marketplace!$J$3:$J$309=\"Utility/IPP\",IF(Marketplace!$K$3:$K$309=\"Operational\",IF(Marketplace!$AJ$3:$AJ$309= \"Confident\",Marketplace!$N$3:$N$309))))))","v":0},{"$f":"SUM(IF($A15=Marketplace!$C$3:$C$309,IF(G$7=Marketplace!$G$3:$G$309,IF(Marketplace!$J$3:$J$309=\"Utility/IPP\",IF(Marketplace!$K$3:$K$309=\"Operational\",IF(Marketplace!$AJ$3:$AJ$309= \"Confident\",Marketplace!$N$3:$N$309))))))","v":0},0,{"$f":"SUM(IF($A15=Marketplace!$C$3:$C$309,IF(I$7=Marketplace!$G$3:$G$309,IF(Marketplace!$J$3:$J$309=\"Utility/IPP\",IF(Marketplace!$K$3:$K$309=\"Operational\",IF(Marketplace!$AJ$3:$AJ$309= \"Confident\",Marketplace!$Y$3:$Y$309))))))","v":0},{"$f":"SUM(IF($A15=Marketplace!$C$3:$C$309,IF(J$7=Marketplace!$G$3:$G$309,IF(Marketplace!$J$3:$J$309=\"Utility/IPP\",IF(Marketplace!$K$3:$K$309=\"Operational\",IF(Marketplace!$AJ$3:$AJ$309= \"Confident\",Marketplace!$Y$3:$Y$309))))))","v":0},{"$f":"SUM(IF($A15=Marketplace!$C$3:$C$309,IF(K$7=Marketplace!$G$3:$G$309,IF(Marketplace!$J$3:$J$309=\"Utility/IPP\",IF(Marketplace!$K$3:$K$309=\"Operational\",IF(Marketplace!$AJ$3:$AJ$309= \"Confident\",Marketplace!$Y$3:$Y$309))))))","v":0},{"$f":"SUM(IF($A15=Marketplace!$C$3:$C$309,IF(L$7=Marketplace!$G$3:$G$309,IF(Marketplace!$J$3:$J$309=\"Utility/IPP\",IF(Marketplace!$K$3:$K$309=\"Operational\",IF(Marketplace!$AJ$3:$AJ$309= \"Confident\",Marketplace!$Y$3:$Y$309))))))","v":0},{"$f":"SUM(IF($A15=Marketplace!$C$3:$C$309,IF(M$7=Marketplace!$G$3:$G$309,IF(Marketplace!$J$3:$J$309=\"Utility/IPP\",IF(Marketplace!$K$3:$K$309=\"Operational\",IF(Marketplace!$AJ$3:$AJ$309= \"Confident\",Marketplace!$Y$3:$Y$309))))))","v":0},{"$f":"SUM(IF($A15=Marketplace!$C$3:$C$309,IF(N$7=Marketplace!$G$3:$G$309,IF(Marketplace!$J$3:$J$309=\"Utility/IPP\",IF(Marketplace!$K$3:$K$309=\"Operational\",IF(Marketplace!$AJ$3:$AJ$309= \"Confident\",Marketplace!$Y$3:$Y$309))))))","v":0},0]
["Cayman Islands",{"$f":"SUM(IF($A16=Marketplace!$C$3:$C$309,IF(B$7=Marketplace!$G$3:$G$309,IF(Marketplace!$J$3:$J$309=\"Utility/IPP\",IF(Marketplace!$K$3:$K$309=\"Operational\",IF(Marketplace!$AJ$3:$AJ$309= \"Confident\",Marketplace!$N$3:$N$309))))))","v":0},{"$f":"SUM(IF($A16=Marketplace!$C$3:$C$309,IF(C$7=Marketplace!$G$3:$G$309,IF(Marketplace!$J$3:$J$309=\"Utility/IPP\",IF(Marketplace!$K$3:$K$309=\"Operational\",IF(Marketplace!$AJ$3:$AJ$309= \"Confident\",Marketplace!$N$3:$N$309))))))","v":5000},{"$f":"SUM(IF($A16=Marketplace!$C$3:$C$309,IF(D$7=Marketplace!$G$3:$G$309,IF(Marketplace!$J$3:$J$309=\"Utility/IPP\",IF(Marketplace!$K$3:$K$309=\"Operational\",IF(Marketplace!$AJ$3:$AJ$309= \"Confident\",Marketplace!$N$3:$N$309))))))","v":0},{"$f":"SUM(IF($A16=Marketplace!$C$3:$C$309,IF(E$7=Marketplace!$G$3:$G$309,IF(Marketplace!$J$3:$J$309=\"Utility/IPP\",IF(Marketplace!$K$3:$K$309=\"Operational\",IF(Marketplace!$AJ$3:$AJ$309= \"Confident\",Marketplace!$N$3:$N$309))))))","v":0},{"$f":"SUM(IF($A16=Marketplace!$C$3:$C$309,IF(F$7=Marketplace!$G$3:$G$309,IF(Marketplace!$J$3:$J$309=\"Utility/IPP\",IF(Marketplace!$K$3:$K$309=\"Operational\",IF(Marketplace!$AJ$3:$AJ$309= \"Confident\",Marketplace!$N$3:$N$309))))))","v":0},{"$f":"SUM(IF($A16=Marketplace!$C$3:$C$309,IF(G$7=Marketplace!$G$3:$G$309,IF(Marketplace!$J$3:$J$309=\"Utility/IPP\",IF(Marketplace!$K$3:$K$309=\"Operational\",IF(Marketplace!$AJ$3:$AJ$309= \"Confident\",Marketplace!$N$3:$N$309))))))","v":0},5000,{"$f":"SUM(IF($A16=Marketplace!$C$3:$C$309,IF(I$7=Marketplace!$G$3:$G$309,IF(Marketplace!$J$3:$J$309=\"Utility/IPP\",IF(Marketplace!$K$3:$K$309=\"Operational\",IF(Marketplace!$AJ$3:$AJ$309= \"Confident\",Marketplace!$Y$3:$Y$309))))))","v":0},{"$f":"SUM(IF($A16=Marketplace!$C$3:$C$309,IF(J$7=Marketplace!$G$3:$G$309,IF(Marketplace!$J$3:$J$309=\"Utility/IPP\",IF(Marketplace!$K$3:$K$309=\"Operational\",IF(Marketplace!$AJ$3:$AJ$309= \"Confident\",Marketplace!$Y$3:$Y$309))))))","v":12890000},{"$f":"SUM(IF($A16=Marketplace!$C$3:$C$309,IF(K$7=Marketplace!$G$3:$G$309,IF(Marketplace!$J$3:$J$309=\"Utility/IPP\",IF(Marketplace!$K$3:$K$309=\"Operational\",IF(Marketplace!$AJ$3:$AJ$309= \"Confident\",Marketplace!$Y$3:$Y$309))))))","v":0},{"$f":"SUM(IF($A16=Marketplace!$C$3:$C$309,IF(L$7=Marketplace!$G$3:$G$309,IF(Marketplace!$J$3:$J$309=\"Utility/IPP\",IF(Marketplace!$K$3:$K$309=\"Operational\",IF(Marketplace!$AJ$3:$AJ$309= \"Confident\",Marketplace!$Y$3:$Y$309))))))","v":0},{"$f":"SUM(IF($A16=Marketplace!$C$3:$C$309,IF(M$7=Marketplace!$G$3:$G$309,IF(Marketplace!$J$3:$J$309=\"Utility/IPP\",IF(Marketplace!$K$3:$K$309=\"Operational\",IF(Marketplace!$AJ$3:$AJ$309= \"Confident\",Marketplace!$Y$3:$Y$309))))))","v":0},{"$f":"SUM(IF($A16=Marketplace!$C$3:$C$309,IF(N$7=Marketplace!$G$3:$G$309,IF(Marketplace!$J$3:$J$309=\"Utility/IPP\",IF(Marketplace!$K$3:$K$309=\"Operational\",IF(Marketplace!$AJ$3:$AJ$309= \"Confident\",Marketplace!$Y$3:$Y$309))))))","v":0},12890000]
["Cuba",{"$f":"SUM(IF($A17=Marketplace!$C$3:$C$309,IF(B$7=Marketplace!$G$3:$G$309,IF(Marketplace!$J$3:$J$309=\"Utility/IPP\",IF(Marketplace!$K$3:$K$309=\"Operational\",IF(Marketplace!$AJ$3:$AJ$309= \"Confident\",Marketplace!$N$3:$N$309))))))","v":11700},{"$f":"SUM(IF($A17=Marketplace!$C$3:$C$309,IF(C$7=Marketplace!$G$3:$G$309,IF(Marketplace!$J$3:$J$309=\"Utility/IPP\",IF(Marketplace!$K$3:$K$309=\"Operational\",IF(Marketplace!$AJ$3:$AJ$309= \"Confident\",Marketplace!$N$3:$N$309))))))","v":27562},{"$f":"SUM(IF($A17=Marketplace!$C$3:$C$309,IF(D$7=Marketplace!$G$3:$G$309,IF(Marketplace!$J$3:$J$309=\"Utility/IPP\",IF(Marketplace!$K$3:$K$309=\"Operational\",IF(Marketplace!$AJ$3:$AJ$309= \"Confident\",Marketplace!$N$3:$N$309))))))","v":2000},{"$f":"SUM(IF($A17=Marketplace!$C$3:$C$309,IF(E$7=Marketplace!$G$3:$G$309,IF(Marketplace!$J$3:$J$309=\"Utility/IPP\",IF(Marketplace!$K$3:$K$309=\"Operational\",IF(Marketplace!$AJ$3:$AJ$309= \"Confident\",Marketplace!$N$3:$N$309))))))","v":0},{"$f":"SUM(IF($A17=Marketplace!$C$3:$C$309,IF(F$7=Marketplace!$G$3:$G$309,IF(Marketplace!$J$3:$J$309=\"Utility/IPP\",IF(Marketplace!$K$3:$K$309=\"Operational\",IF(Marketplace!$AJ$3:$AJ$309= \"Confident\",Marketplace!$N$3:$N$309))))))","v":0},{"$f":"SUM(IF($A17=Marketplace!$C$3:$C$309,IF(G$7=Marketplace!$G$3:$G$309,IF(Marketplace!$J$3:$J$309=\"Utility/IPP\",IF(Marketplace!$K$3:$K$309=\"Operational\",IF(Marketplace!$AJ$3:$AJ$309= \"Confident\",Marketplace!$N$3:$N$309))))))","v":0},41262,{"$f":"SUM(IF($A17=Marketplace!$C$3:$C$309,IF(I$7=Marketplace!$G$3:$G$309,IF(Marketplace!$J$3:$J$309=\"Utility/IPP\",IF(Marketplace!$K$3:$K$309=\"Operational\",IF(Marketplace!$AJ$3:$AJ$309= \"Confident\",Marketplace!$Y$3:$Y$309))))))","v":19235450},{"$f":"SUM(IF($A17=Marketplace!$C$3:$C$309,IF(J$7=Marketplace!$G$3:$G$309,IF(Marketplace!$J$3:$J$309=\"Utility/IPP\",IF(Marketplace!$K$3:$K$309=\"Operational\",IF(Marketplace!$AJ$3:$AJ$309= \"Confident\",Marketplace!$Y$3:$Y$309))))))","v":45357836},{"$f":"SUM(IF($A17=Marketplace!$C$3:$C$309,IF(K$7=Marketplace!$G$3:$G$309,IF(Marketplace!$J$3:$J$309=\"Utility/IPP\",IF(Marketplace!$K$3:$K$309=\"Operational\",IF(Marketplace!$AJ$3:$AJ$309= \"Confident\",Marketplace!$Y$3:$Y$309))))))","v":6400000},{"$f":"SUM(IF($A17=Marketplace!$C$3:$C$309,IF(L$7=Marketplace!$G$3:$G$309,IF(Marketplace!$J$3:$J$309=\"Utility/IPP\",IF(Marketplace!$K$3:$K$309=\"Operational\",IF(Marketplace!$AJ$3:$AJ$309= \"Confident\",Marketplace!$Y$3:$Y$309))))))","v":0},{"$f":"SUM(IF($A17=Marketplace!$C$3:$C$309,IF(M$7=Marketplace!$G$3:$G$309,IF(Marketplace!$J$3:$J$309=\"Utility/IPP\",IF(Marketplace!$K$3:$K$309=\"Operational\",IF(Marketplace!$AJ$3:$AJ$309= \"Confident\",Marketplace!$Y$3:$Y$309))))))","v":0},{"$f":"SUM(IF($A17=Marketplace!$C$3:$C$309,IF(N$7=Marketplace!$G$3:$G$309,IF(Marketplace!$J$3:$J$309=\"Utility/IPP\",IF(Marketplace!$K$3:$K$309=\"Operational\",IF(Marketplace!$AJ$3:$AJ$309= \"Confident\",Marketplace!$Y$3:$Y$309))))))","v":0},70993286]
["Curaҫao",{"$f":"SUM(IF($A18=Marketplace!$C$3:$C$309,IF(B$7=Marketplace!$G$3:$G$309,IF(Marketplace!$J$3:$J$309=\"Utility/IPP\",IF(Marketplace!$K$3:$K$309=\"Operational\",IF(Marketplace!$AJ$3:$AJ$309= \"Confident\",Marketplace!$N$3:$N$309))))))","v":46500},{"$f":"SUM(IF($A18=Marketplace!$C$3:$C$309,IF(C$7=Marketplace!$G$3:$G$309,IF(Marketplace!$J$3:$J$309=\"Utility/IPP\",IF(Marketplace!$K$3:$K$309=\"Operational\",IF(Marketplace!$AJ$3:$AJ$309= \"Confident\",Marketplace!$N$3:$N$309))))))","v":0},{"$f":"SUM(IF($A18=Marketplace!$C$3:$C$309,IF(D$7=Marketplace!$G$3:$G$309,IF(Marketplace!$J$3:$J$309=\"Utility/IPP\",IF(Marketplace!$K$3:$K$309=\"Operational\",IF(Marketplace!$AJ$3:$AJ$309= \"Confident\",Marketplace!$N$3:$N$309))))))","v":0},{"$f":"SUM(IF($A18=Marketplace!$C$3:$C$309,IF(E$7=Marketplace!$G$3:$G$309,IF(Marketplace!$J$3:$J$309=\"Utility/IPP\",IF(Marketplace!$K$3:$K$309=\"Operational\",IF(Marketplace!$AJ$3:$AJ$309= \"Confident\",Marketplace!$N$3:$N$309))))))","v":0},{"$f":"SUM(IF($A18=Marketplace!$C$3:$C$309,IF(F$7=Marketplace!$G$3:$G$309,IF(Marketplace!$J$3:$J$309=\"Utility/IPP\",IF(Marketplace!$K$3:$K$309=\"Operational\",IF(Marketplace!$AJ$3:$AJ$309= \"Confident\",Marketplace!$N$3:$N$309))))))","v":0},{"$f":"SUM(IF($A18=Marketplace!$C$3:$C$309,IF(G$7=Marketplace!$G$3:$G$309,IF(Marketplace!$J$3:$J$309=\"Utility/IPP\",IF(Marketplace!$K$3:$K$309=\"Operational\",IF(Marketplace!$AJ$3:$AJ$309= \"Confident\",Marketplace!$N$3:$N$309))))))","v":0},46500,{"$f":"SUM(IF($A18=Marketplace!$C$3:$C$309,IF(I$7=Marketplace!$G$3:$G$309,IF(Marketplace!$J$3:$J$309=\"Utility/IPP\",IF(Marketplace!$K$3:$K$309=\"Operational\",IF(Marketplace!$AJ$3:$AJ$309= \"Confident\",Marketplace!$Y$3:$Y$309))))))","v":101454545.45454547},{"$f":"SUM(IF($A18=Marketplace!$C$3:$C$309,IF(J$7=Marketplace!$G$3:$G$309,IF(Marketplace!$J$3:$J$309=\"Utility/IPP\",IF(Marketplace!$K$3:$K$309=\"Operational\",IF(Marketplace!$AJ$3:$AJ$309= \"Confident\",Marketplace!$Y$3:$Y$309))))))","v":0},{"$f":"SUM(IF($A18=Marketplace!$C$3:$C$309,IF(K$7=Marketplace!$G$3:$G$309,IF(Marketplace!$J$3:$J$309=\"Utility/IPP\",IF(Marketplace!$K$3:$K$309=\"Operational\",IF(Marketplace!$AJ$3:$AJ$309= \"Confident\",Marketplace!$Y$3:$Y$309))))))","v":0},{"$f":"SUM(IF($A18=Marketplace!$C$3:$C$309,IF(L$7=Marketplace!$G$3:$G$309,IF(Marketplace!$J$3:$J$309=\"Utility/IPP\",IF(Marketplace!$K$3:$K$309=\"Operational\",IF(Marketplace!$AJ$3:$AJ$309= \"Confident\",Marketplace!$Y$3:$Y$309))))))","v":0},{"$f":"SUM(IF($A18=Marketplace!$C$3:$C$309,IF(M$7=Marketplace!$G$3:$G$309,IF(Marketplace!$J$3:$J$309=\"Utility/IPP\",IF(Marketplace!$K$3:$K$309=\"Operational\",IF(Marketplace!$AJ$3:$AJ$309= \"Confident\",Marketplace!$Y$3:$Y$309))))))","v":0},{"$f":"SUM(IF($A18=Marketplace!$C$3:$C$309,IF(N$7=Marketplace!$G$3:$G$309,IF(Marketplace!$J$3:$J$309=\"Utility/IPP\",IF(Marketplace!$K$3:$K$309=\"Operational\",IF(Marketplace!$AJ$3:$AJ$309= \"Confident\",Marketplace!$Y$3:$Y$309))))))","v":0},101454545.45454547]
["Dominica",{"$f":"SUM(IF($A19=Marketplace!$C$3:$C$309,IF(B$7=Marketplace!$G$3:$G$309,IF(Marketplace!$J$3:$J$309=\"Utility/IPP\",IF(Marketplace!$K$3:$K$309=\"Operational\",IF(Marketplace!$AJ$3:$AJ$309= \"Confident\",Marketplace!$N$3:$N$309))))))","v":0},{"$f":"SUM(IF($A19=Marketplace!$C$3:$C$309,IF(C$7=Marketplace!$G$3:$G$309,IF(Marketplace!$J$3:$J$309=\"Utility/IPP\",IF(Marketplace!$K$3:$K$309=\"Operational\",IF(Marketplace!$AJ$3:$AJ$309= \"Confident\",Marketplace!$N$3:$N$309))))))","v":3000},{"$f":"SUM(IF($A19=Marketplace!$C$3:$C$309,IF(D$7=Marketplace!$G$3:$G$309,IF(Marketplace!$J$3:$J$309=\"Utility/IPP\",IF(Marketplace!$K$3:$K$309=\"Operational\",IF(Marketplace!$AJ$3:$AJ$309= \"Confident\",Marketplace!$N$3:$N$309))))))","v":6620},{"$f":"SUM(IF($A19=Marketplace!$C$3:$C$309,IF(E$7=Marketplace!$G$3:$G$309,IF(Marketplace!$J$3:$J$309=\"Utility/IPP\",IF(Marketplace!$K$3:$K$309=\"Operational\",IF(Marketplace!$AJ$3:$AJ$309= \"Confident\",Marketplace!$N$3:$N$309))))))","v":0},{"$f":"SUM(IF($A19=Marketplace!$C$3:$C$309,IF(F$7=Marketplace!$G$3:$G$309,IF(Marketplace!$J$3:$J$309=\"Utility/IPP\",IF(Marketplace!$K$3:$K$309=\"Operational\",IF(Marketplace!$AJ$3:$AJ$309= \"Confident\",Marketplace!$N$3:$N$309))))))","v":0},{"$f":"SUM(IF($A19=Marketplace!$C$3:$C$309,IF(G$7=Marketplace!$G$3:$G$309,IF(Marketplace!$J$3:$J$309=\"Utility/IPP\",IF(Marketplace!$K$3:$K$309=\"Operational\",IF(Marketplace!$AJ$3:$AJ$309= \"Confident\",Marketplace!$N$3:$N$309))))))","v":0},9620,{"$f":"SUM(IF($A19=Marketplace!$C$3:$C$309,IF(I$7=Marketplace!$G$3:$G$309,IF(Marketplace!$J$3:$J$309=\"Utility/IPP\",IF(Marketplace!$K$3:$K$309=\"Operational\",IF(Marketplace!$AJ$3:$AJ$309= \"Confident\",Marketplace!$Y$3:$Y$309))))))","v":0},{"$f":"SUM(IF($A19=Marketplace!$C$3:$C$309,IF(J$7=Marketplace!$G$3:$G$309,IF(Marketplace!$J$3:$J$309=\"Utility/IPP\",IF(Marketplace!$K$3:$K$309=\"Operational\",IF(Marketplace!$AJ$3:$AJ$309= \"Confident\",Marketplace!$Y$3:$Y$309))))))","v":8000000},{"$f":"SUM(IF($A19=Marketplace!$C$3:$C$309,IF(K$7=Marketplace!$G$3:$G$309,IF(Marketplace!$J$3:$J$309=\"Utility/IPP\",IF(Marketplace!$K$3:$K$309=\"Operational\",IF(Marketplace!$AJ$3:$AJ$309= \"Confident\",Marketplace!$Y$3:$Y$309))))))","v":20363120},{"$f":"SUM(IF($A19=Marketplace!$C$3:$C$309,IF(L$7=Marketplace!$G$3:$G$309,IF(Marketplace!$J$3:$J$309=\"Utility/IPP\",IF(Marketplace!$K$3:$K$309=\"Operational\",IF(Marketplace!$AJ$3:$AJ$309= \"Confident\",Marketplace!$Y$3:$Y$309))))))","v":0},{"$f":"SUM(IF($A19=Marketplace!$C$3:$C$309,IF(M$7=Marketplace!$G$3:$G$309,IF(Marketplace!$J$3:$J$309=\"Utility/IPP\",IF(Marketplace!$K$3:$K$309=\"Operational\",IF(Marketplace!$AJ$3:$AJ$309= \"Confident\",Marketplace!$Y$3:$Y$309))))))","v":0},{"$f":"SUM(IF($A19=Marketplace!$C$3:$C$309,IF(N$7=Marketplace!$G$3:$G$309,IF(Marketplace!$J$3:$J$309=\"Utility/IPP\",IF(Marketplace!$K$3:$K$309=\"Operational\",IF(Marketplace!$AJ$3:$AJ$309= \"Confident\",Marketplace!$Y$3:$Y$309))))))","v":0},28363120]
["Dominican Republic",{"$f":"SUM(IF($A20=Marketplace!$C$3:$C$309,IF(B$7=Marketplace!$G$3:$G$309,IF(Marketplace!$J$3:$J$309=\"Utility/IPP\",IF(Marketplace!$K$3:$K$309=\"Operational\",IF(Marketplace!$AJ$3:$AJ$309= \"Confident\",Marketplace!$N$3:$N$309))))))","v":317250},{"$f":"SUM(IF($A20=Marketplace!$C$3:$C$309,IF(C$7=Marketplace!$G$3:$G$309,IF(Marketplace!$J$3:$J$309=\"Utility/IPP\",IF(Marketplace!$K$3:$K$309=\"Operational\",IF(Marketplace!$AJ$3:$AJ$309= \"Confident\",Marketplace!$N$3:$N$309))))))","v":94360},{"$f":"SUM(IF($A20=Marketplace!$C$3:$C$309,IF(D$7=Marketplace!$G$3:$G$309,IF(Marketplace!$J$3:$J$309=\"Utility/IPP\",IF(Marketplace!$K$3:$K$309=\"Operational\",IF(Marketplace!$AJ$3:$AJ$309= \"Confident\",Marketplace!$N$3:$N$309))))))","v":613000},{"$f":"SUM(IF($A20=Marketplace!$C$3:$C$309,IF(E$7=Marketplace!$G$3:$G$309,IF(Marketplace!$J$3:$J$309=\"Utility/IPP\",IF(Marketplace!$K$3:$K$309=\"Operational\",IF(Marketplace!$AJ$3:$AJ$309= \"Confident\",Marketplace!$N$3:$N$309))))))","v":0},{"$f":"SUM(IF($A20=Marketplace!$C$3:$C$309,IF(F$7=Marketplace!$G$3:$G$309,IF(Marketplace!$J$3:$J$309=\"Utility/IPP\",IF(Marketplace!$K$3:$K$309=\"Operational\",IF(Marketplace!$AJ$3:$AJ$309= \"Confident\",Marketplace!$N$3:$N$309))))))","v":0},{"$f":"SUM(IF($A20=Marketplace!$C$3:$C$309,IF(G$7=Marketplace!$G$3:$G$309,IF(Marketplace!$J$3:$J$309=\"Utility/IPP\",IF(Marketplace!$K$3:$K$309=\"Operational\",IF(Marketplace!$AJ$3:$AJ$309= \"Confident\",Marketplace!$N$3:$N$309))))))","v":30000},1054610,{"$f":"SUM(IF($A20=Marketplace!$C$3:$C$309,IF(I$7=Marketplace!$G$3:$G$309,IF(Marketplace!$J$3:$J$309=\"Utility/IPP\",IF(Marketplace!$K$3:$K$309=\"Operational\",IF(Marketplace!$AJ$3:$AJ$309= \"Confident\",Marketplace!$Y$3:$Y$309))))))","v":3418161442.4242425},{"$f":"SUM(IF($A20=Marketplace!$C$3:$C$309,IF(J$7=Marketplace!$G$3:$G$309,IF(Marketplace!$J$3:$J$309=\"Utility/IPP\",IF(Marketplace!$K$3:$K$309=\"Operational\",IF(Marketplace!$AJ$3:$AJ$309= \"Confident\",Marketplace!$Y$3:$Y$309))))))","v":165375000},{"$f":"SUM(IF($A20=Marketplace!$C$3:$C$309,IF(K$7=Marketplace!$G$3:$G$309,IF(Marketplace!$J$3:$J$309=\"Utility/IPP\",IF(Marketplace!$K$3:$K$309=\"Operational\",IF(Marketplace!$AJ$3:$AJ$309= \"Confident\",Marketplace!$Y$3:$Y$309))))))","v":1885588000},{"$f":"SUM(IF($A20=Marketplace!$C$3:$C$309,IF(L$7=Marketplace!$G$3:$G$309,IF(Marketplace!$J$3:$J$309=\"Utility/IPP\",IF(Marketplace!$K$3:$K$309=\"Operational\",IF(Marketplace!$AJ$3:$AJ$309= \"Confident\",Marketplace!$Y$3:$Y$309))))))","v":0},{"$f":"SUM(IF($A20=Marketplace!$C$3:$C$309,IF(M$7=Marketplace!$G$3:$G$309,IF(Marketplace!$J$3:$J$309=\"Utility/IPP\",IF(Marketplace!$K$3:$K$309=\"Operational\",IF(Marketplace!$AJ$3:$AJ$309= \"Confident\",Marketplace!$Y$3:$Y$309))))))","v":0},{"$f":"SUM(IF($A20=Marketplace!$C$3:$C$309,IF(N$7=Marketplace!$G$3:$G$309,IF(Marketplace!$J$3:$J$309=\"Utility/IPP\",IF(Marketplace!$K$3:$K$309=\"Operational\",IF(Marketplace!$AJ$3:$AJ$309= \"Confident\",Marketplace!$Y$3:$Y$309))))))","v":90000000},5559124442.424242]
["Grenada",{"$f":"SUM(IF($A21=Marketplace!$C$3:$C$309,IF(B$7=Marketplace!$G$3:$G$309,IF(Marketplace!$J$3:$J$309=\"Utility/IPP\",IF(Marketplace!$K$3:$K$309=\"Operational\",IF(Marketplace!$AJ$3:$AJ$309= \"Confident\",Marketplace!$N$3:$N$309))))))","v":0},{"$f":"SUM(IF($A21=Marketplace!$C$3:$C$309,IF(C$7=Marketplace!$G$3:$G$309,IF(Marketplace!$J$3:$J$309=\"Utility/IPP\",IF(Marketplace!$K$3:$K$309=\"Operational\",IF(Marketplace!$AJ$3:$AJ$309= \"Confident\",Marketplace!$N$3:$N$309))))))","v":400},{"$f":"SUM(IF($A21=Marketplace!$C$3:$C$309,IF(D$7=Marketplace!$G$3:$G$309,IF(Marketplace!$J$3:$J$309=\"Utility/IPP\",IF(Marketplace!$K$3:$K$309=\"Operational\",IF(Marketplace!$AJ$3:$AJ$309= \"Confident\",Marketplace!$N$3:$N$309))))))","v":0},{"$f":"SUM(IF($A21=Marketplace!$C$3:$C$309,IF(E$7=Marketplace!$G$3:$G$309,IF(Marketplace!$J$3:$J$309=\"Utility/IPP\",IF(Marketplace!$K$3:$K$309=\"Operational\",IF(Marketplace!$AJ$3:$AJ$309= \"Confident\",Marketplace!$N$3:$N$309))))))","v":0},{"$f":"SUM(IF($A21=Marketplace!$C$3:$C$309,IF(F$7=Marketplace!$G$3:$G$309,IF(Marketplace!$J$3:$J$309=\"Utility/IPP\",IF(Marketplace!$K$3:$K$309=\"Operational\",IF(Marketplace!$AJ$3:$AJ$309= \"Confident\",Marketplace!$N$3:$N$309))))))","v":0},{"$f":"SUM(IF($A21=Marketplace!$C$3:$C$309,IF(G$7=Marketplace!$G$3:$G$309,IF(Marketplace!$J$3:$J$309=\"Utility/IPP\",IF(Marketplace!$K$3:$K$309=\"Operational\",IF(Marketplace!$AJ$3:$AJ$309= \"Confident\",Marketplace!$N$3:$N$309))))))","v":0},400,{"$f":"SUM(IF($A21=Marketplace!$C$3:$C$309,IF(I$7=Marketplace!$G$3:$G$309,IF(Marketplace!$J$3:$J$309=\"Utility/IPP\",IF(Marketplace!$K$3:$K$309=\"Operational\",IF(Marketplace!$AJ$3:$AJ$309= \"Confident\",Marketplace!$Y$3:$Y$309))))))","v":0},{"$f":"SUM(IF($A21=Marketplace!$C$3:$C$309,IF(J$7=Marketplace!$G$3:$G$309,IF(Marketplace!$J$3:$J$309=\"Utility/IPP\",IF(Marketplace!$K$3:$K$309=\"Operational\",IF(Marketplace!$AJ$3:$AJ$309= \"Confident\",Marketplace!$Y$3:$Y$309))))))","v":800000},{"$f":"SUM(IF($A21=Marketplace!$C$3:$C$309,IF(K$7=Marketplace!$G$3:$G$309,IF(Marketplace!$J$3:$J$309=\"Utility/IPP\",IF(Marketplace!$K$3:$K$309=\"Operational\",IF(Marketplace!$AJ$3:$AJ$309= \"Confident\",Marketplace!$Y$3:$Y$309))))))","v":0},{"$f":"SUM(IF($A21=Marketplace!$C$3:$C$309,IF(L$7=Marketplace!$G$3:$G$309,IF(Marketplace!$J$3:$J$309=\"Utility/IPP\",IF(Marketplace!$K$3:$K$309=\"Operational\",IF(Marketplace!$AJ$3:$AJ$309= \"Confident\",Marketplace!$Y$3:$Y$309))))))","v":0},{"$f":"SUM(IF($A21=Marketplace!$C$3:$C$309,IF(M$7=Marketplace!$G$3:$G$309,IF(Marketplace!$J$3:$J$309=\"Utility/IPP\",IF(Marketplace!$K$3:$K$309=\"Operational\",IF(Marketplace!$AJ$3:$AJ$309= \"Confident\",Marketplace!$Y$3:$Y$309))))))","v":0},{"$f":"SUM(IF($A21=Marketplace!$C$3:$C$309,IF(N$7=Marketplace!$G$3:$G$309,IF(Marketplace!$J$3:$J$309=\"Utility/IPP\",IF(Marketplace!$K$3:$K$309=\"Operational\",IF(Marketplace!$AJ$3:$AJ$309= \"Confident\",Marketplace!$Y$3:$Y$309))))))","v":0},800000]
["Guadeloupe",{"$f":"SUM(IF($A22=Marketplace!$C$3:$C$309,IF(B$7=Marketplace!$G$3:$G$309,IF(Marketplace!$J$3:$J$309=\"Utility/IPP\",IF(Marketplace!$K$3:$K$309=\"Operational\",IF(Marketplace!$AJ$3:$AJ$309= \"Confident\",Marketplace!$N$3:$N$309))))))","v":26810},{"$f":"SUM(IF($A22=Marketplace!$C$3:$C$309,IF(C$7=Marketplace!$G$3:$G$309,IF(Marketplace!$J$3:$J$309=\"Utility/IPP\",IF(Marketplace!$K$3:$K$309=\"Operational\",IF(Marketplace!$AJ$3:$AJ$309= \"Confident\",Marketplace!$N$3:$N$309))))))","v":3300},{"$f":"SUM(IF($A22=Marketplace!$C$3:$C$309,IF(D$7=Marketplace!$G$3:$G$309,IF(Marketplace!$J$3:$J$309=\"Utility/IPP\",IF(Marketplace!$K$3:$K$309=\"Operational\",IF(Marketplace!$AJ$3:$AJ$309= \"Confident\",Marketplace!$N$3:$N$309))))))","v":9610},{"$f":"SUM(IF($A22=Marketplace!$C$3:$C$309,IF(E$7=Marketplace!$G$3:$G$309,IF(Marketplace!$J$3:$J$309=\"Utility/IPP\",IF(Marketplace!$K$3:$K$309=\"Operational\",IF(Marketplace!$AJ$3:$AJ$309= \"Confident\",Marketplace!$N$3:$N$309))))))","v":14700},{"$f":"SUM(IF($A22=Marketplace!$C$3:$C$309,IF(F$7=Marketplace!$G$3:$G$309,IF(Marketplace!$J$3:$J$309=\"Utility/IPP\",IF(Marketplace!$K$3:$K$309=\"Operational\",IF(Marketplace!$AJ$3:$AJ$309= \"Confident\",Marketplace!$N$3:$N$309))))))","v":0},{"$f":"SUM(IF($A22=Marketplace!$C$3:$C$309,IF(G$7=Marketplace!$G$3:$G$309,IF(Marketplace!$J$3:$J$309=\"Utility/IPP\",IF(Marketplace!$K$3:$K$309=\"Operational\",IF(Marketplace!$AJ$3:$AJ$309= \"Confident\",Marketplace!$N$3:$N$309))))))","v":6900},61320,{"$f":"SUM(IF($A22=Marketplace!$C$3:$C$309,IF(I$7=Marketplace!$G$3:$G$309,IF(Marketplace!$J$3:$J$309=\"Utility/IPP\",IF(Marketplace!$K$3:$K$309=\"Operational\",IF(Marketplace!$AJ$3:$AJ$309= \"Confident\",Marketplace!$Y$3:$Y$309))))))","v":50243848.333333343},{"$f":"SUM(IF($A22=Marketplace!$C$3:$C$309,IF(J$7=Marketplace!$G$3:$G$309,IF(Marketplace!$J$3:$J$309=\"Utility/IPP\",IF(Marketplace!$K$3:$K$309=\"Operational\",IF(Marketplace!$AJ$3:$AJ$309= \"Confident\",Marketplace!$Y$3:$Y$309))))))","v":4785000},{"$f":"SUM(IF($A22=Marketplace!$C$3:$C$309,IF(K$7=Marketplace!$G$3:$G$309,IF(Marketplace!$J$3:$J$309=\"Utility/IPP\",IF(Marketplace!$K$3:$K$309=\"Operational\",IF(Marketplace!$AJ$3:$AJ$309= \"Confident\",Marketplace!$Y$3:$Y$309))))))","v":29560360},{"$f":"SUM(IF($A22=Marketplace!$C$3:$C$309,IF(L$7=Marketplace!$G$3:$G$309,IF(Marketplace!$J$3:$J$309=\"Utility/IPP\",IF(Marketplace!$K$3:$K$309=\"Operational\",IF(Marketplace!$AJ$3:$AJ$309= \"Confident\",Marketplace!$Y$3:$Y$309))))))","v":70000000},{"$f":"SUM(IF($A22=Marketplace!$C$3:$C$309,IF(M$7=Marketplace!$G$3:$G$309,IF(Marketplace!$J$3:$J$309=\"Utility/IPP\",IF(Marketplace!$K$3:$K$309=\"Operational\",IF(Marketplace!$AJ$3:$AJ$309= \"Confident\",Marketplace!$Y$3:$Y$309))))))","v":0},{"$f":"SUM(IF($A22=Marketplace!$C$3:$C$309,IF(N$7=Marketplace!$G$3:$G$309,IF(Marketplace!$J$3:$J$309=\"Utility/IPP\",IF(Marketplace!$K$3:$K$309=\"Operational\",IF(Marketplace!$AJ$3:$AJ$309= \"Confident\",Marketplace!$Y$3:$Y$309))))))","v":20700000},175289208.33333334]
["Guyana ",{"$f":"SUM(IF($A23=Marketplace!$C$3:$C$309,IF(B$7=Marketplace!$G$3:$G$309,IF(Marketplace!$J$3:$J$309=\"Utility/IPP\",IF(Marketplace!$K$3:$K$309=\"Operational\",IF(Marketplace!$AJ$3:$AJ$309= \"Confident\",Marketplace!$N$3:$N$309))))))","v":0},{"$f":"SUM(IF($A23=Marketplace!$C$3:$C$309,IF(C$7=Marketplace!$G$3:$G$309,IF(Marketplace!$J$3:$J$309=\"Utility/IPP\",IF(Marketplace!$K$3:$K$309=\"Operational\",IF(Marketplace!$AJ$3:$AJ$309= \"Confident\",Marketplace!$N$3:$N$309))))))","v":0},{"$f":"SUM(IF($A23=Marketplace!$C$3:$C$309,IF(D$7=Marketplace!$G$3:$G$309,IF(Marketplace!$J$3:$J$309=\"Utility/IPP\",IF(Marketplace!$K$3:$K$309=\"Operational\",IF(Marketplace!$AJ$3:$AJ$309= \"Confident\",Marketplace!$N$3:$N$309))))))","v":0},{"$f":"SUM(IF($A23=Marketplace!$C$3:$C$309,IF(E$7=Marketplace!$G$3:$G$309,IF(Marketplace!$J$3:$J$309=\"Utility/IPP\",IF(Marketplace!$K$3:$K$309=\"Operational\",IF(Marketplace!$AJ$3:$AJ$309= \"Confident\",Marketplace!$N$3:$N$309))))))","v":0},{"$f":"SUM(IF($A23=Marketplace!$C$3:$C$309,IF(F$7=Marketplace!$G$3:$G$309,IF(Marketplace!$J$3:$J$309=\"Utility/IPP\",IF(Marketplace!$K$3:$K$309=\"Operational\",IF(Marketplace!$AJ$3:$AJ$309= \"Confident\",Marketplace!$N$3:$N$309))))))","v":0},{"$f":"SUM(IF($A23=Marketplace!$C$3:$C$309,IF(G$7=Marketplace!$G$3:$G$309,IF(Marketplace!$J$3:$J$309=\"Utility/IPP\",IF(Marketplace!$K$3:$K$309=\"Operational\",IF(Marketplace!$AJ$3:$AJ$309= \"Confident\",Marketplace!$N$3:$N$309))))))","v":13000},13000,{"$f":"SUM(IF($A23=Marketplace!$C$3:$C$309,IF(I$7=Marketplace!$G$3:$G$309,IF(Marketplace!$J$3:$J$309=\"Utility/IPP\",IF(Marketplace!$K$3:$K$309=\"Operational\",IF(Marketplace!$AJ$3:$AJ$309= \"Confident\",Marketplace!$Y$3:$Y$309))))))","v":0},{"$f":"SUM(IF($A23=Marketplace!$C$3:$C$309,IF(J$7=Marketplace!$G$3:$G$309,IF(Marketplace!$J$3:$J$309=\"Utility/IPP\",IF(Marketplace!$K$3:$K$309=\"Operational\",IF(Marketplace!$AJ$3:$AJ$309= \"Confident\",Marketplace!$Y$3:$Y$309))))))","v":0},{"$f":"SUM(IF($A23=Marketplace!$C$3:$C$309,IF(K$7=Marketplace!$G$3:$G$309,IF(Marketplace!$J$3:$J$309=\"Utility/IPP\",IF(Marketplace!$K$3:$K$309=\"Operational\",IF(Marketplace!$AJ$3:$AJ$309= \"Confident\",Marketplace!$Y$3:$Y$309))))))","v":0},{"$f":"SUM(IF($A23=Marketplace!$C$3:$C$309,IF(L$7=Marketplace!$G$3:$G$309,IF(Marketplace!$J$3:$J$309=\"Utility/IPP\",IF(Marketplace!$K$3:$K$309=\"Operational\",IF(Marketplace!$AJ$3:$AJ$309= \"Confident\",Marketplace!$Y$3:$Y$309))))))","v":0},{"$f":"SUM(IF($A23=Marketplace!$C$3:$C$309,IF(M$7=Marketplace!$G$3:$G$309,IF(Marketplace!$J$3:$J$309=\"Utility/IPP\",IF(Marketplace!$K$3:$K$309=\"Operational\",IF(Marketplace!$AJ$3:$AJ$309= \"Confident\",Marketplace!$Y$3:$Y$309))))))","v":0},{"$f":"SUM(IF($A23=Marketplace!$C$3:$C$309,IF(N$7=Marketplace!$G$3:$G$309,IF(Marketplace!$J$3:$J$309=\"Utility/IPP\",IF(Marketplace!$K$3:$K$309=\"Operational\",IF(Marketplace!$AJ$3:$AJ$309= \"Confident\",Marketplace!$Y$3:$Y$309))))))","v":32200000},32200000]
["Haiti",{"$f":"SUM(IF($A24=Marketplace!$C$3:$C$309,IF(B$7=Marketplace!$G$3:$G$309,IF(Marketplace!$J$3:$J$309=\"Utility/IPP\",IF(Marketplace!$K$3:$K$309=\"Operational\",IF(Marketplace!$AJ$3:$AJ$309= \"Confident\",Marketplace!$N$3:$N$309))))))","v":0},{"$f":"SUM(IF($A24=Marketplace!$C$3:$C$309,IF(C$7=Marketplace!$G$3:$G$309,IF(Marketplace!$J$3:$J$309=\"Utility/IPP\",IF(Marketplace!$K$3:$K$309=\"Operational\",IF(Marketplace!$AJ$3:$AJ$309= \"Confident\",Marketplace!$N$3:$N$309))))))","v":0},{"$f":"SUM(IF($A24=Marketplace!$C$3:$C$309,IF(D$7=Marketplace!$G$3:$G$309,IF(Marketplace!$J$3:$J$309=\"Utility/IPP\",IF(Marketplace!$K$3:$K$309=\"Operational\",IF(Marketplace!$AJ$3:$AJ$309= \"Confident\",Marketplace!$N$3:$N$309))))))","v":61520},{"$f":"SUM(IF($A24=Marketplace!$C$3:$C$309,IF(E$7=Marketplace!$G$3:$G$309,IF(Marketplace!$J$3:$J$309=\"Utility/IPP\",IF(Marketplace!$K$3:$K$309=\"Operational\",IF(Marketplace!$AJ$3:$AJ$309= \"Confident\",Marketplace!$N$3:$N$309))))))","v":0},{"$f":"SUM(IF($A24=Marketplace!$C$3:$C$309,IF(F$7=Marketplace!$G$3:$G$309,IF(Marketplace!$J$3:$J$309=\"Utility/IPP\",IF(Marketplace!$K$3:$K$309=\"Operational\",IF(Marketplace!$AJ$3:$AJ$309= \"Confident\",Marketplace!$N$3:$N$309))))))","v":0},{"$f":"SUM(IF($A24=Marketplace!$C$3:$C$309,IF(G$7=Marketplace!$G$3:$G$309,IF(Marketplace!$J$3:$J$309=\"Utility/IPP\",IF(Marketplace!$K$3:$K$309=\"Operational\",IF(Marketplace!$AJ$3:$AJ$309= \"Confident\",Marketplace!$N$3:$N$309))))))","v":0},61520,{"$f":"SUM(IF($A24=Marketplace!$C$3:$C$309,IF(I$7=Marketplace!$G$3:$G$309,IF(Marketplace!$J$3:$J$309=\"Utility/IPP\",IF(Marketplace!$K$3:$K$309=\"Operational\",IF(Marketplace!$AJ$3:$AJ$309= \"Confident\",Marketplace!$Y$3:$Y$309))))))","v":0},{"$f":"SUM(IF($A24=Marketplace!$C$3:$C$309,IF(J$7=Marketplace!$G$3:$G$309,IF(Marketplace!$J$3:$J$309=\"Utility/IPP\",IF(Marketplace!$K$3:$K$309=\"Operational\",IF(Marketplace!$AJ$3:$AJ$309= \"Confident\",Marketplace!$Y$3:$Y$309))))))","v":0},{"$f":"SUM(IF($A24=Marketplace!$C$3:$C$309,IF(K$7=Marketplace!$G$3:$G$309,IF(Marketplace!$J$3:$J$309=\"Utility/IPP\",IF(Marketplace!$K$3:$K$309=\"Operational\",IF(Marketplace!$AJ$3:$AJ$309= \"Confident\",Marketplace!$Y$3:$Y$309))))))","v":72096920},{"$f":"SUM(IF($A24=Marketplace!$C$3:$C$309,IF(L$7=Marketplace!$G$3:$G$309,IF(Marketplace!$J$3:$J$309=\"Utility/IPP\",IF(Marketplace!$K$3:$K$309=\"Operational\",IF(Marketplace!$AJ$3:$AJ$309= \"Confident\",Marketplace!$Y$3:$Y$309))))))","v":0},{"$f":"SUM(IF($A24=Marketplace!$C$3:$C$309,IF(M$7=Marketplace!$G$3:$G$309,IF(Marketplace!$J$3:$J$309=\"Utility/IPP\",IF(Marketplace!$K$3:$K$309=\"Operational\",IF(Marketplace!$AJ$3:$AJ$309= \"Confident\",Marketplace!$Y$3:$Y$309))))))","v":0},{"$f":"SUM(IF($A24=Marketplace!$C$3:$C$309,IF(N$7=Marketplace!$G$3:$G$309,IF(Marketplace!$J$3:$J$309=\"Utility/IPP\",IF(Marketplace!$K$3:$K$309=\"Operational\",IF(Marketplace!$AJ$3:$AJ$309= \"Confident\",Marketplace!$Y$3:$Y$309))))))","v":0},72096920]
["Jamaica",{"$f":"SUM(IF($A25=Marketplace!$C$3:$C$309,IF(B$7=Marketplace!$G$3:$G$309,IF(Marketplace!$J$3:$J$309=\"Utility/IPP\",IF(Marketplace!$K$3:$K$309=\"Operational\",IF(Marketplace!$AJ$3:$AJ$309= \"Confident\",Marketplace!$N$3:$N$309))))))","v":102200},{"$f":"SUM(IF($A25=Marketplace!$C$3:$C$309,IF(C$7=Marketplace!$G$3:$G$309,IF(Marketplace!$J$3:$J$309=\"Utility/IPP\",IF(Marketplace!$K$3:$K$309=\"Operational\",IF(Marketplace!$AJ$3:$AJ$309= \"Confident\",Marketplace!$N$3:$N$309))))))","v":57000},{"$f":"SUM(IF($A25=Marketplace!$C$3:$C$309,IF(D$7=Marketplace!$G$3:$G$309,IF(Marketplace!$J$3:$J$309=\"Utility/IPP\",IF(Marketplace!$K$3:$K$309=\"Operational\",IF(Marketplace!$AJ$3:$AJ$309= \"Confident\",Marketplace!$N$3:$N$309))))))","v":23570},{"$f":"SUM(IF($A25=Marketplace!$C$3:$C$309,IF(E$7=Marketplace!$G$3:$G$309,IF(Marketplace!$J$3:$J$309=\"Utility/IPP\",IF(Marketplace!$K$3:$K$309=\"Operational\",IF(Marketplace!$AJ$3:$AJ$309= \"Confident\",Marketplace!$N$3:$N$309))))))","v":0},{"$f":"SUM(IF($A25=Marketplace!$C$3:$C$309,IF(F$7=Marketplace!$G$3:$G$309,IF(Marketplace!$J$3:$J$309=\"Utility/IPP\",IF(Marketplace!$K$3:$K$309=\"Operational\",IF(Marketplace!$AJ$3:$AJ$309= \"Confident\",Marketplace!$N$3:$N$309))))))","v":0},{"$f":"SUM(IF($A25=Marketplace!$C$3:$C$309,IF(G$7=Marketplace!$G$3:$G$309,IF(Marketplace!$J$3:$J$309=\"Utility/IPP\",IF(Marketplace!$K$3:$K$309=\"Operational\",IF(Marketplace!$AJ$3:$AJ$309= \"Confident\",Marketplace!$N$3:$N$309))))))","v":0},182770,{"$f":"SUM(IF($A25=Marketplace!$C$3:$C$309,IF(I$7=Marketplace!$G$3:$G$309,IF(Marketplace!$J$3:$J$309=\"Utility/IPP\",IF(Marketplace!$K$3:$K$309=\"Operational\",IF(Marketplace!$AJ$3:$AJ$309= \"Confident\",Marketplace!$Y$3:$Y$309))))))","v":197694300},{"$f":"SUM(IF($A25=Marketplace!$C$3:$C$309,IF(J$7=Marketplace!$G$3:$G$309,IF(Marketplace!$J$3:$J$309=\"Utility/IPP\",IF(Marketplace!$K$3:$K$309=\"Operational\",IF(Marketplace!$AJ$3:$AJ$309= \"Confident\",Marketplace!$Y$3:$Y$309))))))","v":158386000},{"$f":"SUM(IF($A25=Marketplace!$C$3:$C$309,IF(K$7=Marketplace!$G$3:$G$309,IF(Marketplace!$J$3:$J$309=\"Utility/IPP\",IF(Marketplace!$K$3:$K$309=\"Operational\",IF(Marketplace!$AJ$3:$AJ$309= \"Confident\",Marketplace!$Y$3:$Y$309))))))","v":86354120},{"$f":"SUM(IF($A25=Marketplace!$C$3:$C$309,IF(L$7=Marketplace!$G$3:$G$309,IF(Marketplace!$J$3:$J$309=\"Utility/IPP\",IF(Marketplace!$K$3:$K$309=\"Operational\",IF(Marketplace!$AJ$3:$AJ$309= \"Confident\",Marketplace!$Y$3:$Y$309))))))","v":0},{"$f":"SUM(IF($A25=Marketplace!$C$3:$C$309,IF(M$7=Marketplace!$G$3:$G$309,IF(Marketplace!$J$3:$J$309=\"Utility/IPP\",IF(Marketplace!$K$3:$K$309=\"Operational\",IF(Marketplace!$AJ$3:$AJ$309= \"Confident\",Marketplace!$Y$3:$Y$309))))))","v":0},{"$f":"SUM(IF($A25=Marketplace!$C$3:$C$309,IF(N$7=Marketplace!$G$3:$G$309,IF(Marketplace!$J$3:$J$309=\"Utility/IPP\",IF(Marketplace!$K$3:$K$309=\"Operational\",IF(Marketplace!$AJ$3:$AJ$309= \"Confident\",Marketplace!$Y$3:$Y$309))))))","v":0},442434420]
["Martinique",{"$f":"SUM(IF($A26=Marketplace!$C$3:$C$309,IF(B$7=Marketplace!$G$3:$G$309,IF(Marketplace!$J$3:$J$309=\"Utility/IPP\",IF(Marketplace!$K$3:$K$309=\"Operational\",IF(Marketplace!$AJ$3:$AJ$309= \"Confident\",Marketplace!$N$3:$N$309))))))","v":15100},{"$f":"SUM(IF($A26=Marketplace!$C$3:$C$309,IF(C$7=Marketplace!$G$3:$G$309,IF(Marketplace!$J$3:$J$309=\"Utility/IPP\",IF(Marketplace!$K$3:$K$309=\"Operational\",IF(Marketplace!$AJ$3:$AJ$309= \"Confident\",Marketplace!$N$3:$N$309))))))","v":0},{"$f":"SUM(IF($A26=Marketplace!$C$3:$C$309,IF(D$7=Marketplace!$G$3:$G$309,IF(Marketplace!$J$3:$J$309=\"Utility/IPP\",IF(Marketplace!$K$3:$K$309=\"Operational\",IF(Marketplace!$AJ$3:$AJ$309= \"Confident\",Marketplace!$N$3:$N$309))))))","v":0},{"$f":"SUM(IF($A26=Marketplace!$C$3:$C$309,IF(E$7=Marketplace!$G$3:$G$309,IF(Marketplace!$J$3:$J$309=\"Utility/IPP\",IF(Marketplace!$K$3:$K$309=\"Operational\",IF(Marketplace!$AJ$3:$AJ$309= \"Confident\",Marketplace!$N$3:$N$309))))))","v":0},{"$f":"SUM(IF($A26=Marketplace!$C$3:$C$309,IF(F$7=Marketplace!$G$3:$G$309,IF(Marketplace!$J$3:$J$309=\"Utility/IPP\",IF(Marketplace!$K$3:$K$309=\"Operational\",IF(Marketplace!$AJ$3:$AJ$309= \"Confident\",Marketplace!$N$3:$N$309))))))","v":7000},{"$f":"SUM(IF($A26=Marketplace!$C$3:$C$309,IF(G$7=Marketplace!$G$3:$G$309,IF(Marketplace!$J$3:$J$309=\"Utility/IPP\",IF(Marketplace!$K$3:$K$309=\"Operational\",IF(Marketplace!$AJ$3:$AJ$309= \"Confident\",Marketplace!$N$3:$N$309))))))","v":40000},62100,{"$f":"SUM(IF($A26=Marketplace!$C$3:$C$309,IF(I$7=Marketplace!$G$3:$G$309,IF(Marketplace!$J$3:$J$309=\"Utility/IPP\",IF(Marketplace!$K$3:$K$309=\"Operational\",IF(Marketplace!$AJ$3:$AJ$309= \"Confident\",Marketplace!$Y$3:$Y$309))))))","v":22383233.333333332},{"$f":"SUM(IF($A26=Marketplace!$C$3:$C$309,IF(J$7=Marketplace!$G$3:$G$309,IF(Marketplace!$J$3:$J$309=\"Utility/IPP\",IF(Marketplace!$K$3:$K$309=\"Operational\",IF(Marketplace!$AJ$3:$AJ$309= \"Confident\",Marketplace!$Y$3:$Y$309))))))","v":0},{"$f":"SUM(IF($A26=Marketplace!$C$3:$C$309,IF(K$7=Marketplace!$G$3:$G$309,IF(Marketplace!$J$3:$J$309=\"Utility/IPP\",IF(Marketplace!$K$3:$K$309=\"Operational\",IF(Marketplace!$AJ$3:$AJ$309= \"Confident\",Marketplace!$Y$3:$Y$309))))))","v":0},{"$f":"SUM(IF($A26=Marketplace!$C$3:$C$309,IF(L$7=Marketplace!$G$3:$G$309,IF(Marketplace!$J$3:$J$309=\"Utility/IPP\",IF(Marketplace!$K$3:$K$309=\"Operational\",IF(Marketplace!$AJ$3:$AJ$309= \"Confident\",Marketplace!$Y$3:$Y$309))))))","v":0},{"$f":"SUM(IF($A26=Marketplace!$C$3:$C$309,IF(M$7=Marketplace!$G$3:$G$309,IF(Marketplace!$J$3:$J$309=\"Utility/IPP\",IF(Marketplace!$K$3:$K$309=\"Operational\",IF(Marketplace!$AJ$3:$AJ$309= \"Confident\",Marketplace!$Y$3:$Y$309))))))","v":45000000},{"$f":"SUM(IF($A26=Marketplace!$C$3:$C$309,IF(N$7=Marketplace!$G$3:$G$309,IF(Marketplace!$J$3:$J$309=\"Utility/IPP\",IF(Marketplace!$K$3:$K$309=\"Operational\",IF(Marketplace!$AJ$3:$AJ$309= \"Confident\",Marketplace!$Y$3:$Y$309))))))","v":211000000},278383233.33333331]
["Montserrat",{"$f":"SUM(IF($A27=Marketplace!$C$3:$C$309,IF(B$7=Marketplace!$G$3:$G$309,IF(Marketplace!$J$3:$J$309=\"Utility/IPP\",IF(Marketplace!$K$3:$K$309=\"Operational\",IF(Marketplace!$AJ$3:$AJ$309= \"Confident\",Marketplace!$N$3:$N$309))))))","v":0},{"$f":"SUM(IF($A27=Marketplace!$C$3:$C$309,IF(C$7=Marketplace!$G$3:$G$309,IF(Marketplace!$J$3:$J$309=\"Utility/IPP\",IF(Marketplace!$K$3:$K$309=\"Operational\",IF(Marketplace!$AJ$3:$AJ$309= \"Confident\",Marketplace!$N$3:$N$309))))))","v":250},{"$f":"SUM(IF($A27=Marketplace!$C$3:$C$309,IF(D$7=Marketplace!$G$3:$G$309,IF(Marketplace!$J$3:$J$309=\"Utility/IPP\",IF(Marketplace!$K$3:$K$309=\"Operational\",IF(Marketplace!$AJ$3:$AJ$309= \"Confident\",Marketplace!$N$3:$N$309))))))","v":0},{"$f":"SUM(IF($A27=Marketplace!$C$3:$C$309,IF(E$7=Marketplace!$G$3:$G$309,IF(Marketplace!$J$3:$J$309=\"Utility/IPP\",IF(Marketplace!$K$3:$K$309=\"Operational\",IF(Marketplace!$AJ$3:$AJ$309= \"Confident\",Marketplace!$N$3:$N$309))))))","v":0},{"$f":"SUM(IF($A27=Marketplace!$C$3:$C$309,IF(F$7=Marketplace!$G$3:$G$309,IF(Marketplace!$J$3:$J$309=\"Utility/IPP\",IF(Marketplace!$K$3:$K$309=\"Operational\",IF(Marketplace!$AJ$3:$AJ$309= \"Confident\",Marketplace!$N$3:$N$309))))))","v":0},{"$f":"SUM(IF($A27=Marketplace!$C$3:$C$309,IF(G$7=Marketplace!$G$3:$G$309,IF(Marketplace!$J$3:$J$309=\"Utility/IPP\",IF(Marketplace!$K$3:$K$309=\"Operational\",IF(Marketplace!$AJ$3:$AJ$309= \"Confident\",Marketplace!$N$3:$N$309))))))","v":0},250,{"$f":"SUM(IF($A27=Marketplace!$C$3:$C$309,IF(I$7=Marketplace!$G$3:$G$309,IF(Marketplace!$J$3:$J$309=\"Utility/IPP\",IF(Marketplace!$K$3:$K$309=\"Operational\",IF(Marketplace!$AJ$3:$AJ$309= \"Confident\",Marketplace!$Y$3:$Y$309))))))","v":0},{"$f":"SUM(IF($A27=Marketplace!$C$3:$C$309,IF(J$7=Marketplace!$G$3:$G$309,IF(Marketplace!$J$3:$J$309=\"Utility/IPP\",IF(Marketplace!$K$3:$K$309=\"Operational\",IF(Marketplace!$AJ$3:$AJ$309= \"Confident\",Marketplace!$Y$3:$Y$309))))))","v":362500},{"$f":"SUM(IF($A27=Marketplace!$C$3:$C$309,IF(K$7=Marketplace!$G$3:$G$309,IF(Marketplace!$J$3:$J$309=\"Utility/IPP\",IF(Marketplace!$K$3:$K$309=\"Operational\",IF(Marketplace!$AJ$3:$AJ$309= \"Confident\",Marketplace!$Y$3:$Y$309))))))","v":0},{"$f":"SUM(IF($A27=Marketplace!$C$3:$C$309,IF(L$7=Marketplace!$G$3:$G$309,IF(Marketplace!$J$3:$J$309=\"Utility/IPP\",IF(Marketplace!$K$3:$K$309=\"Operational\",IF(Marketplace!$AJ$3:$AJ$309= \"Confident\",Marketplace!$Y$3:$Y$309))))))","v":0},{"$f":"SUM(IF($A27=Marketplace!$C$3:$C$309,IF(M$7=Marketplace!$G$3:$G$309,IF(Marketplace!$J$3:$J$309=\"Utility/IPP\",IF(Marketplace!$K$3:$K$309=\"Operational\",IF(Marketplace!$AJ$3:$AJ$309= \"Confident\",Marketplace!$Y$3:$Y$309))))))","v":0},{"$f":"SUM(IF($A27=Marketplace!$C$3:$C$309,IF(N$7=Marketplace!$G$3:$G$309,IF(Marketplace!$J$3:$J$309=\"Utility/IPP\",IF(Marketplace!$K$3:$K$309=\"Operational\",IF(Marketplace!$AJ$3:$AJ$309= \"Confident\",Marketplace!$Y$3:$Y$309))))))","v":0},362500]
["Nevis ",{"$f":"SUM(IF($A28=Marketplace!$C$3:$C$309,IF(B$7=Marketplace!$G$3:$G$309,IF(Marketplace!$J$3:$J$309=\"Utility/IPP\",IF(Marketplace!$K$3:$K$309=\"Operational\",IF(Marketplace!$AJ$3:$AJ$309= \"Confident\",Marketplace!$N$3:$N$309))))))","v":2200},{"$f":"SUM(IF($A28=Marketplace!$C$3:$C$309,IF(C$7=Marketplace!$G$3:$G$309,IF(Marketplace!$J$3:$J$309=\"Utility/IPP\",IF(Marketplace!$K$3:$K$309=\"Operational\",IF(Marketplace!$AJ$3:$AJ$309= \"Confident\",Marketplace!$N$3:$N$309))))))","v":0},{"$f":"SUM(IF($A28=Marketplace!$C$3:$C$309,IF(D$7=Marketplace!$G$3:$G$309,IF(Marketplace!$J$3:$J$309=\"Utility/IPP\",IF(Marketplace!$K$3:$K$309=\"Operational\",IF(Marketplace!$AJ$3:$AJ$309= \"Confident\",Marketplace!$N$3:$N$309))))))","v":0},{"$f":"SUM(IF($A28=Marketplace!$C$3:$C$309,IF(E$7=Marketplace!$G$3:$G$309,IF(Marketplace!$J$3:$J$309=\"Utility/IPP\",IF(Marketplace!$K$3:$K$309=\"Operational\",IF(Marketplace!$AJ$3:$AJ$309= \"Confident\",Marketplace!$N$3:$N$309))))))","v":0},{"$f":"SUM(IF($A28=Marketplace!$C$3:$C$309,IF(F$7=Marketplace!$G$3:$G$309,IF(Marketplace!$J$3:$J$309=\"Utility/IPP\",IF(Marketplace!$K$3:$K$309=\"Operational\",IF(Marketplace!$AJ$3:$AJ$309= \"Confident\",Marketplace!$N$3:$N$309))))))","v":0},{"$f":"SUM(IF($A28=Marketplace!$C$3:$C$309,IF(G$7=Marketplace!$G$3:$G$309,IF(Marketplace!$J$3:$J$309=\"Utility/IPP\",IF(Marketplace!$K$3:$K$309=\"Operational\",IF(Marketplace!$AJ$3:$AJ$309= \"Confident\",Marketplace!$N$3:$N$309))))))","v":0},2200,{"$f":"SUM(IF($A28=Marketplace!$C$3:$C$309,IF(I$7=Marketplace!$G$3:$G$309,IF(Marketplace!$J$3:$J$309=\"Utility/IPP\",IF(Marketplace!$K$3:$K$309=\"Operational\",IF(Marketplace!$AJ$3:$AJ$309= \"Confident\",Marketplace!$Y$3:$Y$309))))))","v":3700000},{"$f":"SUM(IF($A28=Marketplace!$C$3:$C$309,IF(J$7=Marketplace!$G$3:$G$309,IF(Marketplace!$J$3:$J$309=\"Utility/IPP\",IF(Marketplace!$K$3:$K$309=\"Operational\",IF(Marketplace!$AJ$3:$AJ$309= \"Confident\",Marketplace!$Y$3:$Y$309))))))","v":0},{"$f":"SUM(IF($A28=Marketplace!$C$3:$C$309,IF(K$7=Marketplace!$G$3:$G$309,IF(Marketplace!$J$3:$J$309=\"Utility/IPP\",IF(Marketplace!$K$3:$K$309=\"Operational\",IF(Marketplace!$AJ$3:$AJ$309= \"Confident\",Marketplace!$Y$3:$Y$309))))))","v":0},{"$f":"SUM(IF($A28=Marketplace!$C$3:$C$309,IF(L$7=Marketplace!$G$3:$G$309,IF(Marketplace!$J$3:$J$309=\"Utility/IPP\",IF(Marketplace!$K$3:$K$309=\"Operational\",IF(Marketplace!$AJ$3:$AJ$309= \"Confident\",Marketplace!$Y$3:$Y$309))))))","v":0},{"$f":"SUM(IF($A28=Marketplace!$C$3:$C$309,IF(M$7=Marketplace!$G$3:$G$309,IF(Marketplace!$J$3:$J$309=\"Utility/IPP\",IF(Marketplace!$K$3:$K$309=\"Operational\",IF(Marketplace!$AJ$3:$AJ$309= \"Confident\",Marketplace!$Y$3:$Y$309))))))","v":0},{"$f":"SUM(IF($A28=Marketplace!$C$3:$C$309,IF(N$7=Marketplace!$G$3:$G$309,IF(Marketplace!$J$3:$J$309=\"Utility/IPP\",IF(Marketplace!$K$3:$K$309=\"Operational\",IF(Marketplace!$AJ$3:$AJ$309= \"Confident\",Marketplace!$Y$3:$Y$309))))))","v":0},3700000]
["Puerto Rico",{"$f":"SUM(IF($A29=Marketplace!$C$3:$C$309,IF(B$7=Marketplace!$G$3:$G$309,IF(Marketplace!$J$3:$J$309=\"Utility/IPP\",IF(Marketplace!$K$3:$K$309=\"Operational\",IF(Marketplace!$AJ$3:$AJ$309= \"Confident\",Marketplace!$N$3:$N$309))))))","v":26095},{"$f":"SUM(IF($A29=Marketplace!$C$3:$C$309,IF(C$7=Marketplace!$G$3:$G$309,IF(Marketplace!$J$3:$J$309=\"Utility/IPP\",IF(Marketplace!$K$3:$K$309=\"Operational\",IF(Marketplace!$AJ$3:$AJ$309= \"Confident\",Marketplace!$N$3:$N$309))))))","v":85000},{"$f":"SUM(IF($A29=Marketplace!$C$3:$C$309,IF(D$7=Marketplace!$G$3:$G$309,IF(Marketplace!$J$3:$J$309=\"Utility/IPP\",IF(Marketplace!$K$3:$K$309=\"Operational\",IF(Marketplace!$AJ$3:$AJ$309= \"Confident\",Marketplace!$N$3:$N$309))))))","v":100000},{"$f":"SUM(IF($A29=Marketplace!$C$3:$C$309,IF(E$7=Marketplace!$G$3:$G$309,IF(Marketplace!$J$3:$J$309=\"Utility/IPP\",IF(Marketplace!$K$3:$K$309=\"Operational\",IF(Marketplace!$AJ$3:$AJ$309= \"Confident\",Marketplace!$N$3:$N$309))))))","v":0},{"$f":"SUM(IF($A29=Marketplace!$C$3:$C$309,IF(F$7=Marketplace!$G$3:$G$309,IF(Marketplace!$J$3:$J$309=\"Utility/IPP\",IF(Marketplace!$K$3:$K$309=\"Operational\",IF(Marketplace!$AJ$3:$AJ$309= \"Confident\",Marketplace!$N$3:$N$309))))))","v":0},{"$f":"SUM(IF($A29=Marketplace!$C$3:$C$309,IF(G$7=Marketplace!$G$3:$G$309,IF(Marketplace!$J$3:$J$309=\"Utility/IPP\",IF(Marketplace!$K$3:$K$309=\"Operational\",IF(Marketplace!$AJ$3:$AJ$309= \"Confident\",Marketplace!$N$3:$N$309))))))","v":0},211095,{"$f":"SUM(IF($A29=Marketplace!$C$3:$C$309,IF(I$7=Marketplace!$G$3:$G$309,IF(Marketplace!$J$3:$J$309=\"Utility/IPP\",IF(Marketplace!$K$3:$K$309=\"Operational\",IF(Marketplace!$AJ$3:$AJ$309= \"Confident\",Marketplace!$Y$3:$Y$309))))))","v":332000000},{"$f":"SUM(IF($A29=Marketplace!$C$3:$C$309,IF(J$7=Marketplace!$G$3:$G$309,IF(Marketplace!$J$3:$J$309=\"Utility/IPP\",IF(Marketplace!$K$3:$K$309=\"Operational\",IF(Marketplace!$AJ$3:$AJ$309= \"Confident\",Marketplace!$Y$3:$Y$309))))))","v":288900000},{"$f":"SUM(IF($A29=Marketplace!$C$3:$C$309,IF(K$7=Marketplace!$G$3:$G$309,IF(Marketplace!$J$3:$J$309=\"Utility/IPP\",IF(Marketplace!$K$3:$K$309=\"Operational\",IF(Marketplace!$AJ$3:$AJ$309= \"Confident\",Marketplace!$Y$3:$Y$309))))))","v":307600000},{"$f":"SUM(IF($A29=Marketplace!$C$3:$C$309,IF(L$7=Marketplace!$G$3:$G$309,IF(Marketplace!$J$3:$J$309=\"Utility/IPP\",IF(Marketplace!$K$3:$K$309=\"Operational\",IF(Marketplace!$AJ$3:$AJ$309= \"Confident\",Marketplace!$Y$3:$Y$309))))))","v":0},{"$f":"SUM(IF($A29=Marketplace!$C$3:$C$309,IF(M$7=Marketplace!$G$3:$G$309,IF(Marketplace!$J$3:$J$309=\"Utility/IPP\",IF(Marketplace!$K$3:$K$309=\"Operational\",IF(Marketplace!$AJ$3:$AJ$309= \"Confident\",Marketplace!$Y$3:$Y$309))))))","v":0},{"$f":"SUM(IF($A29=Marketplace!$C$3:$C$309,IF(N$7=Marketplace!$G$3:$G$309,IF(Marketplace!$J$3:$J$309=\"Utility/IPP\",IF(Marketplace!$K$3:$K$309=\"Operational\",IF(Marketplace!$AJ$3:$AJ$309= \"Confident\",Marketplace!$Y$3:$Y$309))))))","v":0},928500000]
["Saint-Martin",{"$f":"SUM(IF($A30=Marketplace!$C$3:$C$309,IF(B$7=Marketplace!$G$3:$G$309,IF(Marketplace!$J$3:$J$309=\"Utility/IPP\",IF(Marketplace!$K$3:$K$309=\"Operational\",IF(Marketplace!$AJ$3:$AJ$309= \"Confident\",Marketplace!$N$3:$N$309))))))","v":0},{"$f":"SUM(IF($A30=Marketplace!$C$3:$C$309,IF(C$7=Marketplace!$G$3:$G$309,IF(Marketplace!$J$3:$J$309=\"Utility/IPP\",IF(Marketplace!$K$3:$K$309=\"Operational\",IF(Marketplace!$AJ$3:$AJ$309= \"Confident\",Marketplace!$N$3:$N$309))))))","v":0},{"$f":"SUM(IF($A30=Marketplace!$C$3:$C$309,IF(D$7=Marketplace!$G$3:$G$309,IF(Marketplace!$J$3:$J$309=\"Utility/IPP\",IF(Marketplace!$K$3:$K$309=\"Operational\",IF(Marketplace!$AJ$3:$AJ$309= \"Confident\",Marketplace!$N$3:$N$309))))))","v":0},{"$f":"SUM(IF($A30=Marketplace!$C$3:$C$309,IF(E$7=Marketplace!$G$3:$G$309,IF(Marketplace!$J$3:$J$309=\"Utility/IPP\",IF(Marketplace!$K$3:$K$309=\"Operational\",IF(Marketplace!$AJ$3:$AJ$309= \"Confident\",Marketplace!$N$3:$N$309))))))","v":0},{"$f":"SUM(IF($A30=Marketplace!$C$3:$C$309,IF(F$7=Marketplace!$G$3:$G$309,IF(Marketplace!$J$3:$J$309=\"Utility/IPP\",IF(Marketplace!$K$3:$K$309=\"Operational\",IF(Marketplace!$AJ$3:$AJ$309= \"Confident\",Marketplace!$N$3:$N$309))))))","v":0},{"$f":"SUM(IF($A30=Marketplace!$C$3:$C$309,IF(G$7=Marketplace!$G$3:$G$309,IF(Marketplace!$J$3:$J$309=\"Utility/IPP\",IF(Marketplace!$K$3:$K$309=\"Operational\",IF(Marketplace!$AJ$3:$AJ$309= \"Confident\",Marketplace!$N$3:$N$309))))))","v":0},0,{"$f":"SUM(IF($A30=Marketplace!$C$3:$C$309,IF(I$7=Marketplace!$G$3:$G$309,IF(Marketplace!$J$3:$J$309=\"Utility/IPP\",IF(Marketplace!$K$3:$K$309=\"Operational\",IF(Marketplace!$AJ$3:$AJ$309= \"Confident\",Marketplace!$Y$3:$Y$309))))))","v":0},{"$f":"SUM(IF($A30=Marketplace!$C$3:$C$309,IF(J$7=Marketplace!$G$3:$G$309,IF(Marketplace!$J$3:$J$309=\"Utility/IPP\",IF(Marketplace!$K$3:$K$309=\"Operational\",IF(Marketplace!$AJ$3:$AJ$309= \"Confident\",Marketplace!$Y$3:$Y$309))))))","v":0},{"$f":"SUM(IF($A30=Marketplace!$C$3:$C$309,IF(K$7=Marketplace!$G$3:$G$309,IF(Marketplace!$J$3:$J$309=\"Utility/IPP\",IF(Marketplace!$K$3:$K$309=\"Operational\",IF(Marketplace!$AJ$3:$AJ$309= \"Confident\",Marketplace!$Y$3:$Y$309))))))","v":0},{"$f":"SUM(IF($A30=Marketplace!$C$3:$C$309,IF(L$7=Marketplace!$G$3:$G$309,IF(Marketplace!$J$3:$J$309=\"Utility/IPP\",IF(Marketplace!$K$3:$K$309=\"Operational\",IF(Marketplace!$AJ$3:$AJ$309= \"Confident\",Marketplace!$Y$3:$Y$309))))))","v":0},{"$f":"SUM(IF($A30=Marketplace!$C$3:$C$309,IF(M$7=Marketplace!$G$3:$G$309,IF(Marketplace!$J$3:$J$309=\"Utility/IPP\",IF(Marketplace!$K$3:$K$309=\"Operational\",IF(Marketplace!$AJ$3:$AJ$309= \"Confident\",Marketplace!$Y$3:$Y$309))))))","v":0},{"$f":"SUM(IF($A30=Marketplace!$C$3:$C$309,IF(N$7=Marketplace!$G$3:$G$309,IF(Marketplace!$J$3:$J$309=\"Utility/IPP\",IF(Marketplace!$K$3:$K$309=\"Operational\",IF(Marketplace!$AJ$3:$AJ$309= \"Confident\",Marketplace!$Y$3:$Y$309))))))","v":0},0]
["Sint Maarten",{"$f":"SUM(IF($A31=Marketplace!$C$3:$C$309,IF(B$7=Marketplace!$G$3:$G$309,IF(Marketplace!$J$3:$J$309=\"Utility/IPP\",IF(Marketplace!$K$3:$K$309=\"Operational\",IF(Marketplace!$AJ$3:$AJ$309= \"Confident\",Marketplace!$N$3:$N$309))))))","v":0},{"$f":"SUM(IF($A31=Marketplace!$C$3:$C$309,IF(C$7=Marketplace!$G$3:$G$309,IF(Marketplace!$J$3:$J$309=\"Utility/IPP\",IF(Marketplace!$K$3:$K$309=\"Operational\",IF(Marketplace!$AJ$3:$AJ$309= \"Confident\",Marketplace!$N$3:$N$309))))))","v":0},{"$f":"SUM(IF($A31=Marketplace!$C$3:$C$309,IF(D$7=Marketplace!$G$3:$G$309,IF(Marketplace!$J$3:$J$309=\"Utility/IPP\",IF(Marketplace!$K$3:$K$309=\"Operational\",IF(Marketplace!$AJ$3:$AJ$309= \"Confident\",Marketplace!$N$3:$N$309))))))","v":0},{"$f":"SUM(IF($A31=Marketplace!$C$3:$C$309,IF(E$7=Marketplace!$G$3:$G$309,IF(Marketplace!$J$3:$J$309=\"Utility/IPP\",IF(Marketplace!$K$3:$K$309=\"Operational\",IF(Marketplace!$AJ$3:$AJ$309= \"Confident\",Marketplace!$N$3:$N$309))))))","v":0},{"$f":"SUM(IF($A31=Marketplace!$C$3:$C$309,IF(F$7=Marketplace!$G$3:$G$309,IF(Marketplace!$J$3:$J$309=\"Utility/IPP\",IF(Marketplace!$K$3:$K$309=\"Operational\",IF(Marketplace!$AJ$3:$AJ$309= \"Confident\",Marketplace!$N$3:$N$309))))))","v":0},{"$f":"SUM(IF($A31=Marketplace!$C$3:$C$309,IF(G$7=Marketplace!$G$3:$G$309,IF(Marketplace!$J$3:$J$309=\"Utility/IPP\",IF(Marketplace!$K$3:$K$309=\"Operational\",IF(Marketplace!$AJ$3:$AJ$309= \"Confident\",Marketplace!$N$3:$N$309))))))","v":0},0,{"$f":"SUM(IF($A31=Marketplace!$C$3:$C$309,IF(I$7=Marketplace!$G$3:$G$309,IF(Marketplace!$J$3:$J$309=\"Utility/IPP\",IF(Marketplace!$K$3:$K$309=\"Operational\",IF(Marketplace!$AJ$3:$AJ$309= \"Confident\",Marketplace!$Y$3:$Y$309))))))","v":0},{"$f":"SUM(IF($A31=Marketplace!$C$3:$C$309,IF(J$7=Marketplace!$G$3:$G$309,IF(Marketplace!$J$3:$J$309=\"Utility/IPP\",IF(Marketplace!$K$3:$K$309=\"Operational\",IF(Marketplace!$AJ$3:$AJ$309= \"Confident\",Marketplace!$Y$3:$Y$309))))))","v":0},{"$f":"SUM(IF($A31=Marketplace!$C$3:$C$309,IF(K$7=Marketplace!$G$3:$G$309,IF(Marketplace!$J$3:$J$309=\"Utility/IPP\",IF(Marketplace!$K$3:$K$309=\"Operational\",IF(Marketplace!$AJ$3:$AJ$309= \"Confident\",Marketplace!$Y$3:$Y$309))))))","v":0},{"$f":"SUM(IF($A31=Marketplace!$C$3:$C$309,IF(L$7=Marketplace!$G$3:$G$309,IF(Marketplace!$J$3:$J$309=\"Utility/IPP\",IF(Marketplace!$K$3:$K$309=\"Operational\",IF(Marketplace!$AJ$3:$AJ$309= \"Confident\",Marketplace!$Y$3:$Y$309))))))","v":0},{"$f":"SUM(IF($A31=Marketplace!$C$3:$C$309,IF(M$7=Marketplace!$G$3:$G$309,IF(Marketplace!$J$3:$J$309=\"Utility/IPP\",IF(Marketplace!$K$3:$K$309=\"Operational\",IF(Marketplace!$AJ$3:$AJ$309= \"Confident\",Marketplace!$Y$3:$Y$309))))))","v":0},{"$f":"SUM(IF($A31=Marketplace!$C$3:$C$309,IF(N$7=Marketplace!$G$3:$G$309,IF(Marketplace!$J$3:$J$309=\"Utility/IPP\",IF(Marketplace!$K$3:$K$309=\"Operational\",IF(Marketplace!$AJ$3:$AJ$309= \"Confident\",Marketplace!$Y$3:$Y$309))))))","v":0},0]
["St. Kitts",{"$f":"SUM(IF($A32=Marketplace!$C$3:$C$309,IF(B$7=Marketplace!$G$3:$G$309,IF(Marketplace!$J$3:$J$309=\"Utility/IPP\",IF(Marketplace!$K$3:$K$309=\"Operational\",IF(Marketplace!$AJ$3:$AJ$309= \"Confident\",Marketplace!$N$3:$N$309))))))","v":0},{"$f":"SUM(IF($A32=Marketplace!$C$3:$C$309,IF(C$7=Marketplace!$G$3:$G$309,IF(Marketplace!$J$3:$J$309=\"Utility/IPP\",IF(Marketplace!$K$3:$K$309=\"Operational\",IF(Marketplace!$AJ$3:$AJ$309= \"Confident\",Marketplace!$N$3:$N$309))))))","v":0},{"$f":"SUM(IF($A32=Marketplace!$C$3:$C$309,IF(D$7=Marketplace!$G$3:$G$309,IF(Marketplace!$J$3:$J$309=\"Utility/IPP\",IF(Marketplace!$K$3:$K$309=\"Operational\",IF(Marketplace!$AJ$3:$AJ$309= \"Confident\",Marketplace!$N$3:$N$309))))))","v":0},{"$f":"SUM(IF($A32=Marketplace!$C$3:$C$309,IF(E$7=Marketplace!$G$3:$G$309,IF(Marketplace!$J$3:$J$309=\"Utility/IPP\",IF(Marketplace!$K$3:$K$309=\"Operational\",IF(Marketplace!$AJ$3:$AJ$309= \"Confident\",Marketplace!$N$3:$N$309))))))","v":0},{"$f":"SUM(IF($A32=Marketplace!$C$3:$C$309,IF(F$7=Marketplace!$G$3:$G$309,IF(Marketplace!$J$3:$J$309=\"Utility/IPP\",IF(Marketplace!$K$3:$K$309=\"Operational\",IF(Marketplace!$AJ$3:$AJ$309= \"Confident\",Marketplace!$N$3:$N$309))))))","v":0},{"$f":"SUM(IF($A32=Marketplace!$C$3:$C$309,IF(G$7=Marketplace!$G$3:$G$309,IF(Marketplace!$J$3:$J$309=\"Utility/IPP\",IF(Marketplace!$K$3:$K$309=\"Operational\",IF(Marketplace!$AJ$3:$AJ$309= \"Confident\",Marketplace!$N$3:$N$309))))))","v":0},0,{"$f":"SUM(IF($A32=Marketplace!$C$3:$C$309,IF(I$7=Marketplace!$G$3:$G$309,IF(Marketplace!$J$3:$J$309=\"Utility/IPP\",IF(Marketplace!$K$3:$K$309=\"Operational\",IF(Marketplace!$AJ$3:$AJ$309= \"Confident\",Marketplace!$Y$3:$Y$309))))))","v":0},{"$f":"SUM(IF($A32=Marketplace!$C$3:$C$309,IF(J$7=Marketplace!$G$3:$G$309,IF(Marketplace!$J$3:$J$309=\"Utility/IPP\",IF(Marketplace!$K$3:$K$309=\"Operational\",IF(Marketplace!$AJ$3:$AJ$309= \"Confident\",Marketplace!$Y$3:$Y$309))))))","v":0},{"$f":"SUM(IF($A32=Marketplace!$C$3:$C$309,IF(K$7=Marketplace!$G$3:$G$309,IF(Marketplace!$J$3:$J$309=\"Utility/IPP\",IF(Marketplace!$K$3:$K$309=\"Operational\",IF(Marketplace!$AJ$3:$AJ$309= \"Confident\",Marketplace!$Y$3:$Y$309))))))","v":0},{"$f":"SUM(IF($A32=Marketplace!$C$3:$C$309,IF(L$7=Marketplace!$G$3:$G$309,IF(Marketplace!$J$3:$J$309=\"Utility/IPP\",IF(Marketplace!$K$3:$K$309=\"Operational\",IF(Marketplace!$AJ$3:$AJ$309= \"Confident\",Marketplace!$Y$3:$Y$309))))))","v":0},{"$f":"SUM(IF($A32=Marketplace!$C$3:$C$309,IF(M$7=Marketplace!$G$3:$G$309,IF(Marketplace!$J$3:$J$309=\"Utility/IPP\",IF(Marketplace!$K$3:$K$309=\"Operational\",IF(Marketplace!$AJ$3:$AJ$309= \"Confident\",Marketplace!$Y$3:$Y$309))))))","v":0},{"$f":"SUM(IF($A32=Marketplace!$C$3:$C$309,IF(N$7=Marketplace!$G$3:$G$309,IF(Marketplace!$J$3:$J$309=\"Utility/IPP\",IF(Marketplace!$K$3:$K$309=\"Operational\",IF(Marketplace!$AJ$3:$AJ$309= \"Confident\",Marketplace!$Y$3:$Y$309))))))","v":0},0]
["St. Lucia ",{"$f":"SUM(IF($A33=Marketplace!$C$3:$C$309,IF(B$7=Marketplace!$G$3:$G$309,IF(Marketplace!$J$3:$J$309=\"Utility/IPP\",IF(Marketplace!$K$3:$K$309=\"Operational\",IF(Marketplace!$AJ$3:$AJ$309= \"Confident\",Marketplace!$N$3:$N$309))))))","v":0},{"$f":"SUM(IF($A33=Marketplace!$C$3:$C$309,IF(C$7=Marketplace!$G$3:$G$309,IF(Marketplace!$J$3:$J$309=\"Utility/IPP\",IF(Marketplace!$K$3:$K$309=\"Operational\",IF(Marketplace!$AJ$3:$AJ$309= \"Confident\",Marketplace!$N$3:$N$309))))))","v":0},{"$f":"SUM(IF($A33=Marketplace!$C$3:$C$309,IF(D$7=Marketplace!$G$3:$G$309,IF(Marketplace!$J$3:$J$309=\"Utility/IPP\",IF(Marketplace!$K$3:$K$309=\"Operational\",IF(Marketplace!$AJ$3:$AJ$309= \"Confident\",Marketplace!$N$3:$N$309))))))","v":0},{"$f":"SUM(IF($A33=Marketplace!$C$3:$C$309,IF(E$7=Marketplace!$G$3:$G$309,IF(Marketplace!$J$3:$J$309=\"Utility/IPP\",IF(Marketplace!$K$3:$K$309=\"Operational\",IF(Marketplace!$AJ$3:$AJ$309= \"Confident\",Marketplace!$N$3:$N$309))))))","v":0},{"$f":"SUM(IF($A33=Marketplace!$C$3:$C$309,IF(F$7=Marketplace!$G$3:$G$309,IF(Marketplace!$J$3:$J$309=\"Utility/IPP\",IF(Marketplace!$K$3:$K$309=\"Operational\",IF(Marketplace!$AJ$3:$AJ$309= \"Confident\",Marketplace!$N$3:$N$309))))))","v":0},{"$f":"SUM(IF($A33=Marketplace!$C$3:$C$309,IF(G$7=Marketplace!$G$3:$G$309,IF(Marketplace!$J$3:$J$309=\"Utility/IPP\",IF(Marketplace!$K$3:$K$309=\"Operational\",IF(Marketplace!$AJ$3:$AJ$309= \"Confident\",Marketplace!$N$3:$N$309))))))","v":0},0,{"$f":"SUM(IF($A33=Marketplace!$C$3:$C$309,IF(I$7=Marketplace!$G$3:$G$309,IF(Marketplace!$J$3:$J$309=\"Utility/IPP\",IF(Marketplace!$K$3:$K$309=\"Operational\",IF(Marketplace!$AJ$3:$AJ$309= \"Confident\",Marketplace!$Y$3:$Y$309))))))","v":0},{"$f":"SUM(IF($A33=Marketplace!$C$3:$C$309,IF(J$7=Marketplace!$G$3:$G$309,IF(Marketplace!$J$3:$J$309=\"Utility/IPP\",IF(Marketplace!$K$3:$K$309=\"Operational\",IF(Marketplace!$AJ$3:$AJ$309= \"Confident\",Marketplace!$Y$3:$Y$309))))))","v":0},{"$f":"SUM(IF($A33=Marketplace!$C$3:$C$309,IF(K$7=Marketplace!$G$3:$G$309,IF(Marketplace!$J$3:$J$309=\"Utility/IPP\",IF(Marketplace!$K$3:$K$309=\"Operational\",IF(Marketplace!$AJ$3:$AJ$309= \"Confident\",Marketplace!$Y$3:$Y$309))))))","v":0},{"$f":"SUM(IF($A33=Marketplace!$C$3:$C$309,IF(L$7=Marketplace!$G$3:$G$309,IF(Marketplace!$J$3:$J$309=\"Utility/IPP\",IF(Marketplace!$K$3:$K$309=\"Operational\",IF(Marketplace!$AJ$3:$AJ$309= \"Confident\",Marketplace!$Y$3:$Y$309))))))","v":0},{"$f":"SUM(IF($A33=Marketplace!$C$3:$C$309,IF(M$7=Marketplace!$G$3:$G$309,IF(Marketplace!$J$3:$J$309=\"Utility/IPP\",IF(Marketplace!$K$3:$K$309=\"Operational\",IF(Marketplace!$AJ$3:$AJ$309= \"Confident\",Marketplace!$Y$3:$Y$309))))))","v":0},{"$f":"SUM(IF($A33=Marketplace!$C$3:$C$309,IF(N$7=Marketplace!$G$3:$G$309,IF(Marketplace!$J$3:$J$309=\"Utility/IPP\",IF(Marketplace!$K$3:$K$309=\"Operational\",IF(Marketplace!$AJ$3:$AJ$309= \"Confident\",Marketplace!$Y$3:$Y$309))))))","v":0},0]
["St. Vincent and the Grenadines",{"$f":"SUM(IF($A34=Marketplace!$C$3:$C$309,IF(B$7=Marketplace!$G$3:$G$309,IF(Marketplace!$J$3:$J$309=\"Utility/IPP\",IF(Marketplace!$K$3:$K$309=\"Operational\",IF(Marketplace!$AJ$3:$AJ$309= \"Confident\",Marketplace!$N$3:$N$309))))))","v":0},{"$f":"SUM(IF($A34=Marketplace!$C$3:$C$309,IF(C$7=Marketplace!$G$3:$G$309,IF(Marketplace!$J$3:$J$309=\"Utility/IPP\",IF(Marketplace!$K$3:$K$309=\"Operational\",IF(Marketplace!$AJ$3:$AJ$309= \"Confident\",Marketplace!$N$3:$N$309))))))","v":0},{"$f":"SUM(IF($A34=Marketplace!$C$3:$C$309,IF(D$7=Marketplace!$G$3:$G$309,IF(Marketplace!$J$3:$J$309=\"Utility/IPP\",IF(Marketplace!$K$3:$K$309=\"Operational\",IF(Marketplace!$AJ$3:$AJ$309= \"Confident\",Marketplace!$N$3:$N$309))))))","v":0},{"$f":"SUM(IF($A34=Marketplace!$C$3:$C$309,IF(E$7=Marketplace!$G$3:$G$309,IF(Marketplace!$J$3:$J$309=\"Utility/IPP\",IF(Marketplace!$K$3:$K$309=\"Operational\",IF(Marketplace!$AJ$3:$AJ$309= \"Confident\",Marketplace!$N$3:$N$309))))))","v":0},{"$f":"SUM(IF($A34=Marketplace!$C$3:$C$309,IF(F$7=Marketplace!$G$3:$G$309,IF(Marketplace!$J$3:$J$309=\"Utility/IPP\",IF(Marketplace!$K$3:$K$309=\"Operational\",IF(Marketplace!$AJ$3:$AJ$309= \"Confident\",Marketplace!$N$3:$N$309))))))","v":0},{"$f":"SUM(IF($A34=Marketplace!$C$3:$C$309,IF(G$7=Marketplace!$G$3:$G$309,IF(Marketplace!$J$3:$J$309=\"Utility/IPP\",IF(Marketplace!$K$3:$K$309=\"Operational\",IF(Marketplace!$AJ$3:$AJ$309= \"Confident\",Marketplace!$N$3:$N$309))))))","v":0},0,{"$f":"SUM(IF($A34=Marketplace!$C$3:$C$309,IF(I$7=Marketplace!$G$3:$G$309,IF(Marketplace!$J$3:$J$309=\"Utility/IPP\",IF(Marketplace!$K$3:$K$309=\"Operational\",IF(Marketplace!$AJ$3:$AJ$309= \"Confident\",Marketplace!$Y$3:$Y$309))))))","v":0},{"$f":"SUM(IF($A34=Marketplace!$C$3:$C$309,IF(J$7=Marketplace!$G$3:$G$309,IF(Marketplace!$J$3:$J$309=\"Utility/IPP\",IF(Marketplace!$K$3:$K$309=\"Operational\",IF(Marketplace!$AJ$3:$AJ$309= \"Confident\",Marketplace!$Y$3:$Y$309))))))","v":0},{"$f":"SUM(IF($A34=Marketplace!$C$3:$C$309,IF(K$7=Marketplace!$G$3:$G$309,IF(Marketplace!$J$3:$J$309=\"Utility/IPP\",IF(Marketplace!$K$3:$K$309=\"Operational\",IF(Marketplace!$AJ$3:$AJ$309= \"Confident\",Marketplace!$Y$3:$Y$309))))))","v":0},{"$f":"SUM(IF($A34=Marketplace!$C$3:$C$309,IF(L$7=Marketplace!$G$3:$G$309,IF(Marketplace!$J$3:$J$309=\"Utility/IPP\",IF(Marketplace!$K$3:$K$309=\"Operational\",IF(Marketplace!$AJ$3:$AJ$309= \"Confident\",Marketplace!$Y$3:$Y$309))))))","v":0},{"$f":"SUM(IF($A34=Marketplace!$C$3:$C$309,IF(M$7=Marketplace!$G$3:$G$309,IF(Marketplace!$J$3:$J$309=\"Utility/IPP\",IF(Marketplace!$K$3:$K$309=\"Operational\",IF(Marketplace!$AJ$3:$AJ$309= \"Confident\",Marketplace!$Y$3:$Y$309))))))","v":0},{"$f":"SUM(IF($A34=Marketplace!$C$3:$C$309,IF(N$7=Marketplace!$G$3:$G$309,IF(Marketplace!$J$3:$J$309=\"Utility/IPP\",IF(Marketplace!$K$3:$K$309=\"Operational\",IF(Marketplace!$AJ$3:$AJ$309= \"Confident\",Marketplace!$Y$3:$Y$309))))))","v":0},0]
["Suriname",{"$f":"SUM(IF($A35=Marketplace!$C$3:$C$309,IF(B$7=Marketplace!$G$3:$G$309,IF(Marketplace!$J$3:$J$309=\"Utility/IPP\",IF(Marketplace!$K$3:$K$309=\"Operational\",IF(Marketplace!$AJ$3:$AJ$309= \"Confident\",Marketplace!$N$3:$N$309))))))","v":0},{"$f":"SUM(IF($A35=Marketplace!$C$3:$C$309,IF(C$7=Marketplace!$G$3:$G$309,IF(Marketplace!$J$3:$J$309=\"Utility/IPP\",IF(Marketplace!$K$3:$K$309=\"Operational\",IF(Marketplace!$AJ$3:$AJ$309= \"Confident\",Marketplace!$N$3:$N$309))))))","v":0},{"$f":"SUM(IF($A35=Marketplace!$C$3:$C$309,IF(D$7=Marketplace!$G$3:$G$309,IF(Marketplace!$J$3:$J$309=\"Utility/IPP\",IF(Marketplace!$K$3:$K$309=\"Operational\",IF(Marketplace!$AJ$3:$AJ$309= \"Confident\",Marketplace!$N$3:$N$309))))))","v":0},{"$f":"SUM(IF($A35=Marketplace!$C$3:$C$309,IF(E$7=Marketplace!$G$3:$G$309,IF(Marketplace!$J$3:$J$309=\"Utility/IPP\",IF(Marketplace!$K$3:$K$309=\"Operational\",IF(Marketplace!$AJ$3:$AJ$309= \"Confident\",Marketplace!$N$3:$N$309))))))","v":0},{"$f":"SUM(IF($A35=Marketplace!$C$3:$C$309,IF(F$7=Marketplace!$G$3:$G$309,IF(Marketplace!$J$3:$J$309=\"Utility/IPP\",IF(Marketplace!$K$3:$K$309=\"Operational\",IF(Marketplace!$AJ$3:$AJ$309= \"Confident\",Marketplace!$N$3:$N$309))))))","v":0},{"$f":"SUM(IF($A35=Marketplace!$C$3:$C$309,IF(G$7=Marketplace!$G$3:$G$309,IF(Marketplace!$J$3:$J$309=\"Utility/IPP\",IF(Marketplace!$K$3:$K$309=\"Operational\",IF(Marketplace!$AJ$3:$AJ$309= \"Confident\",Marketplace!$N$3:$N$309))))))","v":0},0,{"$f":"SUM(IF($A35=Marketplace!$C$3:$C$309,IF(I$7=Marketplace!$G$3:$G$309,IF(Marketplace!$J$3:$J$309=\"Utility/IPP\",IF(Marketplace!$K$3:$K$309=\"Operational\",IF(Marketplace!$AJ$3:$AJ$309= \"Confident\",Marketplace!$Y$3:$Y$309))))))","v":0},{"$f":"SUM(IF($A35=Marketplace!$C$3:$C$309,IF(J$7=Marketplace!$G$3:$G$309,IF(Marketplace!$J$3:$J$309=\"Utility/IPP\",IF(Marketplace!$K$3:$K$309=\"Operational\",IF(Marketplace!$AJ$3:$AJ$309= \"Confident\",Marketplace!$Y$3:$Y$309))))))","v":0},{"$f":"SUM(IF($A35=Marketplace!$C$3:$C$309,IF(K$7=Marketplace!$G$3:$G$309,IF(Marketplace!$J$3:$J$309=\"Utility/IPP\",IF(Marketplace!$K$3:$K$309=\"Operational\",IF(Marketplace!$AJ$3:$AJ$309= \"Confident\",Marketplace!$Y$3:$Y$309))))))","v":0},{"$f":"SUM(IF($A35=Marketplace!$C$3:$C$309,IF(L$7=Marketplace!$G$3:$G$309,IF(Marketplace!$J$3:$J$309=\"Utility/IPP\",IF(Marketplace!$K$3:$K$309=\"Operational\",IF(Marketplace!$AJ$3:$AJ$309= \"Confident\",Marketplace!$Y$3:$Y$309))))))","v":0},{"$f":"SUM(IF($A35=Marketplace!$C$3:$C$309,IF(M$7=Marketplace!$G$3:$G$309,IF(Marketplace!$J$3:$J$309=\"Utility/IPP\",IF(Marketplace!$K$3:$K$309=\"Operational\",IF(Marketplace!$AJ$3:$AJ$309= \"Confident\",Marketplace!$Y$3:$Y$309))))))","v":0},{"$f":"SUM(IF($A35=Marketplace!$C$3:$C$309,IF(N$7=Marketplace!$G$3:$G$309,IF(Marketplace!$J$3:$J$309=\"Utility/IPP\",IF(Marketplace!$K$3:$K$309=\"Operational\",IF(Marketplace!$AJ$3:$AJ$309= \"Confident\",Marketplace!$Y$3:$Y$309))))))","v":0},0]
["The Bahamas",{"$f":"SUM(IF($A36=Marketplace!$C$3:$C$309,IF(B$7=Marketplace!$G$3:$G$309,IF(Marketplace!$J$3:$J$309=\"Utility/IPP\",IF(Marketplace!$K$3:$K$309=\"Operational\",IF(Marketplace!$AJ$3:$AJ$309= \"Confident\",Marketplace!$N$3:$N$309))))))","v":0},{"$f":"SUM(IF($A36=Marketplace!$C$3:$C$309,IF(C$7=Marketplace!$G$3:$G$309,IF(Marketplace!$J$3:$J$309=\"Utility/IPP\",IF(Marketplace!$K$3:$K$309=\"Operational\",IF(Marketplace!$AJ$3:$AJ$309= \"Confident\",Marketplace!$N$3:$N$309))))))","v":0},{"$f":"SUM(IF($A36=Marketplace!$C$3:$C$309,IF(D$7=Marketplace!$G$3:$G$309,IF(Marketplace!$J$3:$J$309=\"Utility/IPP\",IF(Marketplace!$K$3:$K$309=\"Operational\",IF(Marketplace!$AJ$3:$AJ$309= \"Confident\",Marketplace!$N$3:$N$309))))))","v":0},{"$f":"SUM(IF($A36=Marketplace!$C$3:$C$309,IF(E$7=Marketplace!$G$3:$G$309,IF(Marketplace!$J$3:$J$309=\"Utility/IPP\",IF(Marketplace!$K$3:$K$309=\"Operational\",IF(Marketplace!$AJ$3:$AJ$309= \"Confident\",Marketplace!$N$3:$N$309))))))","v":0},{"$f":"SUM(IF($A36=Marketplace!$C$3:$C$309,IF(F$7=Marketplace!$G$3:$G$309,IF(Marketplace!$J$3:$J$309=\"Utility/IPP\",IF(Marketplace!$K$3:$K$309=\"Operational\",IF(Marketplace!$AJ$3:$AJ$309= \"Confident\",Marketplace!$N$3:$N$309))))))","v":0},{"$f":"SUM(IF($A36=Marketplace!$C$3:$C$309,IF(G$7=Marketplace!$G$3:$G$309,IF(Marketplace!$J$3:$J$309=\"Utility/IPP\",IF(Marketplace!$K$3:$K$309=\"Operational\",IF(Marketplace!$AJ$3:$AJ$309= \"Confident\",Marketplace!$N$3:$N$309))))))","v":0},0,{"$f":"SUM(IF($A36=Marketplace!$C$3:$C$309,IF(I$7=Marketplace!$G$3:$G$309,IF(Marketplace!$J$3:$J$309=\"Utility/IPP\",IF(Marketplace!$K$3:$K$309=\"Operational\",IF(Marketplace!$AJ$3:$AJ$309= \"Confident\",Marketplace!$Y$3:$Y$309))))))","v":0},{"$f":"SUM(IF($A36=Marketplace!$C$3:$C$309,IF(J$7=Marketplace!$G$3:$G$309,IF(Marketplace!$J$3:$J$309=\"Utility/IPP\",IF(Marketplace!$K$3:$K$309=\"Operational\",IF(Marketplace!$AJ$3:$AJ$309= \"Confident\",Marketplace!$Y$3:$Y$309))))))","v":0},{"$f":"SUM(IF($A36=Marketplace!$C$3:$C$309,IF(K$7=Marketplace!$G$3:$G$309,IF(Marketplace!$J$3:$J$309=\"Utility/IPP\",IF(Marketplace!$K$3:$K$309=\"Operational\",IF(Marketplace!$AJ$3:$AJ$309= \"Confident\",Marketplace!$Y$3:$Y$309))))))","v":0},{"$f":"SUM(IF($A36=Marketplace!$C$3:$C$309,IF(L$7=Marketplace!$G$3:$G$309,IF(Marketplace!$J$3:$J$309=\"Utility/IPP\",IF(Marketplace!$K$3:$K$309=\"Operational\",IF(Marketplace!$AJ$3:$AJ$309= \"Confident\",Marketplace!$Y$3:$Y$309))))))","v":0},{"$f":"SUM(IF($A36=Marketplace!$C$3:$C$309,IF(M$7=Marketplace!$G$3:$G$309,IF(Marketplace!$J$3:$J$309=\"Utility/IPP\",IF(Marketplace!$K$3:$K$309=\"Operational\",IF(Marketplace!$AJ$3:$AJ$309= \"Confident\",Marketplace!$Y$3:$Y$309))))))","v":0},{"$f":"SUM(IF($A36=Marketplace!$C$3:$C$309,IF(N$7=Marketplace!$G$3:$G$309,IF(Marketplace!$J$3:$J$309=\"Utility/IPP\",IF(Marketplace!$K$3:$K$309=\"Operational\",IF(Marketplace!$AJ$3:$AJ$309= \"Confident\",Marketplace!$Y$3:$Y$309))))))","v":0},0]
["Trinidad and Tobago",{"$f":"SUM(IF($A37=Marketplace!$C$3:$C$309,IF(B$7=Marketplace!$G$3:$G$309,IF(Marketplace!$J$3:$J$309=\"Utility/IPP\",IF(Marketplace!$K$3:$K$309=\"Operational\",IF(Marketplace!$AJ$3:$AJ$309= \"Confident\",Marketplace!$N$3:$N$309))))))","v":0},{"$f":"SUM(IF($A37=Marketplace!$C$3:$C$309,IF(C$7=Marketplace!$G$3:$G$309,IF(Marketplace!$J$3:$J$309=\"Utility/IPP\",IF(Marketplace!$K$3:$K$309=\"Operational\",IF(Marketplace!$AJ$3:$AJ$309= \"Confident\",Marketplace!$N$3:$N$309))))))","v":0},{"$f":"SUM(IF($A37=Marketplace!$C$3:$C$309,IF(D$7=Marketplace!$G$3:$G$309,IF(Marketplace!$J$3:$J$309=\"Utility/IPP\",IF(Marketplace!$K$3:$K$309=\"Operational\",IF(Marketplace!$AJ$3:$AJ$309= \"Confident\",Marketplace!$N$3:$N$309))))))","v":0},{"$f":"SUM(IF($A37=Marketplace!$C$3:$C$309,IF(E$7=Marketplace!$G$3:$G$309,IF(Marketplace!$J$3:$J$309=\"Utility/IPP\",IF(Marketplace!$K$3:$K$309=\"Operational\",IF(Marketplace!$AJ$3:$AJ$309= \"Confident\",Marketplace!$N$3:$N$309))))))","v":0},{"$f":"SUM(IF($A37=Marketplace!$C$3:$C$309,IF(F$7=Marketplace!$G$3:$G$309,IF(Marketplace!$J$3:$J$309=\"Utility/IPP\",IF(Marketplace!$K$3:$K$309=\"Operational\",IF(Marketplace!$AJ$3:$AJ$309= \"Confident\",Marketplace!$N$3:$N$309))))))","v":0},{"$f":"SUM(IF($A37=Marketplace!$C$3:$C$309,IF(G$7=Marketplace!$G$3:$G$309,IF(Marketplace!$J$3:$J$309=\"Utility/IPP\",IF(Marketplace!$K$3:$K$309=\"Operational\",IF(Marketplace!$AJ$3:$AJ$309= \"Confident\",Marketplace!$N$3:$N$309))))))","v":0},0,{"$f":"SUM(IF($A37=Marketplace!$C$3:$C$309,IF(I$7=Marketplace!$G$3:$G$309,IF(Marketplace!$J$3:$J$309=\"Utility/IPP\",IF(Marketplace!$K$3:$K$309=\"Operational\",IF(Marketplace!$AJ$3:$AJ$309= \"Confident\",Marketplace!$Y$3:$Y$309))))))","v":0},{"$f":"SUM(IF($A37=Marketplace!$C$3:$C$309,IF(J$7=Marketplace!$G$3:$G$309,IF(Marketplace!$J$3:$J$309=\"Utility/IPP\",IF(Marketplace!$K$3:$K$309=\"Operational\",IF(Marketplace!$AJ$3:$AJ$309= \"Confident\",Marketplace!$Y$3:$Y$309))))))","v":0},{"$f":"SUM(IF($A37=Marketplace!$C$3:$C$309,IF(K$7=Marketplace!$G$3:$G$309,IF(Marketplace!$J$3:$J$309=\"Utility/IPP\",IF(Marketplace!$K$3:$K$309=\"Operational\",IF(Marketplace!$AJ$3:$AJ$309= \"Confident\",Marketplace!$Y$3:$Y$309))))))","v":0},{"$f":"SUM(IF($A37=Marketplace!$C$3:$C$309,IF(L$7=Marketplace!$G$3:$G$309,IF(Marketplace!$J$3:$J$309=\"Utility/IPP\",IF(Marketplace!$K$3:$K$309=\"Operational\",IF(Marketplace!$AJ$3:$AJ$309= \"Confident\",Marketplace!$Y$3:$Y$309))))))","v":0},{"$f":"SUM(IF($A37=Marketplace!$C$3:$C$309,IF(M$7=Marketplace!$G$3:$G$309,IF(Marketplace!$J$3:$J$309=\"Utility/IPP\",IF(Marketplace!$K$3:$K$309=\"Operational\",IF(Marketplace!$AJ$3:$AJ$309= \"Confident\",Marketplace!$Y$3:$Y$309))))))","v":0},{"$f":"SUM(IF($A37=Marketplace!$C$3:$C$309,IF(N$7=Marketplace!$G$3:$G$309,IF(Marketplace!$J$3:$J$309=\"Utility/IPP\",IF(Marketplace!$K$3:$K$309=\"Operational\",IF(Marketplace!$AJ$3:$AJ$309= \"Confident\",Marketplace!$Y$3:$Y$309))))))","v":0},0]
["Turks and Caicos Islands",{"$f":"SUM(IF($A38=Marketplace!$C$3:$C$309,IF(B$7=Marketplace!$G$3:$G$309,IF(Marketplace!$J$3:$J$309=\"Utility/IPP\",IF(Marketplace!$K$3:$K$309=\"Operational\",IF(Marketplace!$AJ$3:$AJ$309= \"Confident\",Marketplace!$N$3:$N$309))))))","v":0},{"$f":"SUM(IF($A38=Marketplace!$C$3:$C$309,IF(C$7=Marketplace!$G$3:$G$309,IF(Marketplace!$J$3:$J$309=\"Utility/IPP\",IF(Marketplace!$K$3:$K$309=\"Operational\",IF(Marketplace!$AJ$3:$AJ$309= \"Confident\",Marketplace!$N$3:$N$309))))))","v":0},{"$f":"SUM(IF($A38=Marketplace!$C$3:$C$309,IF(D$7=Marketplace!$G$3:$G$309,IF(Marketplace!$J$3:$J$309=\"Utility/IPP\",IF(Marketplace!$K$3:$K$309=\"Operational\",IF(Marketplace!$AJ$3:$AJ$309= \"Confident\",Marketplace!$N$3:$N$309))))))","v":0},{"$f":"SUM(IF($A38=Marketplace!$C$3:$C$309,IF(E$7=Marketplace!$G$3:$G$309,IF(Marketplace!$J$3:$J$309=\"Utility/IPP\",IF(Marketplace!$K$3:$K$309=\"Operational\",IF(Marketplace!$AJ$3:$AJ$309= \"Confident\",Marketplace!$N$3:$N$309))))))","v":0},{"$f":"SUM(IF($A38=Marketplace!$C$3:$C$309,IF(F$7=Marketplace!$G$3:$G$309,IF(Marketplace!$J$3:$J$309=\"Utility/IPP\",IF(Marketplace!$K$3:$K$309=\"Operational\",IF(Marketplace!$AJ$3:$AJ$309= \"Confident\",Marketplace!$N$3:$N$309))))))","v":0},{"$f":"SUM(IF($A38=Marketplace!$C$3:$C$309,IF(G$7=Marketplace!$G$3:$G$309,IF(Marketplace!$J$3:$J$309=\"Utility/IPP\",IF(Marketplace!$K$3:$K$309=\"Operational\",IF(Marketplace!$AJ$3:$AJ$309= \"Confident\",Marketplace!$N$3:$N$309))))))","v":0},0,{"$f":"SUM(IF($A38=Marketplace!$C$3:$C$309,IF(I$7=Marketplace!$G$3:$G$309,IF(Marketplace!$J$3:$J$309=\"Utility/IPP\",IF(Marketplace!$K$3:$K$309=\"Operational\",IF(Marketplace!$AJ$3:$AJ$309= \"Confident\",Marketplace!$Y$3:$Y$309))))))","v":0},{"$f":"SUM(IF($A38=Marketplace!$C$3:$C$309,IF(J$7=Marketplace!$G$3:$G$309,IF(Marketplace!$J$3:$J$309=\"Utility/IPP\",IF(Marketplace!$K$3:$K$309=\"Operational\",IF(Marketplace!$AJ$3:$AJ$309= \"Confident\",Marketplace!$Y$3:$Y$309))))))","v":0},{"$f":"SUM(IF($A38=Marketplace!$C$3:$C$309,IF(K$7=Marketplace!$G$3:$G$309,IF(Marketplace!$J$3:$J$309=\"Utility/IPP\",IF(Marketplace!$K$3:$K$309=\"Operational\",IF(Marketplace!$AJ$3:$AJ$309= \"Confident\",Marketplace!$Y$3:$Y$309))))))","v":0},{"$f":"SUM(IF($A38=Marketplace!$C$3:$C$309,IF(L$7=Marketplace!$G$3:$G$309,IF(Marketplace!$J$3:$J$309=\"Utility/IPP\",IF(Marketplace!$K$3:$K$309=\"Operational\",IF(Marketplace!$AJ$3:$AJ$309= \"Confident\",Marketplace!$Y$3:$Y$309))))))","v":0},{"$f":"SUM(IF($A38=Marketplace!$C$3:$C$309,IF(M$7=Marketplace!$G$3:$G$309,IF(Marketplace!$J$3:$J$309=\"Utility/IPP\",IF(Marketplace!$K$3:$K$309=\"Operational\",IF(Marketplace!$AJ$3:$AJ$309= \"Confident\",Marketplace!$Y$3:$Y$309))))))","v":0},{"$f":"SUM(IF($A38=Marketplace!$C$3:$C$309,IF(N$7=Marketplace!$G$3:$G$309,IF(Marketplace!$J$3:$J$309=\"Utility/IPP\",IF(Marketplace!$K$3:$K$309=\"Operational\",IF(Marketplace!$AJ$3:$AJ$309= \"Confident\",Marketplace!$Y$3:$Y$309))))))","v":0},0]
["U.S. Virgin Islands",{"$f":"SUM(IF($A39=Marketplace!$C$3:$C$309,IF(B$7=Marketplace!$G$3:$G$309,IF(Marketplace!$J$3:$J$309=\"Utility/IPP\",IF(Marketplace!$K$3:$K$309=\"Operational\",IF(Marketplace!$AJ$3:$AJ$309= \"Confident\",Marketplace!$N$3:$N$309))))))","v":0},{"$f":"SUM(IF($A39=Marketplace!$C$3:$C$309,IF(C$7=Marketplace!$G$3:$G$309,IF(Marketplace!$J$3:$J$309=\"Utility/IPP\",IF(Marketplace!$K$3:$K$309=\"Operational\",IF(Marketplace!$AJ$3:$AJ$309= \"Confident\",Marketplace!$N$3:$N$309))))))","v":0},{"$f":"SUM(IF($A39=Marketplace!$C$3:$C$309,IF(D$7=Marketplace!$G$3:$G$309,IF(Marketplace!$J$3:$J$309=\"Utility/IPP\",IF(Marketplace!$K$3:$K$309=\"Operational\",IF(Marketplace!$AJ$3:$AJ$309= \"Confident\",Marketplace!$N$3:$N$309))))))","v":0},{"$f":"SUM(IF($A39=Marketplace!$C$3:$C$309,IF(E$7=Marketplace!$G$3:$G$309,IF(Marketplace!$J$3:$J$309=\"Utility/IPP\",IF(Marketplace!$K$3:$K$309=\"Operational\",IF(Marketplace!$AJ$3:$AJ$309= \"Confident\",Marketplace!$N$3:$N$309))))))","v":0},{"$f":"SUM(IF($A39=Marketplace!$C$3:$C$309,IF(F$7=Marketplace!$G$3:$G$309,IF(Marketplace!$J$3:$J$309=\"Utility/IPP\",IF(Marketplace!$K$3:$K$309=\"Operational\",IF(Marketplace!$AJ$3:$AJ$309= \"Confident\",Marketplace!$N$3:$N$309))))))","v":0},{"$f":"SUM(IF($A39=Marketplace!$C$3:$C$309,IF(G$7=Marketplace!$G$3:$G$309,IF(Marketplace!$J$3:$J$309=\"Utility/IPP\",IF(Marketplace!$K$3:$K$309=\"Operational\",IF(Marketplace!$AJ$3:$AJ$309= \"Confident\",Marketplace!$N$3:$N$309))))))","v":0},0,{"$f":"SUM(IF($A39=Marketplace!$C$3:$C$309,IF(I$7=Marketplace!$G$3:$G$309,IF(Marketplace!$J$3:$J$309=\"Utility/IPP\",IF(Marketplace!$K$3:$K$309=\"Operational\",IF(Marketplace!$AJ$3:$AJ$309= \"Confident\",Marketplace!$Y$3:$Y$309))))))","v":0},{"$f":"SUM(IF($A39=Marketplace!$C$3:$C$309,IF(J$7=Marketplace!$G$3:$G$309,IF(Marketplace!$J$3:$J$309=\"Utility/IPP\",IF(Marketplace!$K$3:$K$309=\"Operational\",IF(Marketplace!$AJ$3:$AJ$309= \"Confident\",Marketplace!$Y$3:$Y$309))))))","v":0},{"$f":"SUM(IF($A39=Marketplace!$C$3:$C$309,IF(K$7=Marketplace!$G$3:$G$309,IF(Marketplace!$J$3:$J$309=\"Utility/IPP\",IF(Marketplace!$K$3:$K$309=\"Operational\",IF(Marketplace!$AJ$3:$AJ$309= \"Confident\",Marketplace!$Y$3:$Y$309))))))","v":0},{"$f":"SUM(IF($A39=Marketplace!$C$3:$C$309,IF(L$7=Marketplace!$G$3:$G$309,IF(Marketplace!$J$3:$J$309=\"Utility/IPP\",IF(Marketplace!$K$3:$K$309=\"Operational\",IF(Marketplace!$AJ$3:$AJ$309= \"Confident\",Marketplace!$Y$3:$Y$309))))))","v":0},{"$f":"SUM(IF($A39=Marketplace!$C$3:$C$309,IF(M$7=Marketplace!$G$3:$G$309,IF(Marketplace!$J$3:$J$309=\"Utility/IPP\",IF(Marketplace!$K$3:$K$309=\"Operational\",IF(Marketplace!$AJ$3:$AJ$309= \"Confident\",Marketplace!$Y$3:$Y$309))))))","v":0},{"$f":"SUM(IF($A39=Marketplace!$C$3:$C$309,IF(N$7=Marketplace!$G$3:$G$309,IF(Marketplace!$J$3:$J$309=\"Utility/IPP\",IF(Marketplace!$K$3:$K$309=\"Operational\",IF(Marketplace!$AJ$3:$AJ$309= \"Confident\",Marketplace!$Y$3:$Y$309))))))","v":0},0]

{"sheet":"Capex by RE tech","index":40,"n_rows":19,"n_cols":13,"rows_kept":19,"cut":false,"hidden":false,"merged":[]}
["Technology Type","Version","Version Time Period","Capacity Factor","Lifetime","Overnight Capital Cost (US$/kW)","Fixed              O&M Cost            (US$/kW-yr)","Variable         O&M Cost (US$/kW)","Total              O&M Cost  (US$/kW)","Fuel Cost    (US$/MMBtu)",null,"Source for Cost Estimates","Source for Capacity Factor"]
["Biomass","1.0",2010,0.85,20,4000,95,15,{"$f":"SUM(G2:H2)","v":110},0.06,null,"https://www.lazard.com/perspective/","https://www.lazard.com/perspective/"]
["Biomass","2.0",2013,{"$f":"AVERAGE(D4,D2)","v":0.875},20,3500,95,15,110,0.06,null,"https://www.lazard.com/perspective/","https://www.lazard.com/perspective/"]
["Biomass","3.0",2016,0.9,25,3000,95,15,110,0.06,null,"https://www.lazard.com/perspective/","https://www.lazard.com/perspective/"]
["Geothermal","1.0",2010,0.8,20,{"$f":"AVERAGE(4600,7250)","v":5925},0,40,40,0,null,"https://www.lazard.com/perspective/","https://www.lazard.com/perspective/"]
["Geothermal","2.0",2013,{"$f":"AVERAGE(D7,D5)","v":0.85000000000000009},20,4600,0,35,35,0,null,"https://www.lazard.com/perspective/","https://www.lazard.com/perspective/"]
["Geothermal","3.0",2016,0.9,25,4250,0,30,30,0,null,"https://www.lazard.com/perspective/","https://www.lazard.com/perspective/"]
["Hydro","1.0",2010,0.376,50,3076,14.31,0,14.31,0,null,"https://www.eia.gov/analysis/studies/powerplants/capitalcost/archive/2010/pdf/updatedplantcosts.pdf","https://www.eia.gov/electricity/monthly/"]
["Hydro","2.0",2013,0.38600000000000001,50,2936,14.31,0,14.31,0,null,"https://www.eia.gov/outlooks/capitalcost/pdf/updated_capcost.pdf","https://www.eia.gov/electricity/monthly/"]
["Hydro","3.0",2016,0.40600000000000003,50,2813,14.31,0,14.31,0,null,"https://www.eia.gov/analysis/studies/powerplants/capitalcost/pdf/capcost_assumption.pdf ","https://www.eia.gov/electricity/monthly/ "]
["Solar PV","1.0",2010,0.2,20,3500,37.5,0,37.5,0,null,"https://www.lazard.com/perspective/","https://www.lazard.com/perspective/"]
["Solar PV","2.0",2013,{"$f":"AVERAGE(D13,D11)","v":0.21500000000000002},20,2000,{"$f":"AVERAGE(13,20)","v":16.5},0,16.5,0,null,"https://www.lazard.com/perspective/","https://www.lazard.com/perspective/"]
["Solar PV","3.0",2016,0.23,25,1450,{"$f":"AVERAGE(9,12)","v":10.5},0,10.5,0,null,"https://www.lazard.com/perspective/","https://www.lazard.com/perspective/"]
["Waste-to-Energy","1.0",2010,0.67800000000000005,25,8232,373.76,8.33,382.09,0,null,"https://www.eia.gov/analysis/studies/powerplants/capitalcost/archive/2010/pdf/updatedplantcosts.pdf","https://www.eia.gov/electricity/monthly/"]
["Waste-to-Energy","2.0",2013,0.68899999999999995,25,8312,392.82,8.75,401.57,0,null,"https://www.eia.gov/analysis/studies/powerplants/capitalcost/archive/2010/pdf/updatedplantcosts.pdf","https://www.eia.gov/electricity/monthly/"]
["Waste-to-Energy","3.0",2016,0.70699999999999996,25,{"$f":"AVERAGE(F14,F15)","v":8272},{"$f":"AVERAGE(G14,G15)","v":383.28999999999996},{"$f":"AVERAGE(H14,H15)","v":8.5399999999999991},391.83,0,null,"https://www.eia.gov/analysis/studies/powerplants/capitalcost/archive/2010/pdf/updatedplantcosts.pdf","https://www.eia.gov/electricity/monthly/"]
["Wind","1.0",2010,0.28000000000000003,20,{"$f":"AVERAGE(2250,2600)","v":2425},{"$f":"AVERAGE(55,60)","v":57.5},0,57.5,0,null,"https://www.lazard.com/perspective/","https://www.lazard.com/perspective/"]
["Wind","2.0",2013,{"$f":"AVERAGE(D17,D19)","v":0.315},20,{"$f":"AVERAGE(1500,2000)","v":1750},{"$f":"AVERAGE(30,60)","v":45},0,45,0,null,"https://www.lazard.com/perspective/","https://www.lazard.com/perspective/"]
["Wind","3.0",2016,0.35,20,{"$f":"AVERAGE(1250,1700)","v":1475},{"$f":"AVERAGE(30,45)","v":37.5},0,37.5,0,null,"https://www.lazard.com/perspective/","https://www.lazard.com/perspective/"]

{"sheet":"Graphics","index":41,"n_rows":64,"n_cols":6,"rows_kept":64,"cut":false,"hidden":true,"merged":[]}
[null,"RE generation","Target","Year"]
["Aruba",{"$f":"'Jurisdictions | RE targets'!D3","v":0.14850747474747475},{"$f":"'Jurisdictions | RE targets'!E3","v":1},{"$f":"RIGHT('Jurisdictions | RE targets'!F3,4)","v":"2020"}]
["Bonaire",{"$f":"'Jurisdictions | RE targets'!D4","v":0.41666666666666669},{"$f":"'Jurisdictions | RE targets'!E4","v":0.5},{"$f":"RIGHT('Jurisdictions | RE targets'!F4,4)","v":"2030"}]
["Dominica",{"$f":"'Jurisdictions | RE targets'!D5","v":0.28000000000000003},{"$f":"'Jurisdictions | RE targets'!E5","v":1},{"$f":"RIGHT('Jurisdictions | RE targets'!F5,4)","v":"2030"}]
["Martinique",{"$f":"'Jurisdictions | RE targets'!D6","v":7.0000000000000007E-2},{"$f":"'Jurisdictions | RE targets'!E6","v":1},{"$f":"RIGHT('Jurisdictions | RE targets'!F6,4)","v":"2030"}]
["Nevis ",{"$f":"'Jurisdictions | RE targets'!D7","v":0.15343152356392462},{"$f":"'Jurisdictions | RE targets'!E7","v":1},{"$f":"RIGHT('Jurisdictions | RE targets'!F7,4)","v":"2025"}]
["St. Kitts",{"$f":"'Jurisdictions | RE targets'!D8","v":1.256952380952381E-2},{"$f":"'Jurisdictions | RE targets'!E8","v":1},{"$f":"RIGHT('Jurisdictions | RE targets'!F8,4)","v":"2020"}]
["Puerto Rico",{"$f":"'Jurisdictions | RE targets'!D9","v":0.02},{"$f":"'Jurisdictions | RE targets'!E9","v":1},{"$f":"RIGHT('Jurisdictions | RE targets'!F9,4)","v":"2025"}]
["Belize",{"$f":"'Jurisdictions | RE targets'!D10","v":0.54197875748899127},{"$f":"'Jurisdictions | RE targets'!E10","v":0.85},{"$f":"RIGHT('Jurisdictions | RE targets'!F10,4)","v":"2030"}]
["Sint Maarten",{"$f":"'Jurisdictions | RE targets'!D11","v":0},{"$f":"'Jurisdictions | RE targets'!E11","v":0.8},{"$f":"RIGHT('Jurisdictions | RE targets'!F11,4)","v":"2020"}]
["Cayman…",{"$f":"'Jurisdictions | RE targets'!D12","v":1.4379684870735812E-2},{"$f":"'Jurisdictions | RE targets'!E12","v":0.7},{"$f":"RIGHT('Jurisdictions | RE targets'!F12,4)","v":"2037"}]
["SVG",{"$f":"'Jurisdictions | RE targets'!D13","v":0.17},{"$f":"'Jurisdictions | RE targets'!E13","v":0.6},{"$f":"RIGHT('Jurisdictions | RE targets'!F13,4)","v":"2020"}]
["Guadeloupe",{"$f":"'Jurisdictions | RE targets'!D14","v":0.21244131455399062},{"$f":"'Jurisdictions | RE targets'!E14","v":0.5},{"$f":"RIGHT('Jurisdictions | RE targets'!F14,4)","v":"2020"}]
["Haiti",{"$f":"'Jurisdictions | RE targets'!D15","v":0.16166498204303145},{"$f":"'Jurisdictions | RE targets'!E15","v":0.5},{"$f":"RIGHT('Jurisdictions | RE targets'!F15,4)","v":"2030"}]
["Jamaica",{"$f":"'Jurisdictions | RE targets'!D16","v":0.12},{"$f":"'Jurisdictions | RE targets'!E16","v":0.5},{"$f":"RIGHT('Jurisdictions | RE targets'!F16,4)","v":"2030"}]
["Bermuda",{"$f":"'Jurisdictions | RE targets'!D17","v":5.0134932313162475E-2},{"$f":"'Jurisdictions | RE targets'!E17","v":0.3},{"$f":"RIGHT('Jurisdictions | RE targets'!F17,4)","v":"2020"}]
["St. Lucia ",{"$f":"'Jurisdictions | RE targets'!D18","v":0.12522540573031457},{"$f":"'Jurisdictions | RE targets'!E18","v":0.35},{"$f":"RIGHT('Jurisdictions | RE targets'!F18,4)","v":"2025"}]
["Anguilla",{"$f":"'Jurisdictions | RE targets'!D19","v":0},{"$f":"'Jurisdictions | RE targets'!E19","v":0.3},{"$f":"RIGHT('Jurisdictions | RE targets'!F19,4)","v":"2030"}]
["Bahamas",{"$f":"'Jurisdictions | RE targets'!D20","v":0},{"$f":"'Jurisdictions | RE targets'!E20","v":0.3},{"$f":"RIGHT('Jurisdictions | RE targets'!F20,4)","v":"2030"}]
["BVI",{"$f":"'Jurisdictions | RE targets'!D21","v":0},{"$f":"'Jurisdictions | RE targets'!E21","v":0.3},{"$f":"RIGHT('Jurisdictions | RE targets'!F21,4)","v":"2023"}]
["Curaҫao",{"$f":"'Jurisdictions | RE targets'!D22","v":0.27459319358878642},{"$f":"'Jurisdictions | RE targets'!E22","v":0.3},{"$f":"RIGHT('Jurisdictions | RE targets'!F22,4)","v":"2020"}]
["USVI",{"$f":"'Jurisdictions | RE targets'!D23","v":2.2831862272515966E-2},{"$f":"'Jurisdictions | RE targets'!E23","v":0.3},{"$f":"RIGHT('Jurisdictions | RE targets'!F23,4)","v":"2025"}]
["Barbados",{"$f":"'Jurisdictions | RE targets'!D24","v":1.8048963181952305E-2},{"$f":"'Jurisdictions | RE targets'!E24","v":1},{"$f":"RIGHT('Jurisdictions | RE targets'!F24,4)","v":"2030"}]
["Guyana ",{"$f":"'Jurisdictions | RE targets'!D25","v":9.7970548954733755E-2},{"$f":"'Jurisdictions | RE targets'!E25","v":0.28000000000000003},{"$f":"RIGHT('Jurisdictions | RE targets'!F25,4)","v":"2022"}]
["Dom. Rep",{"$f":"'Jurisdictions | RE targets'!D26","v":0.16},{"$f":"'Jurisdictions | RE targets'!E26","v":0.25},{"$f":"RIGHT('Jurisdictions | RE targets'!F26,4)","v":"2020"}]
["Suriname",{"$f":"'Jurisdictions | RE targets'!D27","v":0.43426262084400291},{"$f":"'Jurisdictions | RE targets'!E27","v":0.25},{"$f":"RIGHT('Jurisdictions | RE targets'!F27,4)","v":"2025"}]
["Cuba",{"$f":"'Jurisdictions | RE targets'!D28","v":4.1568334333727617E-3},{"$f":"'Jurisdictions | RE targets'!E28","v":0.24},{"$f":"RIGHT('Jurisdictions | RE targets'!F28,4)","v":"2030"}]
["Grenada",{"$f":"'Jurisdictions | RE targets'!D29","v":7.1717075180186621E-3},{"$f":"'Jurisdictions | RE targets'!E29","v":0.2},{"$f":"RIGHT('Jurisdictions | RE targets'!F29,4)","v":"2020"}]
["Antigua…",{"$f":"'Jurisdictions | RE targets'!D30","v":0.01},{"$f":"'Jurisdictions | RE targets'!E30","v":0.2},{"$f":"RIGHT('Jurisdictions | RE targets'!F30,4)","v":"2020"}]
["Trinidad…",{"$f":"'Jurisdictions | RE targets'!D31","v":0},{"$f":"'Jurisdictions | RE targets'!E31","v":0.1},{"$f":"RIGHT('Jurisdictions | RE targets'!F31,4)","v":"2021"}]
[]
[null,"Enabling environment","Existing RE","Planned RE","Electric mobility"]
[{"$f":"'RE Index | Results Summary'!A11","v":"Dominica"},{"$f":"'RE Index | Results Summary'!D11","v":0.9609375},{"$f":"'RE Index | Results Summary'!G11","v":0.42000000000000004},{"$f":"'RE Index | Results Summary'!J11","v":1.5},{"$f":"'RE Index | Results Summary'!M11","v":0.25},{"$f":"SUM(B33:E33)","v":3.1309374999999999}]
[{"$f":"'RE Index | Results Summary'!A12","v":"Guadeloupe"},{"$f":"'RE Index | Results Summary'!D12","v":1.4296875},{"$f":"'RE Index | Results Summary'!G12","v":0.31866197183098588},{"$f":"'RE Index | Results Summary'!J12","v":0.51291079812206575},{"$f":"'RE Index | Results Summary'!M12","v":0.5},2.761260269953052]
["Dom. Rep.",{"$f":"'RE Index | Results Summary'!D13","v":0.81093749999999998},{"$f":"'RE Index | Results Summary'!G13","v":0.24},{"$f":"'RE Index | Results Summary'!J13","v":1.5},{"$f":"'RE Index | Results Summary'!M13","v":0},2.5509374999999999]
[{"$f":"'RE Index | Results Summary'!A14","v":"Curaҫao"},{"$f":"'RE Index | Results Summary'!D14","v":1.40625},{"$f":"'RE Index | Results Summary'!G14","v":0.41188979038317963},{"$f":"'RE Index | Results Summary'!J14","v":0.42572638655235684},{"$f":"'RE Index | Results Summary'!M14","v":0},2.2438661769355366]
[{"$f":"'RE Index | Results Summary'!A15","v":"Belize"},{"$f":"'RE Index | Results Summary'!D15","v":1.0078125},{"$f":"'RE Index | Results Summary'!G15","v":0.81296813623348696},{"$f":"'RE Index | Results Summary'!J15","v":0.39718446145549596},{"$f":"'RE Index | Results Summary'!M15","v":0},2.2179650976889826]
[{"$f":"'RE Index | Results Summary'!A16","v":"Bonaire"},{"$f":"'RE Index | Results Summary'!D16","v":1.3359375},{"$f":"'RE Index | Results Summary'!G16","v":0.625},{"$f":"'RE Index | Results Summary'!J16","v":0.16666666666666666},{"$f":"'RE Index | Results Summary'!M16","v":0},2.1276041666666665]
["Cayman…",{"$f":"'RE Index | Results Summary'!D17","v":1.3828125},{"$f":"'RE Index | Results Summary'!G17","v":2.1569527306103717E-2},{"$f":"'RE Index | Results Summary'!J17","v":0.20910650145326604},{"$f":"'RE Index | Results Summary'!M17","v":0.5},2.1134885287593699]
[{"$f":"'RE Index | Results Summary'!A18","v":"Jamaica"},{"$f":"'RE Index | Results Summary'!D18","v":1.0359375},{"$f":"'RE Index | Results Summary'!G18","v":0.18},{"$f":"'RE Index | Results Summary'!J18","v":0.38962302852805486},{"$f":"'RE Index | Results Summary'!M18","v":0.25},1.8555605285280548]
[{"$f":"'RE Index | Results Summary'!A19","v":"Suriname"},{"$f":"'RE Index | Results Summary'!D19","v":0.890625},{"$f":"'RE Index | Results Summary'!G19","v":0.65139393126600431},{"$f":"'RE Index | Results Summary'!J19","v":0.16706962666666667},{"$f":"'RE Index | Results Summary'!M19","v":0},1.7090885579326711]
[{"$f":"'RE Index | Results Summary'!A20","v":"Nevis "},{"$f":"'RE Index | Results Summary'!D20","v":0.84375},{"$f":"'RE Index | Results Summary'!G20","v":0.23014728534588691},{"$f":"'RE Index | Results Summary'!J20","v":0.62034649267034725},{"$f":"'RE Index | Results Summary'!M20","v":0},1.6942437780162343]
[{"$f":"'RE Index | Results Summary'!A21","v":"Bermuda"},{"$f":"'RE Index | Results Summary'!D21","v":1.40625},{"$f":"'RE Index | Results Summary'!G21","v":7.5202398469743706E-2},{"$f":"'RE Index | Results Summary'!J21","v":0.17650356807787487},{"$f":"'RE Index | Results Summary'!M21","v":0},1.6579559665476185]
[{"$f":"'RE Index | Results Summary'!A22","v":"St. Lucia"},{"$f":"'RE Index | Results Summary'!D22","v":0.1171875},{"$f":"'RE Index | Results Summary'!G22","v":0.18783810859547187},{"$f":"'RE Index | Results Summary'!J22","v":0.91801910104855389},{"$f":"'RE Index | Results Summary'!M22","v":0.25},1.4730447096440258]
[{"$f":"'RE Index | Results Summary'!A23","v":"Barbados"},{"$f":"'RE Index | Results Summary'!D23","v":0.9375},{"$f":"'RE Index | Results Summary'!G23","v":2.7073444772928456E-2},{"$f":"'RE Index | Results Summary'!J23","v":0.19279705847895617},{"$f":"'RE Index | Results Summary'!M23","v":0.25},1.4073705032518846]
["Antigua…",{"$f":"'RE Index | Results Summary'!D24","v":1.3125},{"$f":"'RE Index | Results Summary'!G24","v":1.4999999999999999E-2},{"$f":"'RE Index | Results Summary'!J24","v":1.6492424242424239E-2},{"$f":"'RE Index | Results Summary'!M24","v":0},1.3439924242424242]
[{"$f":"'RE Index | Results Summary'!A25","v":"Grenada"},{"$f":"'RE Index | Results Summary'!D25","v":0.9140625},{"$f":"'RE Index | Results Summary'!G25","v":1.0757561277027993E-2},{"$f":"'RE Index | Results Summary'!J25","v":0.40847515043320948},{"$f":"'RE Index | Results Summary'!M25","v":0},1.3332952117102375]
[{"$f":"'RE Index | Results Summary'!A26","v":"Montserrat"},{"$f":"'RE Index | Results Summary'!D26","v":4.6875E-2},{"$f":"'RE Index | Results Summary'!G26","v":0},{"$f":"'RE Index | Results Summary'!J26","v":1.2090652988112687},{"$f":"'RE Index | Results Summary'!M26","v":0},1.2559402988112687]
[{"$f":"'RE Index | Results Summary'!A27","v":"St. Kitts"},{"$f":"'RE Index | Results Summary'!D27","v":0.46406249999999999},{"$f":"'RE Index | Results Summary'!G27","v":1.8854285714285716E-2},{"$f":"'RE Index | Results Summary'!J27","v":0.52679501333333334},{"$f":"'RE Index | Results Summary'!M27","v":0},1.009711799047619]
["Bahamas",{"$f":"'RE Index | Results Summary'!D28","v":0.83437499999999998},{"$f":"'RE Index | Results Summary'!G28","v":0},{"$f":"'RE Index | Results Summary'!J28","v":0.19730397236614852},{"$f":"'RE Index | Results Summary'!M28","v":0},1.0316789723661486]
["TCI",{"$f":"'RE Index | Results Summary'!D29","v":0.515625},{"$f":"'RE Index | Results Summary'!G29","v":1.4999999999999999E-2},{"$f":"'RE Index | Results Summary'!J29","v":0.3379350062829734},{"$f":"'RE Index | Results Summary'!M29","v":0},0.86856000628297347]
["USVI",{"$f":"'RE Index | Results Summary'!D30","v":0.61406249999999996},{"$f":"'RE Index | Results Summary'!G30","v":3.4247793408773944E-2},{"$f":"'RE Index | Results Summary'!J30","v":1.5715235073334641E-2},{"$f":"'RE Index | Results Summary'!M30","v":0},0.6640255284821085]
["SVG",{"$f":"'RE Index | Results Summary'!D31","v":4.6875E-2},{"$f":"'RE Index | Results Summary'!G31","v":0.255},{"$f":"'RE Index | Results Summary'!J31","v":0.24329801492061803},{"$f":"'RE Index | Results Summary'!M31","v":0},0.54517301492061798]
[{"$f":"'RE Index | Results Summary'!A32","v":"Haiti"},{"$f":"'RE Index | Results Summary'!D32","v":0.19687499999999999},{"$f":"'RE Index | Results Summary'!G32","v":0.24249747306454716},{"$f":"'RE Index | Results Summary'!J32","v":0},{"$f":"'RE Index | Results Summary'!M32","v":0},0.43937247306454719]
[{"$f":"'RE Index | Results Summary'!A33","v":"Trinidad and Tobago"},{"$f":"'RE Index | Results Summary'!#REF!","v":{"$error":"#REF!"}},{"$f":"'RE Index | Results Summary'!#REF!","v":{"$error":"#REF!"}},{"$f":"'RE Index | Results Summary'!#REF!","v":{"$error":"#REF!"}},{"$f":"'RE Index | Results Summary'!#REF!","v":{"$error":"#REF!"}},{"$f":"SUM(B55:E55)","v":{"$error":"#REF!"}}]
[{"$f":"'RE Index | Results Summary'!#REF!","v":{"$error":"#REF!"}},{"$f":"'RE Index | Results Summary'!D33","v":7.03125E-2},{"$f":"'RE Index | Results Summary'!G33","v":0},{"$f":"'RE Index | Results Summary'!J33","v":0.16666666666666666},{"$f":"'RE Index | Results Summary'!M33","v":0},0.23697916666666666]
[{"$f":"'RE Index | Results Summary'!#REF!","v":{"$error":"#REF!"}},{"$f":"'RE Index | Results Summary'!#REF!","v":{"$error":"#REF!"}}]
[{"$f":"'RE Index | Results Summary'!#REF!","v":{"$error":"#REF!"}},{"$f":"'RE Index | Results Summary'!#REF!","v":{"$error":"#REF!"}}]
[{"$f":"'RE Index | Results Summary'!#REF!","v":{"$error":"#REF!"}},{"$f":"'RE Index | Results Summary'!#REF!","v":{"$error":"#REF!"}}]
[{"$f":"'RE Index | Results Summary'!#REF!","v":{"$error":"#REF!"}},{"$f":"'RE Index | Results Summary'!#REF!","v":{"$error":"#REF!"}}]
[{"$f":"'RE Index | Results Summary'!#REF!","v":{"$error":"#REF!"}},{"$f":"'RE Index | Results Summary'!#REF!","v":{"$error":"#REF!"}}]
[{"$f":"'RE Index | Results Summary'!#REF!","v":{"$error":"#REF!"}},{"$f":"'RE Index | Results Summary'!#REF!","v":{"$error":"#REF!"}}]
[{"$f":"'RE Index | Results Summary'!#REF!","v":{"$error":"#REF!"}},{"$f":"'RE Index | Results Summary'!#REF!","v":{"$error":"#REF!"}}]
[{"$f":"'RE Index | Results Summary'!#REF!","v":{"$error":"#REF!"}},{"$f":"'RE Index | Results Summary'!#REF!","v":{"$error":"#REF!"}}]