{"text_format":"1","workbook":"xlsx","n_sheets":46,"sheets":["Cover","RE Index | Ranking inputs","RE Index | Results Summary","2020 Developments","RE Index | Historical Results","Antigua_Barbuda","Bahamas","Barbados","Belize","Bermuda","Bonaire","British_Virgin_Islands","Cayman_Islands","Curacao","Dominica","Dominican_Republic","Grenada","Guadeloupe","Haiti","Jamaica","Montserrat","Nevis","Puerto_Rico_copy","Puerto_Rico","St_Kitts","St_Lucia","St_Vincent_Grenadines","Suriname","Trinidad_Tobago","2019 Response Template","Turks_and_Caicos","USVI","Anguilla","Aruba","BVI","Cuba","Guyana","Martinique","Saint_Martin","Sint_Marteen","Jurisdictions | RE targets","Jurisdictions | Generation","Marketplace","Market. | Juris capex&capacity","Capex by RE tech","Graphics"],"not_rendered":{"charts":3,"images":3,"macros":1,"external_links":1,"defined_names":3,"comments":23,"pivot_tables":0},"unopened":[],"bounds":{"document_bytes":16777216,"sheet_cells":100000,"rows_first":2000,"rows_last":500,"rows_between":2000,"halvings":0,"cell_chars":16384,"cell_head_chars":4096},"cells_cut":0,"cells_raw":0,"read":"whole","date_system":"1900"}

{"sheet":"Cover","index":0,"n_rows":12,"n_cols":2,"rows_kept":12,"cut":false,"hidden":false,"merged":[]}
[]
[]
[]
[]
[]
[]
[]
["CREF-Castalia RE Island Ranking and RE Marketplace"]
["Year Presented",2020]
["Author","Castalia"]
["Last Updated","2020-10-30"]
["Website","www.castalia-advisors.com"]

{"sheet":"RE Index | Ranking inputs","index":1,"n_rows":139,"n_cols":39,"rows_kept":139,"cut":false,"hidden":false,"merged":[[3,2,3,3],[48,3,48,4],[87,3,87,4],[63,5,63,6],[64,5,64,6],[65,5,65,6],[4,2,4,3]]}
[]
[]
[]
[null,null,null,null,null,null,null,"Anguilla","Antigua_Barbuda","Aruba","Bahamas","Barbados","Bermuda","Belize","Bonaire","British_Virgin_Islands","Cayman_Islands","Cuba","Curacao","Dominica","Dominican_Republic","Grenada","Guadeloupe","Guyana","Haiti","Jamaica","Martinique","Montserrat","Nevis","Puerto_Rico","Saint_Martin","Sint_Marteen","St_Lucia","St_Vincent_Grenadines","St_Kitts","Suriname","Trinidad_Tobago","Turks_and_Caicos","USVI"]
[null,null,"List of Indicators for the Castalia - CREF Island RE Ranking\nScale: 0 to 5  (0 = Poor ; 5 = World class)",null,"Index",null,null,"Anguilla","Antigua & Barbuda","Aruba","The Bahamas","Barbados","Bermuda","Belize","Bonaire","British Virgin Islands","Cayman Islands","Cuba","Curaҫao","Dominica","Dominican Republic","Grenada","Guadeloupe","Guyana ","Haiti","Jamaica","Martinique","Montserrat","Nevis ","Puerto Rico","Saint-Martin","Sint Maarten","St. Lucia","St. Vincent and the Grenadines","St. Kitts","Suriname","Trinidad and Tobago","Turks and Caicos Islands","U.S. Virgin Islands"]
[null,null,null,"Overall Score","0 to 5",{"$f":"SUM(F8,F26,F34,F42,F46)","v":0.99999999999999989},1,{"$f":"($G$8*H8)+($G$26*H26)+($G$34*H34)+($G$42*H42)+($G$46*H46)","v":0},{"$f":"($G$8*I8)+($G$26*I26)+($G$34*I34)+($G$42*I42)+($G$46*I46)","v":1.7408007222050521},{"$f":"($G$8*J8)+($G$26*J26)+($G$34*J34)+($G$42*J42)+($G$46*J46)","v":0.22276121212121211},1.8661218832205158,2.0753931677243851,1.6548496969696969,1.8079808523303222,0.66477272727272729,1.2666666666666668,0.84958426635238649,6.1220179833949223E-3,1.9682878787878788,2.7797102460101151,1.6904969834480499,0.62223880616608451,2.6533651989185012,0.14695582343210065,0.88303554648580929,2.550055874868276,0.10500000000000001,1.4805952380952379,1.3078606925440479,1.3383333333333332,0,0,0.62903576376502601,0.19529132789520373,0.39385428571428571,0.85593912905695679,0.91666666666666663,1.0992886584230819,0.209454]
[null,null,null,"Rank","Rank of 32",null,null,{"$f":"H138","v":31},{"$f":"I138","v":8},24,6,4,10,7,20,14,19,29,5,1,9,22,2,27,17,3,28,11,13,12,31,31,21,26,23,18,16,15,25]
[null,1,null,"Enabling environment for renewable energy investments",null,{"$f":"SUM(F9,F12,F16,F22)","v":0.3},0.3,{"$f":"(+H9*$G$9)+(H12*$G$12)+($G$16*H16)+(H22*$G$22)","v":0},3.875,0,3.25,3.625,4.125,3.5,0.625,3.5,1.25,0,3.25,5,1.25,1.875,4.375,0,2,5,0,2.125,2.5,3.25,0,0,1.25,0.625,1.25,0.625,1.75,2.5,0.625]
[null,null,null,"Renewable Energy Strategy","0 to 5",{"$f":"G9*$G$8","v":7.4999999999999997E-2},0.25,{"$f":"COUNTIF(H10:H11,\"Yes\")*5/COUNT($C$10:$C$11)","v":0},{"$f":"COUNTIF(I10:I11,\"Yes\")*5/COUNT($C$10:$C$11)","v":2.5},{"$f":"COUNTIF(J10:J11,\"Yes\")*5/COUNT($C$10:$C$11)","v":0},{"$f":"COUNTIF(K10:K11,\"Yes\")*5/COUNT($C$10:$C$11)","v":2.5},2.5,5,5,2.5,5,5,0,2.5,5,5,2.5,2.5,0,2.5,5,0,5,5,5,0,0,5,2.5,5,2.5,5,5,2.5]
[null,null,1,"Does the plan contain a specific target for renewable energy?",null,{"$f":"G10*$G$8","v":3.7499999999999999E-2},{"$f":"$G$9/COUNT($C$10:$C$11)","v":0.125},{"$f":"INDIRECT(H$4&\"!D7\")","v":"NA"},{"$f":"INDIRECT(I$4&\"!D7\")","v":"Yes"},{"$f":"INDIRECT(J$4&\"!D7\")","v":"NA"},"Yes","Yes","Yes","Yes","Yes","Yes","Yes","NA","Yes","Yes","Yes","Yes","Yes","NA","Yes","Yes","NA","Yes","Yes","Yes","NA","NA","Yes","Yes","Yes","Yes","Yes","Yes","Yes"]
[null,null,2,"Does your country have an Integrated Resource Plan (IRP) that was produced within the last three years?",null,{"$f":"G11*$G$8","v":3.7499999999999999E-2},{"$f":"$G$9/COUNT($C$10:$C$11)","v":0.125},{"$f":"INDIRECT(H$4&\"!D10\")","v":"NA"},{"$f":"INDIRECT(I$4&\"!D10\")","v":"No"},"NA","No","No","Yes","Yes","No","Yes","Yes","NA","No","Yes","Yes","No","No","NA","No","Yes","NA","Yes","Yes","Yes","NA","NA","Yes","No","Yes","No","Yes","Yes","No"]
[null,null,null,"Utilities and regulatory processes","0 to 5",{"$f":"G12*$G$8","v":7.4999999999999997E-2},0.25,{"$f":"COUNTIF(H13:H15,\"Yes\")*5/COUNT($C$13:$C$15)","v":0},{"$f":"COUNTIF(I13:I15,\"Yes\")*5/COUNT($C$14:$C$15)","v":5},{"$f":"COUNTIF(J14:J15,\"Yes\")*5/COUNT($C$14:$C$15)","v":0},{"$f":"COUNTIF(K14:K15,\"Yes\")*5/COUNT($C$14:$C$15)","v":2.5},{"$f":"COUNTIF(L14:L15,\"Yes\")*5/COUNT($C$14:$C$15)","v":5},5,5,0,2.5,0,0,2.5,5,0,0,5,0,2.5,5,0,2.5,0,2.5,0,0,0,0,0,0,0,0,0]
[null,null,1,"When planning generation expansion, does the utility consider RE options?",null,2.4999999999999998E-2,{"$f":"$G$12/COUNT($C$13:$C$15)","v":8.3333333333333329E-2},{"$f":"INDIRECT(H$4&\"!D12\")","v":"NA"},{"$f":"INDIRECT(I$4&\"!D12\")","v":"Yes"},"NA","Yes","Yes","Yes","Yes","NA",{"$f":"INDIRECT(P$4&\"!D12\")","v":"Yes"},"NA","NA","Yes","Yes","NA","Yes","Yes","NA","Yes","Yes","NA","Yes","Yes","Yes","NA","NA","NA","NA","NA","NA","No","Yes","NA"]
[null,null,2,"Can the utility safely recover RE investments through tariffs like it can recover fossil fuel costs?",null,2.4999999999999998E-2,{"$f":"$G$12/COUNT($C$13:$C$15)","v":8.3333333333333329E-2},{"$f":"INDIRECT(H$4&\"!D13\")","v":"NA"},{"$f":"INDIRECT(I$4&\"!D13\")","v":"No"},"NA","No","Yes","Yes","Yes","NA","No","NA","NA","Yes","Yes","NA","NA","Yes","NA","Yes","Yes","NA","Yes","No","Yes","NA","NA","NA","NA","NA","NA","No","No","NA"]
[null,null,3,"Are there clear, specific planning and permitting processes and rules in place for developing RE?",null,2.4999999999999998E-2,8.3333333333333329E-2,{"$f":"INDIRECT(H$4&\"!D14\")","v":"NA"},{"$f":"INDIRECT(I$4&\"!D14\")","v":"Yes"},"NA","Yes","Yes","Yes","Yes","NA","Yes","NA","NA","No","Yes","NA","No","Yes","NA","No","Yes","NA","No","No","No","NA","NA","NA","NA","NA","NA","No","No","NA"]
[null,null,null,"IPPs","0 or 5",{"$f":"G16*$G$8","v":7.4999999999999997E-2},0.25,{"$f":"COUNTIF(H17:H21,\"Yes\")*5/COUNT($C$17:$C$21)","v":0},{"$f":"COUNTIF(I17:I21,\"Yes\")*5/COUNT($C$17:$C$21)","v":3},{"$f":"COUNTIF(J17:J21,\"Yes\")*5/COUNT($C$17:$C$21)","v":0},{"$f":"COUNTIF(K17:K21,\"Yes\")*5/COUNT($C$17:$C$21)","v":3},{"$f":"COUNTIF(L17:L21,\"Yes\")*5/COUNT($C$17:$C$21)","v":2},4,4,0,4,0,0,3,5,0,0,5,0,3,5,0,1,5,3,0,0,0,0,0,0,2,0,0]
[null,null,1,"Can the utility safely recover purchases of RE from third parties, just as it recovers fossil fuel costs?",null,{"$f":"G17*$G$8","v":1.4999999999999999E-2},{"$f":"$G$12/COUNT($C$17:$C$21)","v":0.05},{"$f":"INDIRECT(H$4&\"!D17\")","v":"NA"},{"$f":"INDIRECT(I$4&\"!D17\")","v":"Yes"},"NA","No","Yes","Yes","No","NA","No","NA","NA","Yes","Yes","NA","NA","Yes","NA","Yes","Yes","NA","Yes","Yes","Yes","NA","NA","NA","NA","NA","NA","No","No","NA"]
[null,null,{"$f":"C17+1","v":2},"Are there workable precedents or rules for PPA terms and grid operation rules?",null,{"$f":"G18*$G$8","v":1.4999999999999999E-2},{"$f":"$G$12/COUNT($C$17:$C$21)","v":0.05},{"$f":"INDIRECT(H$4&\"!D18\")","v":"NA"},{"$f":"INDIRECT(I$4&\"!D18\")","v":"Yes"},"NA","Yes","No","Yes","Yes","NA","Yes","NA","NA","No","Yes","NA","No","Yes","NA","Yes","Yes","NA","No","Yes","Yes","NA","NA","NA","NA","NA","NA","No","No","NA"]
[null,null,3,"Are there clear and effective licensing processes and requirements in place for IPPs?",null,1.4999999999999999E-2,{"$f":"$G$12/COUNT($C$17:$C$21)","v":0.05},{"$f":"INDIRECT(H$4&\"!D19\")","v":"NA"},{"$f":"INDIRECT(I$4&\"!D19\")","v":"Yes"},"NA","Yes","No","Yes","Yes","NA","Yes","NA","NA","Yes","Yes","NA","No","Yes","NA","No","Yes","NA","No","Yes","Yes","NA","NA","NA","NA","NA","NA","Yes","No","NA"]
[null,null,4,"Does the utility have an obligation to purchase from IPPs when it is cheaper than generating the power itself?",null,1.4999999999999999E-2,{"$f":"$G$12/COUNT($C$17:$C$21)","v":0.05},{"$f":"INDIRECT(H$4&\"!D20\")","v":"NA"},{"$f":"INDIRECT(I$4&\"!D20\")","v":"No"},"NA","Yes","Yes","Yes","Yes","NA","Yes","NA","NA","Yes","Yes","NA","NA","Yes","NA","No","Yes","NA","No","Yes","No","NA","NA","NA","NA","NA","NA","No","No","NA"]
[null,null,5,"Does the PPA have any take-or-pay arrangements?",null,{"$f":"G21*$G$8","v":1.4999999999999999E-2},{"$f":"$G$12/COUNT($C$17:$C$21)","v":0.05},{"$f":"INDIRECT(H$4&\"!D21\")","v":"NA"},{"$f":"INDIRECT(I$4&\"!D21\")","v":"No"},"NA","No","Unknown","No","Yes","NA","Yes","NA","NA","No","Yes","NA","NA","Yes","NA","Yes","Yes","NA","No","Yes","No","NA","NA","NA","NA","NA","NA","Yes","No","NA"]
[null,null,null,"Distributed generation","0 or 5",{"$f":"G22*$G$8","v":7.4999999999999997E-2},0.25,{"$f":"COUNTIF(H23:H24,\"Yes\")*5/COUNT($C$23:$C$24)","v":0},{"$f":"COUNTIF(I23:I24,\"Yes\")*5/COUNT($C$23:$C$24)","v":5},0,5,5,2.5,0,0,2.5,0,0,5,5,0,5,5,0,0,5,0,0,0,2.5,0,0,0,0,0,0,0,5,0]
[null,null,1,"Do you have a registry or database of distributed generation?",null,{"$f":"G23*$G$8","v":3.7499999999999999E-2},{"$f":"$G$22/COUNT($C$23:$C$24)","v":0.125},{"$f":"INDIRECT(H$4&\"!D23\")","v":"NA"},{"$f":"INDIRECT(I$4&\"!D23\")","v":"Yes"},"NA","Yes","Yes","No","No","NA","No","NA","NA","Yes","Yes","NA","Yes","Yes","NA","No","Yes","NA","No","No","No","NA","NA","NA","NA","NA","NA","No","Yes","NA"]
[null,null,2,"Is there a standard arrangement in place for customers to sell electricity to the utility at a reasonable price, for a reasonable timeframe, and with a clear interconnection agreement?",null,{"$f":"G24*$G$8","v":3.7499999999999999E-2},{"$f":"$G$22/COUNT($C$23:$C$24)","v":0.125},{"$f":"INDIRECT(H$4&\"!D28\")","v":"NA"},{"$f":"INDIRECT(I$4&\"!D28\")","v":"Yes"},"NA","Yes","Yes","Yes","No","NA","Yes","NA","NA","Yes","Yes","NA","Yes","Yes","NA","No","Yes","NA","No","No","Yes","NA","NA","NA","NA","NA","NA","No","Yes","NA"]
[]
[null,2,null,"Existing renewable generation",null,{"$f":"SUM(F27:F31)","v":0.3},0.3,{"$f":"H27","v":0},{"$f":"I27","v":0.11989385397461447},{"$f":"J27","v":0.74253737373737372},{"$f":"K27","v":0},9.5812766284856493E-2,0.28005454545454544,1.2488250633232962,1.5909090909090908,0,8.1947554507955225E-2,2.0406726611316407E-2,1.25,1.0811854840440371,4.3849899448268328,3.2462687220281533E-2,1.1008111239860949,0.4898527447736688,0.94345182161936447,0.53435991298165775,0.35000000000000003,0.15714285714285714,0.74842453070238169,0.1,0,0,9.6785879216753357E-2,2.5971092984012432E-2,6.2847619047619055E-2,2.2281304301898559,0,0,7.3179999999999995E-2]
[null,null,1,"Share of RE to total electricity produced to scale",null,{"$f":"$G$26*G27","v":0.3},{"$f":"1/COUNT(C27:C31)","v":1},{"$f":"H28*5","v":0},{"$f":"I28*5","v":0.11989385397461447},{"$f":"J28*5","v":0.74253737373737372},{"$f":"K28*5","v":0},9.5812766284856493E-2,0.28005454545454544,1.2488250633232962,1.5909090909090908,0,8.1947554507955225E-2,2.0406726611316407E-2,1.25,1.0811854840440371,4.3849899448268328,3.2462687220281533E-2,1.1008111239860949,0.4898527447736688,0.94345182161936447,0.53435991298165775,0.35000000000000003,0.15714285714285714,0.74842453070238169,0.1,0,0,9.6785879216753357E-2,2.5971092984012432E-2,6.2847619047619055E-2,2.2281304301898559,0,{"$f":"AL28*5","v":0},7.3179999999999995E-2]
[null,null,null,"Share of RE to total electricity produced ","%",null,null,{"$f":"H31/H29","v":0},{"$f":"I31/I29","v":2.3978770794922895E-2},{"$f":"J31/J29","v":0.14850747474747475},0,{"$f":"L31/L29","v":1.9162553256971297E-2},5.6010909090909083E-2,0.24976501266465925,0.31818181818181818,0,1.6389510901591044E-2,4.0813453222632813E-3,0.25,0.21623709680880743,0.87699798896536663,6.492537444056307E-3,0.220162224797219,9.7970548954733755E-2,0.1886903643238729,0.10687198259633154,7.0000000000000007E-2,3.1428571428571431E-2,0.14968490614047633,0.02,0,0,1.9357175843350671E-2,5.1942185968024863E-3,1.256952380952381E-2,0.44562608603797121,0,0,{"$f":"AM31/AM29","v":1.4636E-2}]
[null,null,null,"What was the total electricity generated in 2019? (MWh)","MWh / year",null,null,{"$f":"IF(OR(INDIRECT(H$4&\"!D32\")=0,INDIRECT(H$4&\"!D32\")=\"NA\"),VLOOKUP(H$4,'Jurisdictions | Generation'!$A$3:$I$35,5,FALSE),INDIRECT(H$4&\"!D32\"))","v":100446},{"$f":"IF(OR(INDIRECT(I$4&\"!D32\")=0,INDIRECT(I$4&\"!D32\")=\"NA\"),VLOOKUP(I$4,'Jurisdictions | Generation'!$A$3:$I$35,5,FALSE),INDIRECT(I$4&\"!D32\"))","v":375332},{"$f":"IF(OR(INDIRECT(J$4&\"!D32\")=0,INDIRECT(J$4&\"!D32\")=\"NA\"),VLOOKUP(J$4,'Jurisdictions | Generation'!$A$3:$I$35,5,FALSE),INDIRECT(J$4&\"!D32\"))","v":990000},{"$f":"IF(OR(INDIRECT(K$4&\"!D32\")=0,INDIRECT(K$4&\"!D32\")=\"NA\"),VLOOKUP(K$4,'Jurisdictions | Generation'!$A$3:$I$35,5,FALSE),INDIRECT(K$4&\"!D32\"))","v":207547.3},{"$f":"IF(OR(INDIRECT(L$4&\"!D32\")=0,INDIRECT(L$4&\"!D32\")=\"NA\"),VLOOKUP(L$4,'Jurisdictions | Generation'!$A$3:$I$35,5,FALSE),INDIRECT(L$4&\"!D32\"))","v":980072.16200000001},{"$f":"IF(OR(INDIRECT(M$4&\"!D32\")=0,INDIRECT(M$4&\"!D32\")=\"NA\"),VLOOKUP(M$4,'Jurisdictions | Generation'!$A$3:$I$35,5,FALSE),INDIRECT(M$4&\"!D32\"))","v":550000},{"$f":"IF(OR(INDIRECT(N$4&\"!D32\")=0,INDIRECT(N$4&\"!D32\")=\"NA\"),VLOOKUP(N$4,'Jurisdictions | Generation'!$A$3:$I$35,5,FALSE),INDIRECT(N$4&\"!D32\"))","v":669185},{"$f":"IF(OR(INDIRECT(O$4&\"!D32\")=0,INDIRECT(O$4&\"!D32\")=\"NA\"),VLOOKUP(O$4,'Jurisdictions | Generation'!$A$3:$I$35,5,FALSE),INDIRECT(O$4&\"!D32\"))","v":110000},{"$f":"IF(OR(INDIRECT(P$4&\"!D32\")=0,INDIRECT(P$4&\"!D32\")=\"NA\"),VLOOKUP(P$4,'Jurisdictions | Generation'!$A$3:$I$35,5,FALSE),INDIRECT(P$4&\"!D32\"))","v":191629.28},{"$f":"IF(OR(INDIRECT(Q$4&\"!D32\")=0,INDIRECT(Q$4&\"!D32\")=\"NA\"),VLOOKUP(Q$4,'Jurisdictions | Generation'!$A$3:$I$35,5,FALSE),INDIRECT(Q$4&\"!D32\"))","v":678800},{"$f":"IF(OR(INDIRECT(R$4&\"!D32\")=0,INDIRECT(R$4&\"!D32\")=\"NA\"),VLOOKUP(R$4,'Jurisdictions | Generation'!$A$3:$I$35,5,FALSE),INDIRECT(R$4&\"!D32\"))","v":20837000},{"$f":"IF(OR(INDIRECT(S$4&\"!D32\")=0,INDIRECT(S$4&\"!D32\")=\"NA\"),VLOOKUP(S$4,'Jurisdictions | Generation'!$A$3:$I$35,5,FALSE),INDIRECT(S$4&\"!D32\"))","v":880000},{"$f":"IF(OR(INDIRECT(T$4&\"!D32\")=0,INDIRECT(T$4&\"!D32\")=\"NA\"),VLOOKUP(T$4,'Jurisdictions | Generation'!$A$3:$I$35,5,FALSE),INDIRECT(T$4&\"!D32\"))","v":93194},{"$f":"IF(OR(INDIRECT(U$4&\"!D32\")=0,INDIRECT(U$4&\"!D32\")=\"NA\"),VLOOKUP(U$4,'Jurisdictions | Generation'!$A$3:$I$35,5,FALSE),INDIRECT(U$4&\"!D32\"))","v":19651017},{"$f":"IF(OR(INDIRECT(V$4&\"!D32\")=0,INDIRECT(V$4&\"!D32\")=\"NA\"),VLOOKUP(V$4,'Jurisdictions | Generation'!$A$3:$I$35,5,FALSE),INDIRECT(V$4&\"!D32\"))","v":235952.201},{"$f":"IF(OR(INDIRECT(W$4&\"!D32\")=0,INDIRECT(W$4&\"!D32\")=\"NA\"),VLOOKUP(W$4,'Jurisdictions | Generation'!$A$3:$I$35,5,FALSE),INDIRECT(W$4&\"!D32\"))","v":1726000},{"$f":"IF(OR(INDIRECT(X$4&\"!D32\")=0,INDIRECT(X$4&\"!D32\")=\"NA\"),VLOOKUP(X$4,'Jurisdictions | Generation'!$A$3:$I$35,5,FALSE),INDIRECT(X$4&\"!D32\"))","v":809411},{"$f":"IF(OR(INDIRECT(Y$4&\"!D32\")=0,INDIRECT(Y$4&\"!D32\")=\"NA\"),VLOOKUP(Y$4,'Jurisdictions | Generation'!$A$3:$I$35,5,FALSE),INDIRECT(Y$4&\"!D32\"))","v":1045037.2},{"$f":"IF(OR(INDIRECT(Z$4&\"!D32\")=0,INDIRECT(Z$4&\"!D32\")=\"NA\"),VLOOKUP(Z$4,'Jurisdictions | Generation'!$A$3:$I$35,5,FALSE),INDIRECT(Z$4&\"!D32\"))","v":4431479.5},{"$f":"IF(OR(INDIRECT(AA$4&\"!D32\")=0,INDIRECT(AA$4&\"!D32\")=\"NA\"),VLOOKUP(AA$4,'Jurisdictions | Generation'!$A$3:$I$35,5,FALSE),INDIRECT(AA$4&\"!D32\"))","v":1560000},{"$f":"IF(OR(INDIRECT(AB$4&\"!D32\")=0,INDIRECT(AB$4&\"!D32\")=\"NA\"),VLOOKUP(AB$4,'Jurisdictions | Generation'!$A$3:$I$35,5,FALSE),INDIRECT(AB$4&\"!D32\"))","v":14000},{"$f":"IF(OR(INDIRECT(AC$4&\"!D32\")=0,INDIRECT(AC$4&\"!D32\")=\"NA\"),VLOOKUP(AC$4,'Jurisdictions | Generation'!$A$3:$I$35,5,FALSE),INDIRECT(AC$4&\"!D32\"))","v":59225.21},{"$f":"IF(OR(INDIRECT(AD$4&\"!D32\")=0,INDIRECT(AD$4&\"!D32\")=\"NA\"),VLOOKUP(AD$4,'Jurisdictions | Generation'!$A$3:$I$35,5,FALSE),INDIRECT(AD$4&\"!D32\"))","v":357408},{"$f":"IF(OR(INDIRECT(AE$4&\"!D32\")=0,INDIRECT(AE$4&\"!D32\")=\"NA\"),VLOOKUP(AE$4,'Jurisdictions | Generation'!$A$3:$I$35,5,FALSE),INDIRECT(AE$4&\"!D32\"))","v":175000},{"$f":"IF(OR(INDIRECT(AF$4&\"!D32\")=0,INDIRECT(AF$4&\"!D32\")=\"NA\"),VLOOKUP(AF$4,'Jurisdictions | Generation'!$A$3:$I$35,5,FALSE),INDIRECT(AF$4&\"!D32\"))","v":372671},{"$f":"IF(OR(INDIRECT(AG$4&\"!D32\")=0,INDIRECT(AG$4&\"!D32\")=\"NA\"),VLOOKUP(AG$4,'Jurisdictions | Generation'!$A$3:$I$35,5,FALSE),INDIRECT(AG$4&\"!D32\"))","v":361623},{"$f":"IF(OR(INDIRECT(AH$4&\"!D32\")=0,INDIRECT(AH$4&\"!D32\")=\"NA\"),VLOOKUP(AH$4,'Jurisdictions | Generation'!$A$3:$I$35,5,FALSE),INDIRECT(AH$4&\"!D32\"))","v":149929},{"$f":"IF(OR(INDIRECT(AI$4&\"!D32\")=0,INDIRECT(AI$4&\"!D32\")=\"NA\"),VLOOKUP(AI$4,'Jurisdictions | Generation'!$A$3:$I$35,5,FALSE),INDIRECT(AI$4&\"!D32\"))","v":150000},{"$f":"IF(OR(INDIRECT(AJ$4&\"!D32\")=0,INDIRECT(AJ$4&\"!D32\")=\"NA\"),VLOOKUP(AJ$4,'Jurisdictions | Generation'!$A$3:$I$35,5,FALSE),INDIRECT(AJ$4&\"!D32\"))","v":1949000},{"$f":"IF(OR(INDIRECT(AK$4&\"!D32\")=0,INDIRECT(AK$4&\"!D32\")=\"NA\"),VLOOKUP(AK$4,'Jurisdictions | Generation'!$A$3:$I$35,5,FALSE),INDIRECT(AK$4&\"!D32\"))","v":11100000},{"$f":"IF(OR(INDIRECT(AL$4&\"!D32\")=0,INDIRECT(AL$4&\"!D32\")=\"NA\"),VLOOKUP(AL$4,'Jurisdictions | Generation'!$A$3:$I$35,5,FALSE),INDIRECT(AL$4&\"!D32\"))","v":250700},{"$f":"IF(OR(INDIRECT(AM$4&\"!D32\")=0,INDIRECT(AM$4&\"!D32\")=\"NA\"),VLOOKUP(AM$4,'Jurisdictions | Generation'!$A$3:$I$35,5,FALSE),INDIRECT(AM$4&\"!D32\"))","v":1000000}]
[null,null,null,"Total electricity generation data source (survey or project database)",null,null,null,{"$f":"IF(OR(INDIRECT(H$4&\"!D32\")=0,INDIRECT(H$4&\"!D32\")=\"NA\"),\"Database\",\"Survey\")","v":"Database"},{"$f":"IF(OR(INDIRECT(I$4&\"!D32\")=0,INDIRECT(I$4&\"!D32\")=\"NA\"),\"Database\",\"Survey\")","v":"Survey"},"Database","Survey","Survey","Survey","Survey","Database","Survey","Database","Database","Survey","Survey","Database","Survey","Survey","Database","Survey","Survey","Database","Survey","Survey","Survey","Database","Database","Database","Database","Database","Database","Database","Survey","Database"]
[null,null,null,"What was the total electricity generated from Utility Scale RE projects in 2019? (MWh) ","MWh / year",null,null,{"$f":"IF(INDIRECT(H$4&\"!D33\")=\"NA\",VLOOKUP(H$4,'Jurisdictions | Generation'!$A$3:$M$35,13,FALSE),INDIRECT(H$4&\"!D33\"))","v":0},{"$f":"IF(INDIRECT(I$4&\"!D33\")=\"NA\",VLOOKUP(I$4,'Jurisdictions | Generation'!$A$3:$M$35,13,FALSE),INDIRECT(I$4&\"!D33\"))","v":9000},{"$f":"IF(INDIRECT(J$4&\"!D33\")=\"NA\",VLOOKUP(J$4,'Jurisdictions | Generation'!$A$3:$M$35,13,FALSE),INDIRECT(J$4&\"!D33\"))","v":147022.39999999999},{"$f":"IF(INDIRECT(K$4&\"!D33\")=\"NA\",VLOOKUP(K$4,'Jurisdictions | Generation'!$A$3:$M$35,13,FALSE),INDIRECT(K$4&\"!D33\"))","v":0},{"$f":"IF(INDIRECT(L$4&\"!D33\")=\"NA\",VLOOKUP(L$4,'Jurisdictions | Generation'!$A$3:$M$35,13,FALSE),INDIRECT(L$4&\"!D33\"))","v":18780.685000000001},{"$f":"IF(INDIRECT(M$4&\"!D33\")=\"NA\",VLOOKUP(M$4,'Jurisdictions | Generation'!$A$3:$M$35,13,FALSE),INDIRECT(M$4&\"!D33\"))","v":30805.999999999996},{"$f":"IF(INDIRECT(N$4&\"!D33\")=\"NA\",VLOOKUP(N$4,'Jurisdictions | Generation'!$A$3:$M$35,13,FALSE),INDIRECT(N$4&\"!D33\"))","v":167139},{"$f":"IF(INDIRECT(O$4&\"!D33\")=\"NA\",VLOOKUP(O$4,'Jurisdictions | Generation'!$A$3:$M$35,13,FALSE),INDIRECT(O$4&\"!D33\"))","v":35000},{"$f":"IF(INDIRECT(P$4&\"!D33\")=\"NA\",VLOOKUP(P$4,'Jurisdictions | Generation'!$A$3:$M$35,13,FALSE),INDIRECT(P$4&\"!D33\"))","v":0},{"$f":"IF(INDIRECT(Q$4&\"!D33\")=\"NA\",VLOOKUP(Q$4,'Jurisdictions | Generation'!$A$3:$M$35,13,FALSE),INDIRECT(Q$4&\"!D33\"))","v":11125.2},{"$f":"IF(INDIRECT(R$4&\"!D33\")=\"NA\",VLOOKUP(R$4,'Jurisdictions | Generation'!$A$3:$M$35,13,FALSE),INDIRECT(R$4&\"!D33\"))","v":85042.992479999986},{"$f":"IF(INDIRECT(S$4&\"!D33\")=\"NA\",VLOOKUP(S$4,'Jurisdictions | Generation'!$A$3:$M$35,13,FALSE),INDIRECT(S$4&\"!D33\"))","v":220000},{"$f":"IF(INDIRECT(T$4&\"!D33\")=\"NA\",VLOOKUP(T$4,'Jurisdictions | Generation'!$A$3:$M$35,13,FALSE),INDIRECT(T$4&\"!D33\"))","v":20152},{"$f":"IF(INDIRECT(U$4&\"!D33\")=\"NA\",VLOOKUP(U$4,'Jurisdictions | Generation'!$A$3:$M$35,13,FALSE),INDIRECT(U$4&\"!D33\"))","v":17233902.390124232},{"$f":"IF(INDIRECT(V$4&\"!D33\")=\"NA\",VLOOKUP(V$4,'Jurisdictions | Generation'!$A$3:$M$35,13,FALSE),INDIRECT(V$4&\"!D33\"))","v":1531.9285},{"$f":"IF(INDIRECT(W$4&\"!D33\")=\"NA\",VLOOKUP(W$4,'Jurisdictions | Generation'!$A$3:$M$35,13,FALSE),INDIRECT(W$4&\"!D33\"))","v":380000},{"$f":"IF(INDIRECT(X$4&\"!D33\")=\"NA\",VLOOKUP(X$4,'Jurisdictions | Generation'!$A$3:$M$35,13,FALSE),INDIRECT(X$4&\"!D33\"))","v":79298.44},{"$f":"IF(INDIRECT(Y$4&\"!D33\")=\"NA\",VLOOKUP(Y$4,'Jurisdictions | Generation'!$A$3:$M$35,13,FALSE),INDIRECT(Y$4&\"!D33\"))","v":197188.45},{"$f":"IF(INDIRECT(Z$4&\"!D33\")=\"NA\",VLOOKUP(Z$4,'Jurisdictions | Generation'!$A$3:$M$35,13,FALSE),INDIRECT(Z$4&\"!D33\"))","v":473601},{"$f":"IF(INDIRECT(AA$4&\"!D33\")=\"NA\",VLOOKUP(AA$4,'Jurisdictions | Generation'!$A$3:$M$35,13,FALSE),INDIRECT(AA$4&\"!D33\"))","v":109200.00000000001},{"$f":"IF(INDIRECT(AB$4&\"!D33\")=\"NA\",VLOOKUP(AB$4,'Jurisdictions | Generation'!$A$3:$M$35,13,FALSE),INDIRECT(AB$4&\"!D33\"))","v":440},{"$f":"IF(INDIRECT(AC$4&\"!D33\")=\"NA\",VLOOKUP(AC$4,'Jurisdictions | Generation'!$A$3:$M$35,13,FALSE),INDIRECT(AC$4&\"!D33\"))","v":8865.1200000000008},{"$f":"IF(INDIRECT(AD$4&\"!D33\")=\"NA\",VLOOKUP(AD$4,'Jurisdictions | Generation'!$A$3:$M$35,13,FALSE),INDIRECT(AD$4&\"!D33\"))","v":357408},{"$f":"IF(INDIRECT(AE$4&\"!D33\")=\"NA\",VLOOKUP(AE$4,'Jurisdictions | Generation'!$A$3:$M$35,13,FALSE),INDIRECT(AE$4&\"!D33\"))","v":0},{"$f":"IF(INDIRECT(AF$4&\"!D33\")=\"NA\",VLOOKUP(AF$4,'Jurisdictions | Generation'!$A$3:$M$35,13,FALSE),INDIRECT(AF$4&\"!D33\"))","v":0},{"$f":"IF(INDIRECT(AG$4&\"!D33\")=\"NA\",VLOOKUP(AG$4,'Jurisdictions | Generation'!$A$3:$M$35,13,FALSE),INDIRECT(AG$4&\"!D33\"))","v":7000},{"$f":"IF(INDIRECT(AH$4&\"!D33\")=\"NA\",VLOOKUP(AH$4,'Jurisdictions | Generation'!$A$3:$M$35,13,FALSE),INDIRECT(AH$4&\"!D33\"))","v":778.76400000000001},{"$f":"IF(INDIRECT(AI$4&\"!D33\")=\"NA\",VLOOKUP(AI$4,'Jurisdictions | Generation'!$A$3:$M$35,13,FALSE),INDIRECT(AI$4&\"!D33\"))","v":1885.4285714285716},{"$f":"IF(INDIRECT(AJ$4&\"!D33\")=\"NA\",VLOOKUP(AJ$4,'Jurisdictions | Generation'!$A$3:$M$35,13,FALSE),INDIRECT(AJ$4&\"!D33\"))","v":868525.24168800586},{"$f":"IF(INDIRECT(AK$4&\"!D33\")=\"NA\",VLOOKUP(AK$4,'Jurisdictions | Generation'!$A$3:$M$35,13,FALSE),INDIRECT(AK$4&\"!D33\"))","v":0},{"$f":"IF(INDIRECT(AL$4&\"!D33\")=\"NA\",VLOOKUP(AL$4,'Jurisdictions | Generation'!$A$3:$M$35,13,FALSE),INDIRECT(AL$4&\"!D33\"))","v":0},{"$f":"IF(INDIRECT(AM$4&\"!D33\")=\"NA\",VLOOKUP(AM$4,'Jurisdictions | Generation'!$A$3:$M$35,13,FALSE),INDIRECT(AM$4&\"!D33\"))","v":14636}]
[null,null,null,"Utility RE generation data source (survey or project database)",null,null,null,{"$f":"IF(INDIRECT(H$4&\"!D33\")=\"NA\",\"Database\",\"Survey\")","v":"Database"},{"$f":"IF(INDIRECT(I$4&\"!D33\")=\"NA\",\"Database\",\"Survey\")","v":"Survey"},"Database","Survey","Survey","Database","Survey","Database","Survey","Database","Database","Survey","Survey","Database","Survey","Survey","Database","Survey","Survey","Survey","Survey","Database","Survey","Database","Database","Database","Database","Database","Database","Survey","Survey","Database"]
[]
[null,3,null,"Planned renewable generation",null,{"$f":"SUM(F35:F40)","v":0.3},0.3,{"$f":"IF(H35=\"Yes\",(5/COUNT($C$35:$C$40))*$G$35,0)+($G$36*H36)+IF(H40=\"Yes\",(5/COUNT($C$35:$C$40)*$G$40),0)","v":0},{"$f":"IF(I35=\"Yes\",(5/COUNT($C$35:$C$40))*$G$35,0)+($G$36*I36)+IF(I40=\"Yes\",(5/COUNT($C$35:$C$40)*$G$40),0)","v":1.6411085533755596},{"$f":"IF(J35=\"Yes\",(5/COUNT($C$35:$C$40))*$G$35,0)+($G$36*J36)+IF(J40=\"Yes\",(5/COUNT($C$35:$C$40)*$G$40),0)","v":0},{"$f":"IF(K35=\"Yes\",(5/COUNT($C$35:$C$40))*$G$35,0)+($G$36*K36)+IF(K40=\"Yes\",(5/COUNT($C$35:$C$40)*$G$40),0)","v":2.0537396107350525},2.2804977927964272,1.1111111111111112,1.1111111111111112,0,0.55555555555555558,0,0,1.1442929292929294,{"$f":"MIN(5,IF(T35=\"Yes\",(5/COUNT($C$35:$C$40))*$G$35,0)+($G$36*T36)+IF(T40=\"Yes\",(5/COUNT($C$35:$C$40)*$G$40),0))","v":2.4345153359896798},{"$f":"MIN(5,IF(U35=\"Yes\",(5/COUNT($C$35:$C$40))*$G$35,0)+($G$36*U36)+IF(U40=\"Yes\",(5/COUNT($C$35:$C$40)*$G$40),0))","v":0},{"$f":"IF(V35=\"Yes\",(5/COUNT($C$35:$C$40))*$G$35,0)+($G$36*V36)+IF(V40=\"Yes\",(5/COUNT($C$35:$C$40)*$G$40),0)","v":0},1.7020728724089096,0,0,1.299159669912598,0,1.9031746031746031,1.1111111111111112,1.1111111111111112,0,0,0,0,0,0,0.55555555555555558,1.16429552807694,0]
[null,null,1,"Does your country have an estimate of planned installed capacity expected to come online from-utility scale RE projects?",null,{"$f":"$G$34*G35","v":9.9999999999999992E-2},{"$f":"1/3","v":0.33333333333333331},{"$f":"INDIRECT(H$4&\"!D37\")","v":"NA"},{"$f":"INDIRECT(I$4&\"!D37\")","v":"Yes"},{"$f":"INDIRECT(J$4&\"!D37\")","v":"NA"},"Yes","Yes","Yes","Yes","NA","Yes","NA","NA","Yes","Yes","NA","No","Yes","NA","No","Yes","NA","Yes","Yes","Yes","NA","NA","NA","NA","NA","NA","Yes","Yes","NA"]
[null,null,2,"Share of planned production from RE/total electricity production to scale",null,{"$f":"$G$34*G36","v":9.9999999999999992E-2},{"$f":"1/3","v":0.33333333333333331},{"$f":"H37*5","v":0},{"$f":"I37*5","v":1.5899923267933456},{"$f":"J37*5","v":0},{"$f":"K37*5","v":2.8278854988718241},{"$f":"L37*5","v":3.5081600450559476},0,0,0,0,{"$f":"Q37*5","v":0},0,9.9545454545454534E-2,3.9702126746357065,0,0,1.7728852838933951,0,0,0.56414567640446045,0,4.0428571428571427,0,0,0,0,0,0,0,0,0,0.15955325089748704,0]
[null,null,null,"Shared of planned production from RE / total electricity production","%",null,null,{"$f":"IFERROR((H38/H29),0)","v":0},{"$f":"IFERROR((I38/I29),0)","v":0.3179984653586691},0,0.56557709977436477,0.70163200901118949,0,0,0,0,0,0,1.9909090909090908E-2,0.79404253492714127,0,0,0.35457705677867901,0,0,0.11282913528089208,0,0.80857142857142861,0,0,0,0,0,0,0,0,0,3.1910650179497409E-2,{"$f":"IFERROR((AM38/AM29),0)","v":0}]
[null,null,null,"Total planned electricity production from RE","MWh / year",null,null,{"$f":"IF(INDIRECT(H$4&\"!E39\")=\"NA\",SUMIFS(Marketplace!$P$3:$P$435,Marketplace!$C$3:$C$435,\"=\"&H5,Marketplace!$AI$3:$AI$435,\"Confident\",Marketplace!$J$3:$J$435,\"Planned\",Marketplace!$I$3:$I$435,\"Utility/IPP\")+SUMIFS(Marketplace!$P$3:$P$435,Marketplace!$C$3:$C$435,\"=\"&H5,Marketplace!$AI$3:$AI$435,\"Confident\",Marketplace!$J$3:$J$435,\"Under development\",Marketplace!$I$3:$I$435,\"Utility/IPP\")+SUMIFS(Marketplace!$P$3:$P$435,Marketplace!$C$3:$C$435,\"=\"&H5,Marketplace!$AI$3:$AI$435,\"Confident\",Marketplace!$J$3:$J$435,\"Operational\",Marketplace!$AF$3:$AF$435,\"2019\",Marketplace!$I$3:$I$435,\"Utility/IPP\"),INDIRECT(H$4&\"!E39\"))","v":0},{"$f":"IF(INDIRECT(I$4&\"!E39\")=\"NA\",SUMIFS(Marketplace!$P$3:$P$435,Marketplace!$C$3:$C$435,\"=\"&I5,Marketplace!$AI$3:$AI$435,\"Confident\",Marketplace!$J$3:$J$435,\"Planned\",Marketplace!$I$3:$I$435,\"Utility/IPP\")+SUMIFS(Marketplace!$P$3:$P$435,Marketplace!$C$3:$C$435,\"=\"&I5,Marketplace!$AI$3:$AI$435,\"Confident\",Marketplace!$J$3:$J$435,\"Under development\",Marketplace!$I$3:$I$435,\"Utility/IPP\")+SUMIFS(Marketplace!$P$3:$P$435,Marketplace!$C$3:$C$435,\"=\"&I5,Marketplace!$AI$3:$AI$435,\"Confident\",Marketplace!$J$3:$J$435,\"Operational\",Marketplace!$AF$3:$AF$435,\"2019\",Marketplace!$I$3:$I$435,\"Utility/IPP\"),INDIRECT(I$4&\"!E39\"))","v":119355},{"$f":"IF(INDIRECT(J$4&\"!E39\")=\"NA\",SUMIFS(Marketplace!$P$3:$P$435,Marketplace!$C$3:$C$435,\"=\"&J5,Marketplace!$AI$3:$AI$435,\"Confident\",Marketplace!$J$3:$J$435,\"Planned\",Marketplace!$I$3:$I$435,\"Utility/IPP\")+SUMIFS(Marketplace!$P$3:$P$435,Marketplace!$C$3:$C$435,\"=\"&J5,Marketplace!$AI$3:$AI$435,\"Confident\",Marketplace!$J$3:$J$435,\"Under development\",Marketplace!$I$3:$I$435,\"Utility/IPP\")+SUMIFS(Marketplace!$P$3:$P$435,Marketplace!$C$3:$C$435,\"=\"&J5,Marketplace!$AI$3:$AI$435,\"Confident\",Marketplace!$J$3:$J$435,\"Operational\",Marketplace!$AF$3:$AF$435,\"2019\",Marketplace!$I$3:$I$435,\"Utility/IPP\"),INDIRECT(J$4&\"!E39\"))","v":0},{"$f":"IF(INDIRECT(K$4&\"!E39\")=\"NA\",SUMIFS(Marketplace!$P$3:$P$435,Marketplace!$C$3:$C$435,\"=\"&K5,Marketplace!$AI$3:$AI$435,\"Confident\",Marketplace!$J$3:$J$435,\"Planned\",Marketplace!$I$3:$I$435,\"Utility/IPP\")+SUMIFS(Marketplace!$P$3:$P$435,Marketplace!$C$3:$C$435,\"=\"&K5,Marketplace!$AI$3:$AI$435,\"Confident\",Marketplace!$J$3:$J$435,\"Under development\",Marketplace!$I$3:$I$435,\"Utility/IPP\")+SUMIFS(Marketplace!$P$3:$P$435,Marketplace!$C$3:$C$435,\"=\"&K5,Marketplace!$AI$3:$AI$435,\"Confident\",Marketplace!$J$3:$J$435,\"Operational\",Marketplace!$AF$3:$AF$435,\"2019\",Marketplace!$I$3:$I$435,\"Utility/IPP\"),INDIRECT(K$4&\"!E39\"))","v":117384},{"$f":"IF(INDIRECT(L$4&\"!E39\")=\"NA\",SUMIFS(Marketplace!$P$3:$P$435,Marketplace!$C$3:$C$435,\"=\"&L5,Marketplace!$AI$3:$AI$435,\"Confident\",Marketplace!$J$3:$J$435,\"Planned\",Marketplace!$I$3:$I$435,\"Utility/IPP\")+SUMIFS(Marketplace!$P$3:$P$435,Marketplace!$C$3:$C$435,\"=\"&L5,Marketplace!$AI$3:$AI$435,\"Confident\",Marketplace!$J$3:$J$435,\"Under development\",Marketplace!$I$3:$I$435,\"Utility/IPP\")+SUMIFS(Marketplace!$P$3:$P$435,Marketplace!$C$3:$C$435,\"=\"&L5,Marketplace!$AI$3:$AI$435,\"Confident\",Marketplace!$J$3:$J$435,\"Operational\",Marketplace!$AF$3:$AF$435,\"2019\",Marketplace!$I$3:$I$435,\"Utility/IPP\"),INDIRECT(L$4&\"!E39\"))","v":687650},{"$f":"IF(INDIRECT(M$4&\"!E39\")=\"NA\",SUMIFS(Marketplace!$P$3:$P$435,Marketplace!$C$3:$C$435,\"=\"&M5,Marketplace!$AI$3:$AI$435,\"Confident\",Marketplace!$J$3:$J$435,\"Planned\",Marketplace!$I$3:$I$435,\"Utility/IPP\")+SUMIFS(Marketplace!$P$3:$P$435,Marketplace!$C$3:$C$435,\"=\"&M5,Marketplace!$AI$3:$AI$435,\"Confident\",Marketplace!$J$3:$J$435,\"Under development\",Marketplace!$I$3:$I$435,\"Utility/IPP\")+SUMIFS(Marketplace!$P$3:$P$435,Marketplace!$C$3:$C$435,\"=\"&M5,Marketplace!$AI$3:$AI$435,\"Confident\",Marketplace!$J$3:$J$435,\"Operational\",Marketplace!$AF$3:$AF$435,\"2019\",Marketplace!$I$3:$I$435,\"Utility/IPP\"),INDIRECT(M$4&\"!E39\"))","v":"unknown"},{"$f":"IF(INDIRECT(N$4&\"!E39\")=\"NA\",SUMIFS(Marketplace!$P$3:$P$435,Marketplace!$C$3:$C$435,\"=\"&N5,Marketplace!$AI$3:$AI$435,\"Confident\",Marketplace!$J$3:$J$435,\"Planned\",Marketplace!$I$3:$I$435,\"Utility/IPP\")+SUMIFS(Marketplace!$P$3:$P$435,Marketplace!$C$3:$C$435,\"=\"&N5,Marketplace!$AI$3:$AI$435,\"Confident\",Marketplace!$J$3:$J$435,\"Under development\",Marketplace!$I$3:$I$435,\"Utility/IPP\")+SUMIFS(Marketplace!$P$3:$P$435,Marketplace!$C$3:$C$435,\"=\"&N5,Marketplace!$AI$3:$AI$435,\"Confident\",Marketplace!$J$3:$J$435,\"Operational\",Marketplace!$AF$3:$AF$435,\"2019\",Marketplace!$I$3:$I$435,\"Utility/IPP\"),INDIRECT(N$4&\"!E39\"))","v":"At least 45 MW of Utility Solar"},{"$f":"IF(INDIRECT(O$4&\"!E39\")=\"NA\",SUMIFS(Marketplace!$P$3:$P$435,Marketplace!$C$3:$C$435,\"=\"&O5,Marketplace!$AI$3:$AI$435,\"Confident\",Marketplace!$J$3:$J$435,\"Planned\",Marketplace!$I$3:$I$435,\"Utility/IPP\")+SUMIFS(Marketplace!$P$3:$P$435,Marketplace!$C$3:$C$435,\"=\"&O5,Marketplace!$AI$3:$AI$435,\"Confident\",Marketplace!$J$3:$J$435,\"Under development\",Marketplace!$I$3:$I$435,\"Utility/IPP\")+SUMIFS(Marketplace!$P$3:$P$435,Marketplace!$C$3:$C$435,\"=\"&O5,Marketplace!$AI$3:$AI$435,\"Confident\",Marketplace!$J$3:$J$435,\"Operational\",Marketplace!$AF$3:$AF$435,\"2019\",Marketplace!$I$3:$I$435,\"Utility/IPP\"),INDIRECT(O$4&\"!E39\"))","v":0},{"$f":"IF(INDIRECT(P$4&\"!E39\")=\"NA\",SUMIFS(Marketplace!$P$3:$P$435,Marketplace!$C$3:$C$435,\"=\"&P5,Marketplace!$AI$3:$AI$435,\"Confident\",Marketplace!$J$3:$J$435,\"Planned\",Marketplace!$I$3:$I$435,\"Utility/IPP\")+SUMIFS(Marketplace!$P$3:$P$435,Marketplace!$C$3:$C$435,\"=\"&P5,Marketplace!$AI$3:$AI$435,\"Confident\",Marketplace!$J$3:$J$435,\"Under development\",Marketplace!$I$3:$I$435,\"Utility/IPP\")+SUMIFS(Marketplace!$P$3:$P$435,Marketplace!$C$3:$C$435,\"=\"&P5,Marketplace!$AI$3:$AI$435,\"Confident\",Marketplace!$J$3:$J$435,\"Operational\",Marketplace!$AF$3:$AF$435,\"2019\",Marketplace!$I$3:$I$435,\"Utility/IPP\"),INDIRECT(P$4&\"!E39\"))","v":"7 MW"},{"$f":"IF(INDIRECT(Q$4&\"!E39\")=\"NA\",SUMIFS(Marketplace!$P$3:$P$435,Marketplace!$C$3:$C$435,\"=\"&Q5,Marketplace!$AI$3:$AI$435,\"Confident\",Marketplace!$J$3:$J$435,\"Planned\",Marketplace!$I$3:$I$435,\"Utility/IPP\")+SUMIFS(Marketplace!$P$3:$P$435,Marketplace!$C$3:$C$435,\"=\"&Q5,Marketplace!$AI$3:$AI$435,\"Confident\",Marketplace!$J$3:$J$435,\"Under development\",Marketplace!$I$3:$I$435,\"Utility/IPP\")+SUMIFS(Marketplace!$P$3:$P$435,Marketplace!$C$3:$C$435,\"=\"&Q5,Marketplace!$AI$3:$AI$435,\"Confident\",Marketplace!$J$3:$J$435,\"Operational\",Marketplace!$AF$3:$AF$435,\"2019\",Marketplace!$I$3:$I$435,\"Utility/IPP\"),INDIRECT(Q$4&\"!E39\"))","v":0},{"$f":"IF(INDIRECT(R$4&\"!E39\")=\"NA\",SUMIFS(Marketplace!$P$3:$P$435,Marketplace!$C$3:$C$435,\"=\"&R5,Marketplace!$AI$3:$AI$435,\"Confident\",Marketplace!$J$3:$J$435,\"Planned\",Marketplace!$I$3:$I$435,\"Utility/IPP\")+SUMIFS(Marketplace!$P$3:$P$435,Marketplace!$C$3:$C$435,\"=\"&R5,Marketplace!$AI$3:$AI$435,\"Confident\",Marketplace!$J$3:$J$435,\"Under development\",Marketplace!$I$3:$I$435,\"Utility/IPP\")+SUMIFS(Marketplace!$P$3:$P$435,Marketplace!$C$3:$C$435,\"=\"&R5,Marketplace!$AI$3:$AI$435,\"Confident\",Marketplace!$J$3:$J$435,\"Operational\",Marketplace!$AF$3:$AF$435,\"2019\",Marketplace!$I$3:$I$435,\"Utility/IPP\"),INDIRECT(R$4&\"!E39\"))","v":0},{"$f":"IF(INDIRECT(S$4&\"!E39\")=\"NA\",SUMIFS(Marketplace!$P$3:$P$435,Marketplace!$C$3:$C$435,\"=\"&S5,Marketplace!$AI$3:$AI$435,\"Confident\",Marketplace!$J$3:$J$435,\"Planned\",Marketplace!$I$3:$I$435,\"Utility/IPP\")+SUMIFS(Marketplace!$P$3:$P$435,Marketplace!$C$3:$C$435,\"=\"&S5,Marketplace!$AI$3:$AI$435,\"Confident\",Marketplace!$J$3:$J$435,\"Under development\",Marketplace!$I$3:$I$435,\"Utility/IPP\")+SUMIFS(Marketplace!$P$3:$P$435,Marketplace!$C$3:$C$435,\"=\"&S5,Marketplace!$AI$3:$AI$435,\"Confident\",Marketplace!$J$3:$J$435,\"Operational\",Marketplace!$AF$3:$AF$435,\"2019\",Marketplace!$I$3:$I$435,\"Utility/IPP\"),INDIRECT(S$4&\"!E39\"))","v":17520},{"$f":"IF(INDIRECT(T$4&\"!E39\")=\"NA\",SUMIFS(Marketplace!$P$3:$P$435,Marketplace!$C$3:$C$435,\"=\"&T5,Marketplace!$AI$3:$AI$435,\"Confident\",Marketplace!$J$3:$J$435,\"Planned\",Marketplace!$I$3:$I$435,\"Utility/IPP\")+SUMIFS(Marketplace!$P$3:$P$435,Marketplace!$C$3:$C$435,\"=\"&T5,Marketplace!$AI$3:$AI$435,\"Confident\",Marketplace!$J$3:$J$435,\"Under development\",Marketplace!$I$3:$I$435,\"Utility/IPP\")+SUMIFS(Marketplace!$P$3:$P$435,Marketplace!$C$3:$C$435,\"=\"&T5,Marketplace!$AI$3:$AI$435,\"Confident\",Marketplace!$J$3:$J$435,\"Operational\",Marketplace!$AF$3:$AF$435,\"2019\",Marketplace!$I$3:$I$435,\"Utility/IPP\"),INDIRECT(T$4&\"!E39\"))","v":74000},{"$f":"IF(INDIRECT(U$4&\"!E39\")=\"NA\",SUMIFS(Marketplace!$P$3:$P$435,Marketplace!$C$3:$C$435,\"=\"&U5,Marketplace!$AI$3:$AI$435,\"Confident\",Marketplace!$J$3:$J$435,\"Planned\",Marketplace!$I$3:$I$435,\"Utility/IPP\")+SUMIFS(Marketplace!$P$3:$P$435,Marketplace!$C$3:$C$435,\"=\"&U5,Marketplace!$AI$3:$AI$435,\"Confident\",Marketplace!$J$3:$J$435,\"Under development\",Marketplace!$I$3:$I$435,\"Utility/IPP\")+SUMIFS(Marketplace!$P$3:$P$435,Marketplace!$C$3:$C$435,\"=\"&U5,Marketplace!$AI$3:$AI$435,\"Confident\",Marketplace!$J$3:$J$435,\"Operational\",Marketplace!$AF$3:$AF$435,\"2019\",Marketplace!$I$3:$I$435,\"Utility/IPP\"),INDIRECT(U$4&\"!E39\"))","v":0},{"$f":"IF(INDIRECT(V$4&\"!E39\")=\"NA\",SUMIFS(Marketplace!$P$3:$P$435,Marketplace!$C$3:$C$435,\"=\"&V5,Marketplace!$AI$3:$AI$435,\"Confident\",Marketplace!$J$3:$J$435,\"Planned\",Marketplace!$I$3:$I$435,\"Utility/IPP\")+SUMIFS(Marketplace!$P$3:$P$435,Marketplace!$C$3:$C$435,\"=\"&V5,Marketplace!$AI$3:$AI$435,\"Confident\",Marketplace!$J$3:$J$435,\"Under development\",Marketplace!$I$3:$I$435,\"Utility/IPP\")+SUMIFS(Marketplace!$P$3:$P$435,Marketplace!$C$3:$C$435,\"=\"&V5,Marketplace!$AI$3:$AI$435,\"Confident\",Marketplace!$J$3:$J$435,\"Operational\",Marketplace!$AF$3:$AF$435,\"2019\",Marketplace!$I$3:$I$435,\"Utility/IPP\"),INDIRECT(V$4&\"!E39\"))","v":0},{"$f":"IF(INDIRECT(W$4&\"!E39\")=\"NA\",SUMIFS(Marketplace!$P$3:$P$435,Marketplace!$C$3:$C$435,\"=\"&W5,Marketplace!$AI$3:$AI$435,\"Confident\",Marketplace!$J$3:$J$435,\"Planned\",Marketplace!$I$3:$I$435,\"Utility/IPP\")+SUMIFS(Marketplace!$P$3:$P$435,Marketplace!$C$3:$C$435,\"=\"&W5,Marketplace!$AI$3:$AI$435,\"Confident\",Marketplace!$J$3:$J$435,\"Under development\",Marketplace!$I$3:$I$435,\"Utility/IPP\")+SUMIFS(Marketplace!$P$3:$P$435,Marketplace!$C$3:$C$435,\"=\"&W5,Marketplace!$AI$3:$AI$435,\"Confident\",Marketplace!$J$3:$J$435,\"Operational\",Marketplace!$AF$3:$AF$435,\"2019\",Marketplace!$I$3:$I$435,\"Utility/IPP\"),INDIRECT(W$4&\"!E39\"))","v":612000},{"$f":"IF(INDIRECT(X$4&\"!E39\")=\"NA\",SUMIFS(Marketplace!$P$3:$P$435,Marketplace!$C$3:$C$435,\"=\"&X5,Marketplace!$AI$3:$AI$435,\"Confident\",Marketplace!$J$3:$J$435,\"Planned\",Marketplace!$I$3:$I$435,\"Utility/IPP\")+SUMIFS(Marketplace!$P$3:$P$435,Marketplace!$C$3:$C$435,\"=\"&X5,Marketplace!$AI$3:$AI$435,\"Confident\",Marketplace!$J$3:$J$435,\"Under development\",Marketplace!$I$3:$I$435,\"Utility/IPP\")+SUMIFS(Marketplace!$P$3:$P$435,Marketplace!$C$3:$C$435,\"=\"&X5,Marketplace!$AI$3:$AI$435,\"Confident\",Marketplace!$J$3:$J$435,\"Operational\",Marketplace!$AF$3:$AF$435,\"2019\",Marketplace!$I$3:$I$435,\"Utility/IPP\"),INDIRECT(X$4&\"!E39\"))","v":0},{"$f":"IF(INDIRECT(Y$4&\"!E39\")=\"NA\",SUMIFS(Marketplace!$P$3:$P$435,Marketplace!$C$3:$C$435,\"=\"&Y5,Marketplace!$AI$3:$AI$435,\"Confident\",Marketplace!$J$3:$J$435,\"Planned\",Marketplace!$I$3:$I$435,\"Utility/IPP\")+SUMIFS(Marketplace!$P$3:$P$435,Marketplace!$C$3:$C$435,\"=\"&Y5,Marketplace!$AI$3:$AI$435,\"Confident\",Marketplace!$J$3:$J$435,\"Under development\",Marketplace!$I$3:$I$435,\"Utility/IPP\")+SUMIFS(Marketplace!$P$3:$P$435,Marketplace!$C$3:$C$435,\"=\"&Y5,Marketplace!$AI$3:$AI$435,\"Confident\",Marketplace!$J$3:$J$435,\"Operational\",Marketplace!$AF$3:$AF$435,\"2019\",Marketplace!$I$3:$I$435,\"Utility/IPP\"),INDIRECT(Y$4&\"!E39\"))","v":0},{"$f":"IF(INDIRECT(Z$4&\"!E39\")=\"NA\",SUMIFS(Marketplace!$P$3:$P$435,Marketplace!$C$3:$C$435,\"=\"&Z5,Marketplace!$AI$3:$AI$435,\"Confident\",Marketplace!$J$3:$J$435,\"Planned\",Marketplace!$I$3:$I$435,\"Utility/IPP\")+SUMIFS(Marketplace!$P$3:$P$435,Marketplace!$C$3:$C$435,\"=\"&Z5,Marketplace!$AI$3:$AI$435,\"Confident\",Marketplace!$J$3:$J$435,\"Under development\",Marketplace!$I$3:$I$435,\"Utility/IPP\")+SUMIFS(Marketplace!$P$3:$P$435,Marketplace!$C$3:$C$435,\"=\"&Z5,Marketplace!$AI$3:$AI$435,\"Confident\",Marketplace!$J$3:$J$435,\"Operational\",Marketplace!$AF$3:$AF$435,\"2019\",Marketplace!$I$3:$I$435,\"Utility/IPP\"),INDIRECT(Z$4&\"!E39\"))","v":500000},{"$f":"IF(INDIRECT(AA$4&\"!E39\")=\"NA\",SUMIFS(Marketplace!$P$3:$P$435,Marketplace!$C$3:$C$435,\"=\"&AA5,Marketplace!$AI$3:$AI$435,\"Confident\",Marketplace!$J$3:$J$435,\"Planned\",Marketplace!$I$3:$I$435,\"Utility/IPP\")+SUMIFS(Marketplace!$P$3:$P$435,Marketplace!$C$3:$C$435,\"=\"&AA5,Marketplace!$AI$3:$AI$435,\"Confident\",Marketplace!$J$3:$J$435,\"Under development\",Marketplace!$I$3:$I$435,\"Utility/IPP\")+SUMIFS(Marketplace!$P$3:$P$435,Marketplace!$C$3:$C$435,\"=\"&AA5,Marketplace!$AI$3:$AI$435,\"Confident\",Marketplace!$J$3:$J$435,\"Operational\",Marketplace!$AF$3:$AF$435,\"2019\",Marketplace!$I$3:$I$435,\"Utility/IPP\"),INDIRECT(AA$4&\"!E39\"))","v":0},{"$f":"IF(INDIRECT(AB$4&\"!E39\")=\"NA\",SUMIFS(Marketplace!$P$3:$P$435,Marketplace!$C$3:$C$435,\"=\"&AB5,Marketplace!$AI$3:$AI$435,\"Confident\",Marketplace!$J$3:$J$435,\"Planned\",Marketplace!$I$3:$I$435,\"Utility/IPP\")+SUMIFS(Marketplace!$P$3:$P$435,Marketplace!$C$3:$C$435,\"=\"&AB5,Marketplace!$AI$3:$AI$435,\"Confident\",Marketplace!$J$3:$J$435,\"Under development\",Marketplace!$I$3:$I$435,\"Utility/IPP\")+SUMIFS(Marketplace!$P$3:$P$435,Marketplace!$C$3:$C$435,\"=\"&AB5,Marketplace!$AI$3:$AI$435,\"Confident\",Marketplace!$J$3:$J$435,\"Operational\",Marketplace!$AF$3:$AF$435,\"2019\",Marketplace!$I$3:$I$435,\"Utility/IPP\"),INDIRECT(AB$4&\"!E39\"))","v":11320},{"$f":"IF(INDIRECT(AC$4&\"!E39\")=\"NA\",SUMIFS(Marketplace!$P$3:$P$435,Marketplace!$C$3:$C$435,\"=\"&AC5,Marketplace!$AI$3:$AI$435,\"Confident\",Marketplace!$J$3:$J$435,\"Planned\",Marketplace!$I$3:$I$435,\"Utility/IPP\")+SUMIFS(Marketplace!$P$3:$P$435,Marketplace!$C$3:$C$435,\"=\"&AC5,Marketplace!$AI$3:$AI$435,\"Confident\",Marketplace!$J$3:$J$435,\"Under development\",Marketplace!$I$3:$I$435,\"Utility/IPP\")+SUMIFS(Marketplace!$P$3:$P$435,Marketplace!$C$3:$C$435,\"=\"&AC5,Marketplace!$AI$3:$AI$435,\"Confident\",Marketplace!$J$3:$J$435,\"Operational\",Marketplace!$AF$3:$AF$435,\"2019\",Marketplace!$I$3:$I$435,\"Utility/IPP\"),INDIRECT(AC$4&\"!E39\"))","v":0},{"$f":"IF(INDIRECT(AD$4&\"!E39\")=\"NA\",SUMIFS(Marketplace!$P$3:$P$435,Marketplace!$C$3:$C$435,\"=\"&AD5,Marketplace!$AI$3:$AI$435,\"Confident\",Marketplace!$J$3:$J$435,\"Planned\",Marketplace!$I$3:$I$435,\"Utility/IPP\")+SUMIFS(Marketplace!$P$3:$P$435,Marketplace!$C$3:$C$435,\"=\"&AD5,Marketplace!$AI$3:$AI$435,\"Confident\",Marketplace!$J$3:$J$435,\"Under development\",Marketplace!$I$3:$I$435,\"Utility/IPP\")+SUMIFS(Marketplace!$P$3:$P$435,Marketplace!$C$3:$C$435,\"=\"&AD5,Marketplace!$AI$3:$AI$435,\"Confident\",Marketplace!$J$3:$J$435,\"Operational\",Marketplace!$AF$3:$AF$435,\"2019\",Marketplace!$I$3:$I$435,\"Utility/IPP\"),INDIRECT(AD$4&\"!E39\"))","v":"Solar PV at least 3,500 MW and up to 3,900 MW by 2025\nIf 3,500 MW x 8760 x 17% = 5,212 GWh"},{"$f":"IF(INDIRECT(AE$4&\"!E39\")=\"NA\",SUMIFS(Marketplace!$P$3:$P$435,Marketplace!$C$3:$C$435,\"=\"&AE5,Marketplace!$AI$3:$AI$435,\"Confident\",Marketplace!$J$3:$J$435,\"Planned\",Marketplace!$I$3:$I$435,\"Utility/IPP\")+SUMIFS(Marketplace!$P$3:$P$435,Marketplace!$C$3:$C$435,\"=\"&AE5,Marketplace!$AI$3:$AI$435,\"Confident\",Marketplace!$J$3:$J$435,\"Under development\",Marketplace!$I$3:$I$435,\"Utility/IPP\")+SUMIFS(Marketplace!$P$3:$P$435,Marketplace!$C$3:$C$435,\"=\"&AE5,Marketplace!$AI$3:$AI$435,\"Confident\",Marketplace!$J$3:$J$435,\"Operational\",Marketplace!$AF$3:$AF$435,\"2019\",Marketplace!$I$3:$I$435,\"Utility/IPP\"),INDIRECT(AE$4&\"!E39\"))","v":0},{"$f":"IF(INDIRECT(AF$4&\"!E39\")=\"NA\",SUMIFS(Marketplace!$P$3:$P$435,Marketplace!$C$3:$C$435,\"=\"&AF5,Marketplace!$AI$3:$AI$435,\"Confident\",Marketplace!$J$3:$J$435,\"Planned\",Marketplace!$I$3:$I$435,\"Utility/IPP\")+SUMIFS(Marketplace!$P$3:$P$435,Marketplace!$C$3:$C$435,\"=\"&AF5,Marketplace!$AI$3:$AI$435,\"Confident\",Marketplace!$J$3:$J$435,\"Under development\",Marketplace!$I$3:$I$435,\"Utility/IPP\")+SUMIFS(Marketplace!$P$3:$P$435,Marketplace!$C$3:$C$435,\"=\"&AF5,Marketplace!$AI$3:$AI$435,\"Confident\",Marketplace!$J$3:$J$435,\"Operational\",Marketplace!$AF$3:$AF$435,\"2019\",Marketplace!$I$3:$I$435,\"Utility/IPP\"),INDIRECT(AF$4&\"!E39\"))","v":0},{"$f":"IF(INDIRECT(AG$4&\"!E39\")=\"NA\",SUMIFS(Marketplace!$P$3:$P$435,Marketplace!$C$3:$C$435,\"=\"&AG5,Marketplace!$AI$3:$AI$435,\"Confident\",Marketplace!$J$3:$J$435,\"Planned\",Marketplace!$I$3:$I$435,\"Utility/IPP\")+SUMIFS(Marketplace!$P$3:$P$435,Marketplace!$C$3:$C$435,\"=\"&AG5,Marketplace!$AI$3:$AI$435,\"Confident\",Marketplace!$J$3:$J$435,\"Under development\",Marketplace!$I$3:$I$435,\"Utility/IPP\")+SUMIFS(Marketplace!$P$3:$P$435,Marketplace!$C$3:$C$435,\"=\"&AG5,Marketplace!$AI$3:$AI$435,\"Confident\",Marketplace!$J$3:$J$435,\"Operational\",Marketplace!$AF$3:$AF$435,\"2019\",Marketplace!$I$3:$I$435,\"Utility/IPP\"),INDIRECT(AG$4&\"!E39\"))","v":0},{"$f":"IF(INDIRECT(AH$4&\"!E39\")=\"NA\",SUMIFS(Marketplace!$P$3:$P$435,Marketplace!$C$3:$C$435,\"=\"&AH5,Marketplace!$AI$3:$AI$435,\"Confident\",Marketplace!$J$3:$J$435,\"Planned\",Marketplace!$I$3:$I$435,\"Utility/IPP\")+SUMIFS(Marketplace!$P$3:$P$435,Marketplace!$C$3:$C$435,\"=\"&AH5,Marketplace!$AI$3:$AI$435,\"Confident\",Marketplace!$J$3:$J$435,\"Under development\",Marketplace!$I$3:$I$435,\"Utility/IPP\")+SUMIFS(Marketplace!$P$3:$P$435,Marketplace!$C$3:$C$435,\"=\"&AH5,Marketplace!$AI$3:$AI$435,\"Confident\",Marketplace!$J$3:$J$435,\"Operational\",Marketplace!$AF$3:$AF$435,\"2019\",Marketplace!$I$3:$I$435,\"Utility/IPP\"),INDIRECT(AH$4&\"!E39\"))","v":0},{"$f":"IF(INDIRECT(AI$4&\"!E39\")=\"NA\",SUMIFS(Marketplace!$P$3:$P$435,Marketplace!$C$3:$C$435,\"=\"&AI5,Marketplace!$AI$3:$AI$435,\"Confident\",Marketplace!$J$3:$J$435,\"Planned\",Marketplace!$I$3:$I$435,\"Utility/IPP\")+SUMIFS(Marketplace!$P$3:$P$435,Marketplace!$C$3:$C$435,\"=\"&AI5,Marketplace!$AI$3:$AI$435,\"Confident\",Marketplace!$J$3:$J$435,\"Under development\",Marketplace!$I$3:$I$435,\"Utility/IPP\")+SUMIFS(Marketplace!$P$3:$P$435,Marketplace!$C$3:$C$435,\"=\"&AI5,Marketplace!$AI$3:$AI$435,\"Confident\",Marketplace!$J$3:$J$435,\"Operational\",Marketplace!$AF$3:$AF$435,\"2019\",Marketplace!$I$3:$I$435,\"Utility/IPP\"),INDIRECT(AI$4&\"!E39\"))","v":0},{"$f":"IF(INDIRECT(AJ$4&\"!E39\")=\"NA\",SUMIFS(Marketplace!$P$3:$P$435,Marketplace!$C$3:$C$435,\"=\"&AJ5,Marketplace!$AI$3:$AI$435,\"Confident\",Marketplace!$J$3:$J$435,\"Planned\",Marketplace!$I$3:$I$435,\"Utility/IPP\")+SUMIFS(Marketplace!$P$3:$P$435,Marketplace!$C$3:$C$435,\"=\"&AJ5,Marketplace!$AI$3:$AI$435,\"Confident\",Marketplace!$J$3:$J$435,\"Under development\",Marketplace!$I$3:$I$435,\"Utility/IPP\")+SUMIFS(Marketplace!$P$3:$P$435,Marketplace!$C$3:$C$435,\"=\"&AJ5,Marketplace!$AI$3:$AI$435,\"Confident\",Marketplace!$J$3:$J$435,\"Operational\",Marketplace!$AF$3:$AF$435,\"2019\",Marketplace!$I$3:$I$435,\"Utility/IPP\"),INDIRECT(AJ$4&\"!E39\"))","v":0},{"$f":"IF(INDIRECT(AK$4&\"!E39\")=\"NA\",SUMIFS(Marketplace!$P$3:$P$435,Marketplace!$C$3:$C$435,\"=\"&AK5,Marketplace!$AI$3:$AI$435,\"Confident\",Marketplace!$J$3:$J$435,\"Planned\",Marketplace!$I$3:$I$435,\"Utility/IPP\")+SUMIFS(Marketplace!$P$3:$P$435,Marketplace!$C$3:$C$435,\"=\"&AK5,Marketplace!$AI$3:$AI$435,\"Confident\",Marketplace!$J$3:$J$435,\"Under development\",Marketplace!$I$3:$I$435,\"Utility/IPP\")+SUMIFS(Marketplace!$P$3:$P$435,Marketplace!$C$3:$C$435,\"=\"&AK5,Marketplace!$AI$3:$AI$435,\"Confident\",Marketplace!$J$3:$J$435,\"Operational\",Marketplace!$AF$3:$AF$435,\"2019\",Marketplace!$I$3:$I$435,\"Utility/IPP\"),INDIRECT(AK$4&\"!E39\"))","v":0},{"$f":"IF(INDIRECT(AL$4&\"!E39\")=\"NA\",SUMIFS(Marketplace!$P$3:$P$435,Marketplace!$C$3:$C$435,\"=\"&AL5,Marketplace!$AI$3:$AI$435,\"Confident\",Marketplace!$J$3:$J$435,\"Planned\",Marketplace!$I$3:$I$435,\"Utility/IPP\")+SUMIFS(Marketplace!$P$3:$P$435,Marketplace!$C$3:$C$435,\"=\"&AL5,Marketplace!$AI$3:$AI$435,\"Confident\",Marketplace!$J$3:$J$435,\"Under development\",Marketplace!$I$3:$I$435,\"Utility/IPP\")+SUMIFS(Marketplace!$P$3:$P$435,Marketplace!$C$3:$C$435,\"=\"&AL5,Marketplace!$AI$3:$AI$435,\"Confident\",Marketplace!$J$3:$J$435,\"Operational\",Marketplace!$AF$3:$AF$435,\"2019\",Marketplace!$I$3:$I$435,\"Utility/IPP\"),INDIRECT(AL$4&\"!E39\"))","v":8000},{"$f":"IF(INDIRECT(AM$4&\"!E39\")=\"NA\",SUMIFS(Marketplace!$P$3:$P$435,Marketplace!$C$3:$C$435,\"=\"&AM5,Marketplace!$AI$3:$AI$435,\"Confident\",Marketplace!$J$3:$J$435,\"Planned\",Marketplace!$I$3:$I$435,\"Utility/IPP\")+SUMIFS(Marketplace!$P$3:$P$435,Marketplace!$C$3:$C$435,\"=\"&AM5,Marketplace!$AI$3:$AI$435,\"Confident\",Marketplace!$J$3:$J$435,\"Under development\",Marketplace!$I$3:$I$435,\"Utility/IPP\")+SUMIFS(Marketplace!$P$3:$P$435,Marketplace!$C$3:$C$435,\"=\"&AM5,Marketplace!$AI$3:$AI$435,\"Confident\",Marketplace!$J$3:$J$435,\"Operational\",Marketplace!$AF$3:$AF$435,\"2019\",Marketplace!$I$3:$I$435,\"Utility/IPP\"),INDIRECT(AM$4&\"!E39\"))","v":0}]
[null,null,null,"Planned RE generation data source (survey or project database)",null,null,null,{"$f":"IF(INDIRECT(H$4&\"!D39\")=\"NA\",\"Database\",\"Survey\")","v":"Database"},{"$f":"IF(INDIRECT(I$4&\"!D39\")=\"NA\",\"Database\",\"Survey\")","v":"Survey"},"Database","Survey","Survey","Survey","Survey","Database","Survey","Database","Database","Database","Survey","Database","Database","Survey","Database","Database","Survey","Database","Survey","Survey","Survey","Database","Database","Database","Database","Database","Database","Database","Survey","Database"]
[null,null,3,"Is climate resilience incorporated in your IRP or national policy?",null,{"$f":"G40*$G$8","v":9.9999999999999992E-2},{"$f":"1/3","v":0.33333333333333331},{"$f":"INDIRECT(H$4&\"!D40\")","v":"NA"},{"$f":"INDIRECT(I$4&\"!D40\")","v":"Yes"},"NA","Yes","Yes","Yes","Yes","NA","No","NA","NA","Yes","Yes","NA","NA","Yes","NA","No","Yes","NA","No","Yes","Yes","NA","NA","NA","NA","NA","NA","No","Yes","NA"]
[]
[null,4,null,"Electric Mobility",null,{"$f":"SUM(F43:F44)","v":0.09},0.09,{"$f":"IF(H43=\"Yes\",5*$G$43,0) + IF(H44=\"Yes\",5*$G$44,0)","v":0},{"$f":"IF(I43=\"Yes\",5*$G$43,0) + IF(I44=\"Yes\",5*$G$44,0)","v":0},{"$f":"IF(J43=\"Yes\",5*$G$43,0) + IF(J44=\"Yes\",5*$G$44,0)","v":0},{"$f":"IF(K43=\"Yes\",5*$G$43,0) + IF(K44=\"Yes\",5*$G$44,0)","v":2.5},2.5,0,0,0,0,{"$f":"IF(Q43=\"Yes\",5*$G$43,0) + IF(Q44=\"Yes\",5*$G$44,0)","v":5},{"$f":"IF(R43=\"Yes\",5*$G$43,0) + IF(R44=\"Yes\",5*$G$44,0)","v":0},2.5,2.5,0,0,5,0,0,5,0,2.5,0,0,0,0,2.5,0,0,0,2.5,0,0]
[null,null,1,"Does your country have policies in place or draft legislation to promote the uptake of electric mobility?",null,{"$f":"$G$42*G43","v":4.4999999999999998E-2},0.5,{"$f":"INDIRECT(H$4&\"!D44\")","v":"NA"},{"$f":"INDIRECT(I$4&\"!D44\")","v":"No"},"NA","Yes","Yes","No","No","No","No","Yes","NA","Yes","Yes","No","No","Yes","NA","No","Yes","NA","Yes","No","No","NA","NA","Yes","No","No","No","Yes","No","NA"]
[null,null,2,"Does your country have specific targets for the uptake of electric vehicles?",null,{"$f":"$G$42*G44","v":4.4999999999999998E-2},{"$f":"1/COUNT($C$43:$C$44)","v":0.5},{"$f":"INDIRECT(H$4&\"!D45\")","v":"NA"},{"$f":"INDIRECT(I$4&\"!D45\")","v":"No"},"NA","No","No","No","No","No","No","Yes","NA","No","No","No","No","Yes","NA","No","Yes","NA","No","No","No","NA","NA","No","No","No","No","No","No","NA"]
[]
[null,5,null,"Covid",null,{"$f":"SUM(F47:F47)","v":0.01},0.01,{"$f":"IF(H47=\"Yes\",5*$G$47,0)","v":0},{"$f":"IF(I47=\"Yes\",5*$G$47,0)","v":5},{"$f":"IF(J47=\"Yes\",5*$G$47,0)","v":0},5,5,0,5,0,5,0,0,5,0,0,5,5,0,0,5,0,0,0,0,0,0,0,0,0,0,0,0,0]
[null,null,1,"Has any measure been implemented to respond to disruptions in revenue collections from electricity services (particularly given the current circumstances during the COVID pandemic)?",null,{"$f":"$G$46*G47","v":0.01},1,{"$f":"H81","v":"NA"},{"$f":"I81","v":"Yes"},"NA","Yes","Yes",{"$f":"M81","v":"No"},"Yes",{"$f":"O81","v":0},"Yes",0,"NA","Yes","No",0,"Yes","Yes","NA","No","Yes","NA","No","No","No","NA","NA",0,0,0,0,"No","No","NA"]
[]
[null,null,null,"Descriptive CREF Index Survey"]
[null,null,null,"Enabling Environment for Renewable Energy (RE) Investments"]
[null,null,null,"Renewable energy strategy"]
[null,null,null,"Which of the following renewable generation options is included in your country's strategic plan to develop renewable energy?\n- Solar PV\n- Offshore wind\n- Biomass\n- Waste to energy\n- Hydro\n-Geothermal\n- Other",null,null,null,{"$f":"INDIRECT(H$4&\"!D53\")","v":"NA"},{"$f":"INDIRECT(I$4&\"!D53\")","v":"Solar PV, Onshore Wind"},"NA","Solar PV","Solar PV, Onshore Wind, Biomass, Waste-to-Energy","Solar PV, Offshore Wind, Other","Solar PV, Biomass, Hydro",0,"Solar PV",0,"NA","Solar PV, Onshore Wind, Offshore Wind, Biomass, Waste-to-Energy, Other","Solar PV, Geothermal",0,"Solar PV, Geothermal","Solar PV, Onshore Wind, Offshore Wind, Biomass, Waste-to-Energy, Hydro, Geothermal","NA","Solar PV, Onshore Wind, Biomass, Hydro","Solar PV, Onshore Wind, Biomass, Waste-to-Energy, Hydro","NA","Solar PV, Onshore Wind, Geothermal","Solar PV, Waste-to-Energy, Geothermal","Solar PV","NA","NA",0,0,0,0,"Solar PV, Onshore Wind","Solar PV, Onshore Wind, Waste-to-Energy",0]
[null,null,null,"What is the target and target year?",null,null,null,{"$f":"INDIRECT(H$4&\"!D54\")","v":"NA"},{"$f":"INDIRECT(I$4&\"!D54\")","v":"20% by 2020"},"NA","30% by 2033","This Barbados National Energy Policy (BNEP) 2019-2030 document is designed to achieve the 100% renewable energy and carbon neutral island- state transformational goals by 2030.\nThese include:\n• Provision of reliable, safe, affordable, sustainable, modern and climate friendly energy services to all residents and visitors.\n• Zero domestic consumption of fossil fuels economy wide.\n• Export of all hydrocarbons produced both on land and offshore.\n• Maximizing local participation (individual and corporate) in distributed renewable energy (RE) generation and storage (democratization of energy).\n• Minimize the outflow of foreign exchange.\n• Creating a regional center of excellence in RE research and development.","85% by 2030","Ministry of Energy, Science & Technology and Public Utilities Strategic Plan 2012-2017:\nStrategic Element #1: Improve energy efficiency and conservation 11 by at least 30 per cent by 2033, using energy utilization and GDP generated in 2011 as the baseline. \nStrategic Element #2: Reduce the country’s dependence on fossil fuels 12 consumption by 50 per cent by 2020, from one million barrels to one-half million barrels by increasing the provision of modern energy carriers utilizing domestic energy resources, coupled with improving energy efficiency and conservation \nStrategic Element #3: To triple the amount of modern energy carriers 14 derived from Agricultural, Forestry and Fisheries production and processing, including municipal solid waste (MSW) by 2020",0,"By 2023, supply 30% of the territory’s energy by renewables means;\nBy 2021, fossil fuel imports decrease by 20%;\nBy 2021, 50% of consumers will use energy conservation measures and/or renewable energy technology of some kind; \nBy 2021, reduce fossil fuel inputs to electricity by 80% on Anegada;\nTo have 100% renewable electricity by 2035 and 100% renewable energy for all uses by 2050",0,"NA","See policy question 3","100% renewable by 2030 (energy generation)",0,"Grenada commits to reducing its Greenhouse gas emissions by 30% of 2010 by 2025, with an indicative reduction of 40% of 2010 by 2030.","By 2020: 50% met by renewable energy sources\nBY 2030 : Energy independence","NA","47% share of RE in power generation by 2030 (INDC) - hydro 24.5%, wind 9.4%, solar 7.5%, biomass 5.6%","20 % RE in energy mix by 2030 and 33% electricity generated by RE by 2030, and 49% by 2037.","NA","100% Electricity Generation by 2020","100% Renewable by 2030 (seems unrealistic at this point)","Article 2.3 Ley 17 2019 (PS1121) Puerto Rico\n2015-2022 = 20%\n2023-2025 = 40%\n2026-2040 = 60%\n2041-2050 = 100%","NA","NA",0,0,0,0,"10% of traditional generation capacity","33% by 2040",0]
[null,null,null,"What is the current breakdown of your country's energy mix?",null,null,null,{"$f":"INDIRECT(H$4&\"!D55\")","v":"NA"},{"$f":"INDIRECT(I$4&\"!D55\")","v":"Renewable energy 0.5%,\nConventional/Fossil Fuel 99.5%"},"NA","<1% renewable (solar PV), >99% fossil fuel","96.4% fossil fuel, rest renewables","100MW peak power\n10MW /5.5MWhr BESS\n6MW utility scale PV\n5MW distributed residential and commercial PV\n7MW waste to energy","Hydro \t11.1%\nCo-generation\t13.7%\nMexican Imports (CFE)\t57.3%\nFossil Fuel\t17.7%\nSolar \t0.1%\nTotal\t100.0%",0,"100% fossil fuel",0,"NA","29 % renewables / 71 diesel + GT","20% Hydro, 80% diesel (electricity generation)",0," RE (Solar) 1.5%, Diesel engines 98.5%","Jet fuel : 1633 GWh (17,1%)\nCoal : 1496 GWh (15,7%)\nButane : 154 GWh (1,6%)\nFOD : 134 GWh (1,4%)\nFuel : 2200 GWh (23,1%)\nGasoline : 1202 GWh (12,6%)\nDiesel: 2127 GWh (22,3%)\nBagasse: 47 GWh (0,5%)\nGeothermal: 109 GWh (1,1%)\nHydro: 44 GWh (0,5%)\nOnshore Wind: 63 GWh (0,7%)\nPV : 100 GWh (1,0%)\nBiomass/biogas : 17 GWh(0,2%)\nSolar Heaters : 95 GWh (1,0%)\nSteam (processes) : 100 GWh (1,0%)\nHot water for use in industrial processes: 10 GWh (0,1%)","NA","18% hydro - 82 Thermal (Diesel + HFO)","As of 2019, the Energy Mix is: Renewable 8%, Petroleum 90% (HFO 87%, Natural Gas 3%), Other 2%","NA","99.5% Fossil fuel, 0.5% Solar PV\n0.5% Solar PV","3% wind, 97% diesel","Installed Capacity\nNatural Gas = 33%\nFuel 6 = 29%\nDiesel = 24%\nCoal = 8%\nSolar = 3%\nWind = 2%\nHydro = 1%","NA","NA",0,0,0,0,"Fossil fuels","Yes",0]
[null,null,null,"Utilities"]
[null,null,null,"On average, how long does it take for the power utility to get investments in RE projects approved by the regulatory authority (or the relevant entity) for recovery through tariffs?",null,null,null,{"$f":"INDIRECT(H$4&\"!D57\")","v":"NA"},{"$f":"INDIRECT(I$4&\"!D57\")","v":"The utility and regulatory entity is one in the same and their is not specific requirement in that regard."},"NA","N/A","The length of time is variable.","Variable","Rate applications which would include recovery for investments are done on a four year planning horizon in the first instance, a Full Tariff Review Proceeding, and revisited annually by means of Annual Review Proceedings. So in practice, a proposed investment can be reviewed and approved within the space of a year.",0,"NA",0,"NA"," "," ",0,"Unknown as these bodies are not fully operational.","It can take years : 5 to over 10","NA","Information not yet available.","There is no specified time for recovery, tariff schedules are specified in the utility's license. The process/timeline for recovery varies.","NA","3-7 years   ( No Regulatory exist, time line given is for project conceptualization to implementation)","5 years","Generally the process for the approval should be expedite.","NA","NA",0,0,0,0,"1-2 years","NA",0]
[null,null,null,"Distributed Generation"]
[null,null,null,"What is the number of existing distributed scale RE systems in 2019?",null,null,null,{"$f":"INDIRECT(H$4&\"!D59\")","v":"NA"},{"$f":"INDIRECT(I$4&\"!D59\")","v":24},"NA","Total 192 approved installations (2KW to 750KW system size range)","There were 1928 existing distributed scale RE systems as at end 2019.","5 MW","This number is unknown to the utility.",0,0,0,"NA","N/A"," ",{"$error":"#REF!"},0,"144 MW of RE vs 431 MW of fossil centralized generation","NA","More than 5.",546,"NA",2,1,"We do not have a database available","NA","NA",0,0,0,0,"NA",10,0]
[null,null,null,"What is the total installed capacity from renewable distributed generation in your country?",null,null,null,{"$f":"INDIRECT(H$4&\"!D60\")","v":"NA"},{"$f":"INDIRECT(I$4&\"!D60\")","v":"2MW"},"NA","4.3MW","26MW as at end of 2019. \n34MW as at end June of 2020.","11 MW","Unknown at this time.",0,0,0,"NA","Wind 47 MW / Solar 13 MW"," ","90-120","3.6MW","144 MW of RE vs 431 MW of fossil centralized generation","NA","NA","9.5 MW","NA","0.25 MW","2.2 MW","5 MW behind the meter for net metering","NA","NA",0,0,0,0,"0.03 MW","1.03MW",0]
[null,null,null,"What was the total generation from existing distributed scale RE systems in 2019?",null,null,null,{"$f":"INDIRECT(H$4&\"!D61\")","v":"NA"},{"$f":"INDIRECT(I$4&\"!D61\")","v":"2,000 MWh"},"NA","Unknown","Purchased power in 2019 - 33,673,346kWh","5 MW","Unknown at this time.",0,0,0,"NA","Approximately 28%"," "," ","3,470 MWh","380 GWh from RE vs 1346 Gown from centralized fossil power generation","NA","Information not available","46,378 MWh","NA","440 MWh","2046.37 MWh","We do not have a database available","NA","NA",0,0,0,0,"0 MW","1,000 MWh",0]
[]
[null,null,null,"Existing Renewable Generation"]
[null,null,null,"Existing Utility-Scale Renewable Energy Projects"]
[null,null,null,"What is the number of existing utility-scale RE projects?",null,null,null,{"$f":"INDIRECT(H$4&\"!D64\")","v":"NA"},{"$f":"INDIRECT(I$4&\"!D64\")","v":2},"NA",1,"One. \nThe Trents 10 MW solar PV solar plant, a BLPC facility was commissioned in 2016.",1,"Seven\n1.\tBECOL - Mollejon \n2.\tBECOL - Chalillo \n3.\tBECOL - Vaca \n4.\tHydro Maya \n5.\tBELCOGEN \n6.\tSantander \n7.\tJICA (UB Solar)",0,0,0,"NA",0,0,0,2,"144 MW of RE vs 431 MW of fossil centralized generation","NA","Project identification is ongoing","here are 17 a combination of wind, solar, biomass and hydro.","NA",1,1,16,"NA","NA",0,0,0,0,0,0,0]
[null,null,null,"What was the total electricity generated in 2019 (MWh)?",null,null,null,{"$f":"INDIRECT(H$4&\"!D65\")","v":"NA"},{"$f":"INDIRECT(I$4&\"!D65\")","v":375332},"NA",207547.3,980072.16200000001,550000,669185,0,191629.28,0,"NA",880000,93194,0,230583.402,1726000,"NA",1045037.2,4433128,"NA",14000,59225.21,357408,"NA","NA",0,0,0,0,0,250700,0]
[null,null,null,"What was the total electricity generated from utility-scale RE projects in 2019 (MWh)?",null,null,null,{"$f":"INDIRECT(H$4&\"!D66\")","v":"NA"},{"$f":"INDIRECT(I$4&\"!D66\")","v":9000},"NA",0,18780.685000000001,"unknown",167139,0,0,0,"NA",220000,20152,0,1505.857,380000,"NA",197188.45,473601,109200.00000000001,440,0,357408,"NA","NA",0,0,0,0,0,0,0]
[null,null,null,"Please provide as much information as possible for existing RE projects in the box below as:\n- Project Name\n- Developer\n- Offtaker\n- Renewable Energy Technology Type\n- Start of Commercial Operation (Year)\n- Estimated Capacity Factor (in %) OR Estimated Annual Production (in MWh)\n- Installed Capacity (MW)\n- Length of PPA ",null,null,null,{"$f":"INDIRECT(H$4&\"!D67\")","v":"NA"},{"$f":"INDIRECT(I$4&\"!D67\")","v":"10 MW RE Project\nPV Energy\nAPUA\nSolar PV\n2015\n105%\n8.3 MW\nPPA N/A"},"NA","–     Project Name - Ragged Island Microgrid\n–     Developer - BPL\n–     Offtaker - BPL\n–     RE technology type - Solar + BESS\n–     Start of commercial operation (year)\n–     Estimated capacity factor (in %) OR estimated annual production (in MWh)\n–     Installed capacity (MW) 0.4MW solar\n–     Length of PPA - EPC","Existing BLPC RE projects \n–     Project Name – Trents Solar PV\n–     Developer - Barbados Light & Power\n–     Offtaker - Barbados Light & Power\n–     RE technology type – Solar PV\n–     Start of commercial operation (year) - 2016\n–     Estimated capacity factor (in %) OR estimated annual production (in MWh) – est. 18, 000 MWh p.a.\n–     Installed capacity (MW) – 10MW\n–     Length of PPA – N/A",0,{"$f":"INDIRECT(N$4&\"!D67\")","v":"– Project Name:\tBECOL - Mollejon,\tBECOL - Chalillo,\tBECOL - Vaca,\tHydro Maya,\tBELCOGEN,\tSantander,\tJICA (UB Solar)\n– Developer:\tBelize Electric Company Limited,\tBelize Electric Company Limited,\tBelize Electric Company Limited,\tHydro Maya Ltd,\tBelize Cogeneration Energy Ltd,\tSantander Sugar Energy Limited, \tJapan International Co\n– Offtaker:\tNone,\tNone,\tNone,\tNone,\tNone,\tNone,\tUniversity Of Belize\n– RE technology type:\t Hydro,\tHydro,\tHydro,\tHydro,\tCo-generation/ Biomass,\tCo-generation/ Biomass,\tSolar\n– Start of commercial operation (year)\t19 April 1991,\t31 October 2005,\t15 March 2007,\t15 September 2003,\t02 February 2007,\t13 December 2016,\t27 August 2012,\n2019 annual production (in MWh):\t40,800;\t23,815;\t9,954;\t68,533;\t23,387;\t650\nThree year (2017-2019) average annual production (in MWh)\t124,410;\t63,838;\t13,198;\t68,123;\t21,242;\t605\n– Installed capacity (MW):\t25.2; \t7.0;  \t19.0; \t3.3;  \t13.5; \t8.0;  \t0.3\n– Length of PPA (Years)\t29.4; \t14.9; \t13.5; \t17.0; \t13.6; \t3.7;  \t8.0"},0,"NA",0,"NA",0," ",0,"Both utility scale projects were installed by Greece.\n30kW on a  small island (Petite Martinique) average daily load 110 kW\n1,088 on Grenada.",0,"NA","NA","Project Name: Request for Proposals to Supply up to Net 37 MW of Electricity Generation from Renewable Energy\n–     Developer : EIGHT RIVERS ENERGY COMPANY LIMITED\n–     Offtaker : Jamaica Pubic Service\n–     RE technology type: Solar \n–     Start of commercial operation (year): June 2019\n–     Estimated capacity factor (in %) OR estimated annual production (in MWh) – 25%\n–     Installed capacity (MW) :37\n–     Length of PPA  : 20 Years\n\nProject Name:\tWigton  3\n–     Developer : Wigton  Wind Farm\n–     Offtaker : Jamaica Pubic Service\n–     RE technology type : Wind\n–     Start of commercial operation (year): 2016\n–     Estimated capacity factor (in %) OR estimated annual production (in MWh) : 39.2%\n–     Installed capacity (MW) :24\n–     Length of PPA  : 20 Years","NA","250 kW Solar PV Project\nMontserrat Utilities Limited(MUL)\nMUL\nSolar PV\nMarch 2019\n22%\n0.25\nN/A","Nevis Geothermal Project\nNevis Renewable Energy International - Developer\nNEVLEC - offtaker\nGeothermal\n10 MW \n25 years","The next time, please allow a box to upload documents so we can share all the information required","NA","NA",0,0,0,0,"NA","Project: UORE and CORE Program\nDeveloper: FortisTCI\nRE technology type: Solar\nStart: Ongoing\nEst. Capacity Factor: 17%\nInstalled capacity: 500 kW\nLength of PPA: Not applicable",0]
[]
[null,null,null,"Planned Renewable Generation"]
[null,null,null,"Potential Utility-Scale Renewable Energy Projects"]
[null,null,null,"How much installed capacity from RE is expected to come online in the next 3 years?",null,null,null,{"$f":"INDIRECT(H$4&\"!D70\")","v":"NA"},{"$f":"INDIRECT(I$4&\"!D70\")","v":"1.7 MW - Solar PV \n4 MW - Wind"},"NA",20,295,"6 MW","Business Plan RE Goals:\n1. Increase BEL's firm capacity with in-country generation of 30 MW Solar energy from BECOL. \n\n2. Increase BEL's firm capacity with in-country generation of 15 MW Solar energy from BAPCOL.  \n\n3. Increase BEL's firm capacity with in-country generation of Hydro energy from Southern Renewable Energy Ltd.",0,"7 MW",0,"NA","20 MW",13.5,0,0,158,"NA",0,175,"NA",0.75,0,"Solar PV at least 3,500 MW and up to 3,900 MW by 2025","NA","NA",0,0,0,0,"NA",5,0]
[null,null,null,"How much renewable energy generation is expected to come online in the next 3 years?",null,null,null,{"$f":"INDIRECT(H$4&\"!D71\")","v":"NA"},{"$f":"INDIRECT(I$4&\"!D71\")","v":119355},"NA",117384,687650,"unknown","At least 45 MW of Utility Solar",0,"7 MW",0,"NA","NA",74000,"NA",0,612000,"NA","NA",500000,"NA",11320,0,"Solar PV at least 3,500 MW and up to 3,900 MW by 2025\nIf 3,500 MW x 8760 x 17% = 5,212 GWh","NA","NA",0,0,0,0,"NA",8000,0]
[null,null,null,"Please provide as much information as possible for RE projects currently under development in the box below as:\n- Project Name\n- Developer\n- Offtaker\n- Renewable Energy Technology Type\n- Start of Commercial Operation (Year)\n- Estimated Capacity Factor (in %) OR Estimated Annual Production (in MWh)\n- Installed Capacity (MW)\n- Length of PPA ",null,null,null,{"$f":"INDIRECT(H$4&\"!D72\")","v":"NA"},{"$f":"INDIRECT(I$4&\"!D72\")","v":"0 MW RE Project\nPV Energy\nAPUA\nSolar PV\n2015\n105%\n8.3 MW\nPPA N/A"},"NA","Info not yet available","BLPC RE projects currently under development:\n\n– Project Name – Lamberts Wind Farm\n– Developer - Barbados Light & Power\n– Offtaker - Barbados Light & Power\n– RE technology type – Wind Energy Conversion\n– Start of commercial operation (year) – COD Jan 2022\n– Estimated capacity factor (in %) OR estimated annual production (in MWh) – 29,100 MWh p.a. est. \n– Installed capacity (MW) – 10MW\n– Length of PPA - Currently undefined. 20 year terms anticipated. \n\n\n\n– Project Name – Lower Estate Solar PV\n– Developer - Barbados Light & Power\n– Offtaker - Barbados Light & Power\n– RE technology type – Solar PV\n– Start of commercial operation (year) – COD Oct 2021\n– Estimated capacity factor (in %) OR estimated annual production (in MWh) – 15, 579 MWh p.a. est.\n– Installed capacity (MW) – 7MW \n– Length of PPA - Currently undefined. 20 year terms anticipated.\n\nWhile there is much IPP interest, many of the larger projects are under development and awaiting the relevant licensing regime and PPA process to be completed. Also, there are NDA's etc. in force with those entities currently being negotiated with and as such we cannot share detailed or specific information in the interest of confidentiality.",0,"– Project Names:\tBECOL,\tBAPCOL\t, SREL\n– Developer:\tBelize Electric Company Limited,\tBelize Electric Company Limited, \tSouthern Renewable Energy Ltd\n– Offtaker:\tNone\tNone\tNone\n– RE technology type:\tSolar,\tSolar,\tHydro\n– Start of commercial operation (year)\tIn negotiations\tIn negotiations\tIn negotiations\n– Estimated capacity factor (in %) OR estimated annual production (in MWh)\tn/a\tn/a\tn/a\n– Installed capacity (MW)\t30.0,\t15.0, \tIn negotiations",0,"NA",0,"NA","NA as yet"," "," ",0,0,"NA","– Project Name : Construction and operation of two PV plants of 8 MW and  4 MW\n– Developer : Tender process to select the developer ongoing\n– Offtaker: Industrial customers and households \n– RE technology type: Solar PV \n– Start of commercial operation (year): 2021\n– Estimated capacity factor (in %) OR estimated annual production (in MWh) : TBD\n– Installed capacity (MW): 8 MW + 4 MW\n– Length of PPA: TBD\n\n– Project Name : Development of private RE mini grids on multiple sites (Program PHARES)\n– Developer : Request for proposals ongoing to select developers\n– Offtaker: End users in specific towns \n– RE technology type: Solar PV + Storage + Back up diesel (if required)\n– Start of commercial operation (year): 2021\n– Estimated capacity factor (in %) OR estimated annual production (in MWh) : TBD\n– Installed capacity (MW): Functions of sites\n– Length of PPA: 20 years","none","NA","750 kW Solar PV Project\nMontserrat Utilities Limited(MUL)\nMUL\nSolar PV\nMarch 2021\n22%\n0.75\nN/A","Nevis Geothermal Project\nNevis Renewable Energy International - Developer\nNEVLEC - offtaker\nGeothermal\n10 MW \n25 years","The next time, please allow a box to upload documents so we can share all the information required","NA","NA",0,0,0,0,"NA","Project Name: 1MW Utility Scale in PNSG\nDeveloper: FortisTCI\nRE Tech: Solar\nStart: 2022\nEst. CF: 17%\nInstalled Capacity 1MW\nLength of PPA: Not applicable (utility-owned)",0]
[]
[null,null,null,"Electric Mobility"]
[null,null,null,"What is the target and target year?",null,null,null,{"$f":"INDIRECT(H$4&\"!D74\")","v":"NA"},{"$f":"INDIRECT(I$4&\"!D74\")","v":"N/A"},"NA","N/A","No specific target was identified but increased use was to be promoted through the relevant policies and incentive mechanisms to be developed.\n\nThere are 16 specific objectives and 24 policy measures outlined for Transportation Sector in the Government policy document and implementation plan.\nPlease see attached files Barbados National Energy Policy and Implementation Plan\nLink: https://www.energy.gov.bb/web/national-energy-policy-for-barbados-2019-2030",0,"N/A",0,"NA",0,"NA","NA"," ",0,"In the media this week of 21st Sept there was a public notice from a government body about a meeting of interested persons ref e-mobility in Grenada.","<1%","NA",0,"12% by 2030","NA",0,0,"NA","NA","NA",0,0,0,0,"NA","None",0]
[null,null,null,"How many electric cars are currently in your country?",null,null,null,{"$f":"INDIRECT(H$4&\"!D75\")","v":"NA"},{"$f":"INDIRECT(I$4&\"!D75\")","v":10},"NA","N/A","Approximately 550 cars and vans, and 33 buses to date. (hybrids are not included, only all electric vehicles)","20 - 4 cars and 16 vans","5 - 10 vehicles",0,10,0,"NA","60+"," ",0,7,"Estimated: 50","NA","Information not available",12,"NA",4,0,"No information available","NA","NA",0,0,0,0,"50 to 75",5,0]
[null,null,null,"How many charging stations are in your country?",null,null,null,{"$f":"INDIRECT(H$4&\"!D76\")","v":"NA"},{"$f":"INDIRECT(I$4&\"!D76\")","v":2},"NA","N/A","39 public charging locations\nOver 400 hundred private and home chargers\nGo to www.plugshare.com and search Barbados for a visual representation.","unknown","There are currently no public charging stations; however, an upcoming pilot project will create charging stations across Belize by 2021.",0,0,0,"NA","20+"," ",0,"4 that we know of.",0,"NA","NA",15,"NA",2,0,"No information available","NA","NA",0,0,0,0,"5 to 10",1,0]
[]
[null,null,null,"Covid"]
[null,null,null,"Has any measure been implemented to respond to disruptions in revenue collections from electricity services (particularly given the current circumstances during the COVID pandemic)?",null,null,null,{"$f":"INDIRECT(H$4&\"!D78\")","v":"NA"},{"$f":"INDIRECT(I$4&\"!D78\")","v":"Yes"},"NA","Yes","Yes","No","Yes",0,"Yes",0,"NA","Yes","No",0,"Yes","Yes","NA","No","Yes","NA","No","No","No","NA","NA",0,0,0,0,"No","No","NA"]
[null,null,null,"If yes, to get a score on this kindly describe how the measure works and who is responsible for implementing it",null,null,null,{"$f":"INDIRECT(H$4&\"!D79\")","v":"NA"},{"$f":"INDIRECT(I$4&\"!D79\")","v":"The measures taken have been to offer an incentive to customers to make payments in full in the month that the bill is due to redeem a 15% discount on electricity bills. The utility is responsible for the implementation. There has been mixed responses. Some customers capitalize on the discount and other have stopped payments altogether."},"NA","If a customer can provide proof that they were medically impacted by COVID or were laid off directly due to COVID they were allowed to enter into a payment arrangement with respect to outstanding balances on their electricity bill.  This program was implemented by the BPL, on the recommendation of the GOB.","The utility has made additional arrangements to facilitate alternate revenue collection means (e.g. online payments, payment by credit cards and payment plans) to allow customers to transact business while observing the public health protocols.",0,"Customer Service representatives are calling customers and encouraging them to make payments as a measure to reduce the likelihood of non-payment with COVID. Also, the Company is promoting digital means of payment through ad campaigns, and retaining cashiering services at Head Quarters in a newly constructed outdoor cashier booths to facilitate payments while keeping the staff safe.",0,"Online Payment Promotion, Management Team",0,"NA","Government in combination with regulator",0,0,"It was a temporary 3 month relief to the company's customers of 30% on their electricity bills that was funded jointly by the government (approx. 71%) and the utility ( approx. 29%)",0,"NA",0,"JPS has encouraged its customers to make use of the Company’s online platforms (payment website and phone application), to obtain information, pay bills and carry out other transactions.","NA",0,0,"No information available","NA","NA",0,0,0,0,"NA","NA","NA"]
[]
[null,null,null,"Outlook sentiment"]
[null,null,null,"How enthusiastic are you about the investment prospects in renewables, electric mobility, and resilience compared to this time last year, and why?",null,null,null,{"$f":"INDIRECT(H$4&\"!D81\")","v":"NA"},{"$f":"INDIRECT(I$4&\"!D81\")","v":"Less"},"NA","Same","More","Same","Same",0,"Less",0,"NA","More","Same",0,"Less/Same","More","NA","Same","Less","NA","Same","Less","Same","NA","NA",0,0,0,0,"Same","Same","NA"]
[null,null,null,"Please elaborate on your reasoning for the previous response.",null,null,null,{"$f":"INDIRECT(H$4&\"!D82\")","v":"NA"},{"$f":"INDIRECT(I$4&\"!D82\")","v":"I don't see any meaningful Government policy at this time."},"NA","The interest remains the same and external funding options still seem available.  Provide the COVID epidemic does not start to impact these elements projects should still be possible.","The prevailing Government policies support the implementation of renewables, the growth of electric mobility and increased awareness of the need for climate resilience. \nThe Integrated Resource and Resilience Plan (IRRP) exercise currently being undertaken by the Government of Barbados,  with the assistance of the IADB, has resilience as a necessary objective or component identified in the plan.",0,"Though the Pandemic has delayed the timeline for planned projects, the Company is still pursuing the projects to introduce electric vehicles and additional renewable energy capacity.",0,"Most of the money that was allocated for renewables are now being repurposed to fight the COVID-19 Pandemic.",0,"NA","There is a policy in place and government is working on new additional legislation, institutions  and  Instruments","Policy changes and projects have been both positive and negative so on balance, same as last year",0,"1. The regulatory scene is a quagmire.\n2. The government lost an arbitration case against the majority shareholder of the company and is now legally obligated to purchase the majority shareholders. However they seem unable to find the funds to purchase the company. So the company is in limbo. the majority share holder is still directing the company but with a light touch as it expects to exit at anytime.",0,"NA","There is not currently a focus on electric vehicles in the country. The main focus is on increasing energy access.","The Covid pandemic has severely impacted budgets for energy projects across the world. While plans are still being developed,   investments will be deferred until some major economies show signs of recovery.","NA",0,"The progress has been extremely slow","No plans available for electric mobility","NA","NA",0,0,0,0,"While it is one of the government's target, to increase renewables and electric mobility, not much has been done in the last year and government has not mentioned much about these projects in their annual address nor budget.","Based on observation, it will be the same level but change in who will implement or will still push with the plan.  In TCI, those businesses that are being affected by the current pandemic has hold off to projects e.g. changing their fleet to EVs.  However, those who are just in the process of constructing their business e.g. hotel in construction has continued their plans and even benefited with stimulus provided during lockdown period e.g. discount in custom fees and other government fees.\n","NA"]
[]
[null,null,null,"Improvement Year-on-Year",null,null,null,{"$f":"H5","v":"Anguilla"},"Antigua & Barbuda","Aruba","The Bahamas","Barbados","Bermuda","Belize","Bonaire","British Virgin Islands","Cayman Islands","Cuba","Curaҫao","Dominica","Dominican Republic","Grenada","Guadeloupe","Guyana ","Haiti","Jamaica","Martinique","Montserrat","Nevis ","Puerto Rico","Saint-Martin","Sint Maarten","St. Lucia","St. Vincent and the Grenadines","St. Kitts","Suriname","Trinidad and Tobago","Turks and Caicos Islands","U.S. Virgin Islands"]
[null,null,null,"Overall Improvement Year-on-Year",null,null,1,{"$f":"H137-H135","v":0},{"$f":"I137-I135","v":0.39680829796262795},-5.9595959595959702E-3,0.83444291085436717,0.66802266447250047,-3.1062695779215943E-3,-0.4099842453586604,-1.4628314393939392,1.1659266666666668,-1.2639042624069834,-0.10959604281841948,-0.27557829814765777,-0.35122725398988486,-0.86044051655194997,-0.71105640554415295,-0.10789507103455076,-3.2359827084138953E-2,0.4436630734212621,0.69449534634022125,-1.3757692307692304E-2,0.22465493928396918,-0.38638308547218636,1.0789465687405704,0,0,-0.84400894587899977,-0.34988168702541422,-0.61585751333333327,-0.85314942887571432,0.6796875,0.2307286521401084,-0.45457152848210847]
[null,null,null,"Enabling environment for renewable energy investments ","Change",null,{"$f":"G8","v":0.3},null,null,null,null,null,null,null,null,null,null,null,null,null,null,null,null,null,null,null,null,null,null,null,null,null,null,null,null,null,null,null,{"$f":"INDIRECT(AM$4&\"!E84\")","v":0}]
[null,null,null,"2012 Score","0 to 5",null,null,{"$f":"'RE Index | Historical Results'!G6","v":2.3333333333333335},{"$f":"'RE Index | Historical Results'!H6","v":1.6666666666666665},{"$f":"'RE Index | Historical Results'!I6","v":1.9999999999999998},{"$f":"'RE Index | Historical Results'!J6","v":1},{"$f":"'RE Index | Historical Results'!K6","v":3.1666666666666665},{"$f":"'RE Index | Historical Results'!L6","v":2.333333333333333},{"$f":"'RE Index | Historical Results'!M6","v":2.3333333333333335},{"$f":"'RE Index | Historical Results'!N6","v":0},{"$f":"'RE Index | Historical Results'!O6","v":1},{"$f":"'RE Index | Historical Results'!P6","v":3.33},{"$f":"'RE Index | Historical Results'!Q6","v":0},{"$f":"'RE Index | Historical Results'!R6","v":"NA"},{"$f":"'RE Index | Historical Results'!S6","v":2.833333333333333},{"$f":"'RE Index | Historical Results'!T6","v":2.333333333333333},{"$f":"'RE Index | Historical Results'!U6","v":2.333333333333333},{"$f":"'RE Index | Historical Results'!V6","v":"NA"},{"$f":"'RE Index | Historical Results'!W6","v":0},{"$f":"'RE Index | Historical Results'!X6","v":0},{"$f":"'RE Index | Historical Results'!Y6","v":3.6666666666666665},{"$f":"'RE Index | Historical Results'!Z6","v":3},{"$f":"'RE Index | Historical Results'!AA6","v":1.67},{"$f":"'RE Index | Historical Results'!AB6","v":2.3333333333333335},{"$f":"'RE Index | Historical Results'!AC6","v":0},{"$f":"'RE Index | Historical Results'!AD6","v":0},{"$f":"'RE Index | Historical Results'!AE6","v":0},{"$f":"'RE Index | Historical Results'!AF6","v":2.33},{"$f":"'RE Index | Historical Results'!AG6","v":3},{"$f":"'RE Index | Historical Results'!AH6","v":1.67},{"$f":"'RE Index | Historical Results'!AI6","v":0},{"$f":"'RE Index | Historical Results'!AJ6","v":2.33},{"$f":"'RE Index | Historical Results'!AK6","v":2},{"$f":"'RE Index | Historical Results'!AL6","v":"NA"}]
[null,null,null,"2013 Score","0 to 5",null,null,{"$f":"'RE Index | Historical Results'!G7","v":2.3333333333333335},{"$f":"'RE Index | Historical Results'!H7","v":1.6666666666666665},{"$f":"'RE Index | Historical Results'!I7","v":1.9999999999999998},{"$f":"'RE Index | Historical Results'!J7","v":1},{"$f":"'RE Index | Historical Results'!K7","v":3.1666666666666665},{"$f":"'RE Index | Historical Results'!L7","v":3},{"$f":"'RE Index | Historical Results'!M7","v":2.3333333333333335},{"$f":"'RE Index | Historical Results'!N7","v":1.9999999999999998},{"$f":"'RE Index | Historical Results'!O7","v":1},{"$f":"'RE Index | Historical Results'!P7","v":3.33},{"$f":"'RE Index | Historical Results'!Q7","v":0},{"$f":"'RE Index | Historical Results'!R7","v":3},{"$f":"'RE Index | Historical Results'!S7","v":2.833333333333333},{"$f":"'RE Index | Historical Results'!T7","v":2.333333333333333},{"$f":"'RE Index | Historical Results'!U7","v":2.333333333333333},{"$f":"'RE Index | Historical Results'!V7","v":4},{"$f":"'RE Index | Historical Results'!W7","v":1.6666666666666665},{"$f":"'RE Index | Historical Results'!X7","v":1.6666666666666665},{"$f":"'RE Index | Historical Results'!Y7","v":3.6666666666666665},{"$f":"'RE Index | Historical Results'!Z7","v":4},{"$f":"'RE Index | Historical Results'!AA7","v":1.6666666666666665},{"$f":"'RE Index | Historical Results'!AB7","v":2.3333333333333335},{"$f":"'RE Index | Historical Results'!AC7","v":3.333333333333333},{"$f":"'RE Index | Historical Results'!AD7","v":0},{"$f":"'RE Index | Historical Results'!AE7","v":0},{"$f":"'RE Index | Historical Results'!AF7","v":2.333333333333333},{"$f":"'RE Index | Historical Results'!AG7","v":3},{"$f":"'RE Index | Historical Results'!AH7","v":1.6666666666666665},{"$f":"'RE Index | Historical Results'!AI7","v":0},{"$f":"'RE Index | Historical Results'!AJ7","v":2.3333333333333335},{"$f":"'RE Index | Historical Results'!AK7","v":1.9999999999999998},{"$f":"'RE Index | Historical Results'!AL7","v":"NA"}]
[null,null,null,"2014 Score","0 to 5",null,null,{"$f":"'RE Index | Historical Results'!G8","v":2.3333333333333335},{"$f":"'RE Index | Historical Results'!H8","v":2},{"$f":"'RE Index | Historical Results'!I8","v":4},{"$f":"'RE Index | Historical Results'!J8","v":1},{"$f":"'RE Index | Historical Results'!K8","v":3.833333333333333},{"$f":"'RE Index | Historical Results'!L8","v":3},{"$f":"'RE Index | Historical Results'!M8","v":3},{"$f":"'RE Index | Historical Results'!N8","v":1.9999999999999998},{"$f":"'RE Index | Historical Results'!O8","v":1},{"$f":"'RE Index | Historical Results'!P8","v":3.33},{"$f":"'RE Index | Historical Results'!Q8","v":0},{"$f":"'RE Index | Historical Results'!R8","v":4},{"$f":"'RE Index | Historical Results'!S8","v":2.833333333333333},{"$f":"'RE Index | Historical Results'!T8","v":2.333333333333333},{"$f":"'RE Index | Historical Results'!U8","v":2.333333333333333},{"$f":"'RE Index | Historical Results'!V8","v":4.333333333333333},{"$f":"'RE Index | Historical Results'!W8","v":1.6666666666666665},{"$f":"'RE Index | Historical Results'!X8","v":1.6666666666666665},{"$f":"'RE Index | Historical Results'!Y8","v":3.6666666666666665},{"$f":"'RE Index | Historical Results'!Z8","v":4.333333333333333},{"$f":"'RE Index | Historical Results'!AA8","v":1.6666666666666665},{"$f":"'RE Index | Historical Results'!AB8","v":2.6666666666666665},{"$f":"'RE Index | Historical Results'!AC8","v":2},{"$f":"'RE Index | Historical Results'!AD8","v":0},{"$f":"'RE Index | Historical Results'!AE8","v":0},{"$f":"'RE Index | Historical Results'!AF8","v":2.333333333333333},{"$f":"'RE Index | Historical Results'!AG8","v":3},{"$f":"'RE Index | Historical Results'!AH8","v":2.6666666666666665},{"$f":"'RE Index | Historical Results'!AI8","v":0},{"$f":"'RE Index | Historical Results'!AJ8","v":2.333333333333333},{"$f":"'RE Index | Historical Results'!AK8","v":1.9999999999999998},{"$f":"'RE Index | Historical Results'!AL8","v":2}]
[null,null,null,"2015 Score","0 to 5",null,null,{"$f":"'RE Index | Historical Results'!G9","v":2.3333333333333335},{"$f":"'RE Index | Historical Results'!H9","v":2},{"$f":"'RE Index | Historical Results'!I9","v":4},{"$f":"'RE Index | Historical Results'!J9","v":1.3333333333333333},{"$f":"'RE Index | Historical Results'!K9","v":3.833333333333333},{"$f":"'RE Index | Historical Results'!L9","v":3},{"$f":"'RE Index | Historical Results'!M9","v":3.333333333333333},{"$f":"'RE Index | Historical Results'!N9","v":1.9999999999999998},{"$f":"'RE Index | Historical Results'!O9","v":2},{"$f":"'RE Index | Historical Results'!P9","v":3.33},{"$f":"'RE Index | Historical Results'!Q9","v":1},{"$f":"'RE Index | Historical Results'!R9","v":4},{"$f":"'RE Index | Historical Results'!S9","v":2.833333333333333},{"$f":"'RE Index | Historical Results'!T9","v":2.333333333333333},{"$f":"'RE Index | Historical Results'!U9","v":2.6666666666666665},{"$f":"'RE Index | Historical Results'!V9","v":4.333333333333333},{"$f":"'RE Index | Historical Results'!W9","v":1.6666666666666665},{"$f":"'RE Index | Historical Results'!X9","v":1.6666666666666665},{"$f":"'RE Index | Historical Results'!Y9","v":3.6666666666666665},{"$f":"'RE Index | Historical Results'!Z9","v":4.333333333333333},{"$f":"'RE Index | Historical Results'!AA9","v":1.6666666666666665},{"$f":"'RE Index | Historical Results'!AB9","v":2.6666666666666665},{"$f":"'RE Index | Historical Results'!AC9","v":2},{"$f":"'RE Index | Historical Results'!AD9","v":0},{"$f":"'RE Index | Historical Results'!AE9","v":0},{"$f":"'RE Index | Historical Results'!AF9","v":2.333333333333333},{"$f":"'RE Index | Historical Results'!AG9","v":3},{"$f":"'RE Index | Historical Results'!AH9","v":2.6666666666666665},{"$f":"'RE Index | Historical Results'!AI9","v":0},{"$f":"'RE Index | Historical Results'!AJ9","v":3},{"$f":"'RE Index | Historical Results'!AK9","v":1.9999999999999998},{"$f":"'RE Index | Historical Results'!AL9","v":2}]
[null,null,null,"2016 Score","0 to 5",null,null,{"$f":"'RE Index | Historical Results'!G10","v":1.3333333333333333},{"$f":"'RE Index | Historical Results'!H10","v":3.6666666666666665},{"$f":"'RE Index | Historical Results'!I10","v":2.6666666666666665},{"$f":"'RE Index | Historical Results'!J10","v":4.333333333333333},{"$f":"'RE Index | Historical Results'!K10","v":2.6666666666666665},{"$f":"'RE Index | Historical Results'!L10","v":4.333333333333333},{"$f":"'RE Index | Historical Results'!M10","v":2.6666666666666665},{"$f":"'RE Index | Historical Results'!N10","v":2.6666666666666665},{"$f":"'RE Index | Historical Results'!O10","v":1.3333333333333333},{"$f":"'RE Index | Historical Results'!P10","v":4.33},{"$f":"'RE Index | Historical Results'!Q10","v":0},{"$f":"'RE Index | Historical Results'!R10","v":5},{"$f":"'RE Index | Historical Results'!S10","v":5},{"$f":"'RE Index | Historical Results'!T10","v":4.333333333333333},{"$f":"'RE Index | Historical Results'!U10","v":5},{"$f":"'RE Index | Historical Results'!V10","v":5},{"$f":"'RE Index | Historical Results'!W10","v":3.6666666666666665},{"$f":"'RE Index | Historical Results'!X10","v":3.6666666666666665},{"$f":"'RE Index | Historical Results'!Y10","v":4.333333333333333},{"$f":"'RE Index | Historical Results'!Z10","v":5},{"$f":"'RE Index | Historical Results'!AA10","v":0},{"$f":"'RE Index | Historical Results'!AB10","v":5},{"$f":"'RE Index | Historical Results'!AC10","v":3.6666666666666665},{"$f":"'RE Index | Historical Results'!AD10","v":0},{"$f":"'RE Index | Historical Results'!AE10","v":0},{"$f":"'RE Index | Historical Results'!AF10","v":1.3333333333333333},{"$f":"'RE Index | Historical Results'!AG10","v":4.333333333333333},{"$f":"'RE Index | Historical Results'!AH10","v":1.3333333333333333},{"$f":"'RE Index | Historical Results'!AI10","v":0},{"$f":"'RE Index | Historical Results'!AJ10","v":1.3333333333333333},{"$f":"'RE Index | Historical Results'!AK10","v":1.3333333333333333},{"$f":"'RE Index | Historical Results'!AL10","v":3.6666666666666665}]
[null,null,null,"2017 Score","0 to 5",null,null,{"$f":"'RE Index | Historical Results'!G11","v":1.875},{"$f":"'RE Index | Historical Results'!H11","v":4.0625},{"$f":"'RE Index | Historical Results'!I11","v":3.6458333333333335},{"$f":"'RE Index | Historical Results'!J11","v":3.9583333333333299},{"$f":"'RE Index | Historical Results'!K11","v":3.3333333333333335},{"$f":"'RE Index | Historical Results'!L11","v":3.3333333333333335},{"$f":"'RE Index | Historical Results'!M11","v":3.125},{"$f":"'RE Index | Historical Results'!N11","v":4.5833333333333339},{"$f":"'RE Index | Historical Results'!O11","v":4.375},{"$f":"'RE Index | Historical Results'!P11","v":4.6900000000000004},{"$f":"'RE Index | Historical Results'!Q11","v":0},{"$f":"'RE Index | Historical Results'!R11","v":5},{"$f":"'RE Index | Historical Results'!S11","v":3.4375},{"$f":"'RE Index | Historical Results'!T11","v":4.5833333333333339},{"$f":"'RE Index | Historical Results'!U11","v":1.875},{"$f":"'RE Index | Historical Results'!V11","v":3.9583333333333335},{"$f":"'RE Index | Historical Results'!W11","v":0},{"$f":"'RE Index | Historical Results'!X11","v":0},{"$f":"'RE Index | Historical Results'!Y11","v":3.3333333333333335},{"$f":"'RE Index | Historical Results'!Z11","v":3.3333333333333335},{"$f":"'RE Index | Historical Results'!AA11","v":0},{"$f":"'RE Index | Historical Results'!AB11","v":3.9583333333333335},{"$f":"'RE Index | Historical Results'!AC11","v":2.8125},{"$f":"'RE Index | Historical Results'!AD11","v":0},{"$f":"'RE Index | Historical Results'!AE11","v":0},{"$f":"'RE Index | Historical Results'!AF11","v":3.125},{"$f":"'RE Index | Historical Results'!AG11","v":3.75},{"$f":"'RE Index | Historical Results'!AH11","v":1.6666666666666667},{"$f":"'RE Index | Historical Results'!AI11","v":2.5},{"$f":"'RE Index | Historical Results'!AJ11","v":1.5625},{"$f":"'RE Index | Historical Results'!AK11","v":2.7083333333333335},{"$f":"'RE Index | Historical Results'!AL11","v":5}]
[null,null,null,"2018 Score","0 to 5",null,null,{"$f":"'RE Index | Historical Results'!G12","v":0},{"$f":"'RE Index | Historical Results'!H12","v":4.375},{"$f":"'RE Index | Historical Results'!I12","v":0},{"$f":"'RE Index | Historical Results'!J12","v":2.78125},{"$f":"'RE Index | Historical Results'!K12","v":3.125},{"$f":"'RE Index | Historical Results'!L12","v":4.6875},{"$f":"'RE Index | Historical Results'!M12","v":3.359375},{"$f":"'RE Index | Historical Results'!N12","v":4.453125},{"$f":"'RE Index | Historical Results'!O12","v":0},{"$f":"'RE Index | Historical Results'!P12","v":4.609375},{"$f":"'RE Index | Historical Results'!Q12","v":0},{"$f":"'RE Index | Historical Results'!R12","v":4.6875},{"$f":"'RE Index | Historical Results'!S12","v":3.203125},{"$f":"'RE Index | Historical Results'!T12","v":2.703125},{"$f":"'RE Index | Historical Results'!U12","v":3.046875},{"$f":"'RE Index | Historical Results'!V12","v":4.765625},{"$f":"'RE Index | Historical Results'!W12","v":0},{"$f":"'RE Index | Historical Results'!X12","v":0.65625},{"$f":"'RE Index | Historical Results'!Y12","v":3.453125},{"$f":"'RE Index | Historical Results'!Z12","v":0},{"$f":"'RE Index | Historical Results'!AA12","v":0.15625},{"$f":"'RE Index | Historical Results'!AB12","v":2.8125},{"$f":"'RE Index | Historical Results'!AC12","v":0},{"$f":"'RE Index | Historical Results'!AD12","v":0},{"$f":"'RE Index | Historical Results'!AE12","v":0},{"$f":"'RE Index | Historical Results'!AF12","v":0.390625},{"$f":"'RE Index | Historical Results'!AG12","v":0.15625},{"$f":"'RE Index | Historical Results'!AH12","v":1.546875},{"$f":"'RE Index | Historical Results'!AI12","v":2.96875},{"$f":"'RE Index | Historical Results'!AJ12","v":0.234375},{"$f":"'RE Index | Historical Results'!AK12","v":1.71875},{"$f":"'RE Index | Historical Results'!AL12","v":2.046875}]
[null,null,null,"2019 Score","0 to 5",null,null,{"$f":"H8","v":0},3.875,0,3.25,3.625,4.125,3.5,0.625,3.5,1.25,0,3.25,5,1.25,1.875,4.375,0,2,5,0,2.125,2.5,3.25,0,0,1.25,0.625,1.25,0.625,1.75,2.5,0.625]
[null,null,null,"Existing renewable generation","Change",null,{"$f":"G26","v":0.3}]
[null,null,null,"2012 Score","0 to 5",null,null,{"$f":"'RE Index | Historical Results'!G15","v":0.01},{"$f":"'RE Index | Historical Results'!H15","v":0},{"$f":"'RE Index | Historical Results'!I15","v":0.5},{"$f":"'RE Index | Historical Results'!J15","v":0},{"$f":"'RE Index | Historical Results'!K15","v":0},{"$f":"'RE Index | Historical Results'!L15","v":0.01},{"$f":"'RE Index | Historical Results'!M15","v":2.6},{"$f":"'RE Index | Historical Results'!N15","v":0},{"$f":"'RE Index | Historical Results'!O15","v":0},{"$f":"'RE Index | Historical Results'!P15","v":0},{"$f":"'RE Index | Historical Results'!Q15","v":0},{"$f":"'RE Index | Historical Results'!R15","v":"NA"},{"$f":"'RE Index | Historical Results'!S15","v":2.2000000000000002},{"$f":"'RE Index | Historical Results'!T15","v":0.43},{"$f":"'RE Index | Historical Results'!U15","v":0.1},{"$f":"'RE Index | Historical Results'!V15","v":"NA"},{"$f":"'RE Index | Historical Results'!W15","v":0},{"$f":"'RE Index | Historical Results'!X15","v":0},{"$f":"'RE Index | Historical Results'!Y15","v":0.27},{"$f":"'RE Index | Historical Results'!Z15","v":0.15},{"$f":"'RE Index | Historical Results'!AA15","v":0},{"$f":"'RE Index | Historical Results'!AB15","v":0.95},{"$f":"'RE Index | Historical Results'!AC15","v":0},{"$f":"'RE Index | Historical Results'!AD15","v":0},{"$f":"'RE Index | Historical Results'!AE15","v":0},{"$f":"'RE Index | Historical Results'!AF15","v":0.01},{"$f":"'RE Index | Historical Results'!AG15","v":1.22},{"$f":"'RE Index | Historical Results'!AH15","v":0},{"$f":"'RE Index | Historical Results'!AI15","v":0},{"$f":"'RE Index | Historical Results'!AJ15","v":0},{"$f":"'RE Index | Historical Results'!AK15","v":0},{"$f":"INDIRECT(AM$4&\"!E93\")","v":0}]
[null,null,null,"2013 Score","0 to 5",null,null,{"$f":"'RE Index | Historical Results'!G16","v":0},{"$f":"'RE Index | Historical Results'!H16","v":0},{"$f":"'RE Index | Historical Results'!I16","v":0.65542995689307737},{"$f":"'RE Index | Historical Results'!J16","v":1.0510518934081347E-2},{"$f":"'RE Index | Historical Results'!K16","v":9.8800657599557151E-3},{"$f":"'RE Index | Historical Results'!L16","v":0},{"$f":"'RE Index | Historical Results'!M16","v":2.6588944180008656},{"$f":"'RE Index | Historical Results'!N16","v":1.3907771683624794},{"$f":"'RE Index | Historical Results'!O16","v":0},{"$f":"'RE Index | Historical Results'!P16","v":1.5554659442233404E-3},{"$f":"'RE Index | Historical Results'!Q16","v":3.5962932505731078E-2},{"$f":"'RE Index | Historical Results'!R16","v":0.61241351201094174},{"$f":"'RE Index | Historical Results'!S16","v":1.593331003230799},{"$f":"'RE Index | Historical Results'!T16","v":0.63355599346737579},{"$f":"'RE Index | Historical Results'!U16","v":1.0669089921879742E-2},{"$f":"'RE Index | Historical Results'!V16","v":0.68864405988115773},{"$f":"'RE Index | Historical Results'!W16","v":4.7549770290964778E-2},{"$f":"'RE Index | Historical Results'!X16","v":4.7549770290964778E-2},{"$f":"'RE Index | Historical Results'!Y16","v":0.2846569841660827},{"$f":"'RE Index | Historical Results'!Z16","v":0.14466907139704258},{"$f":"'RE Index | Historical Results'!AA16","v":0},{"$f":"'RE Index | Historical Results'!AB16","v":0.30186521405675404},{"$f":"'RE Index | Historical Results'!AC16","v":0.10090843837380969},{"$f":"'RE Index | Historical Results'!AD16","v":4.0586436170212764E-2},{"$f":"'RE Index | Historical Results'!AE16","v":0},{"$f":"'RE Index | Historical Results'!AF16","v":6.8489162146818288E-4},{"$f":"'RE Index | Historical Results'!AG16","v":1.0240373996907901},{"$f":"'RE Index | Historical Results'!AH16","v":0},{"$f":"'RE Index | Historical Results'!AI16","v":2.4419620253164558},{"$f":"'RE Index | Historical Results'!AJ16","v":3.5961909145832739E-6},{"$f":"'RE Index | Historical Results'!AK16","v":0},{"$f":"INDIRECT(AM$4&\"!E94\")","v":0}]
[null,null,null,"2014 Score","0 to 5",null,null,{"$f":"'RE Index | Historical Results'!G17","v":8.4686434362367599E-2},{"$f":"'RE Index | Historical Results'!H17","v":6.9915749999999999E-3},{"$f":"'RE Index | Historical Results'!I17","v":0.83624804169180622},{"$f":"'RE Index | Historical Results'!J17","v":1.4203214628146119E-2},{"$f":"'RE Index | Historical Results'!K17","v":4.2323291060934125E-2},{"$f":"'RE Index | Historical Results'!L17","v":0.11707028947026578},{"$f":"'RE Index | Historical Results'!M17","v":3.1903316418659822},{"$f":"'RE Index | Historical Results'!N17","v":1.4931999512151526},{"$f":"'RE Index | Historical Results'!O17","v":0.19085937600000003},{"$f":"'RE Index | Historical Results'!P17","v":1.4326617496279151E-2},{"$f":"'RE Index | Historical Results'!Q17","v":4.0663459456410589E-2},{"$f":"'RE Index | Historical Results'!R17","v":0.6896652316295715},{"$f":"'RE Index | Historical Results'!S17","v":1.3501767905351756},{"$f":"'RE Index | Historical Results'!T17","v":0.78246215631445859},{"$f":"'RE Index | Historical Results'!U17","v":4.0324437393214549E-2},{"$f":"'RE Index | Historical Results'!V17","v":0.82133338237478792},{"$f":"'RE Index | Historical Results'!W17","v":0.46555318643478261},{"$f":"'RE Index | Historical Results'!X17","v":0.46555318643478261},{"$f":"'RE Index | Historical Results'!Y17","v":0.38498080880421975},{"$f":"'RE Index | Historical Results'!Z17","v":0.33737001331016375},{"$f":"'RE Index | Historical Results'!AA17","v":0},{"$f":"'RE Index | Historical Results'!AB17","v":0.53058543588130036},{"$f":"'RE Index | Historical Results'!AC17","v":0.10544559381438179},{"$f":"'RE Index | Historical Results'!AD17","v":7.9773208163265288E-2},{"$f":"'RE Index | Historical Results'!AE17","v":1.9109375000000001E-2},{"$f":"'RE Index | Historical Results'!AF17","v":9.469627339572192E-4},{"$f":"'RE Index | Historical Results'!AG17","v":1.1080454379919942},{"$f":"'RE Index | Historical Results'!AH17","v":0.10948766197183099},{"$f":"'RE Index | Historical Results'!AI17","v":2.738240638253183},{"$f":"'RE Index | Historical Results'!AJ17","v":2.5210465116279066E-5},{"$f":"'RE Index | Historical Results'!AK17","v":1.1368223412131897E-3},{"$f":"INDIRECT(AM$4&\"!E95\")","v":0}]
[null,null,null,"2015 Score","0 to 5",null,null,{"$f":"'RE Index | Historical Results'!G18","v":6.7815814156560753E-2},{"$f":"'RE Index | Historical Results'!H18","v":5.6045968401958997E-3},{"$f":"'RE Index | Historical Results'!I18","v":0.75294455015398032},{"$f":"'RE Index | Historical Results'!J18","v":1.2641426335153264E-2},{"$f":"'RE Index | Historical Results'!K18","v":3.5862440483214394E-2},{"$f":"'RE Index | Historical Results'!L18","v":0.10568153471435765},{"$f":"'RE Index | Historical Results'!M18","v":2.8707190079729559},{"$f":"'RE Index | Historical Results'!N18","v":1.3433777959977007},{"$f":"'RE Index | Historical Results'!O18","v":0.15303478879646401},{"$f":"'RE Index | Historical Results'!P18","v":1.2936963447066513E-2},{"$f":"'RE Index | Historical Results'!Q18","v":3.6486605616940976E-2},{"$f":"'RE Index | Historical Results'!R18","v":0.6196484203741246},{"$f":"'RE Index | Historical Results'!S18","v":1.2087269157195306},{"$f":"'RE Index | Historical Results'!T18","v":0.70317459370742108},{"$f":"'RE Index | Historical Results'!U18","v":3.4216110410388141E-2},{"$f":"'RE Index | Historical Results'!V18","v":0.7146451332749274},{"$f":"'RE Index | Historical Results'!W18","v":0.41899786779130432},{"$f":"'RE Index | Historical Results'!X18","v":0.41899786779130432},{"$f":"'RE Index | Historical Results'!Y18","v":0.34579233587178354},{"$f":"'RE Index | Historical Results'!Z18","v":0.28229866062914194},{"$f":"'RE Index | Historical Results'!AA18","v":0},{"$f":"'RE Index | Historical Results'!AB18","v":0.47752689229317036},{"$f":"'RE Index | Historical Results'!AC18","v":9.3144445421987548E-2},{"$f":"'RE Index | Historical Results'!AD18","v":7.1235893061224478E-2},{"$f":"'RE Index | Historical Results'!AE18","v":1.531438172043011E-2},{"$f":"'RE Index | Historical Results'!AF18","v":8.1071160406778265E-4},{"$f":"'RE Index | Historical Results'!AG18","v":0.99621956661599642},{"$f":"'RE Index | Historical Results'!AH18","v":9.8177605200433393E-2},{"$f":"'RE Index | Historical Results'!AI18","v":2.4644165744278648},{"$f":"'RE Index | Historical Results'!AJ18","v":4.7970154650648241E-5},{"$f":"'RE Index | Historical Results'!AK18","v":1.0231401070918708E-3},{"$f":"INDIRECT(AM$4&\"!E96\")","v":0}]
[null,null,null,"2016 Score","0 to 5",null,null,{"$f":"'RE Index | Historical Results'!G19","v":0},{"$f":"'RE Index | Historical Results'!H19","v":0},{"$f":"'RE Index | Historical Results'!I19","v":0.77253787353089165},{"$f":"'RE Index | Historical Results'!J19","v":0},{"$f":"'RE Index | Historical Results'!K19","v":0.19172685903064371},{"$f":"'RE Index | Historical Results'!L19","v":0.2397277724785945},{"$f":"'RE Index | Historical Results'!M19","v":3.9263621092162673},{"$f":"'RE Index | Historical Results'!N19","v":1.6755802758727996},{"$f":"'RE Index | Historical Results'!O19","v":0.15343047062233445},{"$f":"'RE Index | Historical Results'!P19","v":5.3649364811771662E-2},{"$f":"'RE Index | Historical Results'!Q19","v":0},{"$f":"'RE Index | Historical Results'!R19","v":0},{"$f":"'RE Index | Historical Results'!S19","v":1.091680013248947},{"$f":"'RE Index | Historical Results'!T19","v":0.85966555881907403},{"$f":"'RE Index | Historical Results'!U19","v":5.4099818698154431E-2},{"$f":"'RE Index | Historical Results'!V19","v":1.6468757639106424},{"$f":"'RE Index | Historical Results'!W19","v":0},{"$f":"'RE Index | Historical Results'!X19","v":0},{"$f":"'RE Index | Historical Results'!Y19","v":0.50009941192830321},{"$f":"'RE Index | Historical Results'!Z19","v":0.26614456001991288},{"$f":"'RE Index | Historical Results'!AA19","v":0},{"$f":"'RE Index | Historical Results'!AB19","v":0},{"$f":"'RE Index | Historical Results'!AC19","v":0.21468909736516367},{"$f":"'RE Index | Historical Results'!AD19","v":7.3981033414634148E-2},{"$f":"'RE Index | Historical Results'!AE19","v":1.5312457572127385E-2},{"$f":"'RE Index | Historical Results'!AF19","v":0},{"$f":"'RE Index | Historical Results'!AG19","v":0},{"$f":"'RE Index | Historical Results'!AH19","v":8.7498301538461526E-2},{"$f":"'RE Index | Historical Results'!AI19","v":2.4669115111367259},{"$f":"'RE Index | Historical Results'!AJ19","v":0},{"$f":"'RE Index | Historical Results'!AK19","v":0},{"$f":"INDIRECT(AM$4&\"!E97\")","v":0}]
[null,null,null,"2017 Score","0 to 5",null,null,{"$f":"'RE Index | Historical Results'!G20","v":0.13},{"$f":"'RE Index | Historical Results'!H20","v":0.31042746113989639},{"$f":"'RE Index | Historical Results'!I20","v":0.10707975757575759},{"$f":"'RE Index | Historical Results'!J20","v":0},{"$f":"'RE Index | Historical Results'!K20","v":0.34380463286713286},{"$f":"'RE Index | Historical Results'!L20","v":0.47349863434619321},{"$f":"'RE Index | Historical Results'!M20","v":2.5440716549460856},{"$f":"'RE Index | Historical Results'!N20","v":2.1083333333333334},{"$f":"'RE Index | Historical Results'!O20","v":0.25},{"$f":"'RE Index | Historical Results'!P20","v":0.31473249062529524},{"$f":"'RE Index | Historical Results'!Q20","v":0},{"$f":"'RE Index | Historical Results'!R20","v":1.2387435068894037},{"$f":"'RE Index | Historical Results'!S20","v":2.6903285263157901},{"$f":"'RE Index | Historical Results'!T20","v":0.57270391566912426},{"$f":"'RE Index | Historical Results'!U20","v":0.26363062221978145},{"$f":"'RE Index | Historical Results'!V20","v":0.90464496377508508},{"$f":"'RE Index | Historical Results'!W20","v":0.15625},{"$f":"'RE Index | Historical Results'!X20","v":0.15625},{"$f":"'RE Index | Historical Results'!Y20","v":0.79821462796045073},{"$f":"'RE Index | Historical Results'!Z20","v":0.79821462796045073},{"$f":"'RE Index | Historical Results'!AA20","v":0},{"$f":"'RE Index | Historical Results'!AB20","v":0.90208397514667982},{"$f":"'RE Index | Historical Results'!AC20","v":0.19884466506967147},{"$f":"'RE Index | Historical Results'!AD20","v":0},{"$f":"'RE Index | Historical Results'!AE20","v":0},{"$f":"'RE Index | Historical Results'!AF20","v":0.33814814814814814},{"$f":"'RE Index | Historical Results'!AG20","v":2.20658739529933},{"$f":"'RE Index | Historical Results'!AH20","v":0.31701400000000002},{"$f":"'RE Index | Historical Results'!AI20","v":2.5862229602367246},{"$f":"'RE Index | Historical Results'!AJ20","v":0.25},{"$f":"'RE Index | Historical Results'!AK20","v":0.25},{"$f":"INDIRECT(AM$4&\"!E98\")","v":0}]
[null,null,null,"2018 Score","0 to 5",null,null,{"$f":"'RE Index | Historical Results'!G21","v":0},{"$f":"'RE Index | Historical Results'!H21","v":0.05},{"$f":"'RE Index | Historical Results'!I21","v":0.74253737373737372},{"$f":"'RE Index | Historical Results'!J21","v":0},{"$f":"'RE Index | Historical Results'!K21","v":9.0244815909761522E-2},{"$f":"'RE Index | Historical Results'!L21","v":0.25067466156581236},{"$f":"'RE Index | Historical Results'!M21","v":2.7098937874449565},{"$f":"'RE Index | Historical Results'!N21","v":2.0833333333333335},{"$f":"'RE Index | Historical Results'!O21","v":0},{"$f":"'RE Index | Historical Results'!P21","v":7.1898424353679061E-2},{"$f":"'RE Index | Historical Results'!Q21","v":2.0784167166863807E-2},{"$f":"'RE Index | Historical Results'!R21","v":1.3729659679439321},{"$f":"'RE Index | Historical Results'!S21","v":1.4000000000000001},{"$f":"'RE Index | Historical Results'!T21","v":0.8},{"$f":"'RE Index | Historical Results'!U21","v":3.585853759009331E-2},{"$f":"'RE Index | Historical Results'!V21","v":1.062206572769953},{"$f":"'RE Index | Historical Results'!W21","v":0.4898527447736688},{"$f":"'RE Index | Historical Results'!X21","v":0.80832491021515729},{"$f":"'RE Index | Historical Results'!Y21","v":0.6},{"$f":"'RE Index | Historical Results'!Z21","v":0.35000000000000003},{"$f":"'RE Index | Historical Results'!AA21","v":0},{"$f":"'RE Index | Historical Results'!AB21","v":0.76715761781962311},{"$f":"'RE Index | Historical Results'!AC21","v":0.1},{"$f":"'RE Index | Historical Results'!AD21","v":0},{"$f":"'RE Index | Historical Results'!AE21","v":0},{"$f":"'RE Index | Historical Results'!AF21","v":0.62612702865157288},{"$f":"'RE Index | Historical Results'!AG21","v":0.85000000000000009},{"$f":"'RE Index | Historical Results'!AH21","v":6.2847619047619055E-2},{"$f":"'RE Index | Historical Results'!AI21","v":2.1713131042200144},{"$f":"'RE Index | Historical Results'!AJ21","v":0},{"$f":"'RE Index | Historical Results'!AK21","v":0.05},{"$f":"INDIRECT(AM$4&\"!E99\")","v":0}]
[null,null,null,"2019 Score","0 to 5",null,null,{"$f":"H26","v":0},{"$f":"I26","v":0.11989385397461447},0.74253737373737372,0,9.5812766284856493E-2,0.28005454545454544,1.2488250633232962,1.5909090909090908,0,8.1947554507955225E-2,2.0406726611316407E-2,1.25,1.0811854840440371,4.3849899448268328,3.2462687220281533E-2,1.1008111239860949,0.4898527447736688,0.94345182161936447,0.53435991298165775,0.35000000000000003,0.15714285714285714,0.74842453070238169,0.1,0,0,9.6785879216753357E-2,2.5971092984012432E-2,6.2847619047619055E-2,2.2281304301898559,0,0,7.3179999999999995E-2]
[null,null,null,"Planned renewable generation","Change",null,{"$f":"G34","v":0.3}]
[null,null,null,"2012 Score","0 to 5",null,null,{"$f":"'RE Index | Historical Results'!G24","v":0.26},{"$f":"'RE Index | Historical Results'!H24","v":0},{"$f":"'RE Index | Historical Results'!I24","v":0.05},{"$f":"'RE Index | Historical Results'!J24","v":0.21},{"$f":"'RE Index | Historical Results'!K24","v":0.6},{"$f":"'RE Index | Historical Results'!L24","v":0},{"$f":"'RE Index | Historical Results'!M24","v":0},{"$f":"'RE Index | Historical Results'!N24","v":0},{"$f":"'RE Index | Historical Results'!O24","v":0},{"$f":"'RE Index | Historical Results'!P24","v":0.18},{"$f":"'RE Index | Historical Results'!Q24","v":0},{"$f":"'RE Index | Historical Results'!R24","v":"NA"},{"$f":"'RE Index | Historical Results'!S24","v":3.7},{"$f":"'RE Index | Historical Results'!T24","v":0.85},{"$f":"'RE Index | Historical Results'!U24","v":3.2},{"$f":"'RE Index | Historical Results'!V24","v":"NA"},{"$f":"'RE Index | Historical Results'!W24","v":0},{"$f":"'RE Index | Historical Results'!X24","v":0},{"$f":"'RE Index | Historical Results'!Y24","v":0.06},{"$f":"'RE Index | Historical Results'!Z24","v":0.86},{"$f":"'RE Index | Historical Results'!AA24","v":4.5},{"$f":"'RE Index | Historical Results'!AB24","v":0.5},{"$f":"'RE Index | Historical Results'!AC24","v":0},{"$f":"'RE Index | Historical Results'!AD24","v":0},{"$f":"'RE Index | Historical Results'!AE24","v":0},{"$f":"'RE Index | Historical Results'!AF24","v":1.01},{"$f":"'RE Index | Historical Results'!AG24","v":0},{"$f":"'RE Index | Historical Results'!AH24","v":0},{"$f":"'RE Index | Historical Results'!AI24","v":0},{"$f":"'RE Index | Historical Results'!AJ24","v":0},{"$f":"'RE Index | Historical Results'!AK24","v":0},{"$f":"INDIRECT(AM$4&\"!E101\")","v":0}]
[null,null,null,"2013 Score","0 to 5",null,null,{"$f":"'RE Index | Historical Results'!G25","v":6.3811188811188815E-2},{"$f":"'RE Index | Historical Results'!H25","v":0},{"$f":"'RE Index | Historical Results'!I25","v":0.10076820813410756},{"$f":"'RE Index | Historical Results'!J25","v":0.30178437084187443},{"$f":"'RE Index | Historical Results'!K25","v":0.71030536097127561},{"$f":"'RE Index | Historical Results'!L25","v":0},{"$f":"'RE Index | Historical Results'!M25","v":0.36198572046733013},{"$f":"'RE Index | Historical Results'!N25","v":0},{"$f":"'RE Index | Historical Results'!O25","v":0},{"$f":"'RE Index | Historical Results'!P25","v":0.17457332652018398},{"$f":"'RE Index | Historical Results'!Q25","v":0},{"$f":"'RE Index | Historical Results'!R25","v":0.30254048780487808},{"$f":"'RE Index | Historical Results'!S25","v":4.1174438980250212},{"$f":"'RE Index | Historical Results'!T25","v":0.86042015286097773},{"$f":"'RE Index | Historical Results'!U25","v":2.9386145920130069},{"$f":"'RE Index | Historical Results'!V25","v":0.69307592304006127},{"$f":"'RE Index | Historical Results'!W25","v":4.0052833078101076},{"$f":"'RE Index | Historical Results'!X25","v":4.0052833078101076},{"$f":"'RE Index | Historical Results'!Y25","v":0.19418683856730026},{"$f":"'RE Index | Historical Results'!Z25","v":0.82424095646656359},{"$f":"'RE Index | Historical Results'!AA25","v":4.5},{"$f":"'RE Index | Historical Results'!AB25","v":0},{"$f":"'RE Index | Historical Results'!AC25","v":6.0755105895985942E-2},{"$f":"'RE Index | Historical Results'!AD25","v":1.1497500000000001E-2},{"$f":"'RE Index | Historical Results'!AE25","v":0},{"$f":"'RE Index | Historical Results'!AF25","v":0},{"$f":"'RE Index | Historical Results'!AG25","v":0.70101216716974657},{"$f":"'RE Index | Historical Results'!AH25","v":0.30697630985915492},{"$f":"'RE Index | Historical Results'!AI25","v":0},{"$f":"'RE Index | Historical Results'!AJ25","v":0},{"$f":"'RE Index | Historical Results'!AK25","v":0},{"$f":"INDIRECT(AM$4&\"!E102\")","v":0}]
[null,null,null,"2014 Score","0 to 5",null,null,{"$f":"'RE Index | Historical Results'!G26","v":0.17561119865884323},{"$f":"'RE Index | Historical Results'!H26","v":0},{"$f":"'RE Index | Historical Results'!I26","v":0.6533827084387589},{"$f":"'RE Index | Historical Results'!J26","v":0.3406416772309005},{"$f":"'RE Index | Historical Results'!K26","v":0.14562940660860679},{"$f":"'RE Index | Historical Results'!L26","v":0},{"$f":"'RE Index | Historical Results'!M26","v":0.36385233861767829},{"$f":"'RE Index | Historical Results'!N26","v":0},{"$f":"'RE Index | Historical Results'!O26","v":0},{"$f":"'RE Index | Historical Results'!P26","v":0.17725907000510988},{"$f":"'RE Index | Historical Results'!Q26","v":8.8293744650074737E-2},{"$f":"'RE Index | Historical Results'!R26","v":0.44666210043851445},{"$f":"'RE Index | Historical Results'!S26","v":4.1221309701786133},{"$f":"'RE Index | Historical Results'!T26","v":0.28655926850798813},{"$f":"'RE Index | Historical Results'!U26","v":9.9443765648472709E-2},{"$f":"'RE Index | Historical Results'!V26","v":0},{"$f":"'RE Index | Historical Results'!W26","v":0.37826669770290966},{"$f":"'RE Index | Historical Results'!X26","v":0.37826669770290966},{"$f":"'RE Index | Historical Results'!Y26","v":0.18701529637418274},{"$f":"'RE Index | Historical Results'!Z26","v":0.61334066624764294},{"$f":"'RE Index | Historical Results'!AA26","v":4.5},{"$f":"'RE Index | Historical Results'!AB26","v":0.23004621344712986},{"$f":"'RE Index | Historical Results'!AC26","v":0},{"$f":"'RE Index | Historical Results'!AD26","v":1.9909373558118903E-2},{"$f":"'RE Index | Historical Results'!AE26","v":0},{"$f":"'RE Index | Historical Results'!AF26","v":5.5321570859419467E-2},{"$f":"'RE Index | Historical Results'!AG26","v":4.4971730840020777E-2},{"$f":"'RE Index | Historical Results'!AH26","v":0},{"$f":"'RE Index | Historical Results'!AI26","v":0.28764751302750186},{"$f":"'RE Index | Historical Results'!AJ26","v":0},{"$f":"'RE Index | Historical Results'!AK26","v":0},{"$f":"INDIRECT(AM$4&\"!E103\")","v":0}]
[null,null,null,"2015 Score","0 to 5",null,null,{"$f":"'RE Index | Historical Results'!G27","v":0.24491375533524537},{"$f":"'RE Index | Historical Results'!H27","v":0},{"$f":"'RE Index | Historical Results'!I27","v":0.3064347123288122},{"$f":"'RE Index | Historical Results'!J27","v":5.1501037961494155E-2},{"$f":"'RE Index | Historical Results'!K27","v":1.1553250507194208},{"$f":"'RE Index | Historical Results'!L27","v":2.0317266373957552},{"$f":"'RE Index | Historical Results'!M27","v":4.5},{"$f":"'RE Index | Historical Results'!N27","v":0},{"$f":"'RE Index | Historical Results'!O27","v":0},{"$f":"'RE Index | Historical Results'!P27","v":0.2216694615487064},{"$f":"'RE Index | Historical Results'!Q27","v":8.9977923221835662E-2},{"$f":"'RE Index | Historical Results'!R27","v":0.44279505968090127},{"$f":"'RE Index | Historical Results'!S27","v":4.1283325393044308},{"$f":"'RE Index | Historical Results'!T27","v":0.32608052097328938},{"$f":"'RE Index | Historical Results'!U27","v":1.6167085672443251},{"$f":"'RE Index | Historical Results'!V27","v":3.6248748274242008E-2},{"$f":"'RE Index | Historical Results'!W27","v":0.37875592019130438},{"$f":"'RE Index | Historical Results'!X27","v":0.37875592019130438},{"$f":"'RE Index | Historical Results'!Y27","v":0.15376134528747368},{"$f":"'RE Index | Historical Results'!Z27","v":0.61334291927015938},{"$f":"'RE Index | Historical Results'!AA27","v":4.5},{"$f":"'RE Index | Historical Results'!AB27","v":3.211660734302177},{"$f":"'RE Index | Historical Results'!AC27","v":5.9521681209052948E-2},{"$f":"'RE Index | Historical Results'!AD27","v":0},{"$f":"'RE Index | Historical Results'!AE27","v":0},{"$f":"'RE Index | Historical Results'!AF27","v":5.55825952540107E-2},{"$f":"'RE Index | Historical Results'!AG27","v":2.1559900019609497},{"$f":"'RE Index | Historical Results'!AH27","v":0},{"$f":"'RE Index | Historical Results'!AI27","v":0},{"$f":"'RE Index | Historical Results'!AJ27","v":0},{"$f":"'RE Index | Historical Results'!AK27","v":0},{"$f":"INDIRECT(AM$4&\"!E104\")","v":0}]
[null,null,null,"2016 Score","0 to 5",null,null,{"$f":"'RE Index | Historical Results'!G28","v":0},{"$f":"'RE Index | Historical Results'!H28","v":0},{"$f":"'RE Index | Historical Results'!I28","v":6.7456771357661441E-2},{"$f":"'RE Index | Historical Results'!J28","v":0},{"$f":"'RE Index | Historical Results'!K28","v":0},{"$f":"'RE Index | Historical Results'!L28","v":0},{"$f":"'RE Index | Historical Results'!M28","v":0.43410586029067044},{"$f":"'RE Index | Historical Results'!N28","v":0},{"$f":"'RE Index | Historical Results'!O28","v":0.37019627320591419},{"$f":"'RE Index | Historical Results'!P28","v":0.17653170833886667},{"$f":"'RE Index | Historical Results'!Q28","v":0.22173401161568562},{"$f":"'RE Index | Historical Results'!R28","v":0},{"$f":"'RE Index | Historical Results'!S28","v":4.0765076884210529},{"$f":"'RE Index | Historical Results'!T28","v":0.29735941162274904},{"$f":"'RE Index | Historical Results'!U28","v":0},{"$f":"'RE Index | Historical Results'!V28","v":0.22349498083555594},{"$f":"'RE Index | Historical Results'!W28","v":0},{"$f":"'RE Index | Historical Results'!X28","v":0},{"$f":"'RE Index | Historical Results'!Y28","v":7.1835191461638692E-2},{"$f":"'RE Index | Historical Results'!Z28","v":0.80785123298841521},{"$f":"'RE Index | Historical Results'!AA28","v":0},{"$f":"'RE Index | Historical Results'!AB28","v":0},{"$f":"'RE Index | Historical Results'!AC28","v":0},{"$f":"'RE Index | Historical Results'!AD28","v":0},{"$f":"'RE Index | Historical Results'!AE28","v":0},{"$f":"'RE Index | Historical Results'!AF28","v":0},{"$f":"'RE Index | Historical Results'!AG28","v":0},{"$f":"'RE Index | Historical Results'!AH28","v":0},{"$f":"'RE Index | Historical Results'!AI28","v":0},{"$f":"'RE Index | Historical Results'!AJ28","v":0},{"$f":"'RE Index | Historical Results'!AK28","v":0},{"$f":"INDIRECT(AM$4&\"!E105\")","v":0}]
[null,null,null,"2017 Score","0 to 5",null,null,{"$f":"'RE Index | Historical Results'!G29","v":0},{"$f":"'RE Index | Historical Results'!H29","v":0.23839073453215487},{"$f":"'RE Index | Historical Results'!I29","v":0},{"$f":"'RE Index | Historical Results'!J29","v":0},{"$f":"'RE Index | Historical Results'!K29","v":0.17611888111888116},{"$f":"'RE Index | Historical Results'!L29","v":0.2121941959713213},{"$f":"'RE Index | Historical Results'!M29","v":0},{"$f":"'RE Index | Historical Results'!N29","v":0},{"$f":"'RE Index | Historical Results'!O29","v":0},{"$f":"'RE Index | Historical Results'!P29","v":0.19719168208010976},{"$f":"'RE Index | Historical Results'!Q29","v":0},{"$f":"'RE Index | Historical Results'!R29","v":0.27851120595049395},{"$f":"'RE Index | Historical Results'!S29","v":2.112878465520081},{"$f":"'RE Index | Historical Results'!T29","v":0.33466981399614026},{"$f":"'RE Index | Historical Results'!U29","v":2.0445933329672141},{"$f":"'RE Index | Historical Results'!V29","v":0.33056588831185491},{"$f":"'RE Index | Historical Results'!W29","v":0},{"$f":"'RE Index | Historical Results'!X29","v":0},{"$f":"'RE Index | Historical Results'!Y29","v":0.12731658808921592},{"$f":"'RE Index | Historical Results'!Z29","v":0.12731658808921592},{"$f":"'RE Index | Historical Results'!AA29","v":0},{"$f":"'RE Index | Historical Results'!AB29","v":4.06137260942557},{"$f":"'RE Index | Historical Results'!AC29","v":7.6003189935775317E-2},{"$f":"'RE Index | Historical Results'!AD29","v":0},{"$f":"'RE Index | Historical Results'!AE29","v":0},{"$f":"'RE Index | Historical Results'!AF29","v":2.697128296296297},{"$f":"'RE Index | Historical Results'!AG29","v":2.3877585634647174},{"$f":"'RE Index | Historical Results'!AH29","v":3.4479360000000003},{"$f":"'RE Index | Historical Results'!AI29","v":0},{"$f":"'RE Index | Historical Results'!AJ29","v":0.10000000000000003},{"$f":"'RE Index | Historical Results'!AK29","v":0.1368133835971207},{"$f":"INDIRECT(AM$4&\"!E106\")","v":0}]
[null,null,null,"2018 Score","0 to 5",null,null,{"$f":"'RE Index | Historical Results'!G30","v":0},{"$f":"'RE Index | Historical Results'!H30","v":5.4974747474747468E-2},{"$f":"'RE Index | Historical Results'!I30","v":1.9865319865319864E-2},{"$f":"'RE Index | Historical Results'!J30","v":0.6576799078871618},{"$f":"'RE Index | Historical Results'!K30","v":0.64265686159652058},{"$f":"'RE Index | Historical Results'!L30","v":0.58834522692624958},{"$f":"'RE Index | Historical Results'!M30","v":1.3239482048516533},{"$f":"'RE Index | Historical Results'!N30","v":0.55555555555555558},{"$f":"'RE Index | Historical Results'!O30","v":0.33579999999999999},{"$f":"'RE Index | Historical Results'!P30","v":0.69702167151088679},{"$f":"'RE Index | Historical Results'!Q30","v":0.36494270217251756},{"$f":"'RE Index | Historical Results'!R30","v":1.4190879551745228},{"$f":"'RE Index | Historical Results'!S30","v":5},{"$f":"'RE Index | Historical Results'!T30","v":5},{"$f":"'RE Index | Historical Results'!U30","v":1.361583834777365},{"$f":"'RE Index | Historical Results'!V30","v":1.7097026604068859},{"$f":"'RE Index | Historical Results'!W30","v":0.10786609028046319},{"$f":"'RE Index | Historical Results'!X30","v":0},{"$f":"'RE Index | Historical Results'!Y30","v":1.2987434284268495},{"$f":"'RE Index | Historical Results'!Z30","v":4.5858974358974354E-2},{"$f":"'RE Index | Historical Results'!AA30","v":4.0302176627042288},{"$f":"'RE Index | Historical Results'!AB30","v":2.0678216422344908},{"$f":"'RE Index | Historical Results'!AC30","v":0.76462254864254275},{"$f":"'RE Index | Historical Results'!AD30","v":0},{"$f":"'RE Index | Historical Results'!AE30","v":0},{"$f":"'RE Index | Historical Results'!AF30","v":3.0600636701618464},{"$f":"'RE Index | Historical Results'!AG30","v":0.81099338306872681},{"$f":"'RE Index | Historical Results'!AH30","v":1.7559833777777778},{"$f":"'RE Index | Historical Results'!AI30","v":0.55689875555555557},{"$f":"'RE Index | Historical Results'!AJ30","v":0.55555555555555558},{"$f":"'RE Index | Historical Results'!AK30","v":1.1264500209432446},{"$f":"INDIRECT(AM$4&\"!E107\")","v":0}]
[null,null,null,"2019 Score","0 to 5",null,null,{"$f":"H34","v":0},{"$f":"I34","v":1.6411085533755596},0,2.0537396107350525,2.2804977927964272,1.1111111111111112,1.1111111111111112,0,0.55555555555555558,0,0,1.1442929292929294,2.4345153359896798,0,0,1.7020728724089096,0,0,1.299159669912598,0,1.9031746031746031,1.1111111111111112,1.1111111111111112,0,0,0,0,0,0,0.55555555555555558,1.16429552807694,0]
[null,null,null,"Electric Mobility","Change",null,{"$f":"G42","v":0.09}]
[null,null,null,"2018 Score","0 to 5",null,null,{"$f":"'RE Index | Historical Results'!G33","v":0},{"$f":"'RE Index | Historical Results'!H33","v":0},{"$f":"'RE Index | Historical Results'!I33","v":0},{"$f":"'RE Index | Historical Results'!J33","v":0},{"$f":"'RE Index | Historical Results'!K33","v":2.5},{"$f":"'RE Index | Historical Results'!L33","v":0},{"$f":"'RE Index | Historical Results'!M33","v":0},{"$f":"'RE Index | Historical Results'!N33","v":0},{"$f":"'RE Index | Historical Results'!O33","v":0},{"$f":"'RE Index | Historical Results'!P33","v":5},{"$f":"'RE Index | Historical Results'!Q33","v":0},{"$f":"'RE Index | Historical Results'!R33","v":0},{"$f":"'RE Index | Historical Results'!S33","v":2.5},{"$f":"'RE Index | Historical Results'!T33","v":0},{"$f":"'RE Index | Historical Results'!U33","v":0},{"$f":"'RE Index | Historical Results'!V33","v":5},{"$f":"'RE Index | Historical Results'!W33","v":0},{"$f":"'RE Index | Historical Results'!X33","v":0},{"$f":"'RE Index | Historical Results'!Y33","v":2.5},{"$f":"'RE Index | Historical Results'!Z33","v":0},{"$f":"'RE Index | Historical Results'!AA33","v":0},{"$f":"'RE Index | Historical Results'!AB33","v":0},{"$f":"'RE Index | Historical Results'!AC33","v":0},{"$f":"'RE Index | Historical Results'!AD33","v":0},{"$f":"'RE Index | Historical Results'!AE33","v":0},{"$f":"'RE Index | Historical Results'!AF33","v":2.5},{"$f":"'RE Index | Historical Results'!AG33","v":0},{"$f":"'RE Index | Historical Results'!AH33","v":0},{"$f":"'RE Index | Historical Results'!AI33","v":0},{"$f":"'RE Index | Historical Results'!AJ33","v":0},{"$f":"'RE Index | Historical Results'!AK33","v":0},{"$f":"INDIRECT(AM$4&\"!E109\")","v":0}]
[null,null,null,"2019 Score","0 to 5",null,null,{"$f":"H42","v":0},{"$f":"I42","v":0},0,2.5,2.5,0,0,0,0,5,0,2.5,2.5,0,0,5,0,0,5,0,2.5,0,0,0,0,2.5,0,0,0,2.5,0,0]
[null,null,null,"Covid Response",null,null,0.01]
[null,null,null,"2019 Score","0 to 5",null,null,{"$f":"'RE Index | Historical Results'!G36","v":0},{"$f":"'RE Index | Historical Results'!H36","v":5},{"$f":"'RE Index | Historical Results'!I36","v":0},{"$f":"'RE Index | Historical Results'!J36","v":5},{"$f":"'RE Index | Historical Results'!K36","v":5},{"$f":"'RE Index | Historical Results'!L36","v":0},{"$f":"'RE Index | Historical Results'!M36","v":5},{"$f":"'RE Index | Historical Results'!N36","v":0},{"$f":"'RE Index | Historical Results'!O36","v":5},{"$f":"'RE Index | Historical Results'!P36","v":0},{"$f":"'RE Index | Historical Results'!Q36","v":0},{"$f":"'RE Index | Historical Results'!R36","v":5},{"$f":"'RE Index | Historical Results'!S36","v":0},{"$f":"'RE Index | Historical Results'!T36","v":0},{"$f":"'RE Index | Historical Results'!U36","v":5},{"$f":"'RE Index | Historical Results'!V36","v":5},{"$f":"'RE Index | Historical Results'!W36","v":0},{"$f":"'RE Index | Historical Results'!X36","v":0},{"$f":"'RE Index | Historical Results'!Y36","v":5},{"$f":"'RE Index | Historical Results'!Z36","v":0},{"$f":"'RE Index | Historical Results'!AA36","v":0},{"$f":"'RE Index | Historical Results'!AB36","v":0},{"$f":"'RE Index | Historical Results'!AC36","v":0},{"$f":"'RE Index | Historical Results'!AD36","v":0},{"$f":"'RE Index | Historical Results'!AE36","v":0},{"$f":"'RE Index | Historical Results'!AF36","v":0},{"$f":"'RE Index | Historical Results'!AG36","v":0},{"$f":"'RE Index | Historical Results'!AH36","v":0},{"$f":"'RE Index | Historical Results'!AI36","v":0},{"$f":"'RE Index | Historical Results'!AJ36","v":0},{"$f":"'RE Index | Historical Results'!AK36","v":0},{"$f":"'RE Index | Historical Results'!AL36","v":0}]
[null,null,null,"Overall Score Year-on-Year",null,null,null,{"$f":"H137-H136","v":-31},{"$f":"'RE Index | Historical Results'!H37","v":0.39680829796262795},{"$f":"'RE Index | Historical Results'!I37","v":-5.9595959595959702E-3},{"$f":"'RE Index | Historical Results'!J37","v":0.83444291085436717},{"$f":"'RE Index | Historical Results'!K37","v":0.66802266447250047},{"$f":"'RE Index | Historical Results'!L37","v":-3.1062695779215943E-3},{"$f":"'RE Index | Historical Results'!M37","v":-0.4099842453586604},{"$f":"'RE Index | Historical Results'!N37","v":-1.4628314393939392},{"$f":"'RE Index | Historical Results'!O37","v":1.1659266666666668},{"$f":"'RE Index | Historical Results'!P37","v":-1.2639042624069834},{"$f":"'RE Index | Historical Results'!Q37","v":-0.10959604281841948},{"$f":"'RE Index | Historical Results'!R37","v":-0.27557829814765777},{"$f":"'RE Index | Historical Results'!S37","v":-0.35122725398988486},{"$f":"'RE Index | Historical Results'!T37","v":-0.86044051655194997},{"$f":"'RE Index | Historical Results'!U37","v":-0.71105640554415295},{"$f":"'RE Index | Historical Results'!V37","v":-0.10789507103455076},{"$f":"'RE Index | Historical Results'!W37","v":-3.2359827084138953E-2},{"$f":"'RE Index | Historical Results'!X37","v":0.4436630734212621},{"$f":"'RE Index | Historical Results'!Y37","v":0.69449534634022125},{"$f":"'RE Index | Historical Results'!Z37","v":-1.3757692307692304E-2},{"$f":"'RE Index | Historical Results'!AA37","v":0.22465493928396918},{"$f":"'RE Index | Historical Results'!AB37","v":-0.38638308547218636},{"$f":"'RE Index | Historical Results'!AC37","v":1.0789465687405704},{"$f":"'RE Index | Historical Results'!AD37","v":0},{"$f":"'RE Index | Historical Results'!AE37","v":0},{"$f":"'RE Index | Historical Results'!AF37","v":-0.84400894587899977},{"$f":"'RE Index | Historical Results'!AG37","v":-0.34988168702541422},{"$f":"'RE Index | Historical Results'!AH37","v":-0.61585751333333327},{"$f":"'RE Index | Historical Results'!AI37","v":-0.85314942887571432},{"$f":"'RE Index | Historical Results'!AJ37","v":0.6796875},{"$f":"'RE Index | Historical Results'!AK37","v":0.2307286521401084},{"$f":"INDIRECT(AM$4&\"!E110\")","v":0}]
[null,null,null,"2012 Overall Score",null,null,null,{"$f":"'RE Index | Historical Results'!G38","v":0.85910000000000009},{"$f":"INDIRECT(I$4&\"!E111\")","v":0},0,0,0,0,0,0,0,0,0,0,0,0,0,0,0,0,0,0,0,0,0,0,0,0,0,0,0,0,0,{"$f":"INDIRECT(AM$4&\"!E111\")","v":0}]
[null,null,null,"2012 Rank",null,null,null,{"$f":"'RE Index | Historical Results'!G39","v":13},{"$f":"INDIRECT(I$4&\"!E112\")","v":0},0,0,0,0,0,0,0,0,0,0,0,0,0,0,0,0,0,0,0,0,0,0,0,0,0,0,0,0,0,{"$f":"INDIRECT(AM$4&\"!E112\")","v":0}]
[null,null,null,"2013 Overall Score",null,null,null,{"$f":"'RE Index | Historical Results'!G40","v":0.79904817404817408},{"$f":"INDIRECT(I$4&\"!E113\")","v":0},0,0,0,0,0,0,0,0,0,0,0,0,0,0,0,0,0,0,0,0,0,0,0,0,0,0,0,0,0,{"$f":"INDIRECT(AM$4&\"!E113\")","v":0}]
[null,null,null,"2013 Rank",null,null,null,{"$f":"'RE Index | Historical Results'!G41","v":21},{"$f":"INDIRECT(I$4&\"!E114\")","v":0},0,0,0,0,0,0,0,0,0,0,0,0,0,0,0,0,0,0,0,0,0,0,0,0,0,0,0,0,0,{"$f":"INDIRECT(AM$4&\"!E114\")","v":0}]
[null,null,null,"2014 Overall Score",null,null,null,{"$f":"'RE Index | Historical Results'!G42","v":0.86454365545151468},{"$f":"INDIRECT(I$4&\"!E115\")","v":0},0,0,0,0,0,0,0,0,0,0,0,0,0,0,0,0,0,0,0,0,0,0,0,0,0,0,0,0,0,{"$f":"INDIRECT(AM$4&\"!E115\")","v":0}]
[null,null,null,"2014 Rank",null,null,null,{"$f":"'RE Index | Historical Results'!G43","v":18},{"$f":"INDIRECT(I$4&\"!E116\")","v":0},0,0,0,0,0,0,0,0,0,0,0,0,0,0,0,0,0,0,0,0,0,0,0,0,0,0,0,0,0,{"$f":"INDIRECT(AM$4&\"!E116\")","v":0}]
[null,null,null,"2015 Overall Score",null,null,null,{"$f":"'RE Index | Historical Results'!G44","v":0.88202096760837989},{"$f":"INDIRECT(I$4&\"!E117\")","v":0},0,0,0,0,0,0,0,0,0,0,0,0,0,0,0,0,0,0,0,0,0,0,0,0,0,0,0,0,0,{"$f":"INDIRECT(AM$4&\"!E117\")","v":0}]
[null,null,null,"2015 Rank",null,null,null,{"$f":"'RE Index | Historical Results'!G45","v":19},{"$f":"INDIRECT(I$4&\"!E118\")","v":0},0,0,0,0,0,0,0,0,0,0,0,0,0,0,0,0,0,0,0,0,0,0,0,0,0,0,0,0,0,{"$f":"INDIRECT(AM$4&\"!E118\")","v":0}]
[null,null,null,"2016 Overall Score",null,null,null,{"$f":"'RE Index | Historical Results'!G46","v":0.44444444444444442},{"$f":"INDIRECT(I$4&\"!E119\")","v":0},0,0,0,0,0,0,0,0,0,0,0,0,0,0,0,0,0,0,0,0,0,0,0,0,0,0,0,0,0,{"$f":"INDIRECT(AM$4&\"!E119\")","v":0}]
[null,null,null,"2016 Rank",null,null,null,{"$f":"'RE Index | Historical Results'!G47","v":25},{"$f":"INDIRECT(I$4&\"!E120\")","v":0},0,0,0,0,0,0,0,0,0,0,0,0,0,0,0,0,0,0,0,0,0,0,0,0,0,0,0,0,0,{"$f":"INDIRECT(AM$4&\"!E120\")","v":0}]
[null,null,null,"2017 Overall Score",null,null,null,{"$f":"'RE Index | Historical Results'!G48","v":0.66833333333333333},{"$f":"INDIRECT(I$4&\"!E121\")","v":0},0,0,0,0,0,0,0,0,0,0,0,0,0,0,0,0,0,0,0,0,0,0,0,0,0,0,0,0,0,{"$f":"INDIRECT(AM$4&\"!E121\")","v":0}]
[null,null,null,"2017 Rank",null,null,null,{"$f":"'RE Index | Historical Results'!G49","v":25},{"$f":"INDIRECT(I$4&\"!E122\")","v":0},0,0,0,0,0,0,0,0,0,0,0,0,0,0,0,0,0,0,0,0,0,0,0,0,0,0,0,0,0,{"$f":"INDIRECT(AM$4&\"!E122\")","v":0}]
[null,null,null,"2018 Overall Score",null,null,null,{"$f":"'RE Index | Historical Results'!G50","v":0},{"$f":"'RE Index | Historical Results'!H50","v":1.3439924242424242},{"$f":"'RE Index | Historical Results'!I50","v":0.22872080808080808},{"$f":"'RE Index | Historical Results'!J50","v":1.0316789723661486},{"$f":"'RE Index | Historical Results'!K50","v":1.4073705032518846},{"$f":"'RE Index | Historical Results'!L50","v":1.6579559665476185},{"$f":"'RE Index | Historical Results'!M50","v":2.2179650976889826},{"$f":"'RE Index | Historical Results'!N50","v":2.1276041666666665},{"$f":"'RE Index | Historical Results'!O50","v":0.10074},{"$f":"'RE Index | Historical Results'!P50","v":2.1134885287593699},{"$f":"'RE Index | Historical Results'!Q50","v":0.1157180608018144},{"$f":"'RE Index | Historical Results'!R50","v":2.2438661769355366},{"$f":"'RE Index | Historical Results'!S50","v":3.1309374999999999},{"$f":"'RE Index | Historical Results'!T50","v":2.5509374999999999},{"$f":"'RE Index | Historical Results'!U50","v":1.3332952117102375},{"$f":"'RE Index | Historical Results'!V50","v":2.761260269953052},{"$f":"'RE Index | Historical Results'!W50","v":0.1793156505162396},{"$f":"'RE Index | Historical Results'!X50","v":0.43937247306454719},{"$f":"'RE Index | Historical Results'!Y50","v":1.8555605285280548},{"$f":"'RE Index | Historical Results'!Z50","v":0.11875769230769231},{"$f":"'RE Index | Historical Results'!AA50","v":1.2559402988112687},{"$f":"'RE Index | Historical Results'!AB50","v":1.6942437780162343},{"$f":"'RE Index | Historical Results'!AC50","v":0.25938676459276278},{"$f":"'RE Index | Historical Results'!AD50","v":0},{"$f":"'RE Index | Historical Results'!AE50","v":0},{"$f":"'RE Index | Historical Results'!AF50","v":1.4730447096440258},{"$f":"'RE Index | Historical Results'!AG50","v":0.54517301492061798},{"$f":"'RE Index | Historical Results'!AH50","v":1.009711799047619},{"$f":"'RE Index | Historical Results'!AI50","v":1.7090885579326711},{"$f":"'RE Index | Historical Results'!AJ50","v":0.23697916666666666},{"$f":"'RE Index | Historical Results'!AK50","v":0.86856000628297347},{"$f":"'RE Index | Historical Results'!AL50","v":0.6640255284821085}]
[null,null,null,"2018 Rank",null,null,null,{"$f":"'RE Index | Historical Results'!G51","v":31},{"$f":"'RE Index | Historical Results'!H51","v":14},{"$f":"'RE Index | Historical Results'!I51","v":25},{"$f":"'RE Index | Historical Results'!J51","v":17},{"$f":"'RE Index | Historical Results'!K51","v":13},{"$f":"'RE Index | Historical Results'!L51","v":11},{"$f":"'RE Index | Historical Results'!M51","v":5},{"$f":"'RE Index | Historical Results'!N51","v":6},{"$f":"'RE Index | Historical Results'!O51","v":29},{"$f":"'RE Index | Historical Results'!P51","v":7},{"$f":"'RE Index | Historical Results'!Q51","v":28},{"$f":"'RE Index | Historical Results'!R51","v":4},{"$f":"'RE Index | Historical Results'!S51","v":1},{"$f":"'RE Index | Historical Results'!T51","v":3},{"$f":"'RE Index | Historical Results'!U51","v":15},{"$f":"'RE Index | Historical Results'!V51","v":2},{"$f":"'RE Index | Historical Results'!W51","v":26},{"$f":"'RE Index | Historical Results'!X51","v":22},{"$f":"'RE Index | Historical Results'!Y51","v":8},{"$f":"'RE Index | Historical Results'!Z51","v":27},{"$f":"'RE Index | Historical Results'!AA51","v":16},{"$f":"'RE Index | Historical Results'!AB51","v":10},{"$f":"'RE Index | Historical Results'!AC51","v":23},{"$f":"'RE Index | Historical Results'!AD51","v":31},{"$f":"'RE Index | Historical Results'!AE51","v":31},{"$f":"'RE Index | Historical Results'!AF51","v":12},{"$f":"'RE Index | Historical Results'!AG51","v":21},{"$f":"'RE Index | Historical Results'!AH51","v":18},{"$f":"'RE Index | Historical Results'!AI51","v":9},{"$f":"'RE Index | Historical Results'!AJ51","v":24},{"$f":"'RE Index | Historical Results'!AK51","v":19},{"$f":"'RE Index | Historical Results'!AL51","v":20}]
[null,null,null,"2019 Overall Score",null,null,null,{"$f":"H6","v":0},1.7408007222050521,0.22276121212121211,1.8661218832205158,2.0753931677243851,1.6548496969696969,1.8079808523303222,0.66477272727272729,1.2666666666666668,0.84958426635238649,6.1220179833949223E-3,1.9682878787878788,2.7797102460101151,1.6904969834480499,0.62223880616608451,2.6533651989185012,0.14695582343210065,0.88303554648580929,2.550055874868276,0.10500000000000001,1.4805952380952379,1.3078606925440479,1.3383333333333332,0,0,0.62903576376502601,0.19529132789520373,0.39385428571428571,0.85593912905695679,0.91666666666666663,1.0992886584230819,0.209454]
[null,null,null,"2019 Rank",null,null,null,{"$f":"_xlfn.RANK.AVG(H137,$H$137:$AM$137,0)","v":31},{"$f":"_xlfn.RANK.AVG(I137,$H$137:$AM$137,0)","v":8},24,6,4,10,7,20,14,19,29,5,{"$f":"_xlfn.RANK.AVG(T137,$H$137:$AM$137,0)","v":1},9,22,2,27,17,3,28,11,13,12,31,31,21,26,23,18,16,15,25]
[null,null,null,"Rank change 2018 to 2019",null,null,null,{"$f":"H138-H136","v":0},{"$f":"I138-I136","v":-6},{"$f":"J138-J136","v":-1},-11,-9,-1,2,14,-15,12,1,1,0,6,7,0,1,-5,-5,1,-5,3,-11,0,0,9,5,5,9,-8,-4,5]

{"sheet":"RE Index | Results Summary","index":2,"n_rows":57,"n_cols":29,"rows_kept":57,"cut":false,"hidden":false,"merged":[[9,15,9,17],[8,1,8,17],[9,3,9,5],[9,6,9,8],[9,9,9,11],[9,1,9,2],[9,12,9,14]]}
[]
["Component 1","Enabling environment for renewable energy (RE) investments"]
["Component 2","Existing renewable generation"]
["Component 3","Planned renewable generation"]
["Component 4","Electric mobility"]
["Component 5","COVID"]
[]
[]
[null,"Overall score"]
[null,"Overall Score",null,"Enabling environment for RE investments",null,null,"Existing renewable generation",null,null,"Planned renewable generation",null,null,"Electric Mobility",null,null,"COVID Response"]
["Weights",{"$f":"SUM(D11:P11)","v":0.99999999999999989},"Rank",{"$f":"'RE Index | Ranking inputs'!G8","v":0.3},null,"Rank",{"$f":"'RE Index | Ranking inputs'!G26","v":0.3},null,"Rank",{"$f":"'RE Index | Ranking inputs'!F34","v":0.3},null,"Rank",{"$f":"'RE Index | Ranking inputs'!G42","v":0.09},null,"Rank",{"$f":"'RE Index | Ranking inputs'!G46","v":0.01},null,"Rank"]
["Dominica",{"$f":"IFERROR(HLOOKUP(A12,'RE Index | Ranking inputs'!$H$5:$AM$7,2,FALSE),0)","v":2.7797102460101151},{"$f":"RANK( B12, $B$12:$B$28)","v":1},{"$f":"IF(ISNUMBER(E12),E12*$D$11,\"\")","v":1.5},{"$f":"HLOOKUP(A12,'RE Index | Ranking inputs'!$H$5:$AM$8,4,FALSE)","v":5},{"$f":"RANK(E12,$E$12:$E$28)","v":1},{"$f":"IF(ISNUMBER(H12),H12*$G$11,\"\")","v":0.32435564521321114},{"$f":"IFERROR(HLOOKUP(A12,'RE Index | Ranking inputs'!$H$5:$AM$26,22,FALSE),0)","v":1.0811854840440371},{"$f":"RANK(H12,$H$12:$H$28)","v":4},{"$f":"IF(ISNUMBER(K12),K12*$J$11,\"\")","v":0.73035460079690395},{"$f":"HLOOKUP(A12,'RE Index | Ranking inputs'!$H$5:$AM$34,30,FALSE)","v":2.4345153359896798},{"$f":"RANK(K12,$K$12:$K$28)","v":1},{"$f":"IF(ISNUMBER(N12),N12*$M$11,\"\")","v":0.22499999999999998},{"$f":"HLOOKUP(A12,'RE Index | Ranking inputs'!$H$5:$AM$42,38,FALSE)","v":2.5},{"$f":"RANK(N12,$N$12:$N$28)","v":3},{"$f":"IF(ISNUMBER(Q12),Q12*$P$11,\"\")","v":0},{"$f":"HLOOKUP(A12,'RE Index | Ranking inputs'!$H$5:$AM$46,42,FALSE)","v":0},{"$f":"RANK(Q12,$Q$12:Q28)","v":10}]
["Guadeloupe",{"$f":"IFERROR(HLOOKUP(A13,'RE Index | Ranking inputs'!$H$5:$AM$7,2,FALSE),0)","v":2.6533651989185012},2,1.3125,{"$f":"HLOOKUP(A13,'RE Index | Ranking inputs'!$H$5:$AM$8,4,FALSE)","v":4.375},{"$f":"RANK( E13, $E$12:$E$28)","v":3},0.33024333719582849,{"$f":"IFERROR(HLOOKUP(A13,'RE Index | Ranking inputs'!$H$5:$AM$26,22,FALSE),0)","v":1.1008111239860949},3,0.51062186172267288,{"$f":"HLOOKUP(A13,'RE Index | Ranking inputs'!$H$5:$AM$34,30,FALSE)","v":1.7020728724089096},5,0.44999999999999996,{"$f":"HLOOKUP(A13,'RE Index | Ranking inputs'!$H$5:$AM$42,38,FALSE)","v":5},1,0.05,{"$f":"HLOOKUP(A13,'RE Index | Ranking inputs'!$H$5:$AM$46,42,FALSE)","v":5},{"$f":"RANK(Q13,$Q$12:Q29)","v":1}]
["Jamaica",{"$f":"IFERROR(HLOOKUP(A14,'RE Index | Ranking inputs'!$H$5:$AM$7,2,FALSE),0)","v":2.550055874868276},3,1.5,{"$f":"HLOOKUP(A14,'RE Index | Ranking inputs'!$H$5:$AM$8,4,FALSE)","v":5},1,0.16030797389449733,{"$f":"IFERROR(HLOOKUP(A14,'RE Index | Ranking inputs'!$H$5:$AM$26,22,FALSE),0)","v":0.53435991298165775},7,0.38974790097377937,{"$f":"HLOOKUP(A14,'RE Index | Ranking inputs'!$H$5:$AM$34,30,FALSE)","v":1.299159669912598},7,0.44999999999999996,{"$f":"HLOOKUP(A14,'RE Index | Ranking inputs'!$H$5:$AM$42,38,FALSE)","v":5},1,0.05,{"$f":"HLOOKUP(A14,'RE Index | Ranking inputs'!$H$5:$AM$46,42,FALSE)","v":5},{"$f":"RANK(Q14,$Q$12:Q30)","v":1}]
["Barbados",{"$f":"IFERROR(HLOOKUP(A15,'RE Index | Ranking inputs'!$H$5:$AM$7,2,FALSE),0)","v":2.0753931677243851},4,1.0874999999999999,{"$f":"HLOOKUP(A15,'RE Index | Ranking inputs'!$H$5:$AM$8,4,FALSE)","v":3.625},6,2.8743829885456946E-2,{"$f":"IFERROR(HLOOKUP(A15,'RE Index | Ranking inputs'!$H$5:$AM$26,22,FALSE),0)","v":9.5812766284856493E-2},12,0.68414933783892817,{"$f":"HLOOKUP(A15,'RE Index | Ranking inputs'!$H$5:$AM$34,30,FALSE)","v":2.2804977927964272},2,0.22499999999999998,{"$f":"HLOOKUP(A15,'RE Index | Ranking inputs'!$H$5:$AM$42,38,FALSE)","v":2.5},3,0.05,{"$f":"HLOOKUP(A15,'RE Index | Ranking inputs'!$H$5:$AM$46,42,FALSE)","v":5},{"$f":"RANK(Q15,$Q$12:Q31)","v":1}]
["Curaҫao",{"$f":"IFERROR(HLOOKUP(A16,'RE Index | Ranking inputs'!$H$5:$AM$7,2,FALSE),0)","v":1.9682878787878788},5,0.97499999999999998,{"$f":"HLOOKUP(A16,'RE Index | Ranking inputs'!$H$5:$AM$8,4,FALSE)","v":3.25},9,0.375,{"$f":"IFERROR(HLOOKUP(A16,'RE Index | Ranking inputs'!$H$5:$AM$26,22,FALSE),0)","v":1.25},1,0.34328787878787881,{"$f":"HLOOKUP(A16,'RE Index | Ranking inputs'!$H$5:$AM$34,30,FALSE)","v":1.1442929292929294},9,0.22499999999999998,{"$f":"HLOOKUP(A16,'RE Index | Ranking inputs'!$H$5:$AM$42,38,FALSE)","v":2.5},3,0.05,{"$f":"HLOOKUP(A16,'RE Index | Ranking inputs'!$H$5:$AM$46,42,FALSE)","v":5},{"$f":"RANK(Q16,$Q$12:Q32)","v":1}]
["The Bahamas",{"$f":"IFERROR(HLOOKUP(A17,'RE Index | Ranking inputs'!$H$5:$AM$7,2,FALSE),0)","v":1.8661218832205158},6,0.97499999999999998,{"$f":"HLOOKUP(A17,'RE Index | Ranking inputs'!$H$5:$AM$8,4,FALSE)","v":3.25},9,0,{"$f":"IFERROR(HLOOKUP(A17,'RE Index | Ranking inputs'!$H$5:$AM$26,22,FALSE),0)","v":0},14,0.61612188322051575,{"$f":"HLOOKUP(A17,'RE Index | Ranking inputs'!$H$5:$AM$34,30,FALSE)","v":2.0537396107350525},3,0.22499999999999998,{"$f":"HLOOKUP(A17,'RE Index | Ranking inputs'!$H$5:$AM$42,38,FALSE)","v":2.5},3,0.05,{"$f":"HLOOKUP(A17,'RE Index | Ranking inputs'!$H$5:$AM$46,42,FALSE)","v":5},{"$f":"RANK(Q17,$Q$12:Q33)","v":1}]
["Belize",{"$f":"IFERROR(HLOOKUP(A18,'RE Index | Ranking inputs'!$H$5:$AM$7,2,FALSE),0)","v":1.8079808523303222},7,1.05,{"$f":"HLOOKUP(A18,'RE Index | Ranking inputs'!$H$5:$AM$8,4,FALSE)","v":3.5},7,0.37464751899698884,{"$f":"IFERROR(HLOOKUP(A18,'RE Index | Ranking inputs'!$H$5:$AM$26,22,FALSE),0)","v":1.2488250633232962},2,0.33333333333333331,{"$f":"HLOOKUP(A18,'RE Index | Ranking inputs'!$H$5:$AM$34,30,FALSE)","v":1.1111111111111112},10,0,{"$f":"HLOOKUP(A18,'RE Index | Ranking inputs'!$H$5:$AM$42,38,FALSE)","v":0},9,0.05,{"$f":"HLOOKUP(A18,'RE Index | Ranking inputs'!$H$5:$AM$46,42,FALSE)","v":5},{"$f":"RANK(Q18,$Q$12:Q34)","v":1}]
["Antigua & Barbuda",{"$f":"IFERROR(HLOOKUP(A19,'RE Index | Ranking inputs'!$H$5:$AM$7,2,FALSE),0)","v":1.7408007222050521},8,1.1624999999999999,{"$f":"HLOOKUP(A19,'RE Index | Ranking inputs'!$H$5:$AM$8,4,FALSE)","v":3.875},5,3.5968156192384339E-2,{"$f":"IFERROR(HLOOKUP(A19,'RE Index | Ranking inputs'!$H$5:$AM$26,22,FALSE),0)","v":0.11989385397461447},10,0.49233256601266784,{"$f":"HLOOKUP(A19,'RE Index | Ranking inputs'!$H$5:$AM$34,30,FALSE)","v":1.6411085533755596},6,0,{"$f":"HLOOKUP(A19,'RE Index | Ranking inputs'!$H$5:$AM$42,38,FALSE)","v":0},9,0.05,{"$f":"HLOOKUP(A19,'RE Index | Ranking inputs'!$H$5:$AM$46,42,FALSE)","v":5},{"$f":"RANK(Q19,$Q$12:Q35)","v":1}]
["Bermuda",{"$f":"IFERROR(HLOOKUP(A20,'RE Index | Ranking inputs'!$H$5:$AM$7,2,FALSE),0)","v":1.6548496969696969},9,1.2375,{"$f":"HLOOKUP(A20,'RE Index | Ranking inputs'!$H$5:$AM$8,4,FALSE)","v":4.125},4,8.4016363636363625E-2,{"$f":"IFERROR(HLOOKUP(A20,'RE Index | Ranking inputs'!$H$5:$AM$26,22,FALSE),0)","v":0.28005454545454544},8,0.33333333333333331,{"$f":"HLOOKUP(A20,'RE Index | Ranking inputs'!$H$5:$AM$34,30,FALSE)","v":1.1111111111111112},10,0,{"$f":"HLOOKUP(A20,'RE Index | Ranking inputs'!$H$5:$AM$42,38,FALSE)","v":0},9,0,{"$f":"HLOOKUP(A20,'RE Index | Ranking inputs'!$H$5:$AM$46,42,FALSE)","v":0},{"$f":"RANK(Q20,$Q$12:Q36)","v":10}]
["Montserrat",{"$f":"IFERROR(HLOOKUP(A21,'RE Index | Ranking inputs'!$H$5:$AM$7,2,FALSE),0)","v":1.4805952380952379},10,0.63749999999999996,{"$f":"HLOOKUP(A21,'RE Index | Ranking inputs'!$H$5:$AM$8,4,FALSE)","v":2.125},14,4.7142857142857139E-2,{"$f":"IFERROR(HLOOKUP(A21,'RE Index | Ranking inputs'!$H$5:$AM$26,22,FALSE),0)","v":0.15714285714285714},9,0.57095238095238088,{"$f":"HLOOKUP(A21,'RE Index | Ranking inputs'!$H$5:$AM$34,30,FALSE)","v":1.9031746031746031},4,0.22499999999999998,{"$f":"HLOOKUP(A21,'RE Index | Ranking inputs'!$H$5:$AM$42,38,FALSE)","v":2.5},3,0,{"$f":"HLOOKUP(A21,'RE Index | Ranking inputs'!$H$5:$AM$46,42,FALSE)","v":0},{"$f":"RANK(Q21,$Q$12:Q37)","v":10}]
["Puerto Rico",{"$f":"IFERROR(HLOOKUP(A22,'RE Index | Ranking inputs'!$H$5:$AM$7,2,FALSE),0)","v":1.3383333333333332},11,0.97499999999999998,{"$f":"HLOOKUP(A22,'RE Index | Ranking inputs'!$H$5:$AM$8,4,FALSE)","v":3.25},9,0.03,{"$f":"IFERROR(HLOOKUP(A22,'RE Index | Ranking inputs'!$H$5:$AM$26,22,FALSE),0)","v":0.1},11,0.33333333333333331,{"$f":"HLOOKUP(A22,'RE Index | Ranking inputs'!$H$5:$AM$34,30,FALSE)","v":1.1111111111111112},10,0,{"$f":"HLOOKUP(A22,'RE Index | Ranking inputs'!$H$5:$AM$42,38,FALSE)","v":0},9,0,{"$f":"HLOOKUP(A22,'RE Index | Ranking inputs'!$H$5:$AM$46,42,FALSE)","v":0},{"$f":"RANK(Q22,$Q$12:Q38)","v":10}]
["Nevis ",{"$f":"IFERROR(HLOOKUP(A23,'RE Index | Ranking inputs'!$H$5:$AM$7,2,FALSE),0)","v":1.3078606925440479},12,0.75,{"$f":"HLOOKUP(A23,'RE Index | Ranking inputs'!$H$5:$AM$8,4,FALSE)","v":2.5},12,0.22452735921071451,{"$f":"IFERROR(HLOOKUP(A23,'RE Index | Ranking inputs'!$H$5:$AM$26,22,FALSE),0)","v":0.74842453070238169},6,0.33333333333333331,{"$f":"HLOOKUP(A23,'RE Index | Ranking inputs'!$H$5:$AM$34,30,FALSE)","v":1.1111111111111112},10,0,{"$f":"HLOOKUP(A23,'RE Index | Ranking inputs'!$H$5:$AM$42,38,FALSE)","v":0},9,0,{"$f":"HLOOKUP(A23,'RE Index | Ranking inputs'!$H$5:$AM$46,42,FALSE)","v":0},{"$f":"RANK(Q23,$Q$12:Q39)","v":10}]
["British Virgin Islands",{"$f":"IFERROR(HLOOKUP(A24,'RE Index | Ranking inputs'!$H$5:$AM$7,2,FALSE),0)","v":1.2666666666666668},13,1.05,{"$f":"HLOOKUP(A24,'RE Index | Ranking inputs'!$H$5:$AM$8,4,FALSE)","v":3.5},7,0,{"$f":"IFERROR(HLOOKUP(A24,'RE Index | Ranking inputs'!$H$5:$AM$26,22,FALSE),0)","v":0},14,0.16666666666666666,{"$f":"HLOOKUP(A24,'RE Index | Ranking inputs'!$H$5:$AM$34,30,FALSE)","v":0.55555555555555558},14,0,{"$f":"HLOOKUP(A24,'RE Index | Ranking inputs'!$H$5:$AM$42,38,FALSE)","v":0},9,0.05,{"$f":"HLOOKUP(A24,'RE Index | Ranking inputs'!$H$5:$AM$46,42,FALSE)","v":5},{"$f":"RANK(Q24,$Q$12:Q40)","v":1}]
["Turks and Caicos Islands",{"$f":"IFERROR(HLOOKUP(A25,'RE Index | Ranking inputs'!$H$5:$AM$7,2,FALSE),0)","v":1.0992886584230819},14,0.75,{"$f":"HLOOKUP(A25,'RE Index | Ranking inputs'!$H$5:$AM$8,4,FALSE)","v":2.5},12,0,{"$f":"IFERROR(HLOOKUP(A25,'RE Index | Ranking inputs'!$H$5:$AM$26,22,FALSE),0)","v":0},14,0.34928865842308199,{"$f":"HLOOKUP(A25,'RE Index | Ranking inputs'!$H$5:$AM$34,30,FALSE)","v":1.16429552807694},8,0,{"$f":"HLOOKUP(A25,'RE Index | Ranking inputs'!$H$5:$AM$42,38,FALSE)","v":0},9,0,{"$f":"HLOOKUP(A25,'RE Index | Ranking inputs'!$H$5:$AM$46,42,FALSE)","v":0},{"$f":"RANK(Q25,$Q$12:Q41)","v":10}]
["Trinidad and Tobago",{"$f":"IFERROR(HLOOKUP(A26,'RE Index | Ranking inputs'!$H$5:$AM$7,2,FALSE),0)","v":0.91666666666666663},15,0.52500000000000002,{"$f":"HLOOKUP(A26,'RE Index | Ranking inputs'!$H$5:$AM$8,4,FALSE)","v":1.75},17,0,{"$f":"IFERROR(HLOOKUP(A26,'RE Index | Ranking inputs'!$H$5:$AM$26,22,FALSE),0)","v":0},14,0.16666666666666666,{"$f":"HLOOKUP(A26,'RE Index | Ranking inputs'!$H$5:$AM$34,30,FALSE)","v":0.55555555555555558},14,0.22499999999999998,{"$f":"HLOOKUP(A26,'RE Index | Ranking inputs'!$H$5:$AM$42,38,FALSE)","v":2.5},3,0,{"$f":"HLOOKUP(A26,'RE Index | Ranking inputs'!$H$5:$AM$46,42,FALSE)","v":0},{"$f":"RANK(Q26,$Q$12:Q42)","v":10}]
["Haiti",{"$f":"IFERROR(HLOOKUP(A27,'RE Index | Ranking inputs'!$H$5:$AM$7,2,FALSE),0)","v":0.88303554648580929},16,0.6,{"$f":"HLOOKUP(A27,'RE Index | Ranking inputs'!$H$5:$AM$8,4,FALSE)","v":2},15,0.28303554648580931,{"$f":"IFERROR(HLOOKUP(A27,'RE Index | Ranking inputs'!$H$5:$AM$26,22,FALSE),0)","v":0.94345182161936447},5,0,{"$f":"HLOOKUP(A27,'RE Index | Ranking inputs'!$H$5:$AM$34,30,FALSE)","v":0},16,0,{"$f":"HLOOKUP(A27,'RE Index | Ranking inputs'!$H$5:$AM$42,38,FALSE)","v":0},9,0,{"$f":"HLOOKUP(A27,'RE Index | Ranking inputs'!$H$5:$AM$46,42,FALSE)","v":0},{"$f":"RANK(Q27,$Q$12:Q43)","v":10}]
["Grenada",{"$f":"IFERROR(HLOOKUP(A28,'RE Index | Ranking inputs'!$H$5:$AM$7,2,FALSE),0)","v":0.62223880616608451},17,0.5625,{"$f":"HLOOKUP(A28,'RE Index | Ranking inputs'!$H$5:$AM$8,4,FALSE)","v":1.875},16,9.7388061660844596E-3,{"$f":"IFERROR(HLOOKUP(A28,'RE Index | Ranking inputs'!$H$5:$AM$26,22,FALSE),0)","v":3.2462687220281533E-2},13,0,{"$f":"HLOOKUP(A28,'RE Index | Ranking inputs'!$H$5:$AM$34,30,FALSE)","v":0},16,0,{"$f":"HLOOKUP(A28,'RE Index | Ranking inputs'!$H$5:$AM$42,38,FALSE)","v":0},9,0.05,{"$f":"HLOOKUP(A28,'RE Index | Ranking inputs'!$H$5:$AM$46,42,FALSE)","v":5},{"$f":"RANK(Q28,$Q$12:Q44)","v":1}]
[]
[]
[{"$f":"A12","v":"Dominica"}]
[{"$f":"A13","v":"Guadeloupe"}]
["Jamaica"]
["Barbados"]
["Curaҫao"]
["The Bahamas"]
["Belize"]
["Antigua & Barbuda"]
["Bermuda"]
["Montserrat"]
["Puerto Rico"]
["Nevis "]
["British Virgin Islands"]
["Turks & Caicos"]
["Trinidad & Tobago"]
["Haiti"]
[{"$f":"A28","v":"Grenada"}]
[]
[]
[null,null,null,null,null,null,null,null,null,null,null,null,null,null,null,null,null,null,null,null,null,null,null,null,null,null,null,null,"Legal & Regulatory Framework "]
[null,null,null,null,null,null,null,null,null,null,null,null,null,null,null,null,null,null,null,null,null,null,null,null,null,null,null,null,"Strategic plan for RE"]
[null,null,null,null,null,null,null,null,null,null,null,null,null,null,null,null,null,null,null,null,null,null,null,null,null,null,null,null,"Specific target for RE"]
[null,null,null,null,null,null,null,null,null,null,null,null,null,null,null,null,null,null,null,null,null,null,null,null,null,null,null,null,"IRP within the last 3 years"]
[null,null,null,null,null,null,null,null,null,null,null,null,null,null,null,null,null,null,null,null,null,null,null,null,null,null,null,null,"≥ 6 months to secure O-T-A"]
[null,null,null,null,null,null,null,null,null,null,null,null,null,null,null,null,null,null,null,null,null,null,null,null,null,null,null,null," # of Utility Scale RE Projects"]
[null,null,null,null,null,null,null,null,null,null,null,null,null,null,null,null,null,null,null,null,null,null,null,null,null,null,null,null," Capacity (KW)"]
[null,null,null,null,null,null,null,null,null,null,null,null,null,null,null,null,null,null,null,null,null,null,null,null,null,null,null,null," Investment (M USD) "]

{"sheet":"2020 Developments","index":3,"n_rows":19,"n_cols":9,"rows_kept":19,"cut":false,"hidden":false,"merged":[]}
[]
[null,"Project Name","Jurisdiction","Technology","Status Change in 2020","Capacity (MW)","Expected COD (year)","Notes","Source"]
[null,"Grid Interactive Solar PV Systems for Schools and Clinics (GISS)","Antigua and Barbuda","Solar PV","Became operational","Unknown",2020,"The Ottos Comprehensive Secondary is one of eighteen school recipients to commission their Solar PV System as part of a US $825,000 grant funded project to equip schools and clinics around the country with Solar PV systems.","https://www.environment.gov.ag/news-events#news/article/90"]
[null,"Green Barbuda","Antigua and Barbuda","Solar/Storage/Diesel","Construction started","800kW diesel power plant; 720kWh hybrid solar power plant; 863kWh battery system",2020,"Funded by the UAE-Caribbean Renewable Energy Fund","https://www.energyglobal.com/other-renewables/02102020/construction-begins-on-clean-energy-power-plant-in-antigua-and-barbuda/"]
[null,"Vaucluse WTE plant","Barbados","Waste-to-Energy/Biomass","New project (in planning)",25,"Unknown","Government announced plan to build a $320 million, 25 megawatt waste-to-energy plant at Vaucluse, St Thomas","https://www.stabroeknews.com/2020/07/26/news/regional/barbados/waste-to-energy-plant-on-the-way-in-barbados/ "]
[null,"Anegada Hybrid Renewable Energy and Battery Storage System","British Virgin Islands","Solar PV + BESS","New project (in planning)","2.1MW PV; 930kW/3, 720kWh",2021,"5 companies have submitted bids; includes Micro-Grid Master Controller which will control the PV, Battery Storage System (BESS) and a backup diesel generator which is currently the sole source of electricity for Anegada.","http://www.virginislandsnewsonline.com/en/news/5-companies-bid-for-anegada-hybrid-renewable-energy-project "]
[null,"Ciro Redondo Biomass Sugar Mill Plant","Cuba","Biomass","Became operational",60,2020,"$180 million from an association between the British company Havana Energy and the Cuban company Zerus","https://www.powermag.com/cubas-first-biomass-fired-power-plant-inaugurated/ "]
[null,"Los Guzmancito Wind Park","Dominican Republic","Wind","Became operational",48,2019,"Subsequent phases expected to bring it to a total of 100MW","https://www.evwind.com/2019/12/25/energia-eolica-en-rd-puesta-en-marcha-del-parque-eolico-los-guzmancito/"]
[null,"Canoa Solar Park","Dominican Republic","Solar PV","Became operational",25,2020,"Investment of US$45 million; plans to increase capacity to 50MW","https://revistaconstruir.com/inauguran-parque-solar-canoa-republica-dominicana/"]
[null,"Bayahonda Solar Park","Dominican Republic","Solar PV","New project (in planning)",50,"Unknown","Concession approved, construction approved. Local company Parque Eolico Beata SRL will invest roughly USD 60 million","https://renewablesnow.com/news/dominican-republic-okays-100-mw-of-renewable-energy-projects-702783/"]
[null,"San Pedro de Macoris WTE","Dominican Republic","Waste-to-Energy","New project (in planning)",50,"Unknown","Concession approved, construction approved. Streamline Integrated Energy Corp (SIE) is the company behind the development.","https://renewablesnow.com/news/dominican-republic-okays-100-mw-of-renewable-energy-projects-702783/"]
[null,"Jasper Wind Farm","Dominican Republic","Wind","New project (in planning)",50,"Unknown","Investment of approximately US $ 107.3 MM","https://www.evwind.es/2019/12/26/wind-energy-advances-in-dominican-republic/72758 "]
[null,"Girasol Solar Park","Dominican Republic","Solar PV","New project (in planning)",120,"Unknown","Will be largest solar park in the country. Spanish infrastructure, energy and telecommunications group Elecnor has been awarded the turnkey construction for the Haina Electricity Generating Company (EGE Haina)","https://www.archyde.com/elecnor-will-build-a-120-mw-solar-park-in-the-dominican-republic/"]
[null,"CARICOM Headquarters Solar Project","Guyana","Solar PV","New project (in planning)",0.4,2020,"Financed by JICA;  CARICOM Secretariat expected to meet close to all its energy needs through solar","https://www.stabroeknews.com/2020/01/21/news/guyana/caricom-secretariat-should-be-running-on-solar-power-by-september/"]
[null,"Couva Solar Power Project","Trinidad and Tobago","Solar PV","New project (in planning)",92,"Unknown","Government recently secured two bidders through a competitive procurement process; power generated is expected to be delivered to the grid; Lightsource BP, Shell Trinidad and Tobago Limited and BP Alternative Energy Trinidad and Tobago Limited proposal was accepted (as consortium)","https://www.loopcayman.com/content/imbert-tt-solar-project-will-be-largest-caribbean-0"]
[null,"Trincity Solar Power Project","Trinidad and Tobago","Solar PV","New project (in planning)",20,"Unknown","Government recently secured two bidders through a competitive procurement process; power generated is expected to be delivered to the grid; Lightsource BP, Shell Trinidad and Tobago Limited and BP Alternative Energy Trinidad and Tobago Limited proposal was accepted (as consortium)","https://www.guardian.co.tt/business/major-projects-to-provide-cleaner-electricity-6.2.1143486.f1baf778a6"]
[null,"Lightsource BP/Shell Solar PV","Trinidad and Tobago","Solar PV","New project (in planning)",150,"Unknown","Government recently signed agreement with Lightsource BP and Shell; expected to increase  RE generation capacity to 10% of country's total power generation capacity","https://www.looptt.com/content/khan-bp-renewables-push-tt-still-comfortable-short-term / https://www.guardian.co.tt/business/major-projects-to-provide-cleaner-electricity-6.2.1143486.f1baf778a6"]
[null,"Piarco Airport Solar Park","Trinidad and Tobago","Solar PV","New project (in planning)","Minimum annual generation capacity of 1,445MWh",2021,"Expected to provide a minimum annual generation capacity of 1,443,830 kWh; feasibility study conducted by Airport Authority, the International Civil Aviation Organization (ICAO) and European Union; ","https://trinidadexpress.com/business/local/solar-park-coming-soon-to-piarco-airport/article_55c9250c-b03b-11ea-96fb-a7b7bec688f7.html"]
[null,"Ritz Carlton Solar PV","Turks and Caicos Islands","Solar PV","New project (in planning)",0.2,2021,"Ritz Carlton signed on to participate in the government's Utility Owned Renewable Energy (UORE) Programme; 210.6kW rooftop solar PV system will be installed on casino and restaurant rooftop; will generate 310MWh annually; resort currently under construction and set to open in 2021","https://tcweeklynews.com/ritzcarlton-partners-with-fortistci-for-sustainable-energy-p10764-107.htm"]

{"sheet":"RE Index | Historical Results","index":4,"n_rows":54,"n_cols":38,"rows_kept":54,"cut":false,"hidden":false,"merged":[[2,1,2,2]]}
[]
[]
[null,null,"Improvement Year-on-Year",null,null,null,{"$f":"'RE Index | Ranking inputs'!H5","v":"Anguilla"},{"$f":"'RE Index | Ranking inputs'!I5","v":"Antigua & Barbuda"},{"$f":"'RE Index | Ranking inputs'!J5","v":"Aruba"},{"$f":"'RE Index | Ranking inputs'!K5","v":"The Bahamas"},{"$f":"'RE Index | Ranking inputs'!L5","v":"Barbados"},{"$f":"'RE Index | Ranking inputs'!M5","v":"Bermuda"},{"$f":"'RE Index | Ranking inputs'!N5","v":"Belize"},{"$f":"'RE Index | Ranking inputs'!O5","v":"Bonaire"},{"$f":"'RE Index | Ranking inputs'!P5","v":"British Virgin Islands"},{"$f":"'RE Index | Ranking inputs'!Q5","v":"Cayman Islands"},{"$f":"'RE Index | Ranking inputs'!R5","v":"Cuba"},{"$f":"'RE Index | Ranking inputs'!S5","v":"Curaҫao"},{"$f":"'RE Index | Ranking inputs'!T5","v":"Dominica"},{"$f":"'RE Index | Ranking inputs'!U5","v":"Dominican Republic"},{"$f":"'RE Index | Ranking inputs'!V5","v":"Grenada"},{"$f":"'RE Index | Ranking inputs'!W5","v":"Guadeloupe"},{"$f":"'RE Index | Ranking inputs'!X5","v":"Guyana "},{"$f":"'RE Index | Ranking inputs'!Y5","v":"Haiti"},{"$f":"'RE Index | Ranking inputs'!Z5","v":"Jamaica"},{"$f":"'RE Index | Ranking inputs'!AA5","v":"Martinique"},{"$f":"'RE Index | Ranking inputs'!AB5","v":"Montserrat"},{"$f":"'RE Index | Ranking inputs'!AC5","v":"Nevis "},{"$f":"'RE Index | Ranking inputs'!AD5","v":"Puerto Rico"},{"$f":"'RE Index | Ranking inputs'!AE5","v":"Saint-Martin"},{"$f":"'RE Index | Ranking inputs'!AF5","v":"Sint Maarten"},{"$f":"'RE Index | Ranking inputs'!AG5","v":"St. Lucia"},{"$f":"'RE Index | Ranking inputs'!AH5","v":"St. Vincent and the Grenadines"},{"$f":"'RE Index | Ranking inputs'!AI5","v":"St. Kitts"},{"$f":"'RE Index | Ranking inputs'!AJ5","v":"Suriname"},{"$f":"'RE Index | Ranking inputs'!AK5","v":"Trinidad and Tobago"},"Turks and Caicos Islands","U.S. Virgin Islands"]
[null,null,null,null,null,{"$f":"SUM(F5,F14,F23,F32,F35)","v":0.99999999999999989}]
[null,null,"Enabling Environment for RE Investments ","Change from previous year",null,0.3,{"$f":"IF(ISERR(G13-G12),\"\",G13-G12)","v":0},{"$f":"IF(ISERR(H13-H12),\"\",H13-H12)","v":-0.5},0,0.46875,0.5,-0.5625,0.140625,-3.828125,3.5,-3.359375,0,-1.4375,1.796875,-1.453125,-1.171875,-0.390625,0,1.34375,1.546875,0,1.96875,-0.3125,3.25,0,0,0.859375,0.46875,-0.296875,-2.34375,1.515625,0.78125,-1.421875]
[null,null,"2012 Score","0 to 5",null,null,2.3333333333333335,1.6666666666666665,1.9999999999999998,1,3.1666666666666665,2.333333333333333,2.3333333333333335,0,1,3.33,0,"NA",2.833333333333333,2.333333333333333,2.333333333333333,"NA",0,0,3.6666666666666665,3,1.67,2.3333333333333335,0,0,0,2.33,3,1.67,0,2.33,2,"NA"]
[null,null,"2013 Score","0 to 5",null,null,2.3333333333333335,1.6666666666666665,1.9999999999999998,1,3.1666666666666665,3,2.3333333333333335,1.9999999999999998,1,3.33,0,3,2.833333333333333,2.333333333333333,2.333333333333333,4,1.6666666666666665,1.6666666666666665,3.6666666666666665,4,1.6666666666666665,2.3333333333333335,3.333333333333333,0,0,2.333333333333333,3,1.6666666666666665,0,2.3333333333333335,1.9999999999999998,"NA"]
[null,null,"2014 Score","0 to 5",null,null,2.3333333333333335,2,4,1,3.833333333333333,3,3,1.9999999999999998,1,3.33,0,4,2.833333333333333,2.333333333333333,2.333333333333333,4.333333333333333,1.6666666666666665,1.6666666666666665,3.6666666666666665,4.333333333333333,1.6666666666666665,2.6666666666666665,2,0,0,2.333333333333333,3,2.6666666666666665,0,2.333333333333333,1.9999999999999998,2]
[null,null,"2015 Score","0 to 5",null,null,2.3333333333333335,2,4,1.3333333333333333,3.833333333333333,3,3.333333333333333,1.9999999999999998,2,3.33,1,4,2.833333333333333,2.333333333333333,2.6666666666666665,4.333333333333333,1.6666666666666665,1.6666666666666665,3.6666666666666665,4.333333333333333,1.6666666666666665,2.6666666666666665,2,0,0,2.333333333333333,3,2.6666666666666665,0,3,1.9999999999999998,2]
[null,null,"2016 Score","0 to 5",null,null,1.3333333333333333,3.6666666666666665,2.6666666666666665,4.333333333333333,2.6666666666666665,4.333333333333333,2.6666666666666665,2.6666666666666665,1.3333333333333333,4.33,0,5,5,4.333333333333333,5,5,3.6666666666666665,3.6666666666666665,4.333333333333333,5,0,5,3.6666666666666665,0,0,1.3333333333333333,4.333333333333333,1.3333333333333333,0,1.3333333333333333,1.3333333333333333,3.6666666666666665]
[null,null,"2017 Score","0 to 5",null,null,1.875,4.0625,3.6458333333333335,3.9583333333333299,3.3333333333333335,3.3333333333333335,3.125,4.5833333333333339,4.375,4.6900000000000004,0,5,3.4375,4.5833333333333339,1.875,3.9583333333333335,0,0,3.3333333333333335,3.3333333333333335,0,3.9583333333333335,2.8125,0,0,3.125,3.75,1.6666666666666667,2.5,1.5625,2.7083333333333335,5]
[null,null,"2018 Score","0 to 5",null,null,0,4.375,0,2.78125,3.125,4.6875,3.359375,4.453125,0,4.609375,0,4.6875,3.203125,2.703125,3.046875,4.765625,0,0.65625,3.453125,0,0.15625,2.8125,0,0,0,0.390625,0.15625,1.546875,2.96875,0.234375,1.71875,2.046875]
[null,null,"2019 Score","0 to 5",null,null,{"$f":"'RE Index | Ranking inputs'!H8","v":0},{"$f":"'RE Index | Ranking inputs'!I8","v":3.875},{"$f":"'RE Index | Ranking inputs'!J8","v":0},{"$f":"'RE Index | Ranking inputs'!K8","v":3.25},{"$f":"'RE Index | Ranking inputs'!L8","v":3.625},{"$f":"'RE Index | Ranking inputs'!M8","v":4.125},{"$f":"'RE Index | Ranking inputs'!N8","v":3.5},{"$f":"'RE Index | Ranking inputs'!O8","v":0.625},{"$f":"'RE Index | Ranking inputs'!P8","v":3.5},{"$f":"'RE Index | Ranking inputs'!Q8","v":1.25},{"$f":"'RE Index | Ranking inputs'!R8","v":0},{"$f":"'RE Index | Ranking inputs'!S8","v":3.25},{"$f":"'RE Index | Ranking inputs'!T8","v":5},{"$f":"'RE Index | Ranking inputs'!U8","v":1.25},{"$f":"'RE Index | Ranking inputs'!V8","v":1.875},{"$f":"'RE Index | Ranking inputs'!W8","v":4.375},{"$f":"'RE Index | Ranking inputs'!X8","v":0},{"$f":"'RE Index | Ranking inputs'!Y8","v":2},{"$f":"'RE Index | Ranking inputs'!Z8","v":5},{"$f":"'RE Index | Ranking inputs'!AA8","v":0},{"$f":"'RE Index | Ranking inputs'!AB8","v":2.125},{"$f":"'RE Index | Ranking inputs'!AC8","v":2.5},{"$f":"'RE Index | Ranking inputs'!AD8","v":3.25},{"$f":"'RE Index | Ranking inputs'!AE8","v":0},{"$f":"'RE Index | Ranking inputs'!AF8","v":0},{"$f":"'RE Index | Ranking inputs'!AG8","v":1.25},{"$f":"'RE Index | Ranking inputs'!AH8","v":0.625},{"$f":"'RE Index | Ranking inputs'!AI8","v":1.25},{"$f":"'RE Index | Ranking inputs'!AJ8","v":0.625},{"$f":"'RE Index | Ranking inputs'!AK8","v":1.75},{"$f":"'RE Index | Ranking inputs'!AL8","v":2.5},{"$f":"'RE Index | Ranking inputs'!AM8","v":0.625}]
[null,null,"Existing Renewable Generation","Change from previous year",null,0.3,{"$f":"IF(ISERR(G22-G21),\"\",G22-G21)","v":0},{"$f":"IF(ISERR(H22-H21),\"\",H22-H21)","v":6.9893853974614464E-2},{"$f":"IF(ISERR(I22-I21),\"\",I22-I21)","v":0},{"$f":"IF(ISERR(J22-J21),\"\",J22-J21)","v":0},5.567950375094971E-3,2.9379883888733083E-2,-1.4610687241216602,-0.49242424242424265,0,1.0049130154276165E-2,-3.7744055554739947E-4,-0.12296596794393211,-0.318814515955963,3.584989944826833,-3.3958503698117773E-3,3.8604551216141925E-2,0,0.13512691140420718,-6.564008701834223E-2,0,0.15714285714285714,-1.873308711724142E-2,0,0,0,-0.52934114943481947,-0.82402890701598763,0,5.6817325969841459E-2,0,-0.05,-4.0979311362579832E-2]
[null,null,"2012 Score","0 to 5",null,null,0.01,0,0.5,0,0,0.01,2.6,0,0,0,0,"NA",2.2000000000000002,0.43,0.1,"NA",0,0,0.27,0.15,0,0.95,0,0,0,0.01,1.22,0,0,0,0,"NA"]
[null,null,"2013 Score","0 to 5",null,null,0,0,0.65542995689307737,1.0510518934081347E-2,9.8800657599557151E-3,0,2.6588944180008656,1.3907771683624794,0,1.5554659442233404E-3,3.5962932505731078E-2,0.61241351201094174,1.593331003230799,0.63355599346737579,1.0669089921879742E-2,0.68864405988115773,4.7549770290964778E-2,4.7549770290964778E-2,0.2846569841660827,0.14466907139704258,0,0.30186521405675404,0.10090843837380969,4.0586436170212764E-2,0,6.8489162146818288E-4,1.0240373996907901,0,2.4419620253164558,3.5961909145832739E-6,0,"NA"]
[null,null,"2014 Score","0 to 5",null,null,8.4686434362367599E-2,6.9915749999999999E-3,0.83624804169180622,1.4203214628146119E-2,4.2323291060934125E-2,0.11707028947026578,3.1903316418659822,1.4931999512151526,0.19085937600000003,1.4326617496279151E-2,4.0663459456410589E-2,0.6896652316295715,1.3501767905351756,0.78246215631445859,4.0324437393214549E-2,0.82133338237478792,0.46555318643478261,0.46555318643478261,0.38498080880421975,0.33737001331016375,0,0.53058543588130036,0.10544559381438179,7.9773208163265288E-2,1.9109375000000001E-2,9.469627339572192E-4,1.1080454379919942,0.10948766197183099,2.738240638253183,2.5210465116279066E-5,1.1368223412131897E-3,0.19231225176823699]
[null,null,"2015 Score","0 to 5",null,null,6.7815814156560753E-2,5.6045968401958997E-3,0.75294455015398032,1.2641426335153264E-2,3.5862440483214394E-2,0.10568153471435765,2.8707190079729559,1.3433777959977007,0.15303478879646401,1.2936963447066513E-2,3.6486605616940976E-2,0.6196484203741246,1.2087269157195306,0.70317459370742108,3.4216110410388141E-2,0.7146451332749274,0.41899786779130432,0.41899786779130432,0.34579233587178354,0.28229866062914194,0,0.47752689229317036,9.3144445421987548E-2,7.1235893061224478E-2,1.531438172043011E-2,8.1071160406778265E-4,0.99621956661599642,9.8177605200433393E-2,2.4644165744278648,4.7970154650648241E-5,1.0231401070918708E-3,0.16795613663836267]
[null,null,"2016 Score","0 to 5",null,null,0,0,0.77253787353089165,0,0.19172685903064371,0.2397277724785945,3.9263621092162673,1.6755802758727996,0.15343047062233445,5.3649364811771662E-2,0,0,1.091680013248947,0.85966555881907403,5.4099818698154431E-2,1.6468757639106424,0,0,0.50009941192830321,0.26614456001991288,0,0,0.21468909736516367,7.3981033414634148E-2,1.5312457572127385E-2,0,0,8.7498301538461526E-2,2.4669115111367259,0,0,0.22608807722185753]
[null,null,"2017 Score","0 to 5",null,null,0.13,0.31042746113989639,0.10707975757575759,0,0.34380463286713286,0.47349863434619321,2.5440716549460856,2.1083333333333334,0.25,0.31473249062529524,0,1.2387435068894037,2.6903285263157901,0.57270391566912426,0.26363062221978145,0.90464496377508508,0.15625,0.15625,0.79821462796045073,0.79821462796045073,0,0.90208397514667982,0.19884466506967147,0,0,0.33814814814814814,2.20658739529933,0.31701400000000002,2.5862229602367246,0.25,0.25,0.30203541465819289]
[null,null,"2018 Score","0 to 5",null,null,0,0.05,0.74253737373737372,0,9.0244815909761522E-2,0.25067466156581236,2.7098937874449565,2.0833333333333335,0,7.1898424353679061E-2,2.0784167166863807E-2,1.3729659679439321,1.4000000000000001,0.8,3.585853759009331E-2,1.062206572769953,0.4898527447736688,0.80832491021515729,0.6,0.35000000000000003,0,0.76715761781962311,0.1,0,0,0.62612702865157288,0.85000000000000009,6.2847619047619055E-2,2.1713131042200144,0,0.05,0.11415931136257983]
[null,null,"2019 Score","0 to 5",null,null,{"$f":"'RE Index | Ranking inputs'!H26","v":0},{"$f":"'RE Index | Ranking inputs'!I26","v":0.11989385397461447},{"$f":"'RE Index | Ranking inputs'!J26","v":0.74253737373737372},{"$f":"'RE Index | Ranking inputs'!K26","v":0},{"$f":"'RE Index | Ranking inputs'!L26","v":9.5812766284856493E-2},{"$f":"'RE Index | Ranking inputs'!M26","v":0.28005454545454544},{"$f":"'RE Index | Ranking inputs'!N26","v":1.2488250633232962},{"$f":"'RE Index | Ranking inputs'!O26","v":1.5909090909090908},{"$f":"'RE Index | Ranking inputs'!P26","v":0},{"$f":"'RE Index | Ranking inputs'!Q26","v":8.1947554507955225E-2},{"$f":"'RE Index | Ranking inputs'!R26","v":2.0406726611316407E-2},{"$f":"'RE Index | Ranking inputs'!S26","v":1.25},{"$f":"'RE Index | Ranking inputs'!T26","v":1.0811854840440371},{"$f":"'RE Index | Ranking inputs'!U26","v":4.3849899448268328},{"$f":"'RE Index | Ranking inputs'!V26","v":3.2462687220281533E-2},{"$f":"'RE Index | Ranking inputs'!W26","v":1.1008111239860949},{"$f":"'RE Index | Ranking inputs'!X26","v":0.4898527447736688},{"$f":"'RE Index | Ranking inputs'!Y26","v":0.94345182161936447},{"$f":"'RE Index | Ranking inputs'!Z26","v":0.53435991298165775},{"$f":"'RE Index | Ranking inputs'!AA26","v":0.35000000000000003},{"$f":"'RE Index | Ranking inputs'!AB26","v":0.15714285714285714},{"$f":"'RE Index | Ranking inputs'!AC26","v":0.74842453070238169},{"$f":"'RE Index | Ranking inputs'!AD26","v":0.1},{"$f":"'RE Index | Ranking inputs'!AE26","v":0},{"$f":"'RE Index | Ranking inputs'!AF26","v":0},{"$f":"'RE Index | Ranking inputs'!AG26","v":9.6785879216753357E-2},{"$f":"'RE Index | Ranking inputs'!AH26","v":2.5971092984012432E-2},{"$f":"'RE Index | Ranking inputs'!AI26","v":6.2847619047619055E-2},{"$f":"'RE Index | Ranking inputs'!AJ26","v":2.2281304301898559},{"$f":"'RE Index | Ranking inputs'!AK26","v":0},{"$f":"'RE Index | Ranking inputs'!AL26","v":0},{"$f":"'RE Index | Ranking inputs'!AM26","v":7.3179999999999995E-2}]
[null,null,"Planned Renewable Generation","Change from previous year",null,0.3,{"$f":"IF(ISERR(G31-G30),\"\",G31-G30)","v":0},{"$f":"IF(ISERR(H31-H30),\"\",H31-H30)","v":1.5861338059008121},-1.9865319865319864E-2,1.3960597028478907,1.6378409311999067,{"$f":"IF(ISERR(L31-L30),\"\",L31-L30)","v":0.52276588418486158},-0.21283709374054216,-0.55555555555555558,0.21975555555555559,-0.69702167151088679,-0.36494270217251756,-0.27479502588159344,-2.5654846640103202,-5,-1.361583834777365,-7.6297879979763117E-3,-0.10786609028046319,0,4.1624148574848086E-4,-4.5858974358974354E-2,-2.1270430595296257,-0.95671053112337967,0.34648856246856841,0,0,-3.0600636701618464,-0.81099338306872681,-1.7559833777777778,-0.55689875555555557,0,3.7845507133695389E-2,-5.2384116911115476E-2]
[null,null,"2012 Score","0 to 5",null,null,0.26,0,0.05,0.21,0.6,0,0,0,0,0.18,0,"NA",3.7,0.85,3.2,"NA",0,0,0.06,0.86,4.5,0.5,0,0,0,1.01,0,0,0,0,0,"NA"]
[null,null,"2013 Score","0 to 5",null,null,6.3811188811188815E-2,0,0.10076820813410756,0.30178437084187443,0.71030536097127561,0,0.36198572046733013,0,0,0.17457332652018398,0,0.30254048780487808,4.1174438980250212,0.86042015286097773,2.9386145920130069,0.69307592304006127,4.0052833078101076,4.0052833078101076,0.19418683856730026,0.82424095646656359,4.5,0,6.0755105895985942E-2,1.1497500000000001E-2,0,0,0.70101216716974657,0.30697630985915492,0,0,0,"NA"]
[null,null,"2014 Score","0 to 5",null,null,0.17561119865884323,0,0.6533827084387589,0.3406416772309005,0.14562940660860679,0,0.36385233861767829,0,0,0.17725907000510988,8.8293744650074737E-2,0.44666210043851445,4.1221309701786133,0.28655926850798813,9.9443765648472709E-2,0,0.37826669770290966,0.37826669770290966,0.18701529637418274,0.61334066624764294,4.5,0.23004621344712986,0,1.9909373558118903E-2,0,5.5321570859419467E-2,4.4971730840020777E-2,0,0.28764751302750186,0,0,0.43940046720090742]
[null,null,"2015 Score","0 to 5",null,null,0.24491375533524537,0,0.3064347123288122,5.1501037961494155E-2,1.1553250507194208,2.0317266373957552,4.5,0,0,0.2216694615487064,8.9977923221835662E-2,0.44279505968090127,4.1283325393044308,0.32608052097328938,1.6167085672443251,3.6248748274242008E-2,0.37875592019130438,0.37875592019130438,0.15376134528747368,0.61334291927015938,4.5,3.211660734302177,5.9521681209052948E-2,0,0,5.55825952540107E-2,2.1559900019609497,0,0,0,0,0.16824068614145271]
[null,null,"2016 Score","0 to 5",null,null,0,0,6.7456771357661441E-2,0,0,0,0.43410586029067044,0,0.37019627320591419,0.17653170833886667,0.22173401161568562,0,4.0765076884210529,0.29735941162274904,0,0.22349498083555594,0,0,7.1835191461638692E-2,0.80785123298841521,0,0,0,0,0,0,0,0,0,0,0,0]
[null,null,"2017 Score","0 to 5",null,null,0,0.23839073453215487,0,0,0.17611888111888116,0.2121941959713213,0,0,0,0.19719168208010976,0,0.27851120595049395,2.112878465520081,0.33466981399614026,2.0445933329672141,0.33056588831185491,0,0,0.12731658808921592,0.12731658808921592,0,4.06137260942557,7.6003189935775317E-2,0,0,2.697128296296297,2.3877585634647174,3.4479360000000003,0,0.10000000000000003,0.1368133835971207,0.23485462549568359]
[null,null,"2018 Score","0 to 5",null,null,0,5.4974747474747468E-2,1.9865319865319864E-2,0.6576799078871618,0.64265686159652058,0.58834522692624958,1.3239482048516533,0.55555555555555558,0.33579999999999999,0.69702167151088679,0.36494270217251756,1.4190879551745228,5,5,1.361583834777365,1.7097026604068859,0.10786609028046319,0,1.2987434284268495,4.5858974358974354E-2,4.0302176627042288,2.0678216422344908,0.76462254864254275,0,0,3.0600636701618464,0.81099338306872681,1.7559833777777778,0.55689875555555557,0.55555555555555558,1.1264500209432446,5.2384116911115476E-2]
[null,null,"2019 Score","0 to 5",null,null,{"$f":"'RE Index | Ranking inputs'!H34","v":0},{"$f":"'RE Index | Ranking inputs'!I34","v":1.6411085533755596},{"$f":"'RE Index | Ranking inputs'!J34","v":0},{"$f":"'RE Index | Ranking inputs'!K34","v":2.0537396107350525},{"$f":"'RE Index | Ranking inputs'!L34","v":2.2804977927964272},{"$f":"'RE Index | Ranking inputs'!M34","v":1.1111111111111112},{"$f":"'RE Index | Ranking inputs'!N34","v":1.1111111111111112},{"$f":"'RE Index | Ranking inputs'!O34","v":0},{"$f":"'RE Index | Ranking inputs'!P34","v":0.55555555555555558},{"$f":"'RE Index | Ranking inputs'!Q34","v":0},{"$f":"'RE Index | Ranking inputs'!R34","v":0},{"$f":"'RE Index | Ranking inputs'!S34","v":1.1442929292929294},{"$f":"'RE Index | Ranking inputs'!T34","v":2.4345153359896798},{"$f":"'RE Index | Ranking inputs'!U34","v":0},{"$f":"'RE Index | Ranking inputs'!V34","v":0},{"$f":"'RE Index | Ranking inputs'!W34","v":1.7020728724089096},{"$f":"'RE Index | Ranking inputs'!X34","v":0},{"$f":"'RE Index | Ranking inputs'!Y34","v":0},{"$f":"'RE Index | Ranking inputs'!Z34","v":1.299159669912598},{"$f":"'RE Index | Ranking inputs'!AA34","v":0},{"$f":"'RE Index | Ranking inputs'!AB34","v":1.9031746031746031},{"$f":"'RE Index | Ranking inputs'!AC34","v":1.1111111111111112},{"$f":"'RE Index | Ranking inputs'!AD34","v":1.1111111111111112},{"$f":"'RE Index | Ranking inputs'!AE34","v":0},{"$f":"'RE Index | Ranking inputs'!AF34","v":0},{"$f":"'RE Index | Ranking inputs'!AG34","v":0},{"$f":"'RE Index | Ranking inputs'!AH34","v":0},{"$f":"'RE Index | Ranking inputs'!AI34","v":0},{"$f":"'RE Index | Ranking inputs'!AJ34","v":0},{"$f":"'RE Index | Ranking inputs'!AK34","v":0.55555555555555558},{"$f":"'RE Index | Ranking inputs'!AL34","v":1.16429552807694},{"$f":"'RE Index | Ranking inputs'!AM34","v":0}]
[null,null,"Electric Mobility","Change from previous year",null,0.09,{"$f":"IF(ISERR(G34-G33),\"\",G34-G33)","v":0},{"$f":"IF(ISERR(H34-H33),\"\",H34-H33)","v":0},0,2.5,0,0,0,0,0,0,0,2.5,0,0,0,0,0,0,2.5,0,2.5,0,0,0,0,0,0,0,0,2.5,0,0]
[null,null,"2018 Score","0 to 5",null,null,0,0,0,0,2.5,0,0,0,0,5,0,0,2.5,0,0,5,0,0,2.5,0,0,0,0,0,0,2.5,0,0,0,0,0,0]
[null,null,"2019 Score","0 to 5",null,null,{"$f":"'RE Index | Ranking inputs'!H42","v":0},{"$f":"'RE Index | Ranking inputs'!I42","v":0},{"$f":"'RE Index | Ranking inputs'!J42","v":0},{"$f":"'RE Index | Ranking inputs'!K42","v":2.5},{"$f":"'RE Index | Ranking inputs'!L42","v":2.5},{"$f":"'RE Index | Ranking inputs'!M42","v":0},{"$f":"'RE Index | Ranking inputs'!N42","v":0},{"$f":"'RE Index | Ranking inputs'!O42","v":0},{"$f":"'RE Index | Ranking inputs'!P42","v":0},{"$f":"'RE Index | Ranking inputs'!Q42","v":5},{"$f":"'RE Index | Ranking inputs'!R42","v":0},{"$f":"'RE Index | Ranking inputs'!S42","v":2.5},{"$f":"'RE Index | Ranking inputs'!T42","v":2.5},{"$f":"'RE Index | Ranking inputs'!U42","v":0},{"$f":"'RE Index | Ranking inputs'!V42","v":0},{"$f":"'RE Index | Ranking inputs'!W42","v":5},{"$f":"'RE Index | Ranking inputs'!X42","v":0},{"$f":"'RE Index | Ranking inputs'!Y42","v":0},{"$f":"'RE Index | Ranking inputs'!Z42","v":5},{"$f":"'RE Index | Ranking inputs'!AA42","v":0},{"$f":"'RE Index | Ranking inputs'!AB42","v":2.5},{"$f":"'RE Index | Ranking inputs'!AC42","v":0},{"$f":"'RE Index | Ranking inputs'!AD42","v":0},{"$f":"'RE Index | Ranking inputs'!AE42","v":0},{"$f":"'RE Index | Ranking inputs'!AF42","v":0},{"$f":"'RE Index | Ranking inputs'!AG42","v":2.5},{"$f":"'RE Index | Ranking inputs'!AH42","v":0},{"$f":"'RE Index | Ranking inputs'!AI42","v":0},{"$f":"'RE Index | Ranking inputs'!AJ42","v":0},{"$f":"'RE Index | Ranking inputs'!AK42","v":2.5},{"$f":"'RE Index | Ranking inputs'!AL42","v":0}]
[null,null,"Covid Response",null,null,0.01]
[null,null,"2019 Score","0 to 5",null,null,{"$f":"'RE Index | Ranking inputs'!H46","v":0},{"$f":"'RE Index | Ranking inputs'!I46","v":5},{"$f":"'RE Index | Ranking inputs'!J46","v":0},{"$f":"'RE Index | Ranking inputs'!K46","v":5},{"$f":"'RE Index | Ranking inputs'!L46","v":5},{"$f":"'RE Index | Ranking inputs'!M46","v":0},{"$f":"'RE Index | Ranking inputs'!N46","v":5},{"$f":"'RE Index | Ranking inputs'!O46","v":0},{"$f":"'RE Index | Ranking inputs'!P46","v":5},{"$f":"'RE Index | Ranking inputs'!Q46","v":0},{"$f":"'RE Index | Ranking inputs'!R46","v":0},{"$f":"'RE Index | Ranking inputs'!S46","v":5},{"$f":"'RE Index | Ranking inputs'!T46","v":0},{"$f":"'RE Index | Ranking inputs'!U46","v":0},{"$f":"'RE Index | Ranking inputs'!V46","v":5},{"$f":"'RE Index | Ranking inputs'!W46","v":5},{"$f":"'RE Index | Ranking inputs'!X46","v":0},{"$f":"'RE Index | Ranking inputs'!Y46","v":0},{"$f":"'RE Index | Ranking inputs'!Z46","v":5},{"$f":"'RE Index | Ranking inputs'!AA46","v":0},{"$f":"'RE Index | Ranking inputs'!AB46","v":0},{"$f":"'RE Index | Ranking inputs'!AC46","v":0},{"$f":"'RE Index | Ranking inputs'!AD46","v":0},{"$f":"'RE Index | Ranking inputs'!AE46","v":0},{"$f":"'RE Index | Ranking inputs'!AF46","v":0},{"$f":"'RE Index | Ranking inputs'!AG46","v":0},{"$f":"'RE Index | Ranking inputs'!AH46","v":0},{"$f":"'RE Index | Ranking inputs'!AI46","v":0},{"$f":"'RE Index | Ranking inputs'!AJ46","v":0},{"$f":"'RE Index | Ranking inputs'!AK46","v":0},{"$f":"'RE Index | Ranking inputs'!AL46","v":0},{"$f":"'RE Index | Ranking inputs'!AM46","v":0}]
[null,null,"Overall Score Year-on-Year",null,null,null,{"$f":"G52-G50","v":0},{"$f":"H52-H50","v":0.39680829796262795},-5.9595959595959702E-3,0.83444291085436717,0.66802266447250047,-3.1062695779215943E-3,-0.4099842453586604,-1.4628314393939392,1.1659266666666668,-1.2639042624069834,-0.10959604281841948,-0.27557829814765777,-0.35122725398988486,-0.86044051655194997,-0.71105640554415295,-0.10789507103455076,-3.2359827084138953E-2,0.4436630734212621,0.69449534634022125,-1.3757692307692304E-2,0.22465493928396918,-0.38638308547218636,1.0789465687405704,0,0,-0.84400894587899977,-0.34988168702541422,-0.61585751333333327,-0.85314942887571432,0.6796875,0.2307286521401084,-0.45457152848210847]
[null,null,"2012 Overall Score",null,null,null,0.85910000000000009,0.54999999999999993,0.84149999999999991,0.39929999999999999,1.2429999999999999,0.77329999999999988,1.6280000000000001,0,0.33,1.1593999999999998,0,0,2.8820000000000001,1.1923999999999999,1.859,0,0,0,1.3189,1.3233000000000001,2.0361000000000002,1.2485000000000002,0,0,0,1.1055000000000001,1.3926000000000001,0.55110000000000003,0,0.76890000000000003,0.66,0]
[null,null,"2012 Rank",null,null,null,13,19,14,20,9,15,4,22,21,11,22,22,1,10,3,22,22,22,7,6,2,8,22,22,22,12,5,18,22,16,17,22]
[null,null,"2013 Overall Score",null,null,null,0.79904817404817408,0.55555555555555547,0.91873272167572817,0.43743162992531853,1.2956173644659659,1,1.7847378239338432,1.1302590561208263,0.33333333333333331,1.1698207085992467,1.1987644168577026E-2,1.3049846666052733,2.8480360781963845,1.2757698265538955,1.7608723384227398,1.7939066609737395,1.9064999149225796,1.9064999149225796,1.3818368298000163,1.6563033426212019,2.0555555555555554,0.87839951579669584,1.1649989592010428,1.7361312056737587E-2,0,0.77800607498493379,1.5750165222868455,0.65788099217527374,0.81398734177215193,0.7777789765080827,0.66666666666666652,0]
[null,null,"2013 Rank",null,null,null,21,26,18,27,12,17,6,16,28,14,30,11,1,13,7,5,3,3,10,8,2,19,15,29,31,22,9,25,20,23,24,31]
[null,null,"2014 Overall Score",null,null,null,0.86454365545151468,0.6689971916666666,1.8298769167101885,0.45161496395301548,1.3404286770009579,1.039023429823422,2.1847279934945534,1.164399983738384,0.39695312533333332,1.1749730069449071,4.2985734702161771E-2,1.7121091106893618,2.7685470313490406,1.1341182527185931,0.82436717879167343,1.7182222385693735,0.8368288502681196,0.8368288502681196,1.4128875906150229,1.7613480042970464,2.0555555555555554,1.1424327719983656,0.70181519793812719,3.3227527240461394E-2,6.3697916666666668E-3,0.79653395564223661,1.3843390562773383,0.92538477621283255,1.0086293837602283,0.77778618126614973,0.66704560744707087,0.87723757298971483]
[null,null,"2014 Rank",null,null,null,18,25,4,27,10,15,2,12,28,11,29,7,1,14,21,6,19,19,8,5,3,13,24,30,31,22,9,17,16,23,26,18]
[null,null,"2015 Overall Score",null,null,null,0.88202096760837989,0.66853486561339859,1.6864597541609307,0.46582526587666018,1.6748402748453228,1.712469390703371,3.568017447102096,1.1144592653325667,0.71767826293215464,1.1893132527763686,0.37548817627959219,1.6874811600183419,2.7234642627857646,1.120862816004681,1.4391971147737932,1.6947424049608339,0.82147348488309169,0.82147348488309169,1.3887401159419746,1.7429916377442114,2.0555555555555554,2.1186180977540046,0.7175553755436801,2.3745297687074826E-2,5.1047939068100366E-3,0.79657554673047049,2.050736522858982,0.9216147572890333,0.82147219147595485,1.0000159900515502,0.66700771336903053,0.77873227425993841]
[null,null,"2015 Rank",null,null,null,19,27,10,29,11,7,1,16,25,14,30,9,2,15,12,8,20,20,13,6,4,3,26,31,32,23,5,18,22,17,28,24]
[null,null,"2016 Overall Score",null,null,null,0.44444444444444442,1.2222222222222221,1.1688871038517399,1.4444444444444442,0.95279784189910344,1.524353701937309,2.3423782120578682,1.4474156475131554,0.61898669238719395,1.7433936910502126,7.3911337205228536E-2,1.6666666666666665,3.3893959005566665,1.8301194345917184,1.6846999395660514,2.290123581582066,1.2222222222222221,1.2222222222222221,1.6350893122410917,2.0246652643361092,0,1.6666666666666665,1.2937852546772766,2.4660344471544714E-2,5.1041525240424612E-3,0.44444444444444442,1.4444444444444442,0.47361054495726496,0.8223038370455753,0.44444444444444442,0.44444444444444442,1.297584914629508]
[null,null,"2016 Rank",null,null,null,25,17,20,13,21,11,2,12,23,6,29,8,1,5,7,3,17,17,10,4,32,8,16,30,31,25,13,24,22,25,25,15]
[null,null,"2017 Overall Score",null,null,null,0.66833333333333333,1.5371060652240169,1.2509710303030301,1.3194444444444444,1.284418949106449,1.3396753878836161,1.889690551648695,2.2305555555555556,1.5416666666666665,1.7331413909018019,0,2.1724182376132988,2.7469023306119569,1.8302356876661996,1.3944079850623319,1.731181395140091,5.2083333333333329E-2,5.2083333333333329E-2,1.4196215164610002,1.4196215164610002,0,2.9739299726351942,1.0291159516684822,0,0,2.0534254814814812,2.7814486529213491,1.8105388888888889,1.6954076534122415,0.63749999999999996,1.0317155723101514,1.8456300133846253]
[null,null,"2017 Rank",null,null,null,25,14,21,19,20,18,7,4,13,10,28,5,3,8,17,11,26,26,15,15,28,1,23,28,28,6,2,9,12,25,22,8]
[null,null,"2018 Overall Score",null,null,null,0,1.3439924242424242,0.22872080808080808,1.0316789723661486,1.4073705032518846,1.6579559665476185,2.2179650976889826,2.1276041666666665,0.10074,2.1134885287593699,0.1157180608018144,2.2438661769355366,3.1309374999999999,2.5509374999999999,1.3332952117102375,2.761260269953052,0.1793156505162396,0.43937247306454719,1.8555605285280548,0.11875769230769231,1.2559402988112687,1.6942437780162343,0.25938676459276278,0,0,1.4730447096440258,0.54517301492061798,1.009711799047619,1.7090885579326711,0.23697916666666666,0.86856000628297347,0.6640255284821085]
[null,null,"2018 Rank",null,null,null,31,14,25,17,13,11,5,6,29,7,28,4,1,3,15,2,26,22,8,27,16,10,23,31,31,12,21,18,9,24,19,20]
[null,null,"2019 Overall Score",null,null,null,{"$f":"'RE Index | Ranking inputs'!H6","v":0},{"$f":"'RE Index | Ranking inputs'!I6","v":1.7408007222050521},{"$f":"'RE Index | Ranking inputs'!J6","v":0.22276121212121211},{"$f":"'RE Index | Ranking inputs'!K6","v":1.8661218832205158},{"$f":"'RE Index | Ranking inputs'!L6","v":2.0753931677243851},{"$f":"'RE Index | Ranking inputs'!M6","v":1.6548496969696969},{"$f":"'RE Index | Ranking inputs'!N6","v":1.8079808523303222},{"$f":"'RE Index | Ranking inputs'!O6","v":0.66477272727272729},{"$f":"'RE Index | Ranking inputs'!P6","v":1.2666666666666668},{"$f":"'RE Index | Ranking inputs'!Q6","v":0.84958426635238649},{"$f":"'RE Index | Ranking inputs'!R6","v":6.1220179833949223E-3},{"$f":"'RE Index | Ranking inputs'!S6","v":1.9682878787878788},{"$f":"'RE Index | Ranking inputs'!T6","v":2.7797102460101151},{"$f":"'RE Index | Ranking inputs'!U6","v":1.6904969834480499},{"$f":"'RE Index | Ranking inputs'!V6","v":0.62223880616608451},{"$f":"'RE Index | Ranking inputs'!W6","v":2.6533651989185012},{"$f":"'RE Index | Ranking inputs'!X6","v":0.14695582343210065},{"$f":"'RE Index | Ranking inputs'!Y6","v":0.88303554648580929},{"$f":"'RE Index | Ranking inputs'!Z6","v":2.550055874868276},{"$f":"'RE Index | Ranking inputs'!AA6","v":0.10500000000000001},{"$f":"'RE Index | Ranking inputs'!AB6","v":1.4805952380952379},{"$f":"'RE Index | Ranking inputs'!AC6","v":1.3078606925440479},{"$f":"'RE Index | Ranking inputs'!AD6","v":1.3383333333333332},{"$f":"'RE Index | Ranking inputs'!AE6","v":0},{"$f":"'RE Index | Ranking inputs'!AF6","v":0},{"$f":"'RE Index | Ranking inputs'!AG6","v":0.62903576376502601},{"$f":"'RE Index | Ranking inputs'!AH6","v":0.19529132789520373},{"$f":"'RE Index | Ranking inputs'!AI6","v":0.39385428571428571},{"$f":"'RE Index | Ranking inputs'!AJ6","v":0.85593912905695679},{"$f":"'RE Index | Ranking inputs'!AK6","v":0.91666666666666663},{"$f":"'RE Index | Ranking inputs'!AL6","v":1.0992886584230819},{"$f":"'RE Index | Ranking inputs'!AM6","v":0.209454}]
[null,null,"2019 Rank",null,null,null,{"$f":"'RE Index | Ranking inputs'!H7","v":31},{"$f":"'RE Index | Ranking inputs'!I7","v":8},{"$f":"'RE Index | Ranking inputs'!J7","v":24},{"$f":"'RE Index | Ranking inputs'!K7","v":6},{"$f":"'RE Index | Ranking inputs'!L7","v":4},{"$f":"'RE Index | Ranking inputs'!M7","v":10},{"$f":"'RE Index | Ranking inputs'!N7","v":7},{"$f":"'RE Index | Ranking inputs'!O7","v":20},{"$f":"'RE Index | Ranking inputs'!P7","v":14},{"$f":"'RE Index | Ranking inputs'!Q7","v":19},{"$f":"'RE Index | Ranking inputs'!R7","v":29},{"$f":"'RE Index | Ranking inputs'!S7","v":5},{"$f":"'RE Index | Ranking inputs'!T7","v":1},{"$f":"'RE Index | Ranking inputs'!U7","v":9},{"$f":"'RE Index | Ranking inputs'!V7","v":22},{"$f":"'RE Index | Ranking inputs'!W7","v":2},{"$f":"'RE Index | Ranking inputs'!X7","v":27},{"$f":"'RE Index | Ranking inputs'!Y7","v":17},{"$f":"'RE Index | Ranking inputs'!Z7","v":3},{"$f":"'RE Index | Ranking inputs'!AA7","v":28},{"$f":"'RE Index | Ranking inputs'!AB7","v":11},{"$f":"'RE Index | Ranking inputs'!AC7","v":13},{"$f":"'RE Index | Ranking inputs'!AD7","v":12},{"$f":"'RE Index | Ranking inputs'!AE7","v":31},{"$f":"'RE Index | Ranking inputs'!AF7","v":31},{"$f":"'RE Index | Ranking inputs'!AG7","v":21},{"$f":"'RE Index | Ranking inputs'!AH7","v":26},{"$f":"'RE Index | Ranking inputs'!AI7","v":23},{"$f":"'RE Index | Ranking inputs'!AJ7","v":18},{"$f":"'RE Index | Ranking inputs'!AK7","v":16},{"$f":"'RE Index | Ranking inputs'!AL7","v":15},{"$f":"'RE Index | Ranking inputs'!AM7","v":25}]
[null,null,"Rank change 2018 to 2019",null,null,null,{"$f":"G51-G53","v":0},{"$f":"H51-H53","v":6},{"$f":"I51-I53","v":1},11,9,1,-2,-14,15,-12,-1,-1,0,-6,-7,0,-1,5,5,-1,5,-3,11,0,0,-9,-5,-5,-9,8,4,-5]

{"sheet":"Antigua_Barbuda","index":5,"n_rows":82,"n_cols":5,"rows_kept":82,"cut":false,"hidden":false,"merged":[[1,5,1,9]]}
[null,"Antigua & Barbuda"]
[null,null,"Overall Indicator"]
[null,null,"Enabling Environment for Renewable Energy (RE) Investments","Consolidated Survey Response","Winston Whyte - APUA"]
[null,null,"Government - Renewable Energy Strategy","Y/N"]
[null,1,"Does your country have a strategic plan to develop renewable energy?"]
[null,null,"Which of the following renewable generation options is included in you country's strategic plan to develop renewable energy?",{"$f":"IF(B6<>0,IF(ISBLANK(E6),\"NA\",E6),\" \")","v":" "},"Solar PV, Onshore Wind"]
[null,2,"Does your country have a specific target for renewable energy?",{"$f":"IF(B7<>0,IF(ISBLANK(E7),\"NA\",E7),\" \")","v":"Yes"},"Yes"]
[null,null,"If yes, what is the target and target year?",{"$f":"IF(B8<>0,IF(ISBLANK(E8),\"NA\",E8),\" \")","v":" "},"20% by 2020"]
[null,null,"What is the current breakdown of your country's energy mix?",{"$f":"IF(B9<>0,IF(ISBLANK(E9),\"NA\",E9),\" \")","v":" "},"Renewable energy 0.5%,\nConventional/Fossil Fuel 99.5%"]
[null,3,"Does your country have an Integrated Resource Plan (IRP) that was produced within the last three years?",{"$f":"IF(B10<>0,IF(ISBLANK(E10),\"NA\",E10),\" \")","v":"No"},"No"]
[null,null,"Utilities","Y/N"]
[null,1,"When planning generation expansion, does the utility consider RE options?",{"$f":"IF(B12<>0,IF(ISBLANK(E12),\"NA\",E12),\" \")","v":"Yes"},"Yes"]
[null,2,"Can the utility safely recover RE investments through tariffs like it can recover fossil fuel costs?",{"$f":"IF(B13<>0,IF(ISBLANK(E13),\"NA\",E13),\" \")","v":"No"},"No"]
[null,3,"Are there clear, specific planning and permitting processes and rules in place for developing RE?",{"$f":"IF(B14<>0,IF(ISBLANK(E14),\"NA\",E14),\" \")","v":"Yes"},"Yes"]
[null,null,"On average, how long does it take for the power utility to get investments in RE projects approved by the regulatory authority (or relevant entity) for recovery through tariffs?",{"$f":"IF(B15<>0,IF(ISBLANK(E15),\"NA\",E15),\" \")","v":" "},"The utility and regulatory entity is one in the same and their is not specific requirement in that regard."]
[null,null,"IPPs","Y/N"]
[null,1,"Can the utility safely recover purchases of RE from third parties, just as it recovers fossil fuel costs?",{"$f":"IF(B17<>0,IF(ISBLANK(E17),\"NA\",E17),\" \")","v":"Yes"},"Yes"]
[null,2,"Are there workable precedents or rules for PPA terms and grid operation rules?",{"$f":"IF(B18<>0,IF(ISBLANK(E18),\"NA\",E18),\" \")","v":"Yes"},"Yes"]
[null,3,"Are there clear and effective licensing processes and requirements in place for IPPs?",{"$f":"IF(B19<>0,IF(ISBLANK(E19),\"NA\",E19),\" \")","v":"Yes"},"Yes"]
[null,4,"Does the utility have an obligation to purchase from IPPs when it is cheaper than generating the power itself?",{"$f":"IF(B20<>0,IF(ISBLANK(E20),\"NA\",E20),\" \")","v":"No"},"No"]
[null,5,"Does the PPA have any take-or-pay arrangements?",{"$f":"IF(B21<>0,IF(ISBLANK(E21),\"NA\",E21),\" \")","v":"No"},"No"]
[null,null,"Distributed generation","Y/N"]
[null,1,"Do you have a registry or database of distributed generation?",{"$f":"IF(B23<>0,IF(ISBLANK(E23),\"NA\",E23),\" \")","v":"Yes"},"Yes"]
[null,null,"What was the number of existing distributed scale RE systems in 2019?"," ",24]
[null,null,"Is there an aggregate maximum capacity for distributed generation?"," ","Yes"]
[null,null,"What is the total installed capacity from renewable distributed generation in your country?"," ","2 MW"]
[null,null,"What was the total generation from existing distributed scale RE systems in 2019?"," ","2,000 MWh"]
[null,2,"Is there a standard arrangement in place for customers to sell electricity to the utility at a reasonable price, for a reasonable timeframe, and with a clear interconnection agreement?","Yes","Yes"]
[]
[2,null,"Existing renewable generation"]
[null,null,"What is the number of existing Utility-Scale RE projects?",{"$f":"IF(B31<>0,IF(ISBLANK(E31),\"NA\",E31),\" \")","v":" "},2]
[null,1,"What was the total electricity generated in 2019? (MWh)",{"$f":"IF(B32<>0,IF(ISBLANK(E32),\"NA\",E32),\" \")","v":375332},375332]
[null,1,"What was the total electricity generated from Utility Scale RE projects in 2019? (MWh) ",{"$f":"IF(B33<>0,IF(ISBLANK(E33),\"NA\",E33),\" \")","v":9000},9000]
[null,null,"Please provide as much information as possible for existing RE projects in the box below as:\n- Project Name\n- Developer\n- Offtaker\n- Renewable Energy Technology Type\n- Start of Commercial Operation (Year)\n- Estimated Capacity Factor (in %) OR Estimated Annual Production (in MWh)\n- Installed Capacity (MW)\n- Length of PPA ",{"$f":"IF(B34<>0,IF(ISBLANK(E34),\"NA\",E34),\" \")","v":" "},"10 MW RE Project\nPV Energy\nAPUA\nSolar PV\n2015\n105%\n8.3 MW\nPPA N/A"]
[]
[3,null,"Planned Utility-Scale Renewable Energy Projects"]
[null,1,"Does your country have an estimate of planned installed capacity expected to come online from-utility scale RE projects?",{"$f":"IF(B37<>0,IF(ISBLANK(E37),\"NA\",E37),\" \")","v":"Yes"},"Yes"]
[null,null,"How much installed capacity from RE is expected to come online in the next 3 years? (MW)",{"$f":"IF(B38<>0,IF(ISBLANK(E38),\"NA\",E38),\" \")","v":" "},"1.7 MW - Solar PV \n4 MW - Wind"]
[null,2,"How much renewable energy generation is expected to come online in the next 3 years? (MWh)",{"$f":"IF(B39<>0,IF(ISBLANK(E39),\"NA\",E39),\" \")","v":119355},{"$f":"3723+115632","v":119355}]
[null,3,"Is climate resilience incorporated in your IRP or national policy?",{"$f":"IF(B40<>0,IF(ISBLANK(E40),\"NA\",E40),\" \")","v":"Yes"},"Yes"]
[null,null,"Please provide as much information as possible for RE projects currently under development in the box below as:\n- Project Name\n- Developer\n- Offtaker\n- Renewable Energy Technology Type\n- Start of Commercial Operation (Year)\n- Estimated Capacity Factor (in %) OR Estimated Annual Production (in MWh)\n- Installed Capacity (MW)\n- Length of PPA ",{"$f":"IF(B41<>0,IF(ISBLANK(E41),\"NA\",E41),\" \")","v":" "},"0 MW RE Project\nPV Energy\nAPUA\nSolar PV\n2015\n105%\n8.3 MW\nPPA N/A"]
[]
[4,null,"Electric Mobility"]
[null,1,"Does your country have policies in place or draft legislation to promote the uptake of electric mobility?",{"$f":"IF(B44<>0,IF(ISBLANK(E44),\"NA\",E44),\" \")","v":"No"},"No"]
[null,2,"Does your country have specific targets for the uptake of electric vehicles?",{"$f":"IF(B45<>0,IF(ISBLANK(E45),\"NA\",E45),\" \")","v":"No"},"No"]
[null,null,"What is the target and target year?",{"$f":"IF(B46<>0,IF(ISBLANK(E46),\"NA\",E46),\" \")","v":" "},"N/A"]
[null,null,"How many electric cars are currently in your country?",{"$f":"IF(B47<>0,IF(ISBLANK(E47),\"NA\",E47),\" \")","v":" "},10]
[null,null,"How many charging stations are in your country?",{"$f":"IF(B48<>0,IF(ISBLANK(E48),\"NA\",E48),\" \")","v":" "},2]
[]
[null,null,"Descriptive CREF Index Survey"]
[null,null,"Enabling Environment for Renewable Energy (RE) Investments"]
[null,null,"Renewable energy strategy"]
[null,null,"Which of the following renewable generation options is included in your country's strategic plan to develop renewable energy?\n- Solar PV\n- Offshore wind\n- Biomass\n- Waste to energy\n- Hydro\n-Geothermal\n- Other",{"$f":"E53","v":"Solar PV, Onshore Wind"},{"$f":"E6","v":"Solar PV, Onshore Wind"}]
[null,null,"What is the target and target year?",{"$f":"E54","v":"20% by 2020"},{"$f":"E8","v":"20% by 2020"}]
[null,null,"What is the current breakdown of your country's energy mix?",{"$f":"E55","v":"Renewable energy 0.5%,\nConventional/Fossil Fuel 99.5%"},{"$f":"E9","v":"Renewable energy 0.5%,\nConventional/Fossil Fuel 99.5%"}]
[null,null,"Utilities"]
[null,null,"On average, how long does it take for the power utility to get investments in RE projects approved by the regulatory authority or the relevant entity) for recovery through tariffs?",{"$f":"E57","v":"The utility and regulatory entity is one in the same and their is not specific requirement in that regard."},{"$f":"E15","v":"The utility and regulatory entity is one in the same and their is not specific requirement in that regard."}]
[null,null,"Distributed Generation"]
[null,null,"What is the number of existing distributed scale RE systems in 2019?",{"$f":"E59","v":24},{"$f":"E24","v":24}]
[null,null,"What is the total installed capacity from renewable distributed generation in your country?",{"$f":"E60","v":"2MW"},"2MW"]
[null,null,"What was the total generation from existing distributed scale RE systems in 2019?",{"$f":"E61","v":"2,000 MWh"},{"$f":"E27","v":"2,000 MWh"}]
[null,null,"Existing renewable generation"]
[null,null,"Existing Utility-Scale Renewable Energy Projects"]
[null,null,"What is the number of existing utility-scale RE projects?",{"$f":"E64","v":2},{"$f":"E31","v":2}]
[null,null,"What was the total electricity generated in 2019 (MWh)?",{"$f":"E65","v":375332},375332]
[null,null,"What was the total electricity generated from utility-scale RE projects in 2019 (MWh)?",9000,9000]
[null,null,"Please provide as much information as possible for existing RE projects in the box below as:\n- Project Name\n- Developer\n- Offtaker\n- Renewable Energy Technology Type\n- Start of Commercial Operation (Year)\n- Estimated Capacity Factor (in %) OR Estimated Annual Production (in MWh)\n- Installed Capacity (MW)\n- Length of PPA ",{"$f":"E67","v":"10 MW RE Project\nPV Energy\nAPUA\nSolar PV\n2015\n105%\n8.3 MW\nPPA N/A"},"10 MW RE Project\nPV Energy\nAPUA\nSolar PV\n2015\n105%\n8.3 MW\nPPA N/A"]
[null,null,"Planned renewable generation"]
[null,null,"Potential Utility-Scale Renewable Energy Projects"]
[null,null,"How much installed capacity from RE is expected to come online in the next 3 years?",{"$f":"E70","v":"1.7 MW - Solar PV \n4 MW - Wind"},{"$f":"E38","v":"1.7 MW - Solar PV \n4 MW - Wind"}]
[null,null,"How much renewable energy generation is expected to come online in the next 3 years?",{"$f":"E71","v":119355},{"$f":"E39","v":119355}]
[null,null,"Please provide as much information as possible for RE projects currently under development in the box below as:\n- Project Name\n- Developer\n- Offtaker\n- Renewable Energy Technology Type\n- Start of Commercial Operation (Year)\n- Estimated Capacity Factor (in %) OR Estimated Annual Production (in MWh)\n- Installed Capacity (MW)\n- Length of PPA ","0 MW RE Project\nPV Energy\nAPUA\nSolar PV\n2015\n105%\n8.3 MW\nPPA N/A",{"$f":"E41","v":"0 MW RE Project\nPV Energy\nAPUA\nSolar PV\n2015\n105%\n8.3 MW\nPPA N/A"}]
[null,null,"Electric Mobility"]
[null,null,"What is the target and target year?",{"$f":"E74","v":"N/A"},{"$f":"E46","v":"N/A"}]
[null,null,"How many electric cars are currently in your country?",{"$f":"E75","v":10},{"$f":"E47","v":10}]
[null,null,"How many charging stations are in your country?",2,2]
[null,null,"Covid"]
[null,null,"Has any measure been implemented to respond to disruptions in revenue collections from electricity services (particularly given the current circumstances during the COVID pandemic)?",{"$f":"E78","v":"Yes"},"Yes"]
[null,null,"If yes, to get a score on this kindly describe how the measure works and who is responsible for implementing it",{"$f":"E79","v":"The measures taken have been to offer an incentive to customers to make payments in full in the month that the bill is due to redeem a 15% discount on electricity bills. The utility is responsible for the implementation. There has been mixed responses. Some customers capitalize on the discount and other have stopped payments altogether."},"The measures taken have been to offer an incentive to customers to make payments in full in the month that the bill is due to redeem a 15% discount on electricity bills. The utility is responsible for the implementation. There has been mixed responses. Some customers capitalize on the discount and other have stopped payments altogether."]
[null,null,"Outlook sentiment"]
[null,null,"How enthusiastic are you about the investment prospects in renewables, electric mobility, and resilience compared to this time last year, and why?",{"$f":"E81","v":"Less"},"Less"]
[null,null,"Please elaborate on your reasoning for the previous response.",{"$f":"E82","v":"I don't see any meaningful Government policy at this time."},"I don't see any meaningful Government policy at this time."]

{"sheet":"Bahamas","index":6,"n_rows":82,"n_cols":6,"rows_kept":82,"cut":false,"hidden":false,"merged":[[1,6,1,12]]}
[null,"The Bahamas"]
[null,null,"Overall Indicator",null,"Burlington Strachan - BPL","Jonathan Hudson - Utilities Regulation & Competition Authority"]
[1,null,"Enabling Environment for Renewable Energy (RE) Investments","Consolidated Survey Response","Respondent #12","Respondent #15"]
[null,null,"Government - Renewable Energy Strategy",null,"Y/N","Y/N"]
[null,1,"Does your country have a strategic plan to develop renewable energy?",{"$f":"IF(B5<>0,IF(ISBLANK(E5),\"NA\",E5),\" \")","v":"NA"}]
[null,null,"Which of the following renewable generation options is included in you country's strategic plan to develop renewable energy?",{"$f":"F6","v":"Solar PV, Onshore Wind, Waste-to-Energy"},"Solar PV","Solar PV, Onshore Wind, Waste-to-Energy"]
[null,2,"Does your country have a specific target for renewable energy?","Yes","Yes","Yes"]
[null,null,"If yes, what is the target and target year?"," ","30% by 2033","30MW by 2030"]
[null,null,"What is the current breakdown of your country's energy mix?"," ","<1% renewable (solar PV), >99% fossil fuel","98% fossil fuel based generation, 2% PV generation"]
[null,3,"Does your country have an Integrated Resource Plan (IRP) that was produced within the last three years?","No","No","Yes"]
[null,null,"Utilities",null,"Y/N","Y/N"]
[null,1,"When planning generation expansion, does the utility consider RE options?",{"$f":"IF(B12<>0,IF(ISBLANK(E12),\"NA\",E12),\" \")","v":"Yes"},"Yes","Yes"]
[null,2,"Can the utility safely recover RE investments through tariffs like it can recover fossil fuel costs?",{"$f":"IF(B13<>0,IF(ISBLANK(E13),\"NA\",E13),\" \")","v":"No"},"No","No"]
[null,3,"Are there clear, specific planning and permitting processes and rules in place for developing RE?",{"$f":"IF(B14<>0,IF(ISBLANK(E14),\"NA\",E14),\" \")","v":"Yes"},"Yes","Yes"]
[null,null,"On average, how long does it take for the power utility to get investments in RE projects approved by the regulatory authority (or relevant entity) for recovery through tariffs?",{"$f":"IF(B15<>0,IF(ISBLANK(E15),\"NA\",E15),\" \")","v":" "},"N/A","N/A"]
[null,null,"IPPs",null,"Y/N","Y/N"]
[null,1,"Can the utility safely recover purchases of RE from third parties, just as it recovers fossil fuel costs?",{"$f":"IF(B17<>0,IF(ISBLANK(F17),\"NA\",F17),\" \")","v":"No"},"Yes","No"]
[null,2,"Are there workable precedents or rules for PPA terms and grid operation rules?",{"$f":"IF(B18<>0,IF(ISBLANK(E18),\"NA\",E18),\" \")","v":"Yes"},"Yes","Yes"]
[null,3,"Are there clear and effective licensing processes and requirements in place for IPPs?",{"$f":"IF(B19<>0,IF(ISBLANK(E19),\"NA\",E19),\" \")","v":"Yes"},"Yes","Yes"]
[null,4,"Does the utility have an obligation to purchase from IPPs when it is cheaper than generating the power itself?",{"$f":"IF(B20<>0,IF(ISBLANK(E20),\"NA\",E20),\" \")","v":"Yes"},"Yes","Yes"]
[null,5,"Does the PPA have any take-or-pay arrangements?",{"$f":"IF(B21<>0,IF(ISBLANK(F21),\"NA\",F21),\" \")","v":"No"},"Yes","No"]
[null,null,"Distributed generation",null,"Y/N","Y/N"]
[null,1,"Do you have a registry or database of distributed generation?",{"$f":"IF(B23<>0,IF(ISBLANK(E23),\"NA\",E23),\" \")","v":"Yes"},"Yes","Yes"]
[null,null,"What was the number of existing distributed scale RE systems in 2019?"," ","Total 192 approved installations (2KW to 750KW system size range)","There are just over 200 RE systems online "]
[null,null,"Is there an aggregate maximum capacity for distributed generation?"," ","Yes","Yes"]
[null,null,"What is the total installed capacity from renewable distributed generation in your country?"," ","4.3MW","4.3MW"]
[null,null,"What was the total generation from existing distributed scale RE systems in 2019?"," ","Unknown","Unknown"]
[null,2,"Is there a standard arrangement in place for customers to sell electricity to the utility at a reasonable price, for a reasonable timeframe, and with a clear interconnection agreement?","Yes","Yes","Yes"]
[]
[2,null,"Existing renewable generation"]
[null,null,"What is the number of existing Utility-Scale RE projects?",{"$f":"IF(B31<>0,IF(ISBLANK(E31),\"NA\",E31),\" \")","v":" "},1,2]
[null,1,"What was the total electricity generated in 2019? (MWh)",{"$f":"IF(B32<>0,IF(ISBLANK(E32),\"NA\",E32),\" \")","v":207547.3},207547.3,"Use BPL figures"]
[null,1,"What was the total electricity generated from Utility Scale RE projects in 2019? (MWh) ",{"$f":"IF(B33<>0,IF(ISBLANK(E33),\"NA\",E33),\" \")","v":0},0,"Use BPL figure of Ragged Island. The other is a private installation which we don't have access to at the moment."]
[null,null,"Please provide as much information as possible for existing RE projects in the box below as:\n- Project Name\n- Developer\n- Offtaker\n- Renewable Energy Technology Type\n- Start of Commercial Operation (Year)\n- Estimated Capacity Factor (in %) OR Estimated Annual Production (in MWh)\n- Installed Capacity (MW)\n- Length of PPA ",{"$f":"IF(B34<>0,IF(ISBLANK(E34),\"NA\",E34),\" \")","v":" "},"–     Project Name - Ragged Island Microgrid\n–     Developer - BPL\n–     Offtaker - BPL\n–     RE technology type - Solar + BESS\n–     Start of commercial operation (year)\n–     Estimated capacity factor (in %) OR estimated annual production (in MWh)\n–     Installed capacity (MW) 0.4MW solar\n–     Length of PPA - EPC","The Ragged Island project is a BPL RMI initiative.\nThere is a private 750kW wind + solar installation on Over Yonder Cay in the Exumas.\nThere is a private 4MW PV project under development in Chub Cay off Bimini."]
[]
[3,null,"Planned Utility-Scale Renewable Energy Projects"]
[null,1,"Does your country have an estimate of planned installed capacity expected to come online from-utility scale RE projects?",{"$f":"IF(B37<>0,IF(ISBLANK(E37),\"NA\",E37),\" \")","v":"Yes"},"Yes","Yes"]
[null,null,"How much installed capacity from RE is expected to come online in the next 3 years? (MW)",{"$f":"IF(B38<>0,IF(ISBLANK(E38),\"NA\",E38),\" \")","v":" "},20,40]
[null,2,"How much renewable energy generation is expected to come online in the next 3 years? (MWh)",{"$f":"AVERAGE(E39,F39)","v":141192},117384,{"$f":"165*1000","v":165000}]
[null,3,"Is climate resilience incorporated in your IRP or national policy?",{"$f":"IF(B40<>0,IF(ISBLANK(E40),\"NA\",E40),\" \")","v":"Yes"},"Yes","Yes"]
[null,null,"Please provide as much information as possible for RE projects currently under development in the box below as:\n- Project Name\n- Developer\n- Offtaker\n- Renewable Energy Technology Type\n- Start of Commercial Operation (Year)\n- Estimated Capacity Factor (in %) OR Estimated Annual Production (in MWh)\n- Installed Capacity (MW)\n- Length of PPA ",{"$f":"IF(B41<>0,IF(ISBLANK(E41),\"NA\",E41),\" \")","v":" "},"Info not yet available","The majority of projects are commercial (under 500kW) and residential (under 100kW).\nFor utility scale see response above"]
[null,null,null,{"$f":"IF(B42<>0,IF(ISBLANK(E42),\"NA\",E42),\" \")","v":" "}]
[4,null,"Electric Mobility"," "]
[null,1,"Does your country have policies in place or draft legislation to promote the uptake of electric mobility?","Yes","Yes","No"]
[null,2,"Does your country have specific targets for the uptake of electric vehicles?","No","No","No"]
[null,null,"What is the target and target year?"," ","N/A","N/A"]
[null,null,"How many electric cars are currently in your country?"," ","N/A","Don't know."]
[null,null,"How many charging stations are in your country?"," ","N/A","Don't know."]
[]
[null,null,"Descriptive CREF Index Survey"]
[null,null,"Enabling Environment for Renewable Energy (RE) Investments"]
[null,null,"Renewable energy strategy"]
[null,null,"Which of the following renewable generation options is included in your country's strategic plan to develop renewable energy?\n- Solar PV\n- Offshore wind\n- Biomass\n- Waste to energy\n- Hydro\n-Geothermal\n- Other",{"$f":"E53","v":"Solar PV"},{"$f":"E6","v":"Solar PV"},{"$f":"F6","v":"Solar PV, Onshore Wind, Waste-to-Energy"}]
[null,null,"What is the target and target year?",{"$f":"E54","v":"30% by 2033"},{"$f":"E8","v":"30% by 2033"},{"$f":"F8","v":"30MW by 2030"}]
[null,null,"What is the current breakdown of your country's energy mix?","<1% renewable (solar PV), >99% fossil fuel",{"$f":"E9","v":"<1% renewable (solar PV), >99% fossil fuel"},{"$f":"F9","v":"98% fossil fuel based generation, 2% PV generation"}]
[null,null,"Utilities"]
[null,null,"On average, how long does it take for the power utility to get investments in RE projects approved by the regulatory authority or the relevant entity) for recovery through tariffs?",{"$f":"E57","v":"N/A"},{"$f":"E15","v":"N/A"},{"$f":"F15","v":"N/A"}]
[null,null,"Distributed Generation"]
[null,null,"What is the number of existing distributed scale RE systems in 2019?",{"$f":"E59","v":"Total 192 approved installations (2KW to 750KW system size range)"},{"$f":"E24","v":"Total 192 approved installations (2KW to 750KW system size range)"},{"$f":"F24","v":"There are just over 200 RE systems online "}]
[null,null,"What is the total installed capacity from renewable distributed generation in your country?",{"$f":"E60","v":"4.3MW"},{"$f":"E26","v":"4.3MW"},{"$f":"F26","v":"4.3MW"}]
[null,null,"What was the total generation from existing distributed scale RE systems in 2019?",{"$f":"E61","v":"Unknown"},{"$f":"E27","v":"Unknown"},{"$f":"F27","v":"Unknown"}]
[null,null,"Existing renewable generation"]
[null,null,"Existing Utility-Scale Renewable Energy Projects"]
[null,null,"What is the number of existing utility-scale RE projects?",{"$f":"E64","v":1},{"$f":"E31","v":1},2]
[null,null,"What was the total electricity generated in 2018 (MWh)?",{"$f":"E65","v":207547.3},207547.3,"Use BPL figures"]
[null,null,"What was the total electricity generated from utility-scale RE projects in 2019 (MWh)?",0,0,"Use BPL figure of Ragged Island. The other is a private installation which we don't have access to at the moment."]
[null,null,"Please provide as much information as possible for existing RE projects in the box below as:\n- Project Name\n- Developer\n- Offtaker\n- Renewable Energy Technology Type\n- Start of Commercial Operation (Year)\n- Estimated Capacity Factor (in %) OR Estimated Annual Production (in MWh)\n- Installed Capacity (MW)\n- Length of PPA ","–     Project Name - Ragged Island Microgrid\n–     Developer - BPL\n–     Offtaker - BPL\n–     RE technology type - Solar + BESS\n–     Start of commercial operation (year)\n–     Estimated capacity factor (in %) OR estimated annual production (in MWh)\n–     Installed capacity (MW) 0.4MW solar\n–     Length of PPA - EPC",{"$f":"E34","v":"–     Project Name - Ragged Island Microgrid\n–     Developer - BPL\n–     Offtaker - BPL\n–     RE technology type - Solar + BESS\n–     Start of commercial operation (year)\n–     Estimated capacity factor (in %) OR estimated annual production (in MWh)\n–     Installed capacity (MW) 0.4MW solar\n–     Length of PPA - EPC"}]
[null,null,"Planned renewable generation"]
[null,null,"Potential Utility-Scale Renewable Energy Projects"]
[null,null,"How much installed capacity from RE is expected to come online in the next 3 years?",{"$f":"E70","v":20},{"$f":"E38","v":20},{"$f":"F38","v":40}]
[null,null,"How much renewable energy generation is expected to come online in the next 3 years?",{"$f":"E71","v":117384},{"$f":"E39","v":117384},{"$f":"F39","v":165000}]
[null,null,"Please provide as much information as possible for RE projects currently under development in the box below as:\n- Project Name\n- Developer\n- Offtaker\n- Renewable Energy Technology Type\n- Start of Commercial Operation (Year)\n- Estimated Capacity Factor (in %) OR Estimated Annual Production (in MWh)\n- Installed Capacity (MW)\n- Length of PPA ","Info not yet available",{"$f":"E41","v":"Info not yet available"},{"$f":"F41","v":"The majority of projects are commercial (under 500kW) and residential (under 100kW).\nFor utility scale see response above"}]
[null,null,"Electric Mobility"]
[null,null,"What is the target and target year?",{"$f":"E74","v":"N/A"},{"$f":"E46","v":"N/A"},{"$f":"F46","v":"N/A"}]
[null,null,"How many electric cars are currently in your country?",{"$f":"E75","v":"N/A"},{"$f":"E47","v":"N/A"},"Don't know."]
[null,null,"How many charging stations are in your country?","N/A","N/A","Don't know."]
[null,null,"Covid"]
[null,null,"Has any measure been implemented to respond to disruptions in revenue collections from electricity services (particularly given the current circumstances during the COVID pandemic)?",{"$f":"E78","v":"Yes"},"Yes","Yes"]
[null,null,"If yes, to get a score on this kindly describe how the measure works and who is responsible for implementing it",{"$f":"E79","v":"If a customer can provide proof that they were medically impacted by COVID or were laid off directly due to COVID they were allowed to enter into a payment arrangement with respect to outstanding balances on their electricity bill.  This program was implemented by the BPL, on the recommendation of the GOB."},"If a customer can provide proof that they were medically impacted by COVID or were laid off directly due to COVID they were allowed to enter into a payment arrangement with respect to outstanding balances on their electricity bill.  This program was implemented by the BPL, on the recommendation of the GOB.","BPL would be the best to respond to this.  But the two main approaches are payment deferral and \"Budget Billing\"."]
[null,null,"Outlook sentiment"]
[null,null,"How enthusiastic are you about the investment prospects in renewables, electric mobility, and resilience compared to this time last year, and why?",{"$f":"E81","v":"Same"},"Same","Less"]
[null,null,"Please elaborate on your reasoning for the previous response.",{"$f":"E82","v":"The interest remains the same and external funding options still seem available.  Provide the COVID epidemic does not start to impact these elements projects should still be possible."},"The interest remains the same and external funding options still seem available.  Provide the COVID epidemic does not start to impact these elements projects should still be possible.","Lack of funding due to decrease in private business and government revenue as a result of Covid."]

{"sheet":"Barbados","index":7,"n_rows":82,"n_cols":6,"rows_kept":82,"cut":false,"hidden":false,"merged":[]}
[null,"Barbados"]
[null,null,"Overall Indicator",null,"Charmaine Gill-Evans, Barbados Light & Power Company Ltd","Marsha Atherley-Ikechi, Fair Trading Commission"]
[1,null,"Enabling Environment for Renewable Energy (RE) Investments","Consolidated Survey Response","Respondent #7","Respondent #20"]
[null,null,"Government - Renewable Energy Strategy","Y/N","Y/N"]
[null,1,"Does your country have a strategic plan to develop renewable energy?",{"$f":"IF(B5<>0,IF(ISBLANK(E5),\"NA\",E5),\" \")","v":"NA"}]
[null,null,"Which of the following renewable generation options is included in you country's strategic plan to develop renewable energy?",{"$f":"IF(B6<>0,IF(ISBLANK(E6),\"NA\",E6),\" \")","v":" "},"Solar PV, Onshore Wind, Biomass, Waste-to-Energy","Solar PV, Onshore Wind, Offshore Wind, Biomass, Waste-to-Energy"]
[null,2,"Does your country have a specific target for renewable energy?","Yes","Yes","Yes"]
[null,null,"If yes, what is the target and target year?"," ","This Barbados National Energy Policy (BNEP) 2019-2030 document is designed to achieve the 100% renewable energy and carbon neutral island- state transformational goals by 2030.\nThese include:\n• Provision of reliable, safe, affordable, sustainable, modern and climate friendly energy services to all residents and visitors.\n• Zero domestic consumption of fossil fuels economy wide.\n• Export of all hydrocarbons produced both on land and offshore.\n• Maximizing local participation (individual and corporate) in distributed renewable energy (RE) generation and storage (democratization of energy).\n• Minimize the outflow of foreign exchange.\n• Creating a regional center of excellence in RE research and development.","100% RE by 2030"]
[null,null,"What is the current breakdown of your country's energy mix?"," ","96.4% fossil fuel, rest renewables","95% FF, 5% solar PV"]
[null,3,"Does your country have an Integrated Resource Plan (IRP) that was produced within the last three years?","No","No","No"]
[null,null,"Utilities","Y/N","Y/N"]
[null,1,"When planning generation expansion, does the utility consider RE options?",{"$f":"IF(B12<>0,IF(ISBLANK(E12),\"NA\",E12),\" \")","v":"Yes"},"Yes","Yes"]
[null,2,"Can the utility safely recover RE investments through tariffs like it can recover fossil fuel costs?",{"$f":"IF(B13<>0,IF(ISBLANK(E13),\"NA\",E13),\" \")","v":"Yes"},"Yes","Yes"]
[null,3,"Are there clear, specific planning and permitting processes and rules in place for developing RE?","Yes","Yes","No"]
[null,null,"On average, how long does it take for the power utility to get investments in RE projects approved by the regulatory authority (or relevant entity) for recovery through tariffs?"," ","The length of time is variable.","9-12 months"]
[null,null,"IPPs"]
[null,1,"Can the utility safely recover purchases of RE from third parties, just as it recovers fossil fuel costs?","Yes","Yes","Yes"]
[null,2,"Are there workable precedents or rules for PPA terms and grid operation rules?","No","No","Yes"]
[null,3,"Are there clear and effective licensing processes and requirements in place for IPPs?","No","No","Yes"]
[null,4,"Does the utility have an obligation to purchase from IPPs when it is cheaper than generating the power itself?","Yes","Yes","Yes"]
[null,5,"Does the PPA have any take-or-pay arrangements?","Unknown","Unknown"]
[null,null,"Distributed generation"]
[null,1,"Do you have a registry or database of distributed generation?","Yes","Yes","Yes"]
[null,null,"What was the number of existing distributed scale RE systems in 2019?"," ","There were 1928 existing distributed scale RE systems as at end 2019.",1800]
[null,null,"Is there an aggregate maximum capacity for distributed generation?"," ","Yes","No"]
[null,null,"What is the total installed capacity from renewable distributed generation in your country?"," ","26MW as at end of 2019. \n34MW as at end June of 2020.","22MW"]
[null,null,"What was the total generation from existing distributed scale RE systems in 2019?"," ","Purchased power in 2019 - 33,673,346kWh"]
[null,2,"Is there a standard arrangement in place for customers to sell electricity to the utility at a reasonable price, for a reasonable timeframe, and with a clear interconnection agreement?","Yes","Yes","Yes"]
[null,null,null," "]
[2,null,"Existing renewable generation"]
[null,null,"What is the number of existing Utility-Scale RE projects?"," ","One. \nThe Trents 10 MW solar PV solar plant, a BLPC facility was commissioned in 2016.",1]
[null,1,"What was the total electricity generated in 2019? (MWh)",980072.16200000001,{"$f":"980072162/1000","v":980072.16200000001}]
[null,1,"What was the total electricity generated from Utility Scale RE projects in 2019? (MWh) ",18780.685000000001,{"$f":"18780685/1000","v":18780.685000000001}]
[null,null,"Please provide as much information as possible for existing RE projects in the box below as:\n- Project Name\n- Developer\n- Offtaker\n- Renewable Energy Technology Type\n- Start of Commercial Operation (Year)\n- Estimated Capacity Factor (in %) OR Estimated Annual Production (in MWh)\n- Installed Capacity (MW)\n- Length of PPA ",{"$f":"IF(B34<>0,IF(ISBLANK(E34),\"NA\",E34),\" \")","v":" "},"Existing BLPC RE projects \n–     Project Name – Trents Solar PV\n–     Developer - Barbados Light & Power\n–     Offtaker - Barbados Light & Power\n–     RE technology type – Solar PV\n–     Start of commercial operation (year) - 2016\n–     Estimated capacity factor (in %) OR estimated annual production (in MWh) – est. 18, 000 MWh p.a.\n–     Installed capacity (MW) – 10MW\n–     Length of PPA – N/A"]
[null,null,null,{"$f":"IF(B35<>0,IF(ISBLANK(E35),\"NA\",E35),\" \")","v":" "}]
[3,null,"Planned Utility-Scale Renewable Energy Projects"]
[null,1,"Does your country have an estimate of planned installed capacity expected to come online from-utility scale RE projects?","Yes","Yes","No"]
[null,null,"How much installed capacity from RE is expected to come online in the next 3 years? (MW)"," ",295]
[null,2,"How much renewable energy generation is expected to come online in the next 3 years? (MWh)",687650,{"$f":"687.65*1000","v":687650}]
[null,3,"Is climate resilience incorporated in your IRP or national policy?","Yes","Yes","No"]
[null,null,"Please provide as much information as possible for RE projects currently under development in the box below as:\n- Project Name\n- Developer\n- Offtaker\n- Renewable Energy Technology Type\n- Start of Commercial Operation (Year)\n- Estimated Capacity Factor (in %) OR Estimated Annual Production (in MWh)\n- Installed Capacity (MW)\n- Length of PPA "," ","BLPC RE projects currently under development:\n\n– Project Name – Lamberts Wind Farm\n– Developer - Barbados Light & Power\n– Offtaker - Barbados Light & Power\n– RE technology type – Wind Energy Conversion\n– Start of commercial operation (year) – COD Jan 2022\n– Estimated capacity factor (in %) OR estimated annual production (in MWh) – 29,100 MWh p.a. est. \n– Installed capacity (MW) – 10MW\n– Length of PPA - Currently undefined. 20 year terms anticipated. \n\n\n\n– Project Name – Lower Estate Solar PV\n– Developer - Barbados Light & Power\n– Offtaker - Barbados Light & Power\n– RE technology type – Solar PV\n– Start of commercial operation (year) – COD Oct 2021\n– Estimated capacity factor (in %) OR estimated annual production (in MWh) – 15, 579 MWh p.a. est.\n– Installed capacity (MW) – 7MW \n– Length of PPA - Currently undefined. 20 year terms anticipated.\n\nWhile there is much IPP interest, many of the larger projects are under development and awaiting the relevant licensing regime and PPA process to be completed. Also, there are NDA's etc. in force with those entities currently being negotiated with and as such we cannot share detailed or specific information in the interest of confidentiality."]
[null,null,null," "]
[4,null,"Electric Mobility"]
[null,1,"Does your country have policies in place or draft legislation to promote the uptake of electric mobility?","Yes","Yes","No"]
[null,2,"Does your country have specific targets for the uptake of electric vehicles?","No","No","No"]
[null,null,"What is the target and target year?"," ","No specific target was identified but increased use was to be promoted through the relevant policies and incentive mechanisms to be developed.\n\nThere are 16 specific objectives and 24 policy measures outlined for Transportation Sector in the Government policy document and implementation plan.\nPlease see attached files Barbados National Energy Policy and Implementation Plan\nLink: https://www.energy.gov.bb/web/national-energy-policy-for-barbados-2019-2030"]
[null,null,"How many electric cars are currently in your country?"," ","Approximately 550 cars and vans, and 33 buses to date. (hybrids are not included, only all electric vehicles)",">350"]
[null,null,"How many charging stations are in your country?"," ","39 public charging locations\nOver 400 hundred private and home chargers\nGo to www.plugshare.com and search Barbados for a visual representation.",">40"]
[]
[null,null,"Descriptive CREF Index Survey"]
[null,null,"Enabling Environment for Renewable Energy (RE) Investments"]
[null,null,"Renewable energy strategy"]
[null,null,"Which of the following renewable generation options is included in your country's strategic plan to develop renewable energy?\n- Solar PV\n- Offshore wind\n- Biomass\n- Waste to energy\n- Hydro\n-Geothermal\n- Other",{"$f":"E53","v":"Solar PV, Onshore Wind, Biomass, Waste-to-Energy"},{"$f":"E6","v":"Solar PV, Onshore Wind, Biomass, Waste-to-Energy"},{"$f":"F6","v":"Solar PV, Onshore Wind, Offshore Wind, Biomass, Waste-to-Energy"}]
[null,null,"What is the target and target year?",{"$f":"E54","v":"This Barbados National Energy Policy (BNEP) 2019-2030 document is designed to achieve the 100% renewable energy and carbon neutral island- state transformational goals by 2030.\nThese include:\n• Provision of reliable, safe, affordable, sustainable, modern and climate friendly energy services to all residents and visitors.\n• Zero domestic consumption of fossil fuels economy wide.\n• Export of all hydrocarbons produced both on land and offshore.\n• Maximizing local participation (individual and corporate) in distributed renewable energy (RE) generation and storage (democratization of energy).\n• Minimize the outflow of foreign exchange.\n• Creating a regional center of excellence in RE research and development."},{"$f":"E8","v":"This Barbados National Energy Policy (BNEP) 2019-2030 document is designed to achieve the 100% renewable energy and carbon neutral island- state transformational goals by 2030.\nThese include:\n• Provision of reliable, safe, affordable, sustainable, modern and climate friendly energy services to all residents and visitors.\n• Zero domestic consumption of fossil fuels economy wide.\n• Export of all hydrocarbons produced both on land and offshore.\n• Maximizing local participation (individual and corporate) in distributed renewable energy (RE) generation and storage (democratization of energy).\n• Minimize the outflow of foreign exchange.\n• Creating a regional center of excellence in RE research and development."},{"$f":"F8","v":"100% RE by 2030"}]
[null,null,"What is the current breakdown of your country's energy mix?",{"$f":"E55","v":"96.4% fossil fuel, rest renewables"},{"$f":"E9","v":"96.4% fossil fuel, rest renewables"},{"$f":"F9","v":"95% FF, 5% solar PV"}]
[null,null,"Utilities"]
[null,null,"On average, how long does it take for the power utility to get investments in RE projects approved by the regulatory authority 9or the relevant entity) for recovery through tariffs?",{"$f":"E57","v":"The length of time is variable."},{"$f":"E15","v":"The length of time is variable."},{"$f":"F15","v":"9-12 months"}]
[null,null,"Distributed Generation"]
[null,null,"What is the number of existing distributed scale RE systems in 2019?",{"$f":"E59","v":"There were 1928 existing distributed scale RE systems as at end 2019."},{"$f":"E24","v":"There were 1928 existing distributed scale RE systems as at end 2019."},1800]
[null,null,"What is the total installed capacity from renewable distributed generation in your country?",{"$f":"E60","v":"26MW as at end of 2019. \n34MW as at end June of 2020."},{"$f":"E26","v":"26MW as at end of 2019. \n34MW as at end June of 2020."},"22MW"]
[null,null,"What was the total generation from existing distributed scale RE systems in 2019?",{"$f":"E61","v":"Purchased power in 2019 - 33,673,346kWh"},{"$f":"E27","v":"Purchased power in 2019 - 33,673,346kWh"},0]
[null,null,"Existing renewable generation"]
[null,null,"Existing Utility-Scale Renewable Energy Projects"]
[null,null,"What is the number of existing utility-scale RE projects?",{"$f":"E64","v":"One. \nThe Trents 10 MW solar PV solar plant, a BLPC facility was commissioned in 2016."},{"$f":"E31","v":"One. \nThe Trents 10 MW solar PV solar plant, a BLPC facility was commissioned in 2016."},1]
[null,null,"What was the total electricity generated in 2019 (MWh)?",{"$f":"E65","v":980072.16200000001},980072.16200000001,0]
[null,null,"What was the total electricity generated from utility-scale RE projects in 2019 (MWh)?",18780.685000000001,18780.685000000001,0]
[null,null,"Please provide as much information as possible for existing RE projects in the box below as:\n- Project Name\n- Developer\n- Offtaker\n- Renewable Energy Technology Type\n- Start of Commercial Operation (Year)\n- Estimated Capacity Factor (in %) OR Estimated Annual Production (in MWh)\n- Installed Capacity (MW)\n- Length of PPA ","Existing BLPC RE projects \n–     Project Name – Trents Solar PV\n–     Developer - Barbados Light & Power\n–     Offtaker - Barbados Light & Power\n–     RE technology type – Solar PV\n–     Start of commercial operation (year) - 2016\n–     Estimated capacity factor (in %) OR estimated annual production (in MWh) – est. 18, 000 MWh p.a.\n–     Installed capacity (MW) – 10MW\n–     Length of PPA – N/A","Existing BLPC RE projects \n–     Project Name – Trents Solar PV\n–     Developer - Barbados Light & Power\n–     Offtaker - Barbados Light & Power\n–     RE technology type – Solar PV\n–     Start of commercial operation (year) - 2016\n–     Estimated capacity factor (in %) OR estimated annual production (in MWh) – est. 18, 000 MWh p.a.\n–     Installed capacity (MW) – 10MW\n–     Length of PPA – N/A",0]
[null,null,"Planned renewable generation"]
[null,null,"Potential Utility-Scale Renewable Energy Projects"]
[null,null,"How much installed capacity from RE is expected to come online in the next 3 years?",{"$f":"E70","v":295},{"$f":"E38","v":295},0]
[null,null,"How much renewable energy generation is expected to come online in the next 3 years?",{"$f":"E71","v":687650},{"$f":"E39","v":687650},0]
[null,null,"Please provide as much information as possible for RE projects currently under development in the box below as:\n- Project Name\n- Developer\n- Offtaker\n- Renewable Energy Technology Type\n- Start of Commercial Operation (Year)\n- Estimated Capacity Factor (in %) OR Estimated Annual Production (in MWh)\n- Installed Capacity (MW)\n- Length of PPA ","BLPC RE projects currently under development:\n\n– Project Name – Lamberts Wind Farm\n– Developer - Barbados Light & Power\n– Offtaker - Barbados Light & Power\n– RE technology type – Wind Energy Conversion\n– Start of commercial operation (year) – COD Jan 2022\n– Estimated capacity factor (in %) OR estimated annual production (in MWh) – 29,100 MWh p.a. est. \n– Installed capacity (MW) – 10MW\n– Length of PPA - Currently undefined. 20 year terms anticipated. \n\n\n\n– Project Name – Lower Estate Solar PV\n– Developer - Barbados Light & Power\n– Offtaker - Barbados Light & Power\n– RE technology type – Solar PV\n– Start of commercial operation (year) – COD Oct 2021\n– Estimated capacity factor (in %) OR estimated annual production (in MWh) – 15, 579 MWh p.a. est.\n– Installed capacity (MW) – 7MW \n– Length of PPA - Currently undefined. 20 year terms anticipated.\n\nWhile there is much IPP interest, many of the larger projects are under development and awaiting the relevant licensing regime and PPA process to be completed. Also, there are NDA's etc. in force with those entities currently being negotiated with and as such we cannot share detailed or specific information in the interest of confidentiality.",{"$f":"E41","v":"BLPC RE projects currently under development:\n\n– Project Name – Lamberts Wind Farm\n– Developer - Barbados Light & Power\n– Offtaker - Barbados Light & Power\n– RE technology type – Wind Energy Conversion\n– Start of commercial operation (year) – COD Jan 2022\n– Estimated capacity factor (in %) OR estimated annual production (in MWh) – 29,100 MWh p.a. est. \n– Installed capacity (MW) – 10MW\n– Length of PPA - Currently undefined. 20 year terms anticipated. \n\n\n\n– Project Name – Lower Estate Solar PV\n– Developer - Barbados Light & Power\n– Offtaker - Barbados Light & Power\n– RE technology type – Solar PV\n– Start of commercial operation (year) – COD Oct 2021\n– Estimated capacity factor (in %) OR estimated annual production (in MWh) – 15, 579 MWh p.a. est.\n– Installed capacity (MW) – 7MW \n– Length of PPA - Currently undefined. 20 year terms anticipated.\n\nWhile there is much IPP interest, many of the larger projects are under development and awaiting the relevant licensing regime and PPA process to be completed. Also, there are NDA's etc. in force with those entities currently being negotiated with and as such we cannot share detailed or specific information in the interest of confidentiality."},0]
[null,null,"Electric Mobility"]
[null,null,"What is the target and target year?",{"$f":"E74","v":"No specific target was identified but increased use was to be promoted through the relevant policies and incentive mechanisms to be developed.\n\nThere are 16 specific objectives and 24 policy measures outlined for Transportation Sector in the Government policy document and implementation plan.\nPlease see attached files Barbados National Energy Policy and Implementation Plan\nLink: https://www.energy.gov.bb/web/national-energy-policy-for-barbados-2019-2030"},{"$f":"E46","v":"No specific target was identified but increased use was to be promoted through the relevant policies and incentive mechanisms to be developed.\n\nThere are 16 specific objectives and 24 policy measures outlined for Transportation Sector in the Government policy document and implementation plan.\nPlease see attached files Barbados National Energy Policy and Implementation Plan\nLink: https://www.energy.gov.bb/web/national-energy-policy-for-barbados-2019-2030"},0]
[null,null,"How many electric cars are currently in your country?",{"$f":"E75","v":"Approximately 550 cars and vans, and 33 buses to date. (hybrids are not included, only all electric vehicles)"},{"$f":"E47","v":"Approximately 550 cars and vans, and 33 buses to date. (hybrids are not included, only all electric vehicles)"},">350"]
[null,null,"How many charging stations are in your country?","39 public charging locations\nOver 400 hundred private and home chargers\nGo to www.plugshare.com and search Barbados for a visual representation.","39 public charging locations\nOver 400 hundred private and home chargers\nGo to www.plugshare.com and search Barbados for a visual representation.",">40"]
[null,null,"Covid"]
[null,null,"Has any measure been implemented to respond to disruptions in revenue collections from electricity services (particularly given the current circumstances during the COVID pandemic)?","Yes","Yes","Yes"]
[null,null,"If yes, to get a score on this kindly describe how the measure works and who is responsible for implementing it","The utility has made additional arrangements to facilitate alternate revenue collection means (e.g. online payments, payment by credit cards and payment plans) to allow customers to transact business while observing the public health protocols.","The utility has made additional arrangements to facilitate alternate revenue collection means (e.g. online payments, payment by credit cards and payment plans) to allow customers to transact business while observing the public health protocols."]
[null,null,"Outlook sentiment"]
[null,null,"How enthusiastic are you about the investment prospects in renewables, electric mobility, and resilience compared to this time last year, and why?","More","More","Same"]
[null,null,"Please elaborate on your reasoning for the previous response.","The prevailing Government policies support the implementation of renewables, the growth of electric mobility and increased awareness of the need for climate resilience. \nThe Integrated Resource and Resilience Plan (IRRP) exercise currently being undertaken by the Government of Barbados,  with the assistance of the IADB, has resilience as a necessary objective or component identified in the plan.","The prevailing Government policies support the implementation of renewables, the growth of electric mobility and increased awareness of the need for climate resilience. \nThe Integrated Resource and Resilience Plan (IRRP) exercise currently being undertaken by the Government of Barbados,  with the assistance of the IADB, has resilience as a necessary objective or component identified in the plan."]

{"sheet":"Belize","index":8,"n_rows":82,"n_cols":6,"rows_kept":82,"cut":false,"hidden":false,"merged":[[1,6,1,12]]}
[null,"Belize"]
[null,null,"Overall Indicator",null,"Danielle Jones, Belize Electricity Limited","Geon Hansen, Ministry of Public Service, Energy and Public Utilities"]
[1,null,"Enabling Environment for Renewable Energy (RE) Investments","Consolidated Survey Response","Respondent #8","Respondent #21"]
[null,null,"Government - Renewable Energy Strategy",null,"Y/N"]
[null,1,"Does your country have a strategic plan to develop renewable energy?",{"$f":"IF(B5<>0,IF(ISBLANK(E5),\"NA\",E5),\" \")","v":"NA"}]
[null,null,"Which of the following renewable generation options is included in you country's strategic plan to develop renewable energy?"," ","Solar PV, Biomass, Hydro","Solar PV, Onshore Wind, Biomass, Hydro"]
[null,2,"Does your country have a specific target for renewable energy?","Yes","Yes","Yes"]
[null,null,"If yes, what is the target and target year?"," ","Ministry of Energy, Science & Technology and Public Utilities Strategic Plan 2012-2017:\nStrategic Element #1: Improve energy efficiency and conservation 11 by at least 30 per cent by 2033, using energy utilization and GDP generated in 2011 as the baseline. \nStrategic Element #2: Reduce the country’s dependence on fossil fuels 12 consumption by 50 per cent by 2020, from one million barrels to one-half million barrels by increasing the provision of modern energy carriers utilizing domestic energy resources, coupled with improving energy efficiency and conservation \nStrategic Element #3: To triple the amount of modern energy carriers 14 derived from Agricultural, Forestry and Fisheries production and processing, including municipal solid waste (MSW) by 2020","85% by 2030"]
[null,null,"What is the current breakdown of your country's energy mix?"," ","Hydro \t11.1%\nCo-generation\t13.7%\nMexican Imports (CFE)\t57.3%\nFossil Fuel\t17.7%\nSolar \t0.1%\nTotal\t100.0%","Diesel - 23.02%\nGasoline - 22.70%\nBiomass (Bagasse and Firewood) - 21.74%\nImported Electricity - 8.36%\nLPG - 7.99%\nKerosene - 5.52%\nFuel Oil - 5.34%\nCrude Oil - 3.44%\nHydro - 1.63%\nPetroleum Gas - 0.25%\nSolar PV - 0.01%"]
[null,3,"Does your country have an Integrated Resource Plan (IRP) that was produced within the last three years?","Yes","Yes","No"]
[null,null,"Utilities",null,"Y/N"]
[null,1,"When planning generation expansion, does the utility consider RE options?",{"$f":"IF(B12<>0,IF(ISBLANK(E12),\"NA\",E12),\" \")","v":"Yes"},"Yes","Yes"]
[null,2,"Can the utility safely recover RE investments through tariffs like it can recover fossil fuel costs?",{"$f":"IF(B13<>0,IF(ISBLANK(E13),\"NA\",E13),\" \")","v":"Yes"},"Yes","Yes"]
[null,3,"Are there clear, specific planning and permitting processes and rules in place for developing RE?",{"$f":"IF(B14<>0,IF(ISBLANK(E14),\"NA\",E14),\" \")","v":"Yes"},"Yes","No"]
[null,null,"On average, how long does it take for the power utility to get investments in RE projects approved by the regulatory authority (or relevant entity) for recovery through tariffs?",{"$f":"IF(B15<>0,IF(ISBLANK(E15),\"NA\",E15),\" \")","v":" "},"Rate applications which would include recovery for investments are done on a four year planning horizon in the first instance, a Full Tariff Review Proceeding, and revisited annually by means of Annual Review Proceedings. So in practice, a proposed investment can be reviewed and approved within the space of a year.","30 days"]
[null,null,"IPPs",null,"Y/N"]
[null,1,"Can the utility safely recover purchases of RE from third parties, just as it recovers fossil fuel costs?",{"$f":"IF(B17<>0,IF(ISBLANK(E17),\"NA\",E17),\" \")","v":"No"},"No","Yes"]
[null,2,"Are there workable precedents or rules for PPA terms and grid operation rules?",{"$f":"IF(B18<>0,IF(ISBLANK(E18),\"NA\",E18),\" \")","v":"Yes"},"Yes","Yes"]
[null,3,"Are there clear and effective licensing processes and requirements in place for IPPs?",{"$f":"IF(B19<>0,IF(ISBLANK(E19),\"NA\",E19),\" \")","v":"Yes"},"Yes","Yes"]
[null,4,"Does the utility have an obligation to purchase from IPPs when it is cheaper than generating the power itself?",{"$f":"IF(B20<>0,IF(ISBLANK(E20),\"NA\",E20),\" \")","v":"Yes"},"Yes","No"]
[null,5,"Does the PPA have any take-or-pay arrangements?",{"$f":"IF(B21<>0,IF(ISBLANK(E21),\"NA\",E21),\" \")","v":"Yes"},"Yes","Yes"]
[null,null,"Distributed generation",null,"Y/N"]
[null,1,"Do you have a registry or database of distributed generation?",{"$f":"IF(B23<>0,IF(ISBLANK(E23),\"NA\",E23),\" \")","v":"No"},"No","No"]
[null,null,"What was the number of existing distributed scale RE systems in 2019?"," ","This number is unknown to the utility.","Unknown"]
[null,null,"Is there an aggregate maximum capacity for distributed generation?",null,"No","Yes"]
[null,null,"What is the total installed capacity from renewable distributed generation in your country?"," ","Unknown at this time.","Unknown"]
[null,null,"What was the total generation from existing distributed scale RE systems in 2019?"," ","Unknown at this time.","Unknown"]
[null,2,"Is there a standard arrangement in place for customers to sell electricity to the utility at a reasonable price, for a reasonable timeframe, and with a clear interconnection agreement?","No","No","No"]
[]
[2,null,"Existing renewable generation"]
[null,null,"What is the number of existing Utility-Scale RE projects?",{"$f":"IF(B31<>0,IF(ISBLANK(E31),\"NA\",E31),\" \")","v":" "},"Seven\n1.\tBECOL - Mollejon \n2.\tBECOL - Chalillo \n3.\tBECOL - Vaca \n4.\tHydro Maya \n5.\tBELCOGEN \n6.\tSantander \n7.\tJICA (UB Solar)",7]
[null,1,"What was the total electricity generated in 2018? (MWh)",{"$f":"IF(B32<>0,IF(ISBLANK(E32),\"NA\",E32),\" \")","v":669185},669185,688728.4]
[null,1,"What was the total electricity generated from Utility Scale RE projects in 2018? (MWh) ",{"$f":"IF(B33<>0,IF(ISBLANK(E33),\"NA\",E33),\" \")","v":167139},167139,167765]
[null,null,"Please provide as much information as possible for existing RE projects in the box below as:\n- Project Name\n- Developer\n- Offtaker\n- Renewable Energy Technology Type\n- Start of Commercial Operation (Year)\n- Estimated Capacity Factor (in %) OR Estimated Annual Production (in MWh)\n- Installed Capacity (MW)\n- Length of PPA ",{"$f":"IF(B34<>0,IF(ISBLANK(E34),\"NA\",E34),\" \")","v":" "},"– Project Name:\tBECOL - Mollejon,\tBECOL - Chalillo,\tBECOL - Vaca,\tHydro Maya,\tBELCOGEN,\tSantander,\tJICA (UB Solar)\n– Developer:\tBelize Electric Company Limited,\tBelize Electric Company Limited,\tBelize Electric Company Limited,\tHydro Maya Ltd,\tBelize Cogeneration Energy Ltd,\tSantander Sugar Energy Limited, \tJapan International Co\n– Offtaker:\tNone,\tNone,\tNone,\tNone,\tNone,\tNone,\tUniversity Of Belize\n– RE technology type:\t Hydro,\tHydro,\tHydro,\tHydro,\tCo-generation/ Biomass,\tCo-generation/ Biomass,\tSolar\n– Start of commercial operation (year)\t19 April 1991,\t31 October 2005,\t15 March 2007,\t15 September 2003,\t02 February 2007,\t13 December 2016,\t27 August 2012,\n2019 annual production (in MWh):\t40,800;\t23,815;\t9,954;\t68,533;\t23,387;\t650\nThree year (2017-2019) average annual production (in MWh)\t124,410;\t63,838;\t13,198;\t68,123;\t21,242;\t605\n– Installed capacity (MW):\t25.2; \t7.0;  \t19.0; \t3.3;  \t13.5; \t8.0;  \t0.3\n– Length of PPA (Years)\t29.4; \t14.9; \t13.5; \t17.0; \t13.6; \t3.7;  \t8.0","1.2 Inventory of Generating Plants in Belize (page 16):\nhttp://biblioteca.olade.org/opac-tmpl/Documentos/old0427.pdf"]
[]
[3,null,"Planned Utility-Scale Renewable Energy Projects"]
[null,1,"Does your country have an estimate of planned installed capacity expected to come online from-utility scale RE projects?",{"$f":"IF(B37<>0,IF(ISBLANK(E37),\"NA\",E37),\" \")","v":"Yes"},"Yes","Yes"]
[null,null,"How much installed capacity from RE is expected to come online in the next 3 years? (MW)",{"$f":"IF(B38<>0,IF(ISBLANK(E38),\"NA\",E38),\" \")","v":" "},"Business Plan RE Goals:\n1. Increase BEL's firm capacity with in-country generation of 30 MW Solar energy from BECOL. \n\n2. Increase BEL's firm capacity with in-country generation of 15 MW Solar energy from BAPCOL.  \n\n3. Increase BEL's firm capacity with in-country generation of Hydro energy from Southern Renewable Energy Ltd.","15 MW"]
[null,2,"How much renewable energy generation is expected to come online in the next 3 years? (MWh)",{"$f":"IF(B39<>0,IF(ISBLANK(E39),\"NA\",E39),\" \")","v":"At least 45 MW of Utility Solar"},"At least 45 MW of Utility Solar","Unknown"]
[null,3,"Is climate resilience incorporated in your IRP or national policy?",{"$f":"IF(B40<>0,IF(ISBLANK(E40),\"NA\",E40),\" \")","v":"Yes"},"Yes","Yes"]
[null,null,"Please provide as much information as possible for RE projects currently under development in the box below as:\n- Project Name\n- Developer\n- Offtaker\n- Renewable Energy Technology Type\n- Start of Commercial Operation (Year)\n- Estimated Capacity Factor (in %) OR Estimated Annual Production (in MWh)\n- Installed Capacity (MW)\n- Length of PPA ",{"$f":"IF(B41<>0,IF(ISBLANK(E41),\"NA\",E41),\" \")","v":" "},"– Project Names:\tBECOL,\tBAPCOL\t, SREL\n– Developer:\tBelize Electric Company Limited,\tBelize Electric Company Limited, \tSouthern Renewable Energy Ltd\n– Offtaker:\tNone\tNone\tNone\n– RE technology type:\tSolar,\tSolar,\tHydro\n– Start of commercial operation (year)\tIn negotiations\tIn negotiations\tIn negotiations\n– Estimated capacity factor (in %) OR estimated annual production (in MWh)\tn/a\tn/a\tn/a\n– Installed capacity (MW)\t30.0,\t15.0, \tIn negotiations","Unknown"]
[]
[4,null,"Electric Mobility"]
[null,1,"Does your country have policies in place or draft legislation to promote the uptake of electric mobility?",{"$f":"IF(B44<>0,IF(ISBLANK(E44),\"NA\",E44),\" \")","v":"No"},"No","No"]
[null,2,"Does your country have specific targets for the uptake of electric vehicles?",{"$f":"IF(B45<>0,IF(ISBLANK(E45),\"NA\",E45),\" \")","v":"No"},"No","No"]
[null,null,"What is the target and target year?",{"$f":"IF(B46<>0,IF(ISBLANK(E46),\"NA\",E46),\" \")","v":" "},"N/A","While no draft legislation or specific targets have been determined for the uptake of electric vehicles, initial discussions and work have began with the aim to develop a E-Mobility/Sustainable Transport Strategy for Belize."]
[null,null,"How many electric cars are currently in your country?",{"$f":"IF(B47<>0,IF(ISBLANK(E47),\"NA\",E47),\" \")","v":" "},"5 - 10 vehicles","Approx. <5."]
[null,null,"How many charging stations are in your country?",{"$f":"IF(B48<>0,IF(ISBLANK(E48),\"NA\",E48),\" \")","v":" "},"There are currently no public charging stations; however, an upcoming pilot project will create charging stations across Belize by 2021.","Approx. 1-5."]
[]
[null,null,"Descriptive CREF Index Survey"]
[null,null,"Enabling Environment for Renewable Energy (RE) Investments"]
[null,null,"Renewable energy strategy"]
[null,null,"Which of the following renewable generation options is included in your country's strategic plan to develop renewable energy?\n- Solar PV\n- Offshore wind\n- Biomass\n- Waste to energy\n- Hydro\n-Geothermal\n- Other",{"$f":"E53","v":"Solar PV, Biomass, Hydro"},{"$f":"E6","v":"Solar PV, Biomass, Hydro"},{"$f":"F6","v":"Solar PV, Onshore Wind, Biomass, Hydro"}]
[null,null,"What is the target and target year?",{"$f":"E54","v":"Ministry of Energy, Science & Technology and Public Utilities Strategic Plan 2012-2017:\nStrategic Element #1: Improve energy efficiency and conservation 11 by at least 30 per cent by 2033, using energy utilization and GDP generated in 2011 as the baseline. \nStrategic Element #2: Reduce the country’s dependence on fossil fuels 12 consumption by 50 per cent by 2020, from one million barrels to one-half million barrels by increasing the provision of modern energy carriers utilizing domestic energy resources, coupled with improving energy efficiency and conservation \nStrategic Element #3: To triple the amount of modern energy carriers 14 derived from Agricultural, Forestry and Fisheries production and processing, including municipal solid waste (MSW) by 2020"},{"$f":"E8","v":"Ministry of Energy, Science & Technology and Public Utilities Strategic Plan 2012-2017:\nStrategic Element #1: Improve energy efficiency and conservation 11 by at least 30 per cent by 2033, using energy utilization and GDP generated in 2011 as the baseline. \nStrategic Element #2: Reduce the country’s dependence on fossil fuels 12 consumption by 50 per cent by 2020, from one million barrels to one-half million barrels by increasing the provision of modern energy carriers utilizing domestic energy resources, coupled with improving energy efficiency and conservation \nStrategic Element #3: To triple the amount of modern energy carriers 14 derived from Agricultural, Forestry and Fisheries production and processing, including municipal solid waste (MSW) by 2020"},{"$f":"F8","v":"85% by 2030"}]
[null,null,"What is the current breakdown of your country's energy mix?","Hydro \t11.1%\nCo-generation\t13.7%\nMexican Imports (CFE)\t57.3%\nFossil Fuel\t17.7%\nSolar \t0.1%\nTotal\t100.0%",{"$f":"E9","v":"Hydro \t11.1%\nCo-generation\t13.7%\nMexican Imports (CFE)\t57.3%\nFossil Fuel\t17.7%\nSolar \t0.1%\nTotal\t100.0%"},{"$f":"F9","v":"Diesel - 23.02%\nGasoline - 22.70%\nBiomass (Bagasse and Firewood) - 21.74%\nImported Electricity - 8.36%\nLPG - 7.99%\nKerosene - 5.52%\nFuel Oil - 5.34%\nCrude Oil - 3.44%\nHydro - 1.63%\nPetroleum Gas - 0.25%\nSolar PV - 0.01%"}]
[null,null,"Utilities"]
[null,null,"On average, how long does it take for the power utility to get investments in RE projects approved by the regulatory authority 9or the relevant entity) for recovery through tariffs?","Rate applications which would include recovery for investments are done on a four year planning horizon in the first instance, a Full Tariff Review Proceeding, and revisited annually by means of Annual Review Proceedings. So in practice, a proposed investment can be reviewed and approved within the space of a year.",{"$f":"E15","v":"Rate applications which would include recovery for investments are done on a four year planning horizon in the first instance, a Full Tariff Review Proceeding, and revisited annually by means of Annual Review Proceedings. So in practice, a proposed investment can be reviewed and approved within the space of a year."},{"$f":"F15","v":"30 days"}]
[null,null,"Distributed Generation"]
[null,null,"What is the number of existing distributed scale RE systems in 2018?","This number is unknown to the utility.",{"$f":"E24","v":"This number is unknown to the utility."},{"$f":"F24","v":"Unknown"}]
[null,null,"What is the total installed capacity from renewable distributed generation in your country?","Unknown at this time.",{"$f":"E26","v":"Unknown at this time."},{"$f":"F25","v":"Yes"}]
[null,null,"What was the total generation from existing distributed scale RE systems in 2018?","Unknown at this time.",{"$f":"E27","v":"Unknown at this time."},"Unknown"]
[null,null,"Existing renewable generation",null,null,"Unknown"]
[null,null,"Existing Utility-Scale Renewable Energy Projects"]
[null,null,"What is the number of existing utility-scale RE projects?","Seven\n1.\tBECOL - Mollejon \n2.\tBECOL - Chalillo \n3.\tBECOL - Vaca \n4.\tHydro Maya \n5.\tBELCOGEN \n6.\tSantander \n7.\tJICA (UB Solar)",{"$f":"E31","v":"Seven\n1.\tBECOL - Mollejon \n2.\tBECOL - Chalillo \n3.\tBECOL - Vaca \n4.\tHydro Maya \n5.\tBELCOGEN \n6.\tSantander \n7.\tJICA (UB Solar)"},{"$f":"F31","v":7}]
[null,null,"What was the total electricity generated in 2018 (MWh)?",669185,{"$f":"E32","v":669185},{"$f":"F32","v":688728.4}]
[null,null,"What was the total electricity generated from utility-scale RE projects in 2018 (MWh)?",167139,{"$f":"E33","v":167139},167765]
[null,null,"Please provide as much information as possible for existing RE projects in the box below as:\n- Project Name\n- Developer\n- Offtaker\n- Renewable Energy Technology Type\n- Start of Commercial Operation (Year)\n- Estimated Capacity Factor (in %) OR Estimated Annual Production (in MWh)\n- Installed Capacity (MW)\n- Length of PPA ","– Project Name:\tBECOL - Mollejon,\tBECOL - Chalillo,\tBECOL - Vaca,\tHydro Maya,\tBELCOGEN,\tSantander,\tJICA (UB Solar)\n– Developer:\tBelize Electric Company Limited,\tBelize Electric Company Limited,\tBelize Electric Company Limited,\tHydro Maya Ltd,\tBelize Cogeneration Energy Ltd,\tSantander Sugar Energy Limited, \tJapan International Co\n– Offtaker:\tNone,\tNone,\tNone,\tNone,\tNone,\tNone,\tUniversity Of Belize\n– RE technology type:\t Hydro,\tHydro,\tHydro,\tHydro,\tCo-generation/ Biomass,\tCo-generation/ Biomass,\tSolar\n– Start of commercial operation (year)\t19 April 1991,\t31 October 2005,\t15 March 2007,\t15 September 2003,\t02 February 2007,\t13 December 2016,\t27 August 2012,\n2019 annual production (in MWh):\t40,800;\t23,815;\t9,954;\t68,533;\t23,387;\t650\nThree year (2017-2019) average annual production (in MWh)\t124,410;\t63,838;\t13,198;\t68,123;\t21,242;\t605\n– Installed capacity (MW):\t25.2; \t7.0;  \t19.0; \t3.3;  \t13.5; \t8.0;  \t0.3\n– Length of PPA (Years)\t29.4; \t14.9; \t13.5; \t17.0; \t13.6; \t3.7;  \t8.0",{"$f":"E34","v":"– Project Name:\tBECOL - Mollejon,\tBECOL - Chalillo,\tBECOL - Vaca,\tHydro Maya,\tBELCOGEN,\tSantander,\tJICA (UB Solar)\n– Developer:\tBelize Electric Company Limited,\tBelize Electric Company Limited,\tBelize Electric Company Limited,\tHydro Maya Ltd,\tBelize Cogeneration Energy Ltd,\tSantander Sugar Energy Limited, \tJapan International Co\n– Offtaker:\tNone,\tNone,\tNone,\tNone,\tNone,\tNone,\tUniversity Of Belize\n– RE technology type:\t Hydro,\tHydro,\tHydro,\tHydro,\tCo-generation/ Biomass,\tCo-generation/ Biomass,\tSolar\n– Start of commercial operation (year)\t19 April 1991,\t31 October 2005,\t15 March 2007,\t15 September 2003,\t02 February 2007,\t13 December 2016,\t27 August 2012,\n2019 annual production (in MWh):\t40,800;\t23,815;\t9,954;\t68,533;\t23,387;\t650\nThree year (2017-2019) average annual production (in MWh)\t124,410;\t63,838;\t13,198;\t68,123;\t21,242;\t605\n– Installed capacity (MW):\t25.2; \t7.0;  \t19.0; \t3.3;  \t13.5; \t8.0;  \t0.3\n– Length of PPA (Years)\t29.4; \t14.9; \t13.5; \t17.0; \t13.6; \t3.7;  \t8.0"},"1.2 Inventory of Generating Plants in Belize (page 16):\nhttp://biblioteca.olade.org/opac-tmpl/Documentos/old0427.pdf"]
[null,null,"Planned renewable generation"]
[null,null,"Potential Utility-Scale Renewable Energy Projects"]
[null,null,"How much installed capacity from RE is expected to come online in the next 3 years?","Business Plan RE Goals:\n1. Increase BEL's firm capacity with in-country generation of 30 MW Solar energy from BECOL. \n\n2. Increase BEL's firm capacity with in-country generation of 15 MW Solar energy from BAPCOL.  \n\n3. Increase BEL's firm capacity with in-country generation of Hydro energy from Southern Renewable Energy Ltd.",{"$f":"E38","v":"Business Plan RE Goals:\n1. Increase BEL's firm capacity with in-country generation of 30 MW Solar energy from BECOL. \n\n2. Increase BEL's firm capacity with in-country generation of 15 MW Solar energy from BAPCOL.  \n\n3. Increase BEL's firm capacity with in-country generation of Hydro energy from Southern Renewable Energy Ltd."},{"$f":"F38","v":"15 MW"}]
[null,null,"How much renewable energy generation is expected to come online in the next 3 years?","At least 45 MW of Utility Solar",{"$f":"E39","v":"At least 45 MW of Utility Solar"},{"$f":"F39","v":"Unknown"}]
[null,null,"Please provide as much information as possible for RE projects currently under development in the box below as:\n- Project Name\n- Developer\n- Offtaker\n- Renewable Energy Technology Type\n- Start of Commercial Operation (Year)\n- Estimated Capacity Factor (in %) OR Estimated Annual Production (in MWh)\n- Installed Capacity (MW)\n- Length of PPA ","– Project Names:\tBECOL,\tBAPCOL\t, SREL\n– Developer:\tBelize Electric Company Limited,\tBelize Electric Company Limited, \tSouthern Renewable Energy Ltd\n– Offtaker:\tNone\tNone\tNone\n– RE technology type:\tSolar,\tSolar,\tHydro\n– Start of commercial operation (year)\tIn negotiations\tIn negotiations\tIn negotiations\n– Estimated capacity factor (in %) OR estimated annual production (in MWh)\tn/a\tn/a\tn/a\n– Installed capacity (MW)\t30.0,\t15.0, \tIn negotiations",{"$f":"E41","v":"– Project Names:\tBECOL,\tBAPCOL\t, SREL\n– Developer:\tBelize Electric Company Limited,\tBelize Electric Company Limited, \tSouthern Renewable Energy Ltd\n– Offtaker:\tNone\tNone\tNone\n– RE technology type:\tSolar,\tSolar,\tHydro\n– Start of commercial operation (year)\tIn negotiations\tIn negotiations\tIn negotiations\n– Estimated capacity factor (in %) OR estimated annual production (in MWh)\tn/a\tn/a\tn/a\n– Installed capacity (MW)\t30.0,\t15.0, \tIn negotiations"},{"$f":"F41","v":"Unknown"}]
[null,null,"Electric Mobility"]
[null,null,"What is the target and target year?","N/A",{"$f":"E46","v":"N/A"},{"$f":"F46","v":"While no draft legislation or specific targets have been determined for the uptake of electric vehicles, initial discussions and work have began with the aim to develop a E-Mobility/Sustainable Transport Strategy for Belize."}]
[null,null,"How many electric cars are currently in your country?","5 - 10 vehicles",{"$f":"E47","v":"5 - 10 vehicles"},{"$f":"F47","v":"Approx. <5."}]
[null,null,"How many charging stations are in your country?","There are currently no public charging stations; however, an upcoming pilot project will create charging stations across Belize by 2021.","There are currently no public charging stations; however, an upcoming pilot project will create charging stations across Belize by 2021.",{"$f":"F48","v":"Approx. 1-5."}]
[null,null,"Covid"]
[null,null,"Has any measure been implemented to respond to disruptions in revenue collections from electricity services (particularly given the current circumstances during the COVID pandemic)?",{"$f":"E78","v":"Yes"},"Yes","Yes"]
[null,null,"If yes, to get a score on this kindly describe how the measure works and who is responsible for implementing it",{"$f":"E79","v":"Customer Service representatives are calling customers and encouraging them to make payments as a measure to reduce the likelihood of non-payment with COVID. Also, the Company is promoting digital means of payment through ad campaigns, and retaining cashiering services at Head Quarters in a newly constructed outdoor cashier booths to facilitate payments while keeping the staff safe."},"Customer Service representatives are calling customers and encouraging them to make payments as a measure to reduce the likelihood of non-payment with COVID. Also, the Company is promoting digital means of payment through ad campaigns, and retaining cashiering services at Head Quarters in a newly constructed outdoor cashier booths to facilitate payments while keeping the staff safe.","Implementation of collection kiosks to allow for social distancing protocols."]
[null,null,"Outlook sentiment"]
[null,null,"How enthusiastic are you about the investment prospects in renewables, electric mobility, and resilience compared to this time last year, and why?",{"$f":"E81","v":"Same"},"Same","More"]
[null,null,"Please elaborate on your reasoning for the previous response.",{"$f":"E82","v":"Though the Pandemic has delayed the timeline for planned projects, the Company is still pursuing the projects to introduce electric vehicles and additional renewable energy capacity."},"Though the Pandemic has delayed the timeline for planned projects, the Company is still pursuing the projects to introduce electric vehicles and additional renewable energy capacity.","Belize has numerous policy and strategic documents to support the development of the country’s renewable energy resources and improve energy efficiency and conservation in order to transform to a low carbon economy by 2033. To support the Ministry’s enthusiasm: work has begun on updating climatic targets and NDCs for the energy sector in Belize inclusive of RE targets and goals. In addition, the Ministry of Public Service, Energy and Public Utilities has begun leveraging on the experiences of technical partners and the Latin America and the Caribbean region in the uptake of E-mobility and has begun capacity development in the area of sustainable transport. The aim is to develop a sustainable transport/E-mobility strategy for Belize in the short to medium term. Lastly, Belize has become increasing aware of the importance of resilience planning for the energy sector. As a result, the Government of Belize is developing an Integrated Resource and Resilience Plan (IRRP) for Belize (on-going project). The IRRP is a planning tool that is being developed with the assistance and support of the Rocky Mountain Institute (RMI) and Caribbean Centre for Renewable Energy and Energy Efficiency (CCREEE). The IRRP is a plan for how a country can supply their need for electricity, in the future (demand forecasting). The plan will ensure reliable sources of power, minimize negative impacts on the environment and enhance the resilience of power systems to hazards and risks, while minimizing costs to consumers. Building resilience in this way guarantees energy security, as the Caribbean seeks to adapt to climate change and reduce greenhouse gas emissions. The IRRP aims to develop local capacity in the topic of energy planning and forecasting."]

{"sheet":"Bermuda","index":9,"n_rows":82,"n_cols":5,"rows_kept":82,"cut":false,"hidden":false,"merged":[[1,5,1,11]]}
[null,"Bermuda"]
[null,null,"Overall Indicator",null,"Stephanie Simons, BELCO"]
[1,null,"Enabling Environment for Renewable Energy (RE) Investments","Consolidated Survey Response","Respondent #19"]
[null,null,"Government - Renewable Energy Strategy","Y/N"]
[null,1,"Does your country have a strategic plan to develop renewable energy?",{"$f":"IF(B5<>0,IF(ISBLANK(E5),\"NA\",E5),\" \")","v":"NA"}]
[null,null,"Which of the following renewable generation options is included in you country's strategic plan to develop renewable energy?",{"$f":"IF(B6<>0,IF(ISBLANK(E6),\"NA\",E6),\" \")","v":" "},"Solar PV, Offshore Wind, Other"]
[null,2,"Does your country have a specific target for renewable energy?","Yes","Yes"]
[null,null,"If yes, what is the target and target year?"," ","85% by 2030"]
[null,null,"What is the current breakdown of your country's energy mix?"," ","100MW peak power\n10MW /5.5MWhr BESS\n6MW utility scale PV\n5MW distributed residential and commercial PV\n7MW waste to energy"]
[null,3,"Does your country have an Integrated Resource Plan (IRP) that was produced within the last three years?","Yes","Yes"]
[null,null,"Utilities","Y/N"]
[null,1,"When planning generation expansion, does the utility consider RE options?",{"$f":"IF(B12<>0,IF(ISBLANK(E12),\"NA\",E12),\" \")","v":"Yes"},"Yes"]
[null,2,"Can the utility safely recover RE investments through tariffs like it can recover fossil fuel costs?",{"$f":"IF(B13<>0,IF(ISBLANK(E13),\"NA\",E13),\" \")","v":"Yes"},"Yes"]
[null,3,"Are there clear, specific planning and permitting processes and rules in place for developing RE?",{"$f":"IF(B14<>0,IF(ISBLANK(E14),\"NA\",E14),\" \")","v":"Yes"},"Yes"]
[null,null,"On average, how long does it take for the power utility to get investments in RE projects approved by the regulatory authority (or relevant entity) for recovery through tariffs?",{"$f":"IF(B15<>0,IF(ISBLANK(E15),\"NA\",E15),\" \")","v":" "},"Variable"]
[null,null,"IPPs","Y/N"]
[null,1,"Can the utility safely recover purchases of RE from third parties, just as it recovers fossil fuel costs?",{"$f":"IF(B17<>0,IF(ISBLANK(E17),\"NA\",E17),\" \")","v":"Yes"},"Yes"]
[null,2,"Are there workable precedents or rules for PPA terms and grid operation rules?",{"$f":"IF(B18<>0,IF(ISBLANK(E18),\"NA\",E18),\" \")","v":"Yes"},"Yes"]
[null,3,"Are there clear and effective licensing processes and requirements in place for IPPs?",{"$f":"IF(B19<>0,IF(ISBLANK(E19),\"NA\",E19),\" \")","v":"Yes"},"Yes"]
[null,4,"Does the utility have an obligation to purchase from IPPs when it is cheaper than generating the power itself?",{"$f":"IF(B20<>0,IF(ISBLANK(E20),\"NA\",E20),\" \")","v":"Yes"},"Yes"]
[null,5,"Does the PPA have any take-or-pay arrangements?",{"$f":"IF(B21<>0,IF(ISBLANK(E21),\"NA\",E21),\" \")","v":"No"},"No"]
[null,null,"Distributed generation","Y/N"]
[null,1,"Do you have a registry or database of distributed generation?",{"$f":"IF(B23<>0,IF(ISBLANK(E23),\"NA\",E23),\" \")","v":"No"},"No"]
[null,null,"What was the number of existing distributed scale RE systems in 2019?"," ","5 MW"]
[null,null,"Is there an aggregate maximum capacity for distributed generation?"," ","No"]
[null,null,"What is the total installed capacity from renewable distributed generation in your country?"," ","11 MW"]
[null,null,"What was the total generation from existing distributed scale RE systems in 2019?"," ","5 MW"]
[null,2,"Is there a standard arrangement in place for customers to sell electricity to the utility at a reasonable price, for a reasonable timeframe, and with a clear interconnection agreement?","Yes","Yes"]
[]
[2,null,"Existing renewable generation"]
[null,null,"What is the number of existing Utility-Scale RE projects?",{"$f":"IF(B31<>0,IF(ISBLANK(E31),\"NA\",E31),\" \")","v":" "},1]
[null,1,"What was the total electricity generated in 2019? (MWh)",{"$f":"IF(B32<>0,IF(ISBLANK(E32),\"NA\",E32),\" \")","v":550000},{"$f":"550*1000","v":550000}]
[null,1,"What was the total electricity generated from Utility Scale RE projects in 2019? (MWh) ","NA","unknown"]
[null,null,"Please provide as much information as possible for existing RE projects in the box below as:\n- Project Name\n- Developer\n- Offtaker\n- Renewable Energy Technology Type\n- Start of Commercial Operation (Year)\n- Estimated Capacity Factor (in %) OR Estimated Annual Production (in MWh)\n- Installed Capacity (MW)\n- Length of PPA ",{"$f":"IF(B34<>0,IF(ISBLANK(E34),\"NA\",E34),\" \")","v":" "}]
[]
[3,null,"Planned Utility-Scale Renewable Energy Projects"]
[null,1,"Does your country have an estimate of planned installed capacity expected to come online from-utility scale RE projects?",{"$f":"IF(B37<>0,IF(ISBLANK(E37),\"NA\",E37),\" \")","v":"Yes"},"Yes"]
[null,null,"How much installed capacity from RE is expected to come online in the next 3 years? (MW)",{"$f":"IF(B38<>0,IF(ISBLANK(E38),\"NA\",E38),\" \")","v":" "},"6 MW"]
[null,2,"How much renewable energy generation is expected to come online in the next 3 years? (MWh)","unknown","unknown"]
[null,3,"Is climate resilience incorporated in your IRP or national policy?","Yes","Yes"]
[null,null,"Please provide as much information as possible for RE projects currently under development in the box below as:\n- Project Name\n- Developer\n- Offtaker\n- Renewable Energy Technology Type\n- Start of Commercial Operation (Year)\n- Estimated Capacity Factor (in %) OR Estimated Annual Production (in MWh)\n- Installed Capacity (MW)\n- Length of PPA ",{"$f":"IF(B41<>0,IF(ISBLANK(E41),\"NA\",E41),\" \")","v":" "}]
[]
[4,null,"Electric Mobility"]
[null,1,"Does your country have policies in place or draft legislation to promote the uptake of electric mobility?",{"$f":"IF(B44<>0,IF(ISBLANK(E44),\"NA\",E44),\" \")","v":"No"},"No"]
[null,2,"Does your country have specific targets for the uptake of electric vehicles?",{"$f":"IF(B45<>0,IF(ISBLANK(E45),\"NA\",E45),\" \")","v":"No"},"No"]
[null,null,"What is the target and target year?",{"$f":"IF(B46<>0,IF(ISBLANK(E46),\"NA\",E46),\" \")","v":" "}]
[null,null,"How many electric cars are currently in your country?",{"$f":"IF(B47<>0,IF(ISBLANK(E47),\"NA\",E47),\" \")","v":" "},"20 - 4 cars and 16 vans"]
[null,null,"How many charging stations are in your country?",{"$f":"IF(B48<>0,IF(ISBLANK(E48),\"NA\",E48),\" \")","v":" "},"unknown"]
[]
[null,null,"Descriptive CREF Index Survey"]
[null,null,"Enabling Environment for Renewable Energy (RE) Investments"]
[null,null,"Renewable energy strategy"]
[null,null,"Which of the following renewable generation options is included in your country's strategic plan to develop renewable energy?\n- Solar PV\n- Offshore wind\n- Biomass\n- Waste to energy\n- Hydro\n-Geothermal\n- Other",{"$f":"E53","v":"Solar PV, Offshore Wind, Other"},{"$f":"E6","v":"Solar PV, Offshore Wind, Other"}]
[null,null,"What is the target and target year?",{"$f":"E54","v":"85% by 2030"},{"$f":"E8","v":"85% by 2030"}]
[null,null,"What is the current breakdown of your country's energy mix?",{"$f":"E55","v":"100MW peak power\n10MW /5.5MWhr BESS\n6MW utility scale PV\n5MW distributed residential and commercial PV\n7MW waste to energy"},{"$f":"E9","v":"100MW peak power\n10MW /5.5MWhr BESS\n6MW utility scale PV\n5MW distributed residential and commercial PV\n7MW waste to energy"}]
[null,null,"Utilities"]
[null,null,"On average, how long does it take for the power utility to get investments in RE projects approved by the regulatory authority 9or the relevant entity) for recovery through tariffs?",{"$f":"E57","v":"Variable"},{"$f":"E15","v":"Variable"}]
[null,null,"Distributed Generation"]
[null,null,"What is the number of existing distributed scale RE systems in 2019?",{"$f":"E59","v":"5 MW"},{"$f":"E24","v":"5 MW"}]
[null,null,"What is the total installed capacity from renewable distributed generation in your country?",{"$f":"E60","v":"11 MW"},{"$f":"E26","v":"11 MW"}]
[null,null,"What was the total generation from existing distributed scale RE systems in 2019?","5 MW",{"$f":"E27","v":"5 MW"}]
[null,null,"Existing renewable generation"]
[null,null,"Existing Utility-Scale Renewable Energy Projects"]
[null,null,"What is the number of existing utility-scale RE projects?",{"$f":"E64","v":1},{"$f":"E31","v":1}]
[null,null,"What was the total electricity generated in 2019 (MWh)?",{"$f":"E65","v":550000},{"$f":"E32","v":550000}]
[null,null,"What was the total electricity generated from utility-scale RE projects in 2019 (MWh)?","unknown",{"$f":"E33","v":"unknown"}]
[null,null,"Please provide as much information as possible for existing RE projects in the box below as:\n- Project Name\n- Developer\n- Offtaker\n- Renewable Energy Technology Type\n- Start of Commercial Operation (Year)\n- Estimated Capacity Factor (in %) OR Estimated Annual Production (in MWh)\n- Installed Capacity (MW)\n- Length of PPA ",0,{"$f":"E34","v":0}]
[null,null,"Planned renewable generation"]
[null,null,"Potential Utility-Scale Renewable Energy Projects"]
[null,null,"How much installed capacity from RE is expected to come online in the next 3 years?",{"$f":"E70","v":"6 MW"},{"$f":"E38","v":"6 MW"}]
[null,null,"How much renewable energy generation is expected to come online in the next 3 years?",{"$f":"E71","v":"unknown"},{"$f":"E39","v":"unknown"}]
[null,null,"Please provide as much information as possible for RE projects currently under development in the box below as:\n- Project Name\n- Developer\n- Offtaker\n- Renewable Energy Technology Type\n- Start of Commercial Operation (Year)\n- Estimated Capacity Factor (in %) OR Estimated Annual Production (in MWh)\n- Installed Capacity (MW)\n- Length of PPA ",0,{"$f":"E41","v":0}]
[null,null,"Electric Mobility"]
[null,null,"What is the target and target year?",{"$f":"E74","v":0},{"$f":"E46","v":0}]
[null,null,"How many electric cars are currently in your country?",{"$f":"E75","v":"20 - 4 cars and 16 vans"},{"$f":"E47","v":"20 - 4 cars and 16 vans"}]
[null,null,"How many charging stations are in your country?","unknown","unknown"]
[null,null,"Covid"]
[null,null,"Has any measure been implemented to respond to disruptions in revenue collections from electricity services (particularly given the current circumstances during the COVID pandemic)?",{"$f":"E78","v":"No"},"No"]
[null,null,"If yes, to get a score on this kindly describe how the measure works and who is responsible for implementing it"]
[null,null,"Outlook sentiment"]
[null,null,"How enthusiastic are you about the investment prospects in renewables, electric mobility, and resilience compared to this time last year, and why?",{"$f":"E81","v":"Same"},"Same"]
[null,null,"Please elaborate on your reasoning for the previous response.",null,"EVs are not available from the OEM."]

{"sheet":"Bonaire","index":10,"n_rows":82,"n_cols":5,"rows_kept":82,"cut":false,"hidden":true,"merged":[[1,5,1,11]]}
[null,"Bonaire"]
[null,null,"Overall Indicator"]
[1,null,"Enabling Environment for Renewable Energy (RE) Investments","Consolidated Survey Response"]
[null,null,"Government - Renewable Energy Strategy","Y/N","Y/N"]
[null,1,"Does your country have a strategic plan to develop renewble energy?"]
[null,null,"Which of the following renewable generation options is includd in you country's strategic plan to develop renewable energy?",{"$f":"IF(B6<>0,IF(ISBLANK(E6),\"NA\",E6),\" \")","v":" "}]
[null,2,"Does your country have a specific target for renewable energy?",{"$f":"IF(B7<>0,IF(ISBLANK(E7),\"NA\",E7),\" \")","v":"Yes"},"Yes"]
[null,null,"If yes, what is the target and target year?",{"$f":"IF(B8<>0,IF(ISBLANK(E8),\"NA\",E8),\" \")","v":" "}]
[null,null,"What is the current breakdown of your country's energy mix?",{"$f":"IF(B9<>0,IF(ISBLANK(E9),\"NA\",E9),\" \")","v":" "}]
[null,3,"Does your country have an Integrated Resource Plan (IRP) that was produced within the last three years?",{"$f":"IF(B10<>0,IF(ISBLANK(E10),\"NA\",E10),\" \")","v":"No"},"No"]
[null,null,"Utilities",null,"Y/N"]
[null,1,"When planning generation expansion, does the utility consider RE options?",{"$f":"IF(B12<>0,IF(ISBLANK(E12),\"NA\",E12),\" \")","v":"NA"}]
[null,2,"Can the utility safely recover RE investments through tariffs like it can recover fossil fuel costs?",{"$f":"IF(B13<>0,IF(ISBLANK(E13),\"NA\",E13),\" \")","v":"NA"}]
[null,3,"Are there clear, specific planning and permitting processes and rules in place for developing RE?",{"$f":"IF(B14<>0,IF(ISBLANK(E14),\"NA\",E14),\" \")","v":"NA"}]
[null,null,"On average, how long does it take for the power utility to get investments in RE projects approved by the regulatory authority (or relevant entity) fror recovery through tariffs?",{"$f":"IF(B15<>0,IF(ISBLANK(E15),\"NA\",E15),\" \")","v":" "}]
[null,null,"IPPs",null,"Y/N"]
[null,1,"Can the utility safely recover purchases of RE from third parties, just as it recovers fossil fuel costs?",{"$f":"IF(B17<>0,IF(ISBLANK(E17),\"NA\",E17),\" \")","v":"NA"}]
[null,2,"Are there workable precedents or rules for PPA terms and grid operation rules?",{"$f":"IF(B18<>0,IF(ISBLANK(E18),\"NA\",E18),\" \")","v":"NA"}]
[null,3,"Are there clear and effective licensing processes and requirements in place for IPPs?",{"$f":"IF(B19<>0,IF(ISBLANK(E19),\"NA\",E19),\" \")","v":"NA"}]
[null,4,"Does the utility have an obligation to purchase from IPPs when it is cheaper than generating the power itself?",{"$f":"IF(B20<>0,IF(ISBLANK(E20),\"NA\",E20),\" \")","v":"NA"}]
[null,5,"Does the PPA have any take-or-pay arrangements?",{"$f":"IF(B21<>0,IF(ISBLANK(E21),\"NA\",E21),\" \")","v":"NA"}]
[null,null,"Distributed generation",null,"Y/N"]
[null,1,"Do you have a registry or database of distributed generation?",{"$f":"IF(B23<>0,IF(ISBLANK(E23),\"NA\",E23),\" \")","v":"NA"}]
[null,null,"What was the number of existing distributed scale RE systems in 2019?"," "]
[null,null,"Is there an aggregate maximum capacity for distributed generation?"," "]
[null,null,"What is the total installed capacity from renewable distributed generation in your country?"," "]
[null,null,"What was the total generation from existing distributed scale RE systems in 2019?"," "]
[null,2,"Is there a standard arrangement in place for customers to sell electricity to the utility at a reasonable price, for a reasonable timeframe, and with a clear interconnection agreement?","NA"]
[]
[2,null,"Existing renewable generation"]
[null,null,"What is the number of existing Utility-Scale RE projects?",{"$f":"IF(B31<>0,IF(ISBLANK(E31),\"NA\",E31),\" \")","v":" "}]
[null,1,"What was the total electricity generated in 2019? (MWh)",{"$f":"IF(B32<>0,IF(ISBLANK(E32),\"NA\",E32),\" \")","v":"NA"}]
[null,1,"What was the total electricity generated from Utility Scale RE projects in 2019? (MWh) ",{"$f":"IF(B33<>0,IF(ISBLANK(E33),\"NA\",E33),\" \")","v":"NA"}]
[null,null,"Please provide as much information as possible for exisitng RE projects in the box below as:\n- Project Name\n- Developer\n- Offtaker\n- Renewable Energy Technology Type\n- Start of Commercial Operation (Year)\n- Estimated Capacity Factor (in %) OR Estimated Annual Production (in MWh)\n- Installed Capacity (MW)\n- Length of PPA ",{"$f":"IF(B34<>0,IF(ISBLANK(E34),\"NA\",E34),\" \")","v":" "}]
[]
[3,null,"Planned Utility-Scale Renewable Energy Projects"]
[null,1,"Does your country have an estimate of planned installed capacity expected to come online from-utility scale RE projects?",{"$f":"IF(B37<>0,IF(ISBLANK(E37),\"NA\",E37),\" \")","v":"NA"}]
[null,null,"How much installed capacity from RE is expected to come online in the next 3 years? (MW)",{"$f":"IF(B38<>0,IF(ISBLANK(E38),\"NA\",E38),\" \")","v":" "}]
[null,2,"How much renewable energy generation is expected to come online in the next 3 years? (MWh)",{"$f":"IF(B39<>0,IF(ISBLANK(E39),\"NA\",E39),\" \")","v":"NA"}]
[null,3,"Is climate resilience incorporated in your IRP or national policy?",{"$f":"IF(B40<>0,IF(ISBLANK(E40),\"NA\",E40),\" \")","v":"NA"}]
[null,null,"Please provide as much information as possible for RE projects currently under development in the box below as:\n- Project Name\n- Developer\n- Offtaker\n- Renewable Energy Technology Type\n- Start of Commercial Operation (Year)\n- Estimated Capacity Factor (in %) OR Estimated Annual Production (in MWh)\n- Installed Capacity (MW)\n- Length of PPA ",{"$f":"IF(B41<>0,IF(ISBLANK(E41),\"NA\",E41),\" \")","v":" "}]
[]
[4,null,"Electric Mobility"]
[null,1,"Does your country have policies in place or draft legislation to promote the uptake of electric mobility?",{"$f":"IF(B44<>0,IF(ISBLANK(E44),\"NA\",E44),\" \")","v":"No"},"No"]
[null,2,"Does your country have specific targets for the uptake of electric vehicles?",{"$f":"IF(B45<>0,IF(ISBLANK(E45),\"NA\",E45),\" \")","v":"No"},"No"]
[null,null,"What is the target and target year?",{"$f":"IF(B46<>0,IF(ISBLANK(E46),\"NA\",E46),\" \")","v":" "}]
[null,null,"How many electric cars are currently in your country?",{"$f":"IF(B47<>0,IF(ISBLANK(E47),\"NA\",E47),\" \")","v":" "}]
[null,null,"How many charging stations are in your country?",{"$f":"IF(B48<>0,IF(ISBLANK(E48),\"NA\",E48),\" \")","v":" "}]
[]
[null,null,"Descriptive CREF Index Survey"]
[null,null,"Enabling Environment for Renewable Energy (RE) Investments"]
[null,null,"Renewable energy strategy"]
[null,null,"Which of the rollowing renewable generation options is included in your country's strategic plan to develop renewable energy?\n- Solar PV\n- Offshore wind\n- Biomass\n- Waste to energy\n- Hydro\n-Geothermal\n- Other",{"$f":"E53","v":0},{"$f":"E6","v":0}]
[null,null,"What is the target and target year?",{"$f":"E54","v":0},{"$f":"E8","v":0}]
[null,null,"What is the current breakdown of your country's energy mix?",0,{"$f":"E9","v":0}]
[null,null,"Utilities"]
[null,null,"On average, how long does it take for the power utility to get investments in RE projects approved by the regulatory authority 9or the relevant entity) for recovery through tariffs?",{"$f":"E57","v":0},{"$f":"E15","v":0}]
[null,null,"Distributed Generation"]
[null,null,"What is the number of exisiting distributed scale RE systems in 2019?",{"$f":"E59","v":0},{"$f":"E24","v":0}]
[null,null,"What is the total installed capacity from renewable distributed generation in your country?",{"$f":"E60","v":0},{"$f":"E26","v":0}]
[null,null,"What was the total generation from exisitng distributed scale RE systems in 2019?",{"$f":"E61","v":0},{"$f":"E27","v":0}]
[null,null,"Existing renewable generation"]
[null,null,"Existing Utility-Scale Renewable Energy Projects"]
[null,null,"What is the number of existing utility-scale RE projects?",{"$f":"E64","v":0},{"$f":"E31","v":0}]
[null,null,"What was the total electricity generated in 2019 (MWh)?",{"$f":"E65","v":0},0]
[null,null,"What was the total electricity generated from utility-scale RE projects in 2019 (MWh)?",0,0]
[null,null,"Please provide as much information as possible for exisitng RE projects in the box below as:\n- Project Name\n- Developer\n- Offtaker\n- Renewable Energy Technology Type\n- Start of Commercial Operation (Year)\n- Estimated Capacity Factor (in %) OR Estimated Annual Production (in MWh)\n- Installed Capacity (MW)\n- Length of PPA ",0,{"$f":"E34","v":0}]
[null,null,"Planned renewable generation"]
[null,null,"Potential Utility-Scale Renewable Energy Projects"]
[null,null,"How much installed capacity from RE is expected to come online in the next 3 years?",{"$f":"E70","v":0},{"$f":"E38","v":0}]
[null,null,"How much renewable energy generation is expected to come online in the next 3 years?",{"$f":"E71","v":0},{"$f":"E39","v":0}]
[null,null,"Please provide as much information as possible for RE projects currently under development in the box below as:\n- Project Name\n- Developer\n- Offtaker\n- Renewable Energy Technology Type\n- Start of Commercial Operation (Year)\n- Estimated Capacity Factor (in %) OR Estimated Annual Production (in MWh)\n- Installed Capacity (MW)\n- Length of PPA ",0,{"$f":"E41","v":0}]
[null,null,"Electric Mobility"]
[null,null,"What is the target and target year?",0,{"$f":"E46","v":0}]
[null,null,"How many electric cars are currently in your country?",0,{"$f":"E47","v":0}]
[null,null,"How many charging stations are in your country?",0,{"$f":"E48","v":0}]
[null,null,"Covid"]
[null,null,"Has any measure been implemented to respond to disruptions in revenue collections from electricity services (particularly given the current circumstances during the COVID pandemic)?",{"$f":"E78","v":0}]
[null,null,"If yes, to get a score on this kindly describe how the measure works and who is responsible for implementing it",{"$f":"E79","v":0}]
[null,null,"Outlook sentiment"]
[null,null,"How enthusiastic are you about the investment prospects in renewables, electric mobility, and resilience compared to this time last year, and why?",{"$f":"E81","v":0}]
[null,null,"Please elaborate on your reasoning for the previous response.",{"$f":"E82","v":0}]

{"sheet":"British_Virgin_Islands","index":11,"n_rows":82,"n_cols":6,"rows_kept":82,"cut":false,"hidden":false,"merged":[]}
[null,"British Virgin Islands"]
[null,null,"Overall Indicator",null,"Symorne Penn, BVI Electricity Corporation","Leroy A. E. Abraham, BVI Electricity Corporation"]
[1,null,"Enabling Environment for Renewable Energy (RE) Investments","Consolidated Survey Response","Respondent #4","Respondent #24"]
[null,null,"Government - Renewable Energy Strategy","Y/N","Y/N"]
[null,1,"Does your country have a strategic plan to develop renewable energy?"]
[null,null,"Which of the following renewable generation options is included in you country's strategic plan to develop renewable energy?",{"$f":"IF(B6<>0,IF(ISBLANK(E6),\"NA\",E6),\" \")","v":" "},"Solar PV","Solar PV, Onshore Wind"]
[null,2,"Does your country have a specific target for renewable energy?",{"$f":"IF(B7<>0,IF(ISBLANK(E7),\"NA\",E7),\" \")","v":"Yes"},"Yes","Yes"]
[null,null,"If yes, what is the target and target year?",{"$f":"IF(B8<>0,IF(ISBLANK(E8),\"NA\",E8),\" \")","v":" "},"By 2023, supply 30% of the territory’s energy by renewables means;\nBy 2021, fossil fuel imports decrease by 20%;\nBy 2021, 50% of consumers will use energy conservation measures and/or renewable energy technology of some kind; \nBy 2021, reduce fossil fuel inputs to electricity by 80% on Anegada;\nTo have 100% renewable electricity by 2035 and 100% renewable energy for all uses by 2050","30% of the territory’s energy by renewable means by 2023;\nand 100% renewable energy for all users by 2050."]
[null,null,"What is the current breakdown of your country's energy mix?",{"$f":"IF(B9<>0,IF(ISBLANK(E9),\"NA\",E9),\" \")","v":" "},"100% fossil fuel","100% fossil fuel generation"]
[null,3,"Does your country have an Integrated Resource Plan (IRP) that was produced within the last three years?",{"$f":"IF(B10<>0,IF(ISBLANK(E10),\"NA\",E10),\" \")","v":"Yes"},"Yes","Yes"]
[null,null,"Utilities",null,"Y/N"]
[null,1,"When planning generation expansion, does the utility consider RE options?",{"$f":"IF(B12<>0,IF(ISBLANK(E12),\"NA\",E12),\" \")","v":"Yes"},"Yes","Yes"]
[null,2,"Can the utility safely recover RE investments through tariffs like it can recover fossil fuel costs?",{"$f":"IF(B13<>0,IF(ISBLANK(E13),\"NA\",E13),\" \")","v":"No"},"No","No"]
[null,3,"Are there clear, specific planning and permitting processes and rules in place for developing RE?",{"$f":"IF(B14<>0,IF(ISBLANK(E14),\"NA\",E14),\" \")","v":"Yes"},"Yes","Yes"]
[null,null,"On average, how long does it take for the power utility to get investments in RE projects approved by the regulatory authority (or relevant entity) for recovery through tariffs?",{"$f":"IF(B15<>0,IF(ISBLANK(E15),\"NA\",E15),\" \")","v":" "},"NA","NA"]
[null,null,"IPPs",null,"Y/N"]
[null,1,"Can the utility safely recover purchases of RE from third parties, just as it recovers fossil fuel costs?",{"$f":"IF(B17<>0,IF(ISBLANK(E17),\"NA\",E17),\" \")","v":"No"},"No","No"]
[null,2,"Are there workable precedents or rules for PPA terms and grid operation rules?",{"$f":"IF(B18<>0,IF(ISBLANK(E18),\"NA\",E18),\" \")","v":"Yes"},"Yes","Yes"]
[null,3,"Are there clear and effective licensing processes and requirements in place for IPPs?",{"$f":"IF(B19<>0,IF(ISBLANK(E19),\"NA\",E19),\" \")","v":"Yes"},"Yes","Yes"]
[null,4,"Does the utility have an obligation to purchase from IPPs when it is cheaper than generating the power itself?",{"$f":"IF(B20<>0,IF(ISBLANK(E20),\"NA\",E20),\" \")","v":"Yes"},"Yes","Yes"]
[null,5,"Does the PPA have any take-or-pay arrangements?",{"$f":"IF(B21<>0,IF(ISBLANK(E21),\"NA\",E21),\" \")","v":"Yes"},"Yes","Yes"]
[null,null,"Distributed generation",null,"Y/N"]
[null,1,"Do you have a registry or database of distributed generation?",{"$f":"IF(B23<>0,IF(ISBLANK(E23),\"NA\",E23),\" \")","v":"No"},"No","Yes"]
[null,null,"What was the number of existing distributed scale RE systems in 2019?"," ",0,15]
[null,null,"Is there an aggregate maximum capacity for distributed generation?"," ","Yes","Yes"]
[null,null,"What is the total installed capacity from renewable distributed generation in your country?"," ",0,"Approximately 0.3 MW"]
[null,null,"What was the total generation from existing distributed scale RE systems in 2019?"," ",0,"Unknown"]
[null,2,"Is there a standard arrangement in place for customers to sell electricity to the utility at a reasonable price, for a reasonable timeframe, and with a clear interconnection agreement?","Yes","Yes","Yes"]
[]
[2,null,"Existing renewable generation"]
[null,null,"What is the number of existing Utility-Scale RE projects?",{"$f":"IF(B31<>0,IF(ISBLANK(E31),\"NA\",E31),\" \")","v":" "},0,0]
[null,1,"What was the total electricity generated in 2019? (MWh)",{"$f":"IF(B32<>0,IF(ISBLANK(E32),\"NA\",E32),\" \")","v":191629.28},191629.28,196266]
[null,1,"What was the total electricity generated from Utility Scale RE projects in 2019? (MWh) ",{"$f":"IF(B33<>0,IF(ISBLANK(E33),\"NA\",E33),\" \")","v":0},0,0]
[null,null,"Please provide as much information as possible for existing RE projects in the box below as:\n- Project Name\n- Developer\n- Offtaker\n- Renewable Energy Technology Type\n- Start of Commercial Operation (Year)\n- Estimated Capacity Factor (in %) OR Estimated Annual Production (in MWh)\n- Installed Capacity (MW)\n- Length of PPA ",{"$f":"IF(B34<>0,IF(ISBLANK(E34),\"NA\",E34),\" \")","v":" "},"NA","NA"]
[]
[3,null,"Planned Utility-Scale Renewable Energy Projects"]
[null,1,"Does your country have an estimate of planned installed capacity expected to come online from-utility scale RE projects?",{"$f":"IF(B37<>0,IF(ISBLANK(E37),\"NA\",E37),\" \")","v":"Yes"},"Yes","Yes"]
[null,null,"How much installed capacity from RE is expected to come online in the next 3 years? (MW)",{"$f":"IF(B38<>0,IF(ISBLANK(E38),\"NA\",E38),\" \")","v":" "},"7 MW","7 MW"]
[null,2,"How much renewable energy generation is expected to come online in the next 3 years? (MWh)",{"$f":"IF(B39<>0,IF(ISBLANK(F39),\"NA\",F39),\" \")","v":"10,000 MWh"},"7 MW","10,000 MWh"]
[null,3,"Is climate resilience incorporated in your IRP or national policy?",{"$f":"IF(B40<>0,IF(ISBLANK(E40),\"NA\",E40),\" \")","v":"No"},"No","No"]
[null,null,"Please provide as much information as possible for RE projects currently under development in the box below as:\n- Project Name\n- Developer\n- Offtaker\n- Renewable Energy Technology Type\n- Start of Commercial Operation (Year)\n- Estimated Capacity Factor (in %) OR Estimated Annual Production (in MWh)\n- Installed Capacity (MW)\n- Length of PPA ",{"$f":"IF(B41<>0,IF(ISBLANK(E41),\"NA\",E41),\" \")","v":" "},"NA","Anegada Hybrid Renewable Energy and Battery Energy Storage Project\nPower52 Clean Energy Solutions\nBVI Electricity Corporation\nSolar PV + Battery \n2021\n2,856.0 MWh\n2.1 MW\nEPC"]
[]
[4,null,"Electric Mobility"]
[null,1,"Does your country have policies in place or draft legislation to promote the uptake of electric mobility?",{"$f":"IF(B44<>0,IF(ISBLANK(E44),\"NA\",E44),\" \")","v":"No"},"No","No"]
[null,2,"Does your country have specific targets for the uptake of electric vehicles?",{"$f":"IF(B45<>0,IF(ISBLANK(E45),\"NA\",E45),\" \")","v":"No"},"No","No"]
[null,null,"What is the target and target year?",{"$f":"IF(B46<>0,IF(ISBLANK(E46),\"NA\",E46),\" \")","v":" "},"NA","NA"]
[null,null,"How many electric cars are currently in your country?",{"$f":"IF(B47<>0,IF(ISBLANK(E47),\"NA\",E47),\" \")","v":" "},10,10]
[null,null,"How many charging stations are in your country?",{"$f":"IF(B48<>0,IF(ISBLANK(E48),\"NA\",E48),\" \")","v":" "},0,"None"]
[]
[null,null,"Descriptive CREF Index Survey"]
[null,null,"Enabling Environment for Renewable Energy (RE) Investments"]
[null,null,"Renewable energy strategy"]
[null,null,"Which of the following renewable generation options is included in your country's strategic plan to develop renewable energy?\n- Solar PV\n- Offshore wind\n- Biomass\n- Waste to energy\n- Hydro\n-Geothermal\n- Other",{"$f":"E53","v":"Solar PV"},{"$f":"E6","v":"Solar PV"},{"$f":"F6","v":"Solar PV, Onshore Wind"}]
[null,null,"What is the target and target year?",{"$f":"E54","v":"By 2023, supply 30% of the territory’s energy by renewables means;\nBy 2021, fossil fuel imports decrease by 20%;\nBy 2021, 50% of consumers will use energy conservation measures and/or renewable energy technology of some kind; \nBy 2021, reduce fossil fuel inputs to electricity by 80% on Anegada;\nTo have 100% renewable electricity by 2035 and 100% renewable energy for all uses by 2050"},{"$f":"E8","v":"By 2023, supply 30% of the territory’s energy by renewables means;\nBy 2021, fossil fuel imports decrease by 20%;\nBy 2021, 50% of consumers will use energy conservation measures and/or renewable energy technology of some kind; \nBy 2021, reduce fossil fuel inputs to electricity by 80% on Anegada;\nTo have 100% renewable electricity by 2035 and 100% renewable energy for all uses by 2050"},{"$f":"F8","v":"30% of the territory’s energy by renewable means by 2023;\nand 100% renewable energy for all users by 2050."}]
[null,null,"What is the current breakdown of your country's energy mix?","100% fossil fuel",{"$f":"E9","v":"100% fossil fuel"},{"$f":"F9","v":"100% fossil fuel generation"}]
[null,null,"Utilities"]
[null,null,"On average, how long does it take for the power utility to get investments in RE projects approved by the regulatory authority 9or the relevant entity) for recovery through tariffs?",{"$f":"E57","v":"NA"},{"$f":"E15","v":"NA"},{"$f":"F15","v":"NA"}]
[null,null,"Distributed Generation"]
[null,null,"What is the number of existing distributed scale RE systems in 2019?",{"$f":"E59","v":0},{"$f":"E24","v":0},{"$f":"F24","v":15}]
[null,null,"What is the total installed capacity from renewable distributed generation in your country?",{"$f":"E60","v":0},{"$f":"E26","v":0},{"$f":"F26","v":"Approximately 0.3 MW"}]
[null,null,"What was the total generation from existing distributed scale RE systems in 2019?",0,{"$f":"E27","v":0},{"$f":"F27","v":"Unknown"}]
[null,null,"Existing renewable generation"]
[null,null,"Existing Utility-Scale Renewable Energy Projects"]
[null,null,"What is the number of existing utility-scale RE projects?",{"$f":"E64","v":0},{"$f":"E31","v":0},0]
[null,null,"What was the total electricity generated in 2019 (MWh)?",{"$f":"E65","v":191629.28},191629.28,196266]
[null,null,"What was the total electricity generated from utility-scale RE projects in 2019 (MWh)?",0,0,0]
[null,null,"Please provide as much information as possible for existing RE projects in the box below as:\n- Project Name\n- Developer\n- Offtaker\n- Renewable Energy Technology Type\n- Start of Commercial Operation (Year)\n- Estimated Capacity Factor (in %) OR Estimated Annual Production (in MWh)\n- Installed Capacity (MW)\n- Length of PPA ","NA","NA","NA"]
[null,null,"Planned renewable generation"]
[null,null,"Potential Utility-Scale Renewable Energy Projects"]
[null,null,"How much installed capacity from RE is expected to come online in the next 3 years?",{"$f":"E70","v":"7 MW"},{"$f":"E38","v":"7 MW"},{"$f":"F38","v":"7 MW"}]
[null,null,"How much renewable energy generation is expected to come online in the next 3 years?",{"$f":"E71","v":"7 MW"},{"$f":"E39","v":"7 MW"},{"$f":"F39","v":"10,000 MWh"}]
[null,null,"Please provide as much information as possible for RE projects currently under development in the box below as:\n- Project Name\n- Developer\n- Offtaker\n- Renewable Energy Technology Type\n- Start of Commercial Operation (Year)\n- Estimated Capacity Factor (in %) OR Estimated Annual Production (in MWh)\n- Installed Capacity (MW)\n- Length of PPA ","NA",{"$f":"E41","v":"NA"},{"$f":"F41","v":"Anegada Hybrid Renewable Energy and Battery Energy Storage Project\nPower52 Clean Energy Solutions\nBVI Electricity Corporation\nSolar PV + Battery \n2021\n2,856.0 MWh\n2.1 MW\nEPC"}]
[null,null,"Electric Mobility"]
[null,null,"What is the target and target year?",{"$f":"E74","v":"NA"},{"$f":"E46","v":"NA"},{"$f":"F46","v":"NA"}]
[null,null,"How many electric cars are currently in your country?",{"$f":"E75","v":10},{"$f":"E47","v":10},10]
[null,null,"How many charging stations are in your country?",0,0,"None"]
[null,null,"Covid"]
[null,null,"Has any measure been implemented to respond to disruptions in revenue collections from electricity services (particularly given the current circumstances during the COVID pandemic)?",{"$f":"E78","v":"Yes"},"Yes","Yes"]
[null,null,"If yes, to get a score on this kindly describe how the measure works and who is responsible for implementing it",{"$f":"E79","v":"Online Payment Promotion, Management Team"},"Online Payment Promotion, Management Team","Online Payment Promotion - Management Team"]
[null,null,"Outlook sentiment"]
[null,null,"How enthusiastic are you about the investment prospects in renewables, electric mobility, and resilience compared to this time last year, and why?",{"$f":"E81","v":"Less"},"Less","Same"]
[null,null,"Please elaborate on your reasoning for the previous response.",{"$f":"E82","v":"Most of the money that was allocated for renewables are now being repurposed to fight the COVID-19 Pandemic."},"Most of the money that was allocated for renewables are now being repurposed to fight the COVID-19 Pandemic.","The process with regards to receiving funding has been lengthy and the pandemic has further introduced further delays in the process of attaining grant funds. In addition, most of the grant funds that were allocated for renewables have been repurposed to fight the COVID-19 pandemic."]

{"sheet":"Cayman_Islands","index":12,"n_rows":82,"n_cols":5,"rows_kept":82,"cut":false,"hidden":true,"merged":[[1,5,1,11]]}
[null,"Cayman Islands"]
[null,null,"Overall Indicator"]
[1,null,"Enabling Environment for Renewable Energy (RE) Investments","Consolidated Survey Response"]
[null,null,"Government - Renewable Energy Strategy","Y/N","Y/N"]
[null,1,"Does your country have a strategic plan to develop renewble energy?"]
[null,null,"Which of the following renewable generation options is includd in you country's strategic plan to develop renewable energy?",{"$f":"IF(B6<>0,IF(ISBLANK(E6),\"NA\",E6),\" \")","v":" "}]
[null,2,"Does your country have a specific target for renewable energy?",{"$f":"IF(B7<>0,IF(ISBLANK(E7),\"NA\",E7),\" \")","v":"Yes"},"Yes"]
[null,null,"If yes, what is the target and target year?",{"$f":"IF(B8<>0,IF(ISBLANK(E8),\"NA\",E8),\" \")","v":" "}]
[null,null,"What is the current breakdown of your country's energy mix?",{"$f":"IF(B9<>0,IF(ISBLANK(E9),\"NA\",E9),\" \")","v":" "}]
[null,3,"Does your country have an Integrated Resource Plan (IRP) that was produced within the last three years?",{"$f":"IF(B10<>0,IF(ISBLANK(E10),\"NA\",E10),\" \")","v":"Yes"},"Yes"]
[null,null,"Utilities",null,"Y/N"]
[null,1,"When planning generation expansion, does the utility consider RE options?",{"$f":"IF(B12<>0,IF(ISBLANK(E12),\"NA\",E12),\" \")","v":"NA"}]
[null,2,"Can the utility safely recover RE investments through tariffs like it can recover fossil fuel costs?",{"$f":"IF(B13<>0,IF(ISBLANK(E13),\"NA\",E13),\" \")","v":"NA"}]
[null,3,"Are there clear, specific planning and permitting processes and rules in place for developing RE?",{"$f":"IF(B14<>0,IF(ISBLANK(E14),\"NA\",E14),\" \")","v":"NA"}]
[null,null,"On average, how long does it take for the power utility to get investments in RE projects approved by the regulatory authority (or relevant entity) fror recovery through tariffs?",{"$f":"IF(B15<>0,IF(ISBLANK(E15),\"NA\",E15),\" \")","v":" "}]
[null,null,"IPPs",null,"Y/N"]
[null,1,"Can the utility safely recover purchases of RE from third parties, just as it recovers fossil fuel costs?",{"$f":"IF(B17<>0,IF(ISBLANK(E17),\"NA\",E17),\" \")","v":"NA"}]
[null,2,"Are there workable precedents or rules for PPA terms and grid operation rules?",{"$f":"IF(B18<>0,IF(ISBLANK(E18),\"NA\",E18),\" \")","v":"NA"}]
[null,3,"Are there clear and effective licensing processes and requirements in place for IPPs?",{"$f":"IF(B19<>0,IF(ISBLANK(E19),\"NA\",E19),\" \")","v":"NA"}]
[null,4,"Does the utility have an obligation to purchase from IPPs when it is cheaper than generating the power itself?",{"$f":"IF(B20<>0,IF(ISBLANK(E20),\"NA\",E20),\" \")","v":"NA"}]
[null,5,"Does the PPA have any take-or-pay arrangements?",{"$f":"IF(B21<>0,IF(ISBLANK(E21),\"NA\",E21),\" \")","v":"NA"}]
[null,null,"Distributed generation",null,"Y/N"]
[null,1,"Do you have a registry or database of distributed generation?",{"$f":"IF(B23<>0,IF(ISBLANK(E23),\"NA\",E23),\" \")","v":"NA"}]
[null,null,"What was the number of existing distributed scale RE systems in 2019?"," "]
[null,null,"Is there an aggregate maximum capacity for distributed generation?"," "]
[null,null,"What is the total installed capacity from renewable distributed generation in your country?"," "]
[null,null,"What was the total generation from existing distributed scale RE systems in 2019?"," "]
[null,2,"Is there a standard arrangement in place for customers to sell electricity to the utility at a reasonable price, for a reasonable timeframe, and with a clear interconnection agreement?","NA"]
[]
[2,null,"Existing renewable generation"]
[null,null,"What is the number of existing Utility-Scale RE projects?",{"$f":"IF(B31<>0,IF(ISBLANK(E31),\"NA\",E31),\" \")","v":" "}]
[null,1,"What was the total electricity generated in 2019? (MWh)",{"$f":"IF(B32<>0,IF(ISBLANK(E32),\"NA\",E32),\" \")","v":"NA"}]
[null,1,"What was the total electricity generated from Utility Scale RE projects in 2019? (MWh) ",{"$f":"IF(B33<>0,IF(ISBLANK(E33),\"NA\",E33),\" \")","v":"NA"}]
[null,null,"Please provide as much information as possible for exisitng RE projects in the box below as:\n- Project Name\n- Developer\n- Offtaker\n- Renewable Energy Technology Type\n- Start of Commercial Operation (Year)\n- Estimated Capacity Factor (in %) OR Estimated Annual Production (in MWh)\n- Installed Capacity (MW)\n- Length of PPA ",{"$f":"IF(B34<>0,IF(ISBLANK(E34),\"NA\",E34),\" \")","v":" "}]
[]
[3,null,"Planned Utility-Scale Renewable Energy Projects"]
[null,1,"Does your country have an estimate of planned installed capacity expected to come online from-utility scale RE projects?",{"$f":"IF(B37<>0,IF(ISBLANK(E37),\"NA\",E37),\" \")","v":"NA"}]
[null,null,"How much installed capacity from RE is expected to come online in the next 3 years? (MW)",{"$f":"IF(B38<>0,IF(ISBLANK(E38),\"NA\",E38),\" \")","v":" "}]
[null,2,"How much renewable energy generation is expected to come online in the next 3 years? (MWh)",{"$f":"IF(B39<>0,IF(ISBLANK(E39),\"NA\",E39),\" \")","v":"NA"}]
[null,3,"Is climate resilience incorporated in your IRP or national policy?",{"$f":"IF(B40<>0,IF(ISBLANK(E40),\"NA\",E40),\" \")","v":"NA"}]
[null,null,"Please provide as much information as possible for RE projects currently under development in the box below as:\n- Project Name\n- Developer\n- Offtaker\n- Renewable Energy Technology Type\n- Start of Commercial Operation (Year)\n- Estimated Capacity Factor (in %) OR Estimated Annual Production (in MWh)\n- Installed Capacity (MW)\n- Length of PPA ",{"$f":"IF(B41<>0,IF(ISBLANK(E41),\"NA\",E41),\" \")","v":" "}]
[]
[4,null,"Electric Mobility"]
[null,1,"Does your country have policies in place or draft legislation to promote the uptake of electric mobility?",{"$f":"IF(B44<>0,IF(ISBLANK(E44),\"NA\",E44),\" \")","v":"Yes"},"Yes"]
[null,2,"Does your country have specific targets for the uptake of electric vehicles?",{"$f":"IF(B45<>0,IF(ISBLANK(E45),\"NA\",E45),\" \")","v":"Yes"},"Yes"]
[null,null,"What is the target and target year?",{"$f":"IF(B46<>0,IF(ISBLANK(E46),\"NA\",E46),\" \")","v":" "}]
[null,null,"How many electric cars are currently in your country?",{"$f":"IF(B47<>0,IF(ISBLANK(E47),\"NA\",E47),\" \")","v":" "}]
[null,null,"How many charging stations are in your country?",{"$f":"IF(B48<>0,IF(ISBLANK(E48),\"NA\",E48),\" \")","v":" "}]
[]
[null,null,"Descriptive CREF Index Survey"]
[null,null,"Enabling Environment for Renewable Energy (RE) Investments"]
[null,null,"Renewable energy strategy"]
[null,null,"Which of the rollowing renewable generation options is included in your country's strategic plan to develop renewable energy?\n- Solar PV\n- Offshore wind\n- Biomass\n- Waste to energy\n- Hydro\n-Geothermal\n- Other",{"$f":"E53","v":0},{"$f":"E6","v":0}]
[null,null,"What is the target and target year?",{"$f":"E54","v":0},{"$f":"E8","v":0}]
[null,null,"What is the current breakdown of your country's energy mix?",0,{"$f":"E9","v":0}]
[null,null,"Utilities"]
[null,null,"On average, how long does it take for the power utility to get investments in RE projects approved by the regulatory authority 9or the relevant entity) for recovery through tariffs?",{"$f":"E57","v":0},{"$f":"E15","v":0}]
[null,null,"Distributed Generation"]
[null,null,"What is the number of exisiting distributed scale RE systems in 2019?",{"$f":"E59","v":0},{"$f":"E24","v":0}]
[null,null,"What is the total installed capacity from renewable distributed generation in your country?",{"$f":"E60","v":0},{"$f":"E26","v":0}]
[null,null,"What was the total generation from exisitng distributed scale RE systems in 2019?",0,{"$f":"E27","v":0}]
[null,null,"Existing renewable generation"]
[null,null,"Existing Utility-Scale Renewable Energy Projects"]
[null,null,"What is the number of existing utility-scale RE projects?",{"$f":"E64","v":0},{"$f":"E31","v":0}]
[null,null,"What was the total electricity generated in 2019 (MWh)?",{"$f":"E65","v":0},{"$f":"E32","v":0}]
[null,null,"What was the total electricity generated from utility-scale RE projects in 2019 (MWh)?",0,{"$f":"E33","v":0}]
[null,null,"Please provide as much information as possible for exisitng RE projects in the box below as:\n- Project Name\n- Developer\n- Offtaker\n- Renewable Energy Technology Type\n- Start of Commercial Operation (Year)\n- Estimated Capacity Factor (in %) OR Estimated Annual Production (in MWh)\n- Installed Capacity (MW)\n- Length of PPA ",0,{"$f":"E34","v":0}]
[null,null,"Planned renewable generation"]
[null,null,"Potential Utility-Scale Renewable Energy Projects"]
[null,null,"How much installed capacity from RE is expected to come online in the next 3 years?",{"$f":"E70","v":0},{"$f":"E38","v":0}]
[null,null,"How much renewable energy generation is expected to come online in the next 3 years?",{"$f":"E71","v":0},{"$f":"E39","v":0}]
[null,null,"Please provide as much information as possible for RE projects currently under development in the box below as:\n- Project Name\n- Developer\n- Offtaker\n- Renewable Energy Technology Type\n- Start of Commercial Operation (Year)\n- Estimated Capacity Factor (in %) OR Estimated Annual Production (in MWh)\n- Installed Capacity (MW)\n- Length of PPA ",0,{"$f":"E41","v":0}]
[null,null,"Electric Mobility"]
[null,null,"What is the target and target year?",{"$f":"E74","v":0},{"$f":"E46","v":0}]
[null,null,"How many electric cars are currently in your country?",{"$f":"E75","v":0},{"$f":"E47","v":0}]
[null,null,"How many charging stations are in your country?",0,0]
[null,null,"Covid"]
[null,null,"Has any measure been implemented to respond to disruptions in revenue collections from electricity services (particularly given the current circumstances during the COVID pandemic)?",{"$f":"E78","v":0}]
[null,null,"If yes, to get a score on this kindly describe how the measure works and who is responsible for implementing it",{"$f":"E79","v":0}]
[null,null,"Outlook sentiment"]
[null,null,"How enthusiastic are you about the investment prospects in renewables, electric mobility, and resilience compared to this time last year, and why?",{"$f":"E81","v":0}]
[null,null,"Please elaborate on your reasoning for the previous response.",{"$f":"E82","v":0}]

{"sheet":"Curacao","index":13,"n_rows":82,"n_cols":6,"rows_kept":82,"cut":false,"hidden":false,"merged":[]}
[null,"Curaҫao"]
[null,null,"Overall Indicator",null,"Karel Tujeehut, Ministry of Economic Development","Jasper Provence, Aqualectra"]
[1,null,"Enabling Environment for Renewable Energy (RE) Investments","Consolidated Survey Response","Respondent #11","Respondent #10"]
[null,null,"Government - Renewable Energy Strategy","Y/N","Y/N","Y/N"]
[null,1,"Does your country have a strategic plan to develop renewable energy?"]
[null,null,"Which of the following renewable generation options is included in you country's strategic plan to develop renewable energy?",{"$f":"E6","v":"Solar PV, Onshore Wind, Offshore Wind, Biomass, Waste-to-Energy, Other"},"Solar PV, Onshore Wind, Offshore Wind, Biomass, Waste-to-Energy, Other","Solar PV, Onshore Wind, Waste-to-Energy, Other"]
[null,2,"Does your country have a specific target for renewable energy?",{"$f":"IF(B7<>0,IF(ISBLANK(E7),\"NA\",E7),\" \")","v":"Yes"},"Yes","Yes"]
[null,null,"If yes, what is the target and target year?"," ","See policy question 3",2029]
[null,null,"What is the current breakdown of your country's energy mix?"," ","29 % renewables / 71 diesel + GT","74% Conventional Energy [Fossil Fuel Generation Set], 20% Wind Mills and 6% Solar panels"]
[null,3,"Does your country have an Integrated Resource Plan (IRP) that was produced within the last three years?",{"$f":"IF(B10<>0,IF(ISBLANK(F10),\"NA\",F10),\" \")","v":"No"},"Yes","No"]
[null,null,"Utilities","Y/N","Y/N","Y/N"]
[null,1,"When planning generation expansion, does the utility consider RE options?",{"$f":"IF(B12<>0,IF(ISBLANK(E12),\"NA\",E12),\" \")","v":"Yes"},"Yes","Yes"]
[null,2,"Can the utility safely recover RE investments through tariffs like it can recover fossil fuel costs?",{"$f":"IF(B13<>0,IF(ISBLANK(E13),\"NA\",E13),\" \")","v":"Yes"},"Yes","Yes"]
[null,3,"Are there clear, specific planning and permitting processes and rules in place for developing RE?","No","No","Yes"]
[null,null,"On average, how long does it take for the power utility to get investments in RE projects approved by the regulatory authority (or relevant entity) for recovery through tariffs?"," ","< 1 month"]
[null,null,"IPPs",null,"Y/N","Y/N"]
[null,1,"Can the utility safely recover purchases of RE from third parties, just as it recovers fossil fuel costs?","Yes","Yes","Yes"]
[null,2,"Are there workable precedents or rules for PPA terms and grid operation rules?","No","No","Yes"]
[null,3,"Are there clear and effective licensing processes and requirements in place for IPPs?","Yes","Yes","Yes"]
[null,4,"Does the utility have an obligation to purchase from IPPs when it is cheaper than generating the power itself?","Yes","Yes","Yes"]
[null,5,"Does the PPA have any take-or-pay arrangements?","No","No","Yes"]
[null,null,"Distributed generation",null,"Y/N","Y/N"]
[null,1,"Do you have a registry or database of distributed generation?","Yes","Yes","Yes"]
[null,null,"What was the number of existing distributed scale RE systems in 2019?"," ","N/A"]
[null,null,"Is there an aggregate maximum capacity for distributed generation?"," ","Yes","Yes"]
[null,null,"What is the total installed capacity from renewable distributed generation in your country?"," ","Wind 47 MW / Solar 13 MW","60 MW"]
[null,null,"What was the total generation from existing distributed scale RE systems in 2019?"," ","Approximately 28%","220,000 MWh"]
[null,2,"Is there a standard arrangement in place for customers to sell electricity to the utility at a reasonable price, for a reasonable timeframe, and with a clear interconnection agreement?","Yes","Yes","Yes"]
[null,null,null," "]
[2,null,"Existing renewable generation"]
[null,null,"What is the number of existing Utility-Scale RE projects?"," ",0]
[null,1,"What was the total electricity generated in 2019? (MWh)",{"$f":"IF(B32<>0,IF(ISBLANK(F32),\"NA\",F32),\" \")","v":880000},null,880000]
[null,1,"What was the total electricity generated from Utility Scale RE projects in 2019? (MWh) ",{"$f":"IF(B33<>0,IF(ISBLANK(F33),\"NA\",F33),\" \")","v":220000},0,220000]
[null,null,"Please provide as much information as possible for existing RE projects in the box below as:\n- Project Name\n- Developer\n- Offtaker\n- Renewable Energy Technology Type\n- Start of Commercial Operation (Year)\n- Estimated Capacity Factor (in %) OR Estimated Annual Production (in MWh)\n- Installed Capacity (MW)\n- Length of PPA "," "]
[null,null,null," "]
[3,null,"Planned Utility-Scale Renewable Energy Projects"]
[null,1,"Does your country have an estimate of planned installed capacity expected to come online from-utility scale RE projects?","Yes","Yes","Yes"]
[null,null,"How much installed capacity from RE is expected to come online in the next 3 years? (MW)"," ","20 MW","Up to 40%"]
[null,2,"How much renewable energy generation is expected to come online in the next 3 years? (MWh)","NA","NA"]
[null,3,"Is climate resilience incorporated in your IRP or national policy?","Yes","Yes","Yes"]
[null,null,"Please provide as much information as possible for RE projects currently under development in the box below as:\n- Project Name\n- Developer\n- Offtaker\n- Renewable Energy Technology Type\n- Start of Commercial Operation (Year)\n- Estimated Capacity Factor (in %) OR Estimated Annual Production (in MWh)\n- Installed Capacity (MW)\n- Length of PPA "," ","NA as yet"]
[null,null,null," "]
[4,null,"Electric Mobility"]
[null,1,"Does your country have policies in place or draft legislation to promote the uptake of electric mobility?","Yes","Yes","Yes"]
[null,2,"Does your country have specific targets for the uptake of electric vehicles?","No","No","Yes"]
[null,null,"What is the target and target year?"," ","NA"]
[null,null,"How many electric cars are currently in your country?"," ","60+",100]
[null,null,"How many charging stations are in your country?"," ","20+","Owned by private companies and house holds"]
[]
[null,null,"Descriptive CREF Index Survey"]
[null,null,"Enabling Environment for Renewable Energy (RE) Investments"]
[null,null,"Renewable energy strategy"]
[null,null,"Which of the following renewable generation options is included in your country's strategic plan to develop renewable energy?\n- Solar PV\n- Offshore wind\n- Biomass\n- Waste to energy\n- Hydro\n-Geothermal\n- Other",{"$f":"E53","v":"Solar PV, Onshore Wind, Offshore Wind, Biomass, Waste-to-Energy, Other"},{"$f":"E6","v":"Solar PV, Onshore Wind, Offshore Wind, Biomass, Waste-to-Energy, Other"},{"$f":"F6","v":"Solar PV, Onshore Wind, Waste-to-Energy, Other"}]
[null,null,"What is the target and target year?",{"$f":"E54","v":"See policy question 3"},{"$f":"E8","v":"See policy question 3"},{"$f":"F8","v":2029}]
[null,null,"What is the current breakdown of your country's energy mix?",{"$f":"E55","v":"29 % renewables / 71 diesel + GT"},{"$f":"E9","v":"29 % renewables / 71 diesel + GT"},"74% Conventional Energy [Fossil Fuel Generation Set], 20% Wind Mills and 6% Solar panels"]
[null,null,"Utilities"]
[null,null,"On average, how long does it take for the power utility to get investments in RE projects approved by the regulatory authority 9or the relevant entity) for recovery through tariffs?",{"$f":"D15","v":" "},{"$f":"E15","v":"< 1 month"},{"$f":"F15","v":0}]
[null,null,"Distributed Generation"]
[null,null,"What is the number of existing distributed scale RE systems in 2019?",{"$f":"E59","v":"N/A"},{"$f":"E24","v":"N/A"},{"$f":"F24","v":0}]
[null,null,"What is the total installed capacity from renewable distributed generation in your country?",{"$f":"E60","v":"Wind 47 MW / Solar 13 MW"},{"$f":"E26","v":"Wind 47 MW / Solar 13 MW"},{"$f":"F26","v":"60 MW"}]
[null,null,"What was the total generation from existing distributed scale RE systems in 2019?",{"$f":"E61","v":"Approximately 28%"},{"$f":"E27","v":"Approximately 28%"},{"$f":"F27","v":"220,000 MWh"}]
[null,null,"Existing renewable generation"]
[null,null,"Existing Utility-Scale Renewable Energy Projects"]
[null,null,"What is the number of existing utility-scale RE projects?",{"$f":"E64","v":0},{"$f":"E31","v":0},{"$f":"F31","v":0}]
[null,null,"What was the total electricity generated in 2019 (MWh)?",{"$f":"D32","v":880000},{"$f":"E32","v":0},{"$f":"F32","v":880000}]
[null,null,"What was the total electricity generated from utility-scale RE projects in 2019 (MWh)?",{"$f":"D33","v":220000},{"$f":"E33","v":0},{"$f":"F33","v":220000}]
[null,null,"Please provide as much information as possible for existing RE projects in the box below as:\n- Project Name\n- Developer\n- Offtaker\n- Renewable Energy Technology Type\n- Start of Commercial Operation (Year)\n- Estimated Capacity Factor (in %) OR Estimated Annual Production (in MWh)\n- Installed Capacity (MW)\n- Length of PPA ",{"$f":"E67","v":0},{"$f":"E34","v":0},{"$f":"F34","v":0}]
[null,null,"Planned renewable generation"]
[null,null,"Potential Utility-Scale Renewable Energy Projects"]
[null,null,"How much installed capacity from RE is expected to come online in the next 3 years?",{"$f":"E70","v":"20 MW"},{"$f":"E38","v":"20 MW"},{"$f":"F38","v":"Up to 40%"}]
[null,null,"How much renewable energy generation is expected to come online in the next 3 years?",{"$f":"E71","v":"NA"},{"$f":"E39","v":"NA"},{"$f":"F39","v":0}]
[null,null,"Please provide as much information as possible for RE projects currently under development in the box below as:\n- Project Name\n- Developer\n- Offtaker\n- Renewable Energy Technology Type\n- Start of Commercial Operation (Year)\n- Estimated Capacity Factor (in %) OR Estimated Annual Production (in MWh)\n- Installed Capacity (MW)\n- Length of PPA ","NA as yet",{"$f":"E41","v":"NA as yet"},{"$f":"F41","v":0}]
[null,null,"Electric Mobility"]
[null,null,"What is the target and target year?",{"$f":"E74","v":"NA"},{"$f":"E46","v":"NA"},{"$f":"F46","v":0}]
[null,null,"How many electric cars are currently in your country?",{"$f":"E75","v":"60+"},{"$f":"E47","v":"60+"},{"$f":"F47","v":100}]
[null,null,"How many charging stations are in your country?",{"$f":"E76","v":"20+"},{"$f":"E48","v":"20+"},{"$f":"F48","v":"Owned by private companies and house holds"}]
[null,null,"Covid"]
[null,null,"Has any measure been implemented to respond to disruptions in revenue collections from electricity services (particularly given the current circumstances during the COVID pandemic)?",{"$f":"E78","v":"Yes"},"Yes","No"]
[null,null,"If yes, to get a score on this kindly describe how the measure works and who is responsible for implementing it",{"$f":"E79","v":"Government in combination with regulator"},"Government in combination with regulator"]
[null,null,"Outlook sentiment"]
[null,null,"How enthusiastic are you about the investment prospects in renewables, electric mobility, and resilience compared to this time last year, and why?",{"$f":"E81","v":"More"},"More","More"]
[null,null,"Please elaborate on your reasoning for the previous response.",{"$f":"E82","v":"There is a policy in place and government is working on new additional legislation, institutions  and  Instruments"},"There is a policy in place and government is working on new additional legislation, institutions  and  Instruments"]

{"sheet":"Dominica","index":14,"n_rows":82,"n_cols":5,"rows_kept":82,"cut":false,"hidden":false,"merged":[[1,5,1,11]]}
[null,"Dominica"]
[null,null,"Overall Indicator",null,"Felix A. Julien, Independent Regulatory Commission"]
[1,null,"Enabling Environment for Renewable Energy (RE) Investments","Consolidated Survey Response","Respondent #23"]
[null,null,"Government - Renewable Energy Strategy",null,"Y/N"]
[null,1,"Does your country have a strategic plan to develop renewable energy?"]
[null,null,"Which of the following renewable generation options is included in you country's strategic plan to develop renewable energy?",{"$f":"IF(B6<>0,IF(ISBLANK(E6),\"NA\",E6),\" \")","v":" "},"Solar PV, Geothermal"]
[null,2,"Does your country have a specific target for renewable energy?",{"$f":"IF(B7<>0,IF(ISBLANK(E7),\"NA\",E7),\" \")","v":"Yes"},"Yes"]
[null,null,"If yes, what is the target and target year?",{"$f":"IF(B8<>0,IF(ISBLANK(E8),\"NA\",E8),\" \")","v":" "},"100% renewable by 2030 (energy generation)"]
[null,null,"What is the current breakdown of your country's energy mix?",{"$f":"IF(B9<>0,IF(ISBLANK(E9),\"NA\",E9),\" \")","v":" "},"20% Hydro, 80% diesel (electricity generation)"]
[null,3,"Does your country have an Integrated Resource Plan (IRP) that was produced within the last three years?",{"$f":"IF(B10<>0,IF(ISBLANK(E10),\"NA\",E10),\" \")","v":"Yes"},"Yes"]
[null,null,"Utilities",null,"Y/N"]
[null,1,"When planning generation expansion, does the utility consider RE options?",{"$f":"IF(B12<>0,IF(ISBLANK(E12),\"NA\",E12),\" \")","v":"Yes"},"Yes"]
[null,2,"Can the utility safely recover RE investments through tariffs like it can recover fossil fuel costs?",{"$f":"IF(B13<>0,IF(ISBLANK(E13),\"NA\",E13),\" \")","v":"Yes"},"Yes"]
[null,3,"Are there clear, specific planning and permitting processes and rules in place for developing RE?",{"$f":"IF(B14<>0,IF(ISBLANK(E14),\"NA\",E14),\" \")","v":"Yes"},"Yes"]
[null,null,"On average, how long does it take for the power utility to get investments in RE projects approved by the regulatory authority (or relevant entity) for recovery through tariffs?",{"$f":"IF(B15<>0,IF(ISBLANK(E15),\"NA\",E15),\" \")","v":" "},"NA"]
[null,null,"IPPs",null,"Y/N"]
[null,1,"Can the utility safely recover purchases of RE from third parties, just as it recovers fossil fuel costs?",{"$f":"IF(B17<>0,IF(ISBLANK(E17),\"NA\",E17),\" \")","v":"Yes"},"Yes"]
[null,2,"Are there workable precedents or rules for PPA terms and grid operation rules?",{"$f":"IF(B18<>0,IF(ISBLANK(E18),\"NA\",E18),\" \")","v":"Yes"},"Yes"]
[null,3,"Are there clear and effective licensing processes and requirements in place for IPPs?",{"$f":"IF(B19<>0,IF(ISBLANK(E19),\"NA\",E19),\" \")","v":"Yes"},"Yes"]
[null,4,"Does the utility have an obligation to purchase from IPPs when it is cheaper than generating the power itself?",{"$f":"IF(B20<>0,IF(ISBLANK(E20),\"NA\",E20),\" \")","v":"Yes"},"Yes"]
[null,5,"Does the PPA have any take-or-pay arrangements?",{"$f":"IF(B21<>0,IF(ISBLANK(E21),\"NA\",E21),\" \")","v":"Yes"},"Yes"]
[null,null,"Distributed generation",null,"Y/N"]
[null,1,"Do you have a registry or database of distributed generation?",{"$f":"IF(B23<>0,IF(ISBLANK(E23),\"NA\",E23),\" \")","v":"Yes"},"Yes"]
[null,null,"What was the number of existing distributed scale RE systems in 2018?"," ",16]
[null,null,"Is there an aggregate maximum capacity for distributed generation?"," ","Yes"]
[null,null,"What is the total installed capacity from renewable distributed generation in your country?"," ","0.5 MW"]
[null,null,"What was the total generation from existing distributed scale RE systems in 2019?"," ","NA"]
[null,2,"Is there a standard arrangement in place for customers to sell electricity to the utility at a reasonable price, for a reasonable timeframe, and with a clear interconnection agreement?","Yes","Yes"]
[]
[2,null,"Existing renewable generation"]
[null,null,"What is the number of existing Utility-Scale RE projects?",{"$f":"IF(B31<>0,IF(ISBLANK(E31),\"NA\",E31),\" \")","v":" "},1]
[null,1,"What was the total electricity generated in 2019? (MWh)",{"$f":"IF(B32<>0,IF(ISBLANK(E32),\"NA\",E32),\" \")","v":93194},93194]
[null,1,"What was the total electricity generated from Utility Scale RE projects in 2019? (MWh) ",20152,20152]
[null,null,"Please provide as much information as possible for existing RE projects in the box below as:\n- Project Name\n- Developer\n- Offtaker\n- Renewable Energy Technology Type\n- Start of Commercial Operation (Year)\n- Estimated Capacity Factor (in %) OR Estimated Annual Production (in MWh)\n- Installed Capacity (MW)\n- Length of PPA "," ","–     Project Name : Hydro Power Stations (Laudat, Trafalgar, Padu)\n–     Developer: DOMLEC\n–     Offtaker: DOMLEC\n–     RE technology type: Hydro\n–     Start of commercial operation (year) 1950s \n–     Estimated capacity factor (in %) OR estimated annual production (in MWh) 30980 MWh\n–     Installed capacity (MW) 6.64 MW\n–     Length of PPA - NA"]
[]
[3,null,"Planned Utility-Scale Renewable Energy Projects"]
[null,1,"Does your country have an estimate of planned installed capacity expected to come online from-utility scale RE projects?",{"$f":"IF(B37<>0,IF(ISBLANK(E37),\"NA\",E37),\" \")","v":"Yes"},"Yes"]
[null,null,"How much installed capacity from RE is expected to come online in the next 3 years? (MW)",{"$f":"IF(B38<>0,IF(ISBLANK(E38),\"NA\",E38),\" \")","v":" "},13.5]
[null,2,"How much renewable energy generation is expected to come online in the next 3 years? (MWh)",{"$f":"IF(B39<>0,IF(ISBLANK(E39),\"NA\",E39),\" \")","v":74000},74000]
[null,3,"Is climate resilience incorporated in your IRP or national policy?",{"$f":"IF(B40<>0,IF(ISBLANK(E40),\"NA\",E40),\" \")","v":"Yes"},"Yes"]
[null,null,"Please provide as much information as possible for RE projects currently under development in the box below as:\n- Project Name\n- Developer\n- Offtaker\n- Renewable Energy Technology Type\n- Start of Commercial Operation (Year)\n- Estimated Capacity Factor (in %) OR Estimated Annual Production (in MWh)\n- Installed Capacity (MW)\n- Length of PPA ",{"$f":"IF(B41<>0,IF(ISBLANK(E41),\"NA\",E41),\" \")","v":" "},"– Project Name: Geothermal\n– Developer: DGDC\n– Offtaker: DOMLEC\n– RE technology type: Geothermal\n– Start of commercial operation (year) 2022\n– Estimated capacity factor (in %) OR estimated annual production (in MWh) 67\n– Installed capacity (MW) 10\n– Length of PPA 25 years"]
[]
[4,null,"Electric Mobility"]
[null,1,"Does your country have policies in place or draft legislation to promote the uptake of electric mobility?",{"$f":"IF(B44<>0,IF(ISBLANK(E44),\"NA\",E44),\" \")","v":"Yes"},"Yes"]
[null,2,"Does your country have specific targets for the uptake of electric vehicles?",{"$f":"IF(B45<>0,IF(ISBLANK(E45),\"NA\",E45),\" \")","v":"No"},"No"]
[null,null,"What is the target and target year?",{"$f":"IF(B46<>0,IF(ISBLANK(E46),\"NA\",E46),\" \")","v":" "}]
[null,null,"How many electric cars are currently in your country?",{"$f":"IF(B47<>0,IF(ISBLANK(E47),\"NA\",E47),\" \")","v":" "},3]
[null,null,"How many charging stations are in your country?",{"$f":"IF(B48<>0,IF(ISBLANK(E48),\"NA\",E48),\" \")","v":" "},1]
[]
[null,null,"Descriptive CREF Index Survey"]
[null,null,"Enabling Environment for Renewable Energy (RE) Investments"]
[null,null,"Renewable energy strategy"]
[null,null,"Which of the following renewable generation options is included in your country's strategic plan to develop renewable energy?\n- Solar PV\n- Offshore wind\n- Biomass\n- Waste to energy\n- Hydro\n-Geothermal\n- Other",{"$f":"E53","v":"Solar PV, Geothermal"},{"$f":"E6","v":"Solar PV, Geothermal"}]
[null,null,"What is the target and target year?",{"$f":"E54","v":"100% renewable by 2030 (energy generation)"},{"$f":"E8","v":"100% renewable by 2030 (energy generation)"}]
[null,null,"What is the current breakdown of your country's energy mix?","20% Hydro, 80% diesel (electricity generation)",{"$f":"E9","v":"20% Hydro, 80% diesel (electricity generation)"}]
[null,null,"Utilities"]
[null,null,"On average, how long does it take for the power utility to get investments in RE projects approved by the regulatory authority 9or the relevant entity) for recovery through tariffs?",{"$f":"D15","v":" "},{"$f":"E15","v":"NA"}]
[null,null,"Distributed Generation"]
[null,null,"What is the number of existing distributed scale RE systems in 2019?",{"$f":"D24","v":" "},{"$f":"E24","v":16}]
[null,null,"What is the total installed capacity from renewable distributed generation in your country?",{"$f":"D26","v":" "},{"$f":"E26","v":"0.5 MW"}]
[null,null,"What was the total generation from existing distributed scale RE systems in 2019?",{"$f":"D27","v":" "},{"$f":"E27","v":"NA"}]
[null,null,"Existing renewable generation"]
[null,null,"Existing Utility-Scale Renewable Energy Projects"]
[null,null,"What is the number of existing utility-scale RE projects?",null,{"$f":"E31","v":1}]
[null,null,"What was the total electricity generated in 2019 (MWh)?",93194,93194]
[null,null,"What was the total electricity generated from utility-scale RE projects in 2019 (MWh)?",20152,20152]
[null,null,"Please provide as much information as possible for existing RE projects in the box below as:\n- Project Name\n- Developer\n- Offtaker\n- Renewable Energy Technology Type\n- Start of Commercial Operation (Year)\n- Estimated Capacity Factor (in %) OR Estimated Annual Production (in MWh)\n- Installed Capacity (MW)\n- Length of PPA "," ","–     Project Name : Hydro Power Stations (Laudat, Trafalgar, Padu)\n–     Developer: DOMLEC\n–     Offtaker: DOMLEC\n–     RE technology type: Hydro\n–     Start of commercial operation (year) 1950s \n–     Estimated capacity factor (in %) OR estimated annual production (in MWh) 30980 MWh\n–     Installed capacity (MW) 6.64 MW\n–     Length of PPA - NA"]
[null,null,"Planned renewable generation"]
[null,null,"Potential Utility-Scale Renewable Energy Projects"]
[null,null,"How much installed capacity from RE is expected to come online in the next 3 years?",{"$f":"E70","v":13.5},{"$f":"E38","v":13.5}]
[null,null,"How much renewable energy generation is expected to come online in the next 3 years?",{"$f":"D39","v":74000},{"$f":"E39","v":74000}]
[null,null,"Please provide as much information as possible for RE projects currently under development in the box below as:\n- Project Name\n- Developer\n- Offtaker\n- Renewable Energy Technology Type\n- Start of Commercial Operation (Year)\n- Estimated Capacity Factor (in %) OR Estimated Annual Production (in MWh)\n- Installed Capacity (MW)\n- Length of PPA ",{"$f":"D41","v":" "},{"$f":"E41","v":"– Project Name: Geothermal\n– Developer: DGDC\n– Offtaker: DOMLEC\n– RE technology type: Geothermal\n– Start of commercial operation (year) 2022\n– Estimated capacity factor (in %) OR estimated annual production (in MWh) 67\n– Installed capacity (MW) 10\n– Length of PPA 25 years"}]
[null,null,"Electric Mobility"]
[null,null,"What is the target and target year?",{"$f":"D46","v":" "},{"$f":"E46","v":0}]
[null,null,"How many electric cars are currently in your country?",{"$f":"D47","v":" "},3]
[null,null,"How many charging stations are in your country?"," ",1]
[null,null,"Covid"]
[null,null,"Has any measure been implemented to respond to disruptions in revenue collections from electricity services (particularly given the current circumstances during the COVID pandemic)?",{"$f":"E78","v":"No"},"No"]
[null,null,"If yes, to get a score on this kindly describe how the measure works and who is responsible for implementing it",{"$f":"E79","v":0}]
[null,null,"Outlook sentiment"]
[null,null,"How enthusiastic are you about the investment prospects in renewables, electric mobility, and resilience compared to this time last year, and why?",{"$f":"E81","v":"Same"},"Same"]
[null,null,"Please elaborate on your reasoning for the previous response.",{"$f":"E82","v":"Policy changes and projects have been both positive and negative so on balance, same as last year"},"Policy changes and projects have been both positive and negative so on balance, same as last year"]

{"sheet":"Dominican_Republic","index":15,"n_rows":82,"n_cols":5,"rows_kept":82,"cut":false,"hidden":true,"merged":[]}
[null,"Dominican Republic"]
[null,null,"Overall Indicator"]
[1,null,"Enabling Environment for Renewable Energy (RE) Investments","Consolidated Survey Response"]
[null,null,"Government - Renewable Energy Strategy","Y/N"]
[null,1,"Does your country have a strategic plan to develop renewble energy?"]
[null,null,"Which of the following renewable generation options is includd in you country's strategic plan to develop renewable energy?",{"$f":"IF(B6<>0,IF(ISBLANK(E6),\"NA\",E6),\" \")","v":" "}]
[null,2,"Does your country have a specific target for renewable energy?",{"$f":"IF(B7<>0,IF(ISBLANK(E7),\"NA\",E7),\" \")","v":"Yes"},"Yes"]
[null,null,"If yes, what is the target and target year?"," "]
[null,null,"What is the current breakdown of your country's energy mix?"," "]
[null,3,"Does your country have an Integrated Resource Plan (IRP) that was produced within the last three years?","Yes","Yes"]
[null,null,"Utilities"]
[null,1,"When planning generation expansion, does the utility consider RE options?","NA"]
[null,2,"Can the utility safely recover RE investments through tariffs like it can recover fossil fuel costs?","NA"]
[null,3,"Are there clear, specific planning and permitting processes and rules in place for developing RE?","NA"]
[null,null,"On average, how long does it take for the power utility to get investments in RE projects approved by the regulatory authority (or relevant entity) fror recovery through tariffs?"," "]
[null,null,"IPPs"]
[null,1,"Can the utility safely recover purchases of RE from third parties, just as it recovers fossil fuel costs?","NA"]
[null,2,"Are there workable precedents or rules for PPA terms and grid operation rules?","NA"]
[null,3,"Are there clear and effective licensing processes and requirements in place for IPPs?","NA"]
[null,4,"Does the utility have an obligation to purchase from IPPs when it is cheaper than generating the power itself?","NA"]
[null,5,"Does the PPA have any take-or-pay arrangements?","NA"]
[null,null,"Distributed generation"]
[null,1,"Do you have a registry or database of distributed generation?","NA"]
[null,null,"What was the number of existing distributed scale RE systems in 2019?"," "]
[null,null,"Is there an aggregate maximum capacity for distributed generation?"," "]
[null,null,"What is the total installed capacity from renewable distributed generation in your country?"," "]
[null,null,"What was the total generation from existing distributed scale RE systems in 2019?"," "]
[null,2,"Is there a standard arrangement in place for customers to sell electricity to the utility at a reasonable price, for a reasonable timeframe, and with a clear interconnection agreement?","NA"]
[null,null,null," "]
[2,null,"Existing renewable generation"]
[null,null,"What is the number of existing Utility-Scale RE projects?"," "]
[null,1,"What was the total electricity generated in 2019? (MWh)","NA"]
[null,1,"What was the total electricity generated from Utility Scale RE projects in 2019? (MWh) ","NA"]
[null,null,"Please provide as much information as possible for exisitng RE projects in the box below as:\n- Project Name\n- Developer\n- Offtaker\n- Renewable Energy Technology Type\n- Start of Commercial Operation (Year)\n- Estimated Capacity Factor (in %) OR Estimated Annual Production (in MWh)\n- Installed Capacity (MW)\n- Length of PPA "," "]
[null,null,null," "]
[3,null,"Planned Utility-Scale Renewable Energy Projects"]
[null,1,"Does your country have an estimate of planned installed capacity expected to come online from-utility scale RE projects?","NA"]
[null,null,"How much installed capacity from RE is expected to come online in the next 3 years? (MW)"," "]
[null,2,"How much renewable energy generation is expected to come online in the next 3 years? (MWh)","NA"]
[null,3,"Is climate resilience incorporated in your IRP or national policy?","NA"]
[null,null,"Please provide as much information as possible for RE projects currently under development in the box below as:\n- Project Name\n- Developer\n- Offtaker\n- Renewable Energy Technology Type\n- Start of Commercial Operation (Year)\n- Estimated Capacity Factor (in %) OR Estimated Annual Production (in MWh)\n- Installed Capacity (MW)\n- Length of PPA "," "]
[null,null,null," "]
[4,null,"Electric Mobility"]
[null,1,"Does your country have policies in place or draft legislation to promote the uptake of electric mobility?","No","No"]
[null,2,"Does your country have specific targets for the uptake of electric vehicles?","No","No"]
[null,null,"What is the target and target year?"," "]
[null,null,"How many electric cars are currently in your country?"," "]
[null,null,"How many charging stations are in your country?"," "]
[]
[null,null,"Descriptive CREF Index Survey"]
[null,null,"Enabling Environment for Renewable Energy (RE) Investments"]
[null,null,"Renewable energy strategy"]
[null,null,"Which of the rollowing renewable generation options is included in your country's strategic plan to develop renewable energy?\n- Solar PV\n- Offshore wind\n- Biomass\n- Waste to energy\n- Hydro\n-Geothermal\n- Other",{"$f":"E53","v":0},{"$f":"E6","v":0}]
[null,null,"What is the target and target year?",{"$f":"E54","v":0},{"$f":"E8","v":0}]
[null,null,"What is the current breakdown of your country's energy mix?",{"$f":"E55","v":0},{"$f":"E9","v":0}]
[null,null,"Utilities"]
[null,null,"On average, how long does it take for the power utility to get investments in RE projects approved by the regulatory authority 9or the relevant entity) for recovery through tariffs?",{"$f":"E57","v":0},{"$f":"E15","v":0}]
[null,null,"Distributed Generation"]
[null,null,"What is the number of exisiting distributed scale RE systems in 2019?",{"$f":"#REF!","v":{"$error":"#REF!"}},{"$f":"E24","v":0}]
[null,null,"What is the total installed capacity from renewable distributed generation in your country?","90-120",{"$f":"E26","v":0}]
[null,null,"What was the total generation from exisitng distributed scale RE systems in 2019?",{"$f":"D27","v":" "},{"$f":"E27","v":0}]
[null,null,"Existing renewable generation"]
[null,null,"Existing Utility-Scale Renewable Energy Projects"]
[null,null,"What is the number of existing utility-scale RE projects?",{"$f":"E64","v":0},{"$f":"E31","v":0}]
[null,null,"What was the total electricity generated in 2019 (MWh)?",{"$f":"E65","v":0},{"$f":"E32","v":0}]
[null,null,"What was the total electricity generated from utility-scale RE projects in 2019 (MWh)?",0,0]
[null,null,"Please provide as much information as possible for exisitng RE projects in the box below as:\n- Project Name\n- Developer\n- Offtaker\n- Renewable Energy Technology Type\n- Start of Commercial Operation (Year)\n- Estimated Capacity Factor (in %) OR Estimated Annual Production (in MWh)\n- Installed Capacity (MW)\n- Length of PPA ",0,0]
[null,null,"Planned renewable generation"]
[null,null,"Potential Utility-Scale Renewable Energy Projects"]
[null,null,"How much installed capacity from RE is expected to come online in the next 3 years?",{"$f":"E70","v":0},{"$f":"E38","v":0}]
[null,null,"How much renewable energy generation is expected to come online in the next 3 years?",{"$f":"D39","v":"NA"},{"$f":"E39","v":0}]
[null,null,"Please provide as much information as possible for RE projects currently under development in the box below as:\n- Project Name\n- Developer\n- Offtaker\n- Renewable Energy Technology Type\n- Start of Commercial Operation (Year)\n- Estimated Capacity Factor (in %) OR Estimated Annual Production (in MWh)\n- Installed Capacity (MW)\n- Length of PPA ",{"$f":"D41","v":" "},{"$f":"E41","v":0}]
[null,null,"Electric Mobility"]
[null,null,"What is the target and target year?",{"$f":"E74","v":0},{"$f":"E46","v":0}]
[null,null,"How many electric cars are currently in your country?",{"$f":"E75","v":0},{"$f":"E47","v":0}]
[null,null,"How many charging stations are in your country?",0,0]
[null,null,"Covid"]
[null,null,"Has any measure been implemented to respond to disruptions in revenue collections from electricity services (particularly given the current circumstances during the COVID pandemic)?",{"$f":"E78","v":0}]
[null,null,"If yes, to get a score on this kindly describe how the measure works and who is responsible for implementing it",{"$f":"E79","v":0}]
[null,null,"Outlook sentiment"]
[null,null,"How enthusiastic are you about the investment prospects in renewables, electric mobility, and resilience compared to this time last year, and why?",{"$f":"E81","v":0}]
[null,null,"Please elaborate on your reasoning for the previous response.",{"$f":"E82","v":0}]

{"sheet":"Grenada","index":16,"n_rows":82,"n_cols":6,"rows_kept":82,"cut":false,"hidden":false,"merged":[]}
[null,"Grenada"]
[null,null,"Overall Indicator",null,"Collin Cover, Grenada Electricity Services Limited","Clive Hosten, Grenada Electricity Services Limited"]
[1,null,"Enabling Environment for Renewable Energy (RE) Investments","Consolidated Survey Response","Respondent #16","Respondent #17"]
[null,null,"Government - Renewable Energy Strategy","Y/N"]
[null,1,"Does your country have a strategic plan to develop renewable energy?"]
[null,null,"Which of the following renewable generation options is included in you country's strategic plan to develop renewable energy?",{"$f":"F6","v":"Solar PV, Onshore Wind, Geothermal"},"Solar PV, Geothermal","Solar PV, Onshore Wind, Geothermal"]
[null,2,"Does your country have a specific target for renewable energy?",{"$f":"IF(B7<>0,IF(ISBLANK(E7),\"NA\",E7),\" \")","v":"Yes"},"Yes","Yes"]
[null,null,"If yes, what is the target and target year?",{"$f":"IF(B8<>0,IF(ISBLANK(E8),\"NA\",E8),\" \")","v":" "},"Grenada commits to reducing its Greenhouse gas emissions by 30% of 2010 by 2025, with an indicative reduction of 40% of 2010 by 2030.","Grenada commits to reducing its Greenhouse gas emissions by 30% of 2010 by 2025, with an\nindicative reduction of 40% of 2010 by 2030.\nhttps://www4.unfccc.int/sites/ndcstaging/PublishedDocuments/Grenada%20First/Grenada%20INDC.pdf"]
[null,null,"What is the current breakdown of your country's energy mix?",{"$f":"IF(B9<>0,IF(ISBLANK(E9),\"NA\",E9),\" \")","v":" "}," RE (Solar) 1.5%, Diesel engines 98.5%","98.02% Diesel, 1.98% PV"]
[null,3,"Does your country have an Integrated Resource Plan (IRP) that was produced within the last three years?",{"$f":"IF(B10<>0,IF(ISBLANK(E10),\"NA\",E10),\" \")","v":"No"},"No","No"]
[null,null,"Utilities"]
[null,1,"When planning generation expansion, does the utility consider RE options?",{"$f":"IF(B12<>0,IF(ISBLANK(E12),\"NA\",E12),\" \")","v":"Yes"},"Yes","Yes"]
[null,2,"Can the utility safely recover RE investments through tariffs like it can recover fossil fuel costs?",{"$f":"IF(B13<>0,IF(ISBLANK(E13),\"NA\",E13),\" \")","v":"NA"}]
[null,3,"Are there clear, specific planning and permitting processes and rules in place for developing RE?",{"$f":"IF(B14<>0,IF(ISBLANK(E14),\"NA\",E14),\" \")","v":"No"},"No","No"]
[null,null,"On average, how long does it take for the power utility to get investments in RE projects approved by the regulatory authority (or relevant entity) for recovery through tariffs?",{"$f":"IF(B15<>0,IF(ISBLANK(E15),\"NA\",E15),\" \")","v":" "},"Unknown as these bodies are not fully operational.","Regulations are in the development process"]
[null,null,"IPPs"]
[null,1,"Can the utility safely recover purchases of RE from third parties, just as it recovers fossil fuel costs?",{"$f":"IF(B17<>0,IF(ISBLANK(E17),\"NA\",E17),\" \")","v":"NA"},null,"No"]
[null,2,"Are there workable precedents or rules for PPA terms and grid operation rules?",{"$f":"IF(B18<>0,IF(ISBLANK(E18),\"NA\",E18),\" \")","v":"No"},"No","No"]
[null,3,"Are there clear and effective licensing processes and requirements in place for IPPs?",{"$f":"IF(B19<>0,IF(ISBLANK(E19),\"NA\",E19),\" \")","v":"No"},"No"]
[null,4,"Does the utility have an obligation to purchase from IPPs when it is cheaper than generating the power itself?",{"$f":"IF(B20<>0,IF(ISBLANK(E20),\"NA\",E20),\" \")","v":"NA"},null,"No"]
[null,5,"Does the PPA have any take-or-pay arrangements?",{"$f":"IF(B21<>0,IF(ISBLANK(E21),\"NA\",E21),\" \")","v":"NA"},null,"Yes"]
[null,null,"Distributed generation"]
[null,1,"Do you have a registry or database of distributed generation?",{"$f":"IF(B23<>0,IF(ISBLANK(E23),\"NA\",E23),\" \")","v":"Yes"},"Yes","Yes"]
[null,null,"What was the number of existing distributed scale RE systems in 2019?",{"$f":"IF(B24<>0,IF(ISBLANK(E24),\"NA\",E24),\" \")","v":" "},null,152]
[null,null,"Is there an aggregate maximum capacity for distributed generation?",{"$f":"IF(B25<>0,IF(ISBLANK(E26),\"NA\",E26),\" \")","v":" "},null,"Yes"]
[null,null,"What is the total installed capacity from renewable distributed generation in your country?",{"$f":"IF(B26<>0,IF(ISBLANK(#REF!),\"NA\",#REF!),\" \")","v":" "},"3.6MW","3.2MW (dc)"]
[null,null,"What was the total generation from existing distributed scale RE systems in 2019?",{"$f":"IF(B27<>0,IF(ISBLANK(E27),\"NA\",E27),\" \")","v":" "},"3,470 MWh","2,183 MWh"]
[null,2,"Is there a standard arrangement in place for customers to sell electricity to the utility at a reasonable price, for a reasonable timeframe, and with a clear interconnection agreement?",{"$f":"IF(B28<>0,IF(ISBLANK(E28),\"NA\",E28),\" \")","v":"Yes"},"Yes","Yes"]
[]
[2,null,"Existing renewable generation"]
[null,null,"What is the number of existing Utility-Scale RE projects?",{"$f":"IF(B31<>0,IF(ISBLANK(E31),\"NA\",E31),\" \")","v":" "},2,"Awaiting approval from Planning Authority for one project"]
[null,1,"What was the total electricity generated in 2019? (MWh)",{"$f":"AVERAGE(E32:F32)","v":235952.201},{"$f":"230583402/1000","v":230583.402},241321]
[null,1,"What was the total electricity generated from Utility Scale RE projects in 2019? (MWh) ",{"$f":"AVERAGE(E33:F33)","v":1531.9285},{"$f":"1505857/1000","v":1505.857},1558]
[null,null,"Please provide as much information as possible for existing RE projects in the box below as:\n- Project Name\n- Developer\n- Offtaker\n- Renewable Energy Technology Type\n- Start of Commercial Operation (Year)\n- Estimated Capacity Factor (in %) OR Estimated Annual Production (in MWh)\n- Installed Capacity (MW)\n- Length of PPA ",{"$f":"IF(B34<>0,IF(ISBLANK(E34),\"NA\",E34),\" \")","v":" "},"Both utility scale projects were installed by Greece.\n30kW on a  small island (Petite Martinique) average daily load 110 kW\n1,088 on Grenada.","None"]
[]
[3,null,"Planned Utility-Scale Renewable Energy Projects"]
[null,1,"Does your country have an estimate of planned installed capacity expected to come online from-utility scale RE projects?",{"$f":"IF(B37<>0,IF(ISBLANK(E37),\"NA\",E37),\" \")","v":"No"},"No","No"]
[null,null,"How much installed capacity from RE is expected to come online in the next 3 years? (MW)",{"$f":"IF(B38<>0,IF(ISBLANK(E38),\"NA\",E38),\" \")","v":" "}]
[null,2,"How much renewable energy generation is expected to come online in the next 3 years? (MWh)",{"$f":"IF(B39<>0,IF(ISBLANK(E39),\"NA\",E39),\" \")","v":"NA"}]
[null,3,"Is climate resilience incorporated in your IRP or national policy?",{"$f":"IF(B40<>0,IF(ISBLANK(E40),\"NA\",E40),\" \")","v":"NA"}]
[null,null,"Please provide as much information as possible for RE projects currently under development in the box below as:\n- Project Name\n- Developer\n- Offtaker\n- Renewable Energy Technology Type\n- Start of Commercial Operation (Year)\n- Estimated Capacity Factor (in %) OR Estimated Annual Production (in MWh)\n- Installed Capacity (MW)\n- Length of PPA ",{"$f":"IF(B41<>0,IF(ISBLANK(E41),\"NA\",E41),\" \")","v":" "}]
[]
[4,null,"Electric Mobility"]
[null,1,"Does your country have policies in place or draft legislation to promote the uptake of electric mobility?",{"$f":"IF(B44<>0,IF(ISBLANK(E44),\"NA\",E44),\" \")","v":"No"},"No","No"]
[null,2,"Does your country have specific targets for the uptake of electric vehicles?",{"$f":"IF(B45<>0,IF(ISBLANK(E45),\"NA\",E45),\" \")","v":"No"},"No","No"]
[null,null,"What is the target and target year?",{"$f":"IF(B46<>0,IF(ISBLANK(E46),\"NA\",E46),\" \")","v":" "},"In the media this week of 21st Sept there was a public notice from a government body about a meeting of interested persons ref e-mobility in Grenada."]
[null,null,"How many electric cars are currently in your country?",{"$f":"IF(B47<>0,IF(ISBLANK(E47),\"NA\",E47),\" \")","v":" "},7,6]
[null,null,"How many charging stations are in your country?",{"$f":"IF(B48<>0,IF(ISBLANK(E48),\"NA\",E48),\" \")","v":" "},"4 that we know of.",2]
[]
[null,null,"Descriptive CREF Index Survey"]
[null,null,"Enabling Environment for Renewable Energy (RE) Investments"]
[null,null,"Renewable energy strategy"]
[null,null,"Which of the following renewable generation options is included in your country's strategic plan to develop renewable energy?\n- Solar PV\n- Offshore wind\n- Biomass\n- Waste to energy\n- Hydro\n-Geothermal\n- Other",{"$f":"E53","v":"Solar PV, Geothermal"},{"$f":"E6","v":"Solar PV, Geothermal"},{"$f":"F6","v":"Solar PV, Onshore Wind, Geothermal"}]
[null,null,"What is the target and target year?",{"$f":"E54","v":"Grenada commits to reducing its Greenhouse gas emissions by 30% of 2010 by 2025, with an indicative reduction of 40% of 2010 by 2030."},{"$f":"E8","v":"Grenada commits to reducing its Greenhouse gas emissions by 30% of 2010 by 2025, with an indicative reduction of 40% of 2010 by 2030."},{"$f":"F8","v":"Grenada commits to reducing its Greenhouse gas emissions by 30% of 2010 by 2025, with an\nindicative reduction of 40% of 2010 by 2030.\nhttps://www4.unfccc.int/sites/ndcstaging/PublishedDocuments/Grenada%20First/Grenada%20INDC.pdf"}]
[null,null,"What is the current breakdown of your country's energy mix?"," RE (Solar) 1.5%, Diesel engines 98.5%",{"$f":"E9","v":" RE (Solar) 1.5%, Diesel engines 98.5%"},{"$f":"F9","v":"98.02% Diesel, 1.98% PV"}]
[null,null,"Utilities"]
[null,null,"On average, how long does it take for the power utility to get investments in RE projects approved by the regulatory authority 9or the relevant entity) for recovery through tariffs?",{"$f":"E57","v":"Unknown as these bodies are not fully operational."},{"$f":"E15","v":"Unknown as these bodies are not fully operational."},{"$f":"F15","v":"Regulations are in the development process"}]
[null,null,"Distributed Generation"]
[null,null,"What is the number of existing distributed scale RE systems in 2019?",{"$f":"E59","v":0},{"$f":"E24","v":0},{"$f":"F24","v":152}]
[null,null,"What is the total installed capacity from renewable distributed generation in your country?",{"$f":"E60","v":"3.6MW"},{"$f":"E26","v":"3.6MW"},{"$f":"F26","v":"3.2MW (dc)"}]
[null,null,"What was the total generation from existing distributed scale RE systems in 2019?","3,470 MWh",{"$f":"E27","v":"3,470 MWh"},{"$f":"F27","v":"2,183 MWh"}]
[null,null,"Existing renewable generation"]
[null,null,"Existing Utility-Scale Renewable Energy Projects"]
[null,null,"What is the number of existing utility-scale RE projects?",{"$f":"E64","v":2},{"$f":"E31","v":2},"Awaiting approval from Planning Authority for one project"]
[null,null,"What was the total electricity generated in 2019 (MWh)?",{"$f":"E65","v":230583.402},230583.402,241321]
[null,null,"What was the total electricity generated from utility-scale RE projects in 2019 (MWh)?",1505.857,1505.857,1558]
[null,null,"Please provide as much information as possible for existing RE projects in the box below as:\n- Project Name\n- Developer\n- Offtaker\n- Renewable Energy Technology Type\n- Start of Commercial Operation (Year)\n- Estimated Capacity Factor (in %) OR Estimated Annual Production (in MWh)\n- Installed Capacity (MW)\n- Length of PPA ","Both utility scale projects were installed by Greece.\n30kW on a  small island (Petite Martinique) average daily load 110 kW\n1,088 on Grenada.","Both utility scale projects were installed by Greece.\n30kW on a  small island (Petite Martinique) average daily load 110 kW\n1,088 on Grenada.","None"]
[null,null,"Planned renewable generation"]
[null,null,"Potential Utility-Scale Renewable Energy Projects"]
[null,null,"How much installed capacity from RE is expected to come online in the next 3 years?",{"$f":"E70","v":0},{"$f":"E38","v":0},{"$f":"F38","v":0}]
[null,null,"How much renewable energy generation is expected to come online in the next 3 years?",{"$f":"E71","v":0},{"$f":"E39","v":0},{"$f":"F39","v":0}]
[null,null,"Please provide as much information as possible for RE projects currently under development in the box below as:\n- Project Name\n- Developer\n- Offtaker\n- Renewable Energy Technology Type\n- Start of Commercial Operation (Year)\n- Estimated Capacity Factor (in %) OR Estimated Annual Production (in MWh)\n- Installed Capacity (MW)\n- Length of PPA ",0,{"$f":"E41","v":0},{"$f":"F41","v":0}]
[null,null,"Electric Mobility"]
[null,null,"What is the target and target year?",{"$f":"E74","v":"In the media this week of 21st Sept there was a public notice from a government body about a meeting of interested persons ref e-mobility in Grenada."},{"$f":"E46","v":"In the media this week of 21st Sept there was a public notice from a government body about a meeting of interested persons ref e-mobility in Grenada."},0]
[null,null,"How many electric cars are currently in your country?",{"$f":"E75","v":7},7,6]
[null,null,"How many charging stations are in your country?","4 that we know of.","4 that we know of.",2]
[null,null,"Covid"]
[null,null,"Has any measure been implemented to respond to disruptions in revenue collections from electricity services (particularly given the current circumstances during the COVID pandemic)?",{"$f":"E78","v":"Yes"},"Yes","Yes"]
[null,null,"If yes, to get a score on this kindly describe how the measure works and who is responsible for implementing it",{"$f":"E79","v":"It was a temporary 3 month relief to the company's customers of 30% on their electricity bills that was funded jointly by the government (approx. 71%) and the utility ( approx. 29%)"},"It was a temporary 3 month relief to the company's customers of 30% on their electricity bills that was funded jointly by the government (approx. 71%) and the utility ( approx. 29%)","Disconnection was halted for  6 months\nGov and Utility paid 30% of bills for all customers totaling EC$10M for May Jun and July   https://www.nowgrenada.com/2020/05/government-and-grenlec-collaborating-to-grant-promised-reduction-in-bills/"]
[null,null,"Outlook sentiment"]
[null,null,"How enthusiastic are you about the investment prospects in renewables, electric mobility, and resilience compared to this time last year, and why?","Less/Same","Less","Same"]
[null,null,"Please elaborate on your reasoning for the previous response.",{"$f":"E82","v":"1. The regulatory scene is a quagmire.\n2. The government lost an arbitration case against the majority shareholder of the company and is now legally obligated to purchase the majority shareholders. However they seem unable to find the funds to purchase the company. So the company is in limbo. the majority share holder is still directing the company but with a light touch as it expects to exit at anytime."},"1. The regulatory scene is a quagmire.\n2. The government lost an arbitration case against the majority shareholder of the company and is now legally obligated to purchase the majority shareholders. However they seem unable to find the funds to purchase the company. So the company is in limbo. the majority share holder is still directing the company but with a light touch as it expects to exit at anytime.","Awaiting approved regulations from the regulating authority PURC"]

{"sheet":"Guadeloupe","index":17,"n_rows":82,"n_cols":8,"rows_kept":82,"cut":false,"hidden":false,"merged":[]}
[null,"Guadeloupe"]
[null,null,"Overall Indicator",null,"Eustache Raïssa, Regional Council of Guadeloupe"]
[1,null,"Enabling Environment for Renewable Energy (RE) Investments","Consolidated Survey Response","Respondent #6"]
[null,null,"Government - Renewable Energy Strategy","Y/N"]
[null,1,"Does your country have a strategic plan to develop renewable energy?"]
[null,null,"Which of the following renewable generation options is included in you country's strategic plan to develop renewable energy?",{"$f":"IF(B6<>0,IF(ISBLANK(E6),\"NA\",E6),\" \")","v":" "},"Solar PV, Onshore Wind, Offshore Wind, Biomass, Waste-to-Energy, Hydro, Geothermal"]
[null,2,"Does your country have a specific target for renewable energy?",{"$f":"IF(B7<>0,IF(ISBLANK(E7),\"NA\",E7),\" \")","v":"Yes"},"Yes"]
[null,null,"If yes, what is the target and target year?"," ","By 2020: 50% met by renewable energy sources\nBY 2030 : Energy independence"]
[null,null,"What is the current breakdown of your country's energy mix?"," ","Jet fuel : 1633 GWh (17,1%)\nCoal : 1496 GWh (15,7%)\nButane : 154 GWh (1,6%)\nFOD : 134 GWh (1,4%)\nFuel : 2200 GWh (23,1%)\nGasoline : 1202 GWh (12,6%)\nDiesel: 2127 GWh (22,3%)\nBagasse: 47 GWh (0,5%)\nGeothermal: 109 GWh (1,1%)\nHydro: 44 GWh (0,5%)\nOnshore Wind: 63 GWh (0,7%)\nPV : 100 GWh (1,0%)\nBiomass/biogas : 17 GWh(0,2%)\nSolar Heaters : 95 GWh (1,0%)\nSteam (processes) : 100 GWh (1,0%)\nHot water for use in industrial processes: 10 GWh (0,1%)"]
[null,3,"Does your country have an Integrated Resource Plan (IRP) that was produced within the last three years?","No","No"]
[null,null,"Utilities"]
[null,1,"When planning generation expansion, does the utility consider RE options?","Yes","Yes"]
[null,2,"Can the utility safely recover RE investments through tariffs like it can recover fossil fuel costs?","Yes","Yes"]
[null,3,"Are there clear, specific planning and permitting processes and rules in place for developing RE?","Yes","Yes"]
[null,null,"On average, how long does it take for the power utility to get investments in RE projects approved by the regulatory authority (or relevant entity) for recovery through tariffs?"," ","It can take years : 5 to over 10"]
[null,null,"IPPs"]
[null,1,"Can the utility safely recover purchases of RE from third parties, just as it recovers fossil fuel costs?","Yes","Yes"]
[null,2,"Are there workable precedents or rules for PPA terms and grid operation rules?","Yes","Yes"]
[null,3,"Are there clear and effective licensing processes and requirements in place for IPPs?","Yes","Yes"]
[null,4,"Does the utility have an obligation to purchase from IPPs when it is cheaper than generating the power itself?","Yes","Yes"]
[null,5,"Does the PPA have any take-or-pay arrangements?","Yes","Yes"]
[null,null,"Distributed generation"]
[null,1,"Do you have a registry or database of distributed generation?","Yes","Yes"]
[null,null,"What was the number of existing distributed scale RE systems in 2019?"," ","144 MW of RE vs 431 MW of fossil centralized generation"]
[null,null,"Is there an aggregate maximum capacity for distributed generation?"," ","Yes"]
[null,null,"What is the total installed capacity from renewable distributed generation in your country?"," ","144 MW of RE vs 431 MW of fossil centralized generation"]
[null,null,"What was the total generation from existing distributed scale RE systems in 2019?"," ","380 GWh from RE vs 1346 Gown from centralized fossil power generation"]
[null,2,"Is there a standard arrangement in place for customers to sell electricity to the utility at a reasonable price, for a reasonable timeframe, and with a clear interconnection agreement?","Yes","Yes"]
[null,null,null," "]
[2,null,"Existing renewable generation"]
[null,null,"What is the number of existing Utility-Scale RE projects?"," ","144 MW of RE vs 431 MW of fossil centralized generation"]
[null,1,"What was the total electricity generated in 2019? (MWh)",1726000,{"$f":"1726*1000","v":1726000}]
[null,1,"What was the total electricity generated from Utility Scale RE projects in 2019? (MWh) ",380000,{"$f":"380*1000","v":380000}]
[null,null,"Please provide as much information as possible for existing RE projects in the box below as:\n- Project Name\n- Developer\n- Offtaker\n- Renewable Energy Technology Type\n- Start of Commercial Operation (Year)\n- Estimated Capacity Factor (in %) OR Estimated Annual Production (in MWh)\n- Installed Capacity (MW)\n- Length of PPA "," "]
[null,null,null," "]
[3,null,"Planned Utility-Scale Renewable Energy Projects"]
[null,1,"Does your country have an estimate of planned installed capacity expected to come online from-utility scale RE projects?","Yes","Yes"]
[null,null,"How much installed capacity from RE is expected to come online in the next 3 years? (MW)"," ",158]
[null,2,"How much renewable energy generation is expected to come online in the next 3 years? (MWh)",612000,612000]
[null,3,"Is climate resilience incorporated in your IRP or national policy?","Yes","Yes"]
[null,null,"Please provide as much information as possible for RE projects currently under development in the box below as:\n- Project Name\n- Developer\n- Offtaker\n- Renewable Energy Technology Type\n- Start of Commercial Operation (Year)\n- Estimated Capacity Factor (in %) OR Estimated Annual Production (in MWh)\n- Installed Capacity (MW)\n- Length of PPA "," "]
[null,null,null," "]
[4,null,"Electric Mobility"]
[null,1,"Does your country have policies in place or draft legislation to promote the uptake of electric mobility?","Yes","Yes"]
[null,2,"Does your country have specific targets for the uptake of electric vehicles?","Yes","Yes"]
[null,null,"What is the target and target year?"," ","30% of EVs in circulating vehicles by 2030 (currently 220 000 vehicles in Guadeloupe)"]
[null,null,"How many electric cars are currently in your country?"," ","<1%"]
[null,null,"How many charging stations are in your country?"," ","Estimated: 50"]
[]
[null,null,"Descriptive CREF Index Survey"]
[null,null,"Enabling Environment for Renewable Energy (RE) Investments"]
[null,null,"Renewable energy strategy"]
[null,null,"Which of the following renewable generation options is included in your country's strategic plan to develop renewable energy?\n- Solar PV\n- Offshore wind\n- Biomass\n- Waste to energy\n- Hydro\n-Geothermal\n- Other",{"$f":"E53","v":"Solar PV, Onshore Wind, Offshore Wind, Biomass, Waste-to-Energy, Hydro, Geothermal"},{"$f":"E6","v":"Solar PV, Onshore Wind, Offshore Wind, Biomass, Waste-to-Energy, Hydro, Geothermal"}]
[null,null,"What is the target and target year?",{"$f":"E54","v":"By 2020: 50% met by renewable energy sources\nBY 2030 : Energy independence"},{"$f":"E8","v":"By 2020: 50% met by renewable energy sources\nBY 2030 : Energy independence"}]
[null,null,"What is the current breakdown of your country's energy mix?","Jet fuel : 1633 GWh (17,1%)\nCoal : 1496 GWh (15,7%)\nButane : 154 GWh (1,6%)\nFOD : 134 GWh (1,4%)\nFuel : 2200 GWh (23,1%)\nGasoline : 1202 GWh (12,6%)\nDiesel: 2127 GWh (22,3%)\nBagasse: 47 GWh (0,5%)\nGeothermal: 109 GWh (1,1%)\nHydro: 44 GWh (0,5%)\nOnshore Wind: 63 GWh (0,7%)\nPV : 100 GWh (1,0%)\nBiomass/biogas : 17 GWh(0,2%)\nSolar Heaters : 95 GWh (1,0%)\nSteam (processes) : 100 GWh (1,0%)\nHot water for use in industrial processes: 10 GWh (0,1%)",{"$f":"E9","v":"Jet fuel : 1633 GWh (17,1%)\nCoal : 1496 GWh (15,7%)\nButane : 154 GWh (1,6%)\nFOD : 134 GWh (1,4%)\nFuel : 2200 GWh (23,1%)\nGasoline : 1202 GWh (12,6%)\nDiesel: 2127 GWh (22,3%)\nBagasse: 47 GWh (0,5%)\nGeothermal: 109 GWh (1,1%)\nHydro: 44 GWh (0,5%)\nOnshore Wind: 63 GWh (0,7%)\nPV : 100 GWh (1,0%)\nBiomass/biogas : 17 GWh(0,2%)\nSolar Heaters : 95 GWh (1,0%)\nSteam (processes) : 100 GWh (1,0%)\nHot water for use in industrial processes: 10 GWh (0,1%)"}]
[null,null,"Utilities"]
[null,null,"On average, how long does it take for the power utility to get investments in RE projects approved by the regulatory authority 9or the relevant entity) for recovery through tariffs?",{"$f":"E57","v":"It can take years : 5 to over 10"},{"$f":"E15","v":"It can take years : 5 to over 10"}]
[null,null,"Distributed Generation"]
[null,null,"What is the number of existing distributed scale RE systems in 2019?",{"$f":"E59","v":"144 MW of RE vs 431 MW of fossil centralized generation"},{"$f":"E24","v":"144 MW of RE vs 431 MW of fossil centralized generation"}]
[null,null,"What is the total installed capacity from renewable distributed generation in your country?",{"$f":"E60","v":"144 MW of RE vs 431 MW of fossil centralized generation"},{"$f":"E26","v":"144 MW of RE vs 431 MW of fossil centralized generation"}]
[null,null,"What was the total generation from existing distributed scale RE systems in 2019?",{"$f":"E61","v":"380 GWh from RE vs 1346 Gown from centralized fossil power generation"},{"$f":"E27","v":"380 GWh from RE vs 1346 Gown from centralized fossil power generation"}]
[null,null,"Existing renewable generation",null,null,null,null,"From pg. 106 of Energy Plan:"]
[null,null,"Existing Utility-Scale Renewable Energy Projects"]
[null,null,"What is the number of existing utility-scale RE projects?",{"$f":"E64","v":"144 MW of RE vs 431 MW of fossil centralized generation"},{"$f":"E31","v":"144 MW of RE vs 431 MW of fossil centralized generation"}]
[null,null,"What was the total electricity generated in 2019 (MWh)?",{"$f":"E65","v":1726000},{"$f":"E32","v":1726000}]
[null,null,"What was the total electricity generated from utility-scale RE projects in 2019 (MWh)?",380000,{"$f":"E33","v":380000}]
[null,null,"Please provide as much information as possible for existing RE projects in the box below as:\n- Project Name\n- Developer\n- Offtaker\n- Renewable Energy Technology Type\n- Start of Commercial Operation (Year)\n- Estimated Capacity Factor (in %) OR Estimated Annual Production (in MWh)\n- Installed Capacity (MW)\n- Length of PPA ",0,{"$f":"E34","v":0}]
[null,null,"Planned renewable generation"]
[null,null,"Potential Utility-Scale Renewable Energy Projects"]
[null,null,"How much installed capacity from RE is expected to come online in the next 3 years?",{"$f":"E70","v":158},{"$f":"E38","v":158}]
[null,null,"How much renewable energy generation is expected to come online in the next 3 years?",{"$f":"E71","v":612000},{"$f":"E39","v":612000}]
[null,null,"Please provide as much information as possible for RE projects currently under development in the box below as:\n- Project Name\n- Developer\n- Offtaker\n- Renewable Energy Technology Type\n- Start of Commercial Operation (Year)\n- Estimated Capacity Factor (in %) OR Estimated Annual Production (in MWh)\n- Installed Capacity (MW)\n- Length of PPA ",0,{"$f":"E41","v":0}]
[null,null,"Electric Mobility"]
[null,null,"What is the target and target year?",{"$f":"E74","v":"<1%"},{"$f":"E47","v":"<1%"}]
[null,null,"How many electric cars are currently in your country?",{"$f":"E75","v":"Estimated: 50"},{"$f":"E48","v":"Estimated: 50"}]
[null,null,"How many charging stations are in your country?",{"$f":"E76","v":0}]
[null,null,"Covid"]
[null,null,"Has any measure been implemented to respond to disruptions in revenue collections from electricity services (particularly given the current circumstances during the COVID pandemic)?",{"$f":"E78","v":"Yes"},"Yes"]
[null,null,"If yes, to get a score on this kindly describe how the measure works and who is responsible for implementing it",{"$f":"E79","v":0}]
[null,null,"Outlook sentiment"]
[null,null,"How enthusiastic are you about the investment prospects in renewables, electric mobility, and resilience compared to this time last year, and why?",{"$f":"E81","v":"More"},"More"]
[null,null,"Please elaborate on your reasoning for the previous response.",{"$f":"E82","v":0}]

{"sheet":"Haiti","index":18,"n_rows":82,"n_cols":5,"rows_kept":82,"cut":false,"hidden":false,"merged":[]}
[null,"Haiti"]
[null,null,"Overall Indicator",null,"Nicolas Allien - Ministry of Public Works Transportation and Communication - Energy Cell"]
[1,null,"Enabling Environment for Renewable Energy (RE) Investments","Consolidated Survey Response","Respondent #14"]
[null,null,"Government - Renewable Energy Strategy","Y/N","Y/N"]
[null,1,"Does your country have a strategic plan to develop renewable energy?"]
[null,null,"Which of the following renewable generation options is included in you country's strategic plan to develop renewable energy?",{"$f":"IF(B6<>0,IF(ISBLANK(E6),\"NA\",E6),\" \")","v":" "},"Solar PV, Onshore Wind, Biomass, Hydro"]
[null,2,"Does your country have a specific target for renewable energy?",{"$f":"IF(B7<>0,IF(ISBLANK(E7),\"NA\",E7),\" \")","v":"Yes"},"Yes"]
[null,null,"If yes, what is the target and target year?"," ","47% share of RE in power generation by 2030 (INDC) - hydro 24.5%, wind 9.4%, solar 7.5%, biomass 5.6%"]
[null,null,"What is the current breakdown of your country's energy mix?"," ","18% hydro - 82 Thermal (Diesel + HFO)"]
[null,3,"Does your country have an Integrated Resource Plan (IRP) that was produced within the last three years?","No","No"]
[null,null,"Utilities",null,"Y/N"]
[null,1,"When planning generation expansion, does the utility consider RE options?","Yes","Yes"]
[null,2,"Can the utility safely recover RE investments through tariffs like it can recover fossil fuel costs?","Yes","Yes"]
[null,3,"Are there clear, specific planning and permitting processes and rules in place for developing RE?","No","No"]
[null,null,"On average, how long does it take for the power utility to get investments in RE projects approved by the regulatory authority (or relevant entity) for recovery through tariffs?"," ","Information not yet available."]
[null,null,"IPPs",null,"Y/N"]
[null,1,"Can the utility safely recover purchases of RE from third parties, just as it recovers fossil fuel costs?","Yes","Yes"]
[null,2,"Are there workable precedents or rules for PPA terms and grid operation rules?","Yes","Yes"]
[null,3,"Are there clear and effective licensing processes and requirements in place for IPPs?","No","No"]
[null,4,"Does the utility have an obligation to purchase from IPPs when it is cheaper than generating the power itself?","No","No"]
[null,5,"Does the PPA have any take-or-pay arrangements?","Yes","Yes"]
[null,null,"Distributed generation",null,"Y/N"]
[null,1,"Do you have a registry or database of distributed generation?","No","No"]
[null,null,"What was the number of existing distributed scale RE systems in 2019?"," ","More than 5."]
[null,null,"Is there an aggregate maximum capacity for distributed generation?"," ","No"]
[null,null,"What is the total installed capacity from renewable distributed generation in your country?"," ","NA"]
[null,null,"What was the total generation from existing distributed scale RE systems in 2019?"," ","Information not available"]
[null,2,"Is there a standard arrangement in place for customers to sell electricity to the utility at a reasonable price, for a reasonable timeframe, and with a clear interconnection agreement?","No","No"]
[]
[2,null,"Existing renewable generation"]
[null,null,"What is the number of existing Utility-Scale RE projects?"," ","Project identification is ongoing"]
[null,1,"What was the total electricity generated in 2019? (MWh)",1045037.2,1045037.2]
[null,1,"What was the total electricity generated from Utility Scale RE projects in 2019? (MWh) ",197188.45,197188.45]
[null,null,"Please provide as much information as possible for existing RE projects in the box below as:\n- Project Name\n- Developer\n- Offtaker\n- Renewable Energy Technology Type\n- Start of Commercial Operation (Year)\n- Estimated Capacity Factor (in %) OR Estimated Annual Production (in MWh)\n- Installed Capacity (MW)\n- Length of PPA "," ","NA"]
[null,null,null," "]
[3,null,"Planned Utility-Scale Renewable Energy Projects"]
[null,1,"Does your country have an estimate of planned installed capacity expected to come online from-utility scale RE projects?","No","No"]
[null,null,"How much installed capacity from RE is expected to come online in the next 3 years? (MW)"," "]
[null,2,"How much renewable energy generation is expected to come online in the next 3 years? (MWh)","NA","NA"]
[null,3,"Is climate resilience incorporated in your IRP or national policy?","No","No"]
[null,null,"Please provide as much information as possible for RE projects currently under development in the box below as:\n- Project Name\n- Developer\n- Offtaker\n- Renewable Energy Technology Type\n- Start of Commercial Operation (Year)\n- Estimated Capacity Factor (in %) OR Estimated Annual Production (in MWh)\n- Installed Capacity (MW)\n- Length of PPA "," ","– Project Name : Construction and operation of two PV plants of 8 MW and  4 MW\n– Developer : Tender process to select the developer ongoing\n– Offtaker: Industrial customers and households \n– RE technology type: Solar PV \n– Start of commercial operation (year): 2021\n– Estimated capacity factor (in %) OR estimated annual production (in MWh) : TBD\n– Installed capacity (MW): 8 MW + 4 MW\n– Length of PPA: TBD\n\n– Project Name : Development of private RE mini grids on multiple sites (Program PHARES)\n– Developer : Request for proposals ongoing to select developers\n– Offtaker: End users in specific towns \n– RE technology type: Solar PV + Storage + Back up diesel (if required)\n– Start of commercial operation (year): 2021\n– Estimated capacity factor (in %) OR estimated annual production (in MWh) : TBD\n– Installed capacity (MW): Functions of sites\n– Length of PPA: 20 years"]
[null,null,null," "]
[4,null,"Electric Mobility"]
[null,1,"Does your country have policies in place or draft legislation to promote the uptake of electric mobility?","No","No"]
[null,2,"Does your country have specific targets for the uptake of electric vehicles?","No","No"]
[null,null,"What is the target and target year?"," "]
[null,null,"How many electric cars are currently in your country?"," ","Information not available"]
[null,null,"How many charging stations are in your country?"," ","NA"]
[]
[null,null,"Descriptive CREF Index Survey"]
[null,null,"Enabling Environment for Renewable Energy (RE) Investments"]
[null,null,"Renewable energy strategy"]
[null,null,"Which of the following renewable generation options is included in your country's strategic plan to develop renewable energy?\n- Solar PV\n- Offshore wind\n- Biomass\n- Waste to energy\n- Hydro\n-Geothermal\n- Other",{"$f":"E53","v":"Solar PV, Onshore Wind, Biomass, Hydro"},{"$f":"E6","v":"Solar PV, Onshore Wind, Biomass, Hydro"}]
[null,null,"What is the target and target year?",{"$f":"E54","v":"47% share of RE in power generation by 2030 (INDC) - hydro 24.5%, wind 9.4%, solar 7.5%, biomass 5.6%"},{"$f":"E8","v":"47% share of RE in power generation by 2030 (INDC) - hydro 24.5%, wind 9.4%, solar 7.5%, biomass 5.6%"}]
[null,null,"What is the current breakdown of your country's energy mix?","18% hydro - 82 Thermal (Diesel + HFO)",{"$f":"E9","v":"18% hydro - 82 Thermal (Diesel + HFO)"}]
[null,null,"Utilities"]
[null,null,"On average, how long does it take for the power utility to get investments in RE projects approved by the regulatory authority 9or the relevant entity) for recovery through tariffs?",{"$f":"E57","v":"Information not yet available."},{"$f":"E15","v":"Information not yet available."}]
[null,null,"Distributed Generation"]
[null,null,"What is the number of existing distributed scale RE systems in 2019?",{"$f":"E59","v":"More than 5."},{"$f":"E24","v":"More than 5."}]
[null,null,"What is the total installed capacity from renewable distributed generation in your country?",{"$f":"E60","v":"NA"},{"$f":"E26","v":"NA"}]
[null,null,"What was the total generation from existing distributed scale RE systems in 2019?","Information not available","Information not available"]
[null,null,"Existing renewable generation"]
[null,null,"Existing Utility-Scale Renewable Energy Projects"]
[null,null,"What is the number of existing utility-scale RE projects?",{"$f":"E64","v":"Project identification is ongoing"},{"$f":"E31","v":"Project identification is ongoing"}]
[null,null,"What was the total electricity generated in 2019 (MWh)?",{"$f":"E65","v":1045037.2},1045037.2]
[null,null,"What was the total electricity generated from utility-scale RE projects in 2019 (MWh)?",197188.45,197188.45]
[null,null,"Please provide as much information as possible for existing RE projects in the box below as:\n- Project Name\n- Developer\n- Offtaker\n- Renewable Energy Technology Type\n- Start of Commercial Operation (Year)\n- Estimated Capacity Factor (in %) OR Estimated Annual Production (in MWh)\n- Installed Capacity (MW)\n- Length of PPA ","NA","NA"]
[null,null,"Planned renewable generation"]
[null,null,"Potential Utility-Scale Renewable Energy Projects"]
[null,null,"How much installed capacity from RE is expected to come online in the next 3 years?",{"$f":"E70","v":0},{"$f":"E38","v":0}]
[null,null,"How much renewable energy generation is expected to come online in the next 3 years?",{"$f":"E71","v":"NA"},"NA"]
[null,null,"Please provide as much information as possible for RE projects currently under development in the box below as:\n- Project Name\n- Developer\n- Offtaker\n- Renewable Energy Technology Type\n- Start of Commercial Operation (Year)\n- Estimated Capacity Factor (in %) OR Estimated Annual Production (in MWh)\n- Installed Capacity (MW)\n- Length of PPA ","– Project Name : Construction and operation of two PV plants of 8 MW and  4 MW\n– Developer : Tender process to select the developer ongoing\n– Offtaker: Industrial customers and households \n– RE technology type: Solar PV \n– Start of commercial operation (year): 2021\n– Estimated capacity factor (in %) OR estimated annual production (in MWh) : TBD\n– Installed capacity (MW): 8 MW + 4 MW\n– Length of PPA: TBD\n\n– Project Name : Development of private RE mini grids on multiple sites (Program PHARES)\n– Developer : Request for proposals ongoing to select developers\n– Offtaker: End users in specific towns \n– RE technology type: Solar PV + Storage + Back up diesel (if required)\n– Start of commercial operation (year): 2021\n– Estimated capacity factor (in %) OR estimated annual production (in MWh) : TBD\n– Installed capacity (MW): Functions of sites\n– Length of PPA: 20 years",{"$f":"E41","v":"– Project Name : Construction and operation of two PV plants of 8 MW and  4 MW\n– Developer : Tender process to select the developer ongoing\n– Offtaker: Industrial customers and households \n– RE technology type: Solar PV \n– Start of commercial operation (year): 2021\n– Estimated capacity factor (in %) OR estimated annual production (in MWh) : TBD\n– Installed capacity (MW): 8 MW + 4 MW\n– Length of PPA: TBD\n\n– Project Name : Development of private RE mini grids on multiple sites (Program PHARES)\n– Developer : Request for proposals ongoing to select developers\n– Offtaker: End users in specific towns \n– RE technology type: Solar PV + Storage + Back up diesel (if required)\n– Start of commercial operation (year): 2021\n– Estimated capacity factor (in %) OR estimated annual production (in MWh) : TBD\n– Installed capacity (MW): Functions of sites\n– Length of PPA: 20 years"}]
[null,null,"Electric Mobility"]
[null,null,"What is the target and target year?",{"$f":"E74","v":0},{"$f":"E46","v":0}]
[null,null,"How many electric cars are currently in your country?",{"$f":"E75","v":"Information not available"},{"$f":"E47","v":"Information not available"}]
[null,null,"How many charging stations are in your country?","NA","NA"]
[null,null,"Covid"]
[null,null,"Has any measure been implemented to respond to disruptions in revenue collections from electricity services (particularly given the current circumstances during the COVID pandemic)?",{"$f":"E78","v":"No"},"No"]
[null,null,"If yes, to get a score on this kindly describe how the measure works and who is responsible for implementing it",{"$f":"E79","v":0}]
[null,null,"Outlook sentiment"]
[null,null,"How enthusiastic are you about the investment prospects in renewables, electric mobility, and resilience compared to this time last year, and why?",{"$f":"E81","v":"Same"},"Same"]
[null,null,"Please elaborate on your reasoning for the previous response.",{"$f":"E82","v":"There is not currently a focus on electric vehicles in the country. The main focus is on increasing energy access."},"There is not currently a focus on electric vehicles in the country. The main focus is on increasing energy access."]

{"sheet":"Jamaica","index":19,"n_rows":82,"n_cols":6,"rows_kept":82,"cut":false,"hidden":false,"merged":[]}
[null,"Jamaica"]
[null,null,"Overall Indicator",null,"Jannelle James, Ministry of Science, Energy and Technology","Ricardo Case, JPS"]
[1,null,"Enabling Environment for Renewable Energy (RE) Investments","Consolidated Survey Response","Respondent #9","Respondent #17"]
[null,null,"Government - Renewable Energy Strategy","Y/N"]
[null,1,"Does your country have a strategic plan to develop renewable energy?","Yes"]
[null,null,"Which of the following renewable generation options is included in you country's strategic plan to develop renewable energy?",{"$f":"IF(B6<>0,IF(ISBLANK(E6),\"NA\",E6),\" \")","v":" "},"Solar PV, Onshore Wind, Biomass, Waste-to-Energy, Hydro","Solar PV, Onshore Wind, Biomass, Waste-to-Energy, Hydro"]
[null,2,"Does your country have a specific target for renewable energy?",{"$f":"IF(B7<>0,IF(ISBLANK(E7),\"NA\",E7),\" \")","v":"Yes"},"Yes","Yes"]
[null,null,"If yes, what is the target and target year?",{"$f":"IF(B8<>0,IF(ISBLANK(E8),\"NA\",E8),\" \")","v":" "},"20 % RE in energy mix by 2030 and 33% electricity generated by RE by 2030, and 49% by 2037.","50% by 2037"]
[null,null,"What is the current breakdown of your country's energy mix?",{"$f":"IF(B9<>0,IF(ISBLANK(E9),\"NA\",E9),\" \")","v":" "},"As of 2019, the Energy Mix is: Renewable 8%, Petroleum 90% (HFO 87%, Natural Gas 3%), Other 2%","18.5% Renewable Energy (Hydro, Wind and Solar), 81.5% Thermal (LNG + ADO/HFO)"]
[null,3,"Does your country have an Integrated Resource Plan (IRP) that was produced within the last three years?","Yes","Yes","Yes"]
[null,null,"Utilities",null,"Y/N"]
[null,1,"When planning generation expansion, does the utility consider RE options?",{"$f":"IF(B12<>0,IF(ISBLANK(E12),\"NA\",E12),\" \")","v":"Yes"},"Yes","Yes"]
[null,2,"Can the utility safely recover RE investments through tariffs like it can recover fossil fuel costs?",{"$f":"IF(B13<>0,IF(ISBLANK(E13),\"NA\",E13),\" \")","v":"Yes"},"Yes","Yes"]
[null,3,"Are there clear, specific planning and permitting processes and rules in place for developing RE?",{"$f":"IF(B14<>0,IF(ISBLANK(E14),\"NA\",E14),\" \")","v":"Yes"},"Yes","Yes"]
[null,null,"On average, how long does it take for the power utility to get investments in RE projects approved by the regulatory authority (or relevant entity) for recovery through tariffs?",{"$f":"F15","v":"Within 6-12 months after bid selection."},"There is no specified time for recovery, tariff schedules are specified in the utility's license. The process/timeline for recovery varies.","Within 6-12 months after bid selection."]
[null,null,"IPPs",null,"Y/N"]
[null,1,"Can the utility safely recover purchases of RE from third parties, just as it recovers fossil fuel costs?",{"$f":"IF(B17<>0,IF(ISBLANK(E17),\"NA\",E17),\" \")","v":"Yes"},"Yes","Yes"]
[null,2,"Are there workable precedents or rules for PPA terms and grid operation rules?",{"$f":"IF(B18<>0,IF(ISBLANK(E18),\"NA\",E18),\" \")","v":"Yes"},"Yes","Yes"]
[null,3,"Are there clear and effective licensing processes and requirements in place for IPPs?",{"$f":"IF(B19<>0,IF(ISBLANK(E19),\"NA\",E19),\" \")","v":"Yes"},"Yes","Yes"]
[null,4,"Does the utility have an obligation to purchase from IPPs when it is cheaper than generating the power itself?",{"$f":"IF(B20<>0,IF(ISBLANK(E20),\"NA\",E20),\" \")","v":"Yes"},"Yes","Yes"]
[null,5,"Does the PPA have any take-or-pay arrangements?",{"$f":"IF(B21<>0,IF(ISBLANK(E21),\"NA\",E21),\" \")","v":"Yes"},"Yes","No"]
[null,null,"Distributed generation",null,"Y/N"]
[null,1,"Do you have a registry or database of distributed generation?",{"$f":"IF(B23<>0,IF(ISBLANK(E23),\"NA\",E23),\" \")","v":"Yes"},"Yes","Yes"]
[null,null,"What was the number of existing distributed scale RE systems in 2019?",{"$f":"AVERAGE(E24:F24)","v":517},546,488]
[null,null,"Is there an aggregate maximum capacity for distributed generation?"," ","Yes","No"]
[null,null,"What is the total installed capacity from renewable distributed generation in your country?"," ","9.5 MW","The first 10MW DG plant will be commissioned in January 2021. Rooftop PV systems is 9.85MW and the cap on that is 1% of the RE target base set in 2009 Energy policy."]
[null,null,"What was the total generation from existing distributed scale RE systems in 2019?"," ","46,378 MWh","3,390,321 kWh"]
[null,2,"Is there a standard arrangement in place for customers to sell electricity to the utility at a reasonable price, for a reasonable timeframe, and with a clear interconnection agreement?","Yes","Yes","Yes"]
[]
[2,null,"Existing renewable generation"]
[null,null,"What is the number of existing Utility-Scale RE projects?",{"$f":"IF(B31<>0,IF(ISBLANK(E31),\"NA\",E31),\" \")","v":" "},"here are 17 a combination of wind, solar, biomass and hydro.","Solar - 2, Wind - 3, Hydro - 9"]
[null,1,"What was the total electricity generated in 2019? (MWh)",{"$f":"AVERAGE(E32:F32)","v":4431479.5},4433128,4429831]
[null,1,"What was the total electricity generated from Utility Scale RE projects in 2019? (MWh) ",{"$f":"IF(B33<>0,IF(ISBLANK(E33),\"NA\",E33),\" \")","v":473601},473601,357842]
[null,null,"Please provide as much information as possible for existing RE projects in the box below as:\n- Project Name\n- Developer\n- Offtaker\n- Renewable Energy Technology Type\n- Start of Commercial Operation (Year)\n- Estimated Capacity Factor (in %) OR Estimated Annual Production (in MWh)\n- Installed Capacity (MW)\n- Length of PPA ",{"$f":"IF(B34<>0,IF(ISBLANK(E34),\"NA\",E34),\" \")","v":" "},"Project Name: Request for Proposals to Supply up to Net 37 MW of Electricity Generation from Renewable Energy\n–     Developer : EIGHT RIVERS ENERGY COMPANY LIMITED\n–     Offtaker : Jamaica Pubic Service\n–     RE technology type: Solar \n–     Start of commercial operation (year): June 2019\n–     Estimated capacity factor (in %) OR estimated annual production (in MWh) – 25%\n–     Installed capacity (MW) :37\n–     Length of PPA  : 20 Years\n\nProject Name:\tWigton  3\n–     Developer : Wigton  Wind Farm\n–     Offtaker : Jamaica Pubic Service\n–     RE technology type : Wind\n–     Start of commercial operation (year): 2016\n–     Estimated capacity factor (in %) OR estimated annual production (in MWh) : 39.2%\n–     Installed capacity (MW) :24\n–     Length of PPA  : 20 Years","Please see the submitted information from last year."]
[]
[3,null,"Planned Utility-Scale Renewable Energy Projects"]
[null,1,"Does your country have an estimate of planned installed capacity expected to come online from-utility scale RE projects?",{"$f":"IF(B37<>0,IF(ISBLANK(E37),\"NA\",E37),\" \")","v":"Yes"},"Yes","Yes"]
[null,null,"How much installed capacity from RE is expected to come online in the next 3 years? (MW)",{"$f":"AVERAGE(E38,F38)","v":198},175,221]
[null,2,"How much renewable energy generation is expected to come online in the next 3 years? (MWh)",{"$f":"IF(B39<>0,IF(ISBLANK(E39),\"NA\",E39),\" \")","v":500000},500000]
[null,3,"Is climate resilience incorporated in your IRP or national policy?",{"$f":"IF(B40<>0,IF(ISBLANK(E40),\"NA\",E40),\" \")","v":"Yes"},"Yes","Yes"]
[null,null,"Please provide as much information as possible for RE projects currently under development in the box below as:\n- Project Name\n- Developer\n- Offtaker\n- Renewable Energy Technology Type\n- Start of Commercial Operation (Year)\n- Estimated Capacity Factor (in %) OR Estimated Annual Production (in MWh)\n- Installed Capacity (MW)\n- Length of PPA ",{"$f":"IF(B41<>0,IF(ISBLANK(E41),\"NA\",E41),\" \")","v":" "},"none","No projects currently in development"]
[]
[4,null,"Electric Mobility"]
[null,1,"Does your country have policies in place or draft legislation to promote the uptake of electric mobility?",{"$f":"IF(B44<>0,IF(ISBLANK(E44),\"NA\",E44),\" \")","v":"Yes"},"Yes","Yes"]
[null,2,"Does your country have specific targets for the uptake of electric vehicles?",{"$f":"IF(B45<>0,IF(ISBLANK(E45),\"NA\",E45),\" \")","v":"Yes"},"Yes","Yes"]
[null,null,"What is the target and target year?",{"$f":"E46","v":"12% by 2030"},"12% by 2030","Not published as yet."]
[null,null,"How many electric cars are currently in your country?",{"$f":"IF(B47<>0,IF(ISBLANK(E47),\"NA\",E47),\" \")","v":" "},12,"Less than 30"]
[null,null,"How many charging stations are in your country?",{"$f":"IF(B48<>0,IF(ISBLANK(E48),\"NA\",E48),\" \")","v":" "},15,5]
[]
[null,null,"Descriptive CREF Index Survey"]
[null,null,"Enabling Environment for Renewable Energy (RE) Investments"]
[null,null,"Renewable energy strategy"]
[null,null,"Which of the following renewable generation options is included in your country's strategic plan to develop renewable energy?\n- Solar PV\n- Offshore wind\n- Biomass\n- Waste to energy\n- Hydro\n-Geothermal\n- Other",{"$f":"E53","v":"Solar PV, Onshore Wind, Biomass, Waste-to-Energy, Hydro"},{"$f":"E6","v":"Solar PV, Onshore Wind, Biomass, Waste-to-Energy, Hydro"},{"$f":"F6","v":"Solar PV, Onshore Wind, Biomass, Waste-to-Energy, Hydro"}]
[null,null,"What is the target and target year?",{"$f":"E54","v":"20 % RE in energy mix by 2030 and 33% electricity generated by RE by 2030, and 49% by 2037."},{"$f":"E8","v":"20 % RE in energy mix by 2030 and 33% electricity generated by RE by 2030, and 49% by 2037."},"50% by 2037"]
[null,null,"What is the current breakdown of your country's energy mix?","As of 2019, the Energy Mix is: Renewable 8%, Petroleum 90% (HFO 87%, Natural Gas 3%), Other 2%","As of 2019, the Energy Mix is: Renewable 8%, Petroleum 90% (HFO 87%, Natural Gas 3%), Other 2%",{"$f":"F9","v":"18.5% Renewable Energy (Hydro, Wind and Solar), 81.5% Thermal (LNG + ADO/HFO)"}]
[null,null,"Utilities"]
[null,null,"On average, how long does it take for the power utility to get investments in RE projects approved by the regulatory authority 9or the relevant entity) for recovery through tariffs?",{"$f":"E57","v":"There is no specified time for recovery, tariff schedules are specified in the utility's license. The process/timeline for recovery varies."},{"$f":"E15","v":"There is no specified time for recovery, tariff schedules are specified in the utility's license. The process/timeline for recovery varies."},{"$f":"F15","v":"Within 6-12 months after bid selection."}]
[null,null,"Distributed Generation"]
[null,null,"What is the number of existing distributed scale RE systems in 2019?",{"$f":"E59","v":546},{"$f":"E24","v":546},{"$f":"F24","v":488}]
[null,null,"What is the total installed capacity from renewable distributed generation in your country?",{"$f":"E60","v":"9.5 MW"},{"$f":"E26","v":"9.5 MW"},{"$f":"F26","v":"The first 10MW DG plant will be commissioned in January 2021. Rooftop PV systems is 9.85MW and the cap on that is 1% of the RE target base set in 2009 Energy policy."}]
[null,null,"What was the total generation from existing distributed scale RE systems in 2019?","46,378 MWh",{"$f":"E27","v":"46,378 MWh"},{"$f":"F27","v":"3,390,321 kWh"}]
[null,null,"Existing renewable generation"]
[null,null,"Existing Utility-Scale Renewable Energy Projects"]
[null,null,"What is the number of existing utility-scale RE projects?",{"$f":"E64","v":"here are 17 a combination of wind, solar, biomass and hydro."},{"$f":"E31","v":"here are 17 a combination of wind, solar, biomass and hydro."},"Solar - 2, Wind - 3, Hydro - 9"]
[null,null,"What was the total electricity generated in 2019 (MWh)?",{"$f":"E65","v":4433128},4433128,4429831]
[null,null,"What was the total electricity generated from utility-scale RE projects in 2019 (MWh)?",{"$f":"E66","v":473601},473601,357842]
[null,null,"Please provide as much information as possible for existing RE projects in the box below as:\n- Project Name\n- Developer\n- Offtaker\n- Renewable Energy Technology Type\n- Start of Commercial Operation (Year)\n- Estimated Capacity Factor (in %) OR Estimated Annual Production (in MWh)\n- Installed Capacity (MW)\n- Length of PPA ","Project Name: Request for Proposals to Supply up to Net 37 MW of Electricity Generation from Renewable Energy\n–     Developer : EIGHT RIVERS ENERGY COMPANY LIMITED\n–     Offtaker : Jamaica Pubic Service\n–     RE technology type: Solar \n–     Start of commercial operation (year): June 2019\n–     Estimated capacity factor (in %) OR estimated annual production (in MWh) – 25%\n–     Installed capacity (MW) :37\n–     Length of PPA  : 20 Years\n\nProject Name:\tWigton  3\n–     Developer : Wigton  Wind Farm\n–     Offtaker : Jamaica Pubic Service\n–     RE technology type : Wind\n–     Start of commercial operation (year): 2016\n–     Estimated capacity factor (in %) OR estimated annual production (in MWh) : 39.2%\n–     Installed capacity (MW) :24\n–     Length of PPA  : 20 Years","Project Name: Request for Proposals to Supply up to Net 37 MW of Electricity Generation from Renewable Energy\n–     Developer : EIGHT RIVERS ENERGY COMPANY LIMITED\n–     Offtaker : Jamaica Pubic Service\n–     RE technology type: Solar \n–     Start of commercial operation (year): June 2019\n–     Estimated capacity factor (in %) OR estimated annual production (in MWh) – 25%\n–     Installed capacity (MW) :37\n–     Length of PPA  : 20 Years\n\nProject Name:\tWigton  3\n–     Developer : Wigton  Wind Farm\n–     Offtaker : Jamaica Pubic Service\n–     RE technology type : Wind\n–     Start of commercial operation (year): 2016\n–     Estimated capacity factor (in %) OR estimated annual production (in MWh) : 39.2%\n–     Installed capacity (MW) :24\n–     Length of PPA  : 20 Years","Please see the submitted information from last year."]
[null,null,"Planned renewable generation"]
[null,null,"Potential Utility-Scale Renewable Energy Projects"]
[null,null,"How much installed capacity from RE is expected to come online in the next 3 years?",{"$f":"E70","v":175},{"$f":"E38","v":175},{"$f":"F38","v":221}]
[null,null,"How much renewable energy generation is expected to come online in the next 3 years?",{"$f":"E71","v":500000},{"$f":"E39","v":500000},{"$f":"F39","v":0}]
[null,null,"Please provide as much information as possible for RE projects currently under development in the box below as:\n- Project Name\n- Developer\n- Offtaker\n- Renewable Energy Technology Type\n- Start of Commercial Operation (Year)\n- Estimated Capacity Factor (in %) OR Estimated Annual Production (in MWh)\n- Installed Capacity (MW)\n- Length of PPA ","none",{"$f":"E41","v":"none"},{"$f":"F41","v":"No projects currently in development"}]
[null,null,"Electric Mobility"]
[null,null,"What is the target and target year?",{"$f":"E74","v":"12% by 2030"},{"$f":"E46","v":"12% by 2030"},{"$f":"F46","v":"Not published as yet."}]
[null,null,"How many electric cars are currently in your country?",{"$f":"E75","v":12},{"$f":"E47","v":12},{"$f":"F47","v":"Less than 30"}]
[null,null,"How many charging stations are in your country?",15,15,{"$f":"F48","v":5}]
[null,null,"Covid"]
[null,null,"Has any measure been implemented to respond to disruptions in revenue collections from electricity services (particularly given the current circumstances during the COVID pandemic)?",{"$f":"E78","v":"Yes"},"Yes","Yes"]
[null,null,"If yes, to get a score on this kindly describe how the measure works and who is responsible for implementing it",{"$f":"E79","v":"JPS has encouraged its customers to make use of the Company’s online platforms (payment website and phone application), to obtain information, pay bills and carry out other transactions."},"JPS has encouraged its customers to make use of the Company’s online platforms (payment website and phone application), to obtain information, pay bills and carry out other transactions.","Led by the CFO and the SVP Customer Services\n1. Suspension of Reconnection Fees and Late Payment Fees\n2. No disconnection for the elderly and disabled\n3. Flexible Payment Arrangements for all customer classes\n4. Essential spending only\n5. Curtailment of Capital Projects"]
[null,null,"Outlook sentiment"]
[null,null,"How enthusiastic are you about the investment prospects in renewables, electric mobility, and resilience compared to this time last year, and why?",{"$f":"E81","v":"Less"},"Less","Same"]
[null,null,"Please elaborate on your reasoning for the previous response.",{"$f":"E82","v":"The Covid pandemic has severely impacted budgets for energy projects across the world. While plans are still being developed,   investments will be deferred until some major economies show signs of recovery."},"The Covid pandemic has severely impacted budgets for energy projects across the world. While plans are still being developed,   investments will be deferred until some major economies show signs of recovery.","No new information is presented, only now that the draft IRP is published"]

{"sheet":"Montserrat","index":20,"n_rows":82,"n_cols":5,"rows_kept":82,"cut":false,"hidden":false,"merged":[[1,5,1,11]]}
[null,"Montserrat"]
[null,null,"Overall Indicator",null,"Kenrick Burke, Energy Unit"]
[1,null,"Enabling Environment for Renewable Energy (RE) Investments","Consolidated Survey Response","Respondent #12"]
[null,null,"Government - Renewable Energy Strategy","Y/N"]
[null,1,"Does your country have a strategic plan to develop renewable energy?"]
[null,null,"Which of the following renewable generation options is included in you country's strategic plan to develop renewable energy?",{"$f":"IF(B6<>0,IF(ISBLANK(E6),\"NA\",E6),\" \")","v":" "},"Solar PV, Onshore Wind, Geothermal"]
[null,2,"Does your country have a specific target for renewable energy?",{"$f":"IF(B7<>0,IF(ISBLANK(E7),\"NA\",E7),\" \")","v":"Yes"},"Yes"]
[null,null,"If yes, what is the target and target year?",{"$f":"IF(B8<>0,IF(ISBLANK(E8),\"NA\",E8),\" \")","v":" "},"100% Electricity Generation by 2020"]
[null,null,"What is the current breakdown of your country's energy mix?",{"$f":"IF(B9<>0,IF(ISBLANK(E9),\"NA\",E9),\" \")","v":" "},"99.5% Fossil fuel, 0.5% Solar PV\n0.5% Solar PV"]
[null,3,"Does your country have an Integrated Resource Plan (IRP) that was produced within the last three years?",{"$f":"IF(B10<>0,IF(ISBLANK(E10),\"NA\",E10),\" \")","v":"Yes"},"Yes"]
[null,null,"Utilities","Y/N"]
[null,1,"When planning generation expansion, does the utility consider RE options?",{"$f":"IF(B12<>0,IF(ISBLANK(E12),\"NA\",E12),\" \")","v":"Yes"},"Yes"]
[null,2,"Can the utility safely recover RE investments through tariffs like it can recover fossil fuel costs?",{"$f":"IF(B13<>0,IF(ISBLANK(E13),\"NA\",E13),\" \")","v":"Yes"},"Yes"]
[null,3,"Are there clear, specific planning and permitting processes and rules in place for developing RE?",{"$f":"IF(B14<>0,IF(ISBLANK(E14),\"NA\",E14),\" \")","v":"No"},"No"]
[null,null,"On average, how long does it take for the power utility to get investments in RE projects approved by the regulatory authority (or relevant entity) for recovery through tariffs?",{"$f":"IF(B15<>0,IF(ISBLANK(E15),\"NA\",E15),\" \")","v":" "},"3-7 years   ( No Regulatory exist, time line given is for project conceptualization to implementation)"]
[null,null,"IPPs","Y/N"]
[null,1,"Can the utility safely recover purchases of RE from third parties, just as it recovers fossil fuel costs?",{"$f":"IF(B17<>0,IF(ISBLANK(E17),\"NA\",E17),\" \")","v":"Yes"},"Yes"]
[null,2,"Are there workable precedents or rules for PPA terms and grid operation rules?",{"$f":"IF(B18<>0,IF(ISBLANK(E18),\"NA\",E18),\" \")","v":"No"},"No"]
[null,3,"Are there clear and effective licensing processes and requirements in place for IPPs?",{"$f":"IF(B19<>0,IF(ISBLANK(E19),\"NA\",E19),\" \")","v":"No"},"No"]
[null,4,"Does the utility have an obligation to purchase from IPPs when it is cheaper than generating the power itself?",{"$f":"IF(B20<>0,IF(ISBLANK(E20),\"NA\",E20),\" \")","v":"No"},"No"]
[null,5,"Does the PPA have any take-or-pay arrangements?",{"$f":"IF(B21<>0,IF(ISBLANK(E21),\"NA\",E21),\" \")","v":"No"},"No"]
[null,null,"Distributed generation","Y/N"]
[null,1,"Do you have a registry or database of distributed generation?",{"$f":"IF(B23<>0,IF(ISBLANK(E23),\"NA\",E23),\" \")","v":"No"},"No"]
[null,null,"What was the number of existing distributed scale RE systems in 2019?"," ",2]
[null,null,"Is there an aggregate maximum capacity for distributed generation?"," ","No"]
[null,null,"What is the total installed capacity from renewable distributed generation in your country?"," ","0.25 MW"]
[null,null,"What was the total generation from existing distributed scale RE systems in 2019?"," ","440 MWh"]
[null,2,"Is there a standard arrangement in place for customers to sell electricity to the utility at a reasonable price, for a reasonable timeframe, and with a clear interconnection agreement?","No","No"]
[]
[2,null,"Existing renewable generation"]
[null,null,"What is the number of existing Utility-Scale RE projects?",{"$f":"IF(B31<>0,IF(ISBLANK(E31),\"NA\",E31),\" \")","v":" "},1]
[null,1,"What was the total electricity generated in 2019? (MWh)",{"$f":"IF(B32<>0,IF(ISBLANK(E32),\"NA\",E32),\" \")","v":14000},14000]
[null,1,"What was the total electricity generated from Utility Scale RE projects in 2019? (MWh) ",{"$f":"IF(B33<>0,IF(ISBLANK(E33),\"NA\",E33),\" \")","v":440},440]
[null,null,"Please provide as much information as possible for existing RE projects in the box below as:\n- Project Name\n- Developer\n- Offtaker\n- Renewable Energy Technology Type\n- Start of Commercial Operation (Year)\n- Estimated Capacity Factor (in %) OR Estimated Annual Production (in MWh)\n- Installed Capacity (MW)\n- Length of PPA ",{"$f":"IF(B34<>0,IF(ISBLANK(E34),\"NA\",E34),\" \")","v":" "},"250 kW Solar PV Project\nMontserrat Utilities Limited(MUL)\nMUL\nSolar PV\nMarch 2019\n22%\n0.25\nN/A"]
[]
[3,null,"Planned Utility-Scale Renewable Energy Projects"]
[null,1,"Does your country have an estimate of planned installed capacity expected to come online from-utility scale RE projects?",{"$f":"IF(B37<>0,IF(ISBLANK(E37),\"NA\",E37),\" \")","v":"Yes"},"Yes"]
[null,null,"How much installed capacity from RE is expected to come online in the next 3 years? (MW)",{"$f":"IF(B38<>0,IF(ISBLANK(E38),\"NA\",E38),\" \")","v":" "},0.75]
[null,2,"How much renewable energy generation is expected to come online in the next 3 years? (MWh)",{"$f":"IF(B39<>0,IF(ISBLANK(E39),\"NA\",E39),\" \")","v":11320},11320]
[null,3,"Is climate resilience incorporated in your IRP or national policy?","No","No"]
[null,null,"Please provide as much information as possible for RE projects currently under development in the box below as:\n- Project Name\n- Developer\n- Offtaker\n- Renewable Energy Technology Type\n- Start of Commercial Operation (Year)\n- Estimated Capacity Factor (in %) OR Estimated Annual Production (in MWh)\n- Installed Capacity (MW)\n- Length of PPA ",{"$f":"IF(B41<>0,IF(ISBLANK(E41),\"NA\",E41),\" \")","v":" "},"750 kW Solar PV Project\nMontserrat Utilities Limited(MUL)\nMUL\nSolar PV\nMarch 2021\n22%\n0.75\nN/A"]
[]
[4,null,"Electric Mobility"]
[null,1,"Does your country have policies in place or draft legislation to promote the uptake of electric mobility?",{"$f":"IF(B44<>0,IF(ISBLANK(E44),\"NA\",E44),\" \")","v":"Yes"},"Yes"]
[null,2,"Does your country have specific targets for the uptake of electric vehicles?",{"$f":"IF(B45<>0,IF(ISBLANK(E45),\"NA\",E45),\" \")","v":"No"},"No"]
[null,null,"What is the target and target year?",{"$f":"IF(B46<>0,IF(ISBLANK(E46),\"NA\",E46),\" \")","v":" "}]
[null,null,"How many electric cars are currently in your country?",{"$f":"IF(B47<>0,IF(ISBLANK(E47),\"NA\",E47),\" \")","v":" "},4]
[null,null,"How many charging stations are in your country?",{"$f":"IF(B48<>0,IF(ISBLANK(E48),\"NA\",E48),\" \")","v":" "},2]
[]
[null,null,"Descriptive CREF Index Survey"]
[null,null,"Enabling Environment for Renewable Energy (RE) Investments"]
[null,null,"Renewable energy strategy"]
[null,null,"Which of the following renewable generation options is included in your country's strategic plan to develop renewable energy?\n- Solar PV\n- Offshore wind\n- Biomass\n- Waste to energy\n- Hydro\n-Geothermal\n- Other",{"$f":"E53","v":"Solar PV, Onshore Wind, Geothermal"},{"$f":"E6","v":"Solar PV, Onshore Wind, Geothermal"}]
[null,null,"What is the target and target year?",{"$f":"E54","v":"100% Electricity Generation by 2020"},{"$f":"E8","v":"100% Electricity Generation by 2020"}]
[null,null,"What is the current breakdown of your country's energy mix?","99.5% Fossil fuel, 0.5% Solar PV\n0.5% Solar PV",{"$f":"E9","v":"99.5% Fossil fuel, 0.5% Solar PV\n0.5% Solar PV"}]
[null,null,"Utilities"]
[null,null,"On average, how long does it take for the power utility to get investments in RE projects approved by the regulatory authority 9or the relevant entity) for recovery through tariffs?",{"$f":"E57","v":"3-7 years   ( No Regulatory exist, time line given is for project conceptualization to implementation)"},{"$f":"E15","v":"3-7 years   ( No Regulatory exist, time line given is for project conceptualization to implementation)"}]
[null,null,"Distributed Generation"]
[null,null,"What is the number of existing distributed scale RE systems in 2019?",{"$f":"E59","v":2},{"$f":"E24","v":2}]
[null,null,"What is the total installed capacity from renewable distributed generation in your country?",{"$f":"E60","v":"0.25 MW"},{"$f":"E26","v":"0.25 MW"}]
[null,null,"What was the total generation from existing distributed scale RE systems in 2019?","440 MWh",{"$f":"E27","v":"440 MWh"}]
[null,null,"Existing renewable generation"]
[null,null,"Existing Utility-Scale Renewable Energy Projects"]
[null,null,"What is the number of existing utility-scale RE projects?",{"$f":"E64","v":1},{"$f":"E31","v":1}]
[null,null,"What was the total electricity generated in 2019 (MWh)?",{"$f":"E65","v":14000},14000]
[null,null,"What was the total electricity generated from utility-scale RE projects in 2019 (MWh)?",440,440]
[null,null,"Please provide as much information as possible for existing RE projects in the box below as:\n- Project Name\n- Developer\n- Offtaker\n- Renewable Energy Technology Type\n- Start of Commercial Operation (Year)\n- Estimated Capacity Factor (in %) OR Estimated Annual Production (in MWh)\n- Installed Capacity (MW)\n- Length of PPA ","250 kW Solar PV Project\nMontserrat Utilities Limited(MUL)\nMUL\nSolar PV\nMarch 2019\n22%\n0.25\nN/A","250 kW Solar PV Project\nMontserrat Utilities Limited(MUL)\nMUL\nSolar PV\nMarch 2019\n22%\n0.25\nN/A"]
[null,null,"Planned renewable generation"]
[null,null,"Potential Utility-Scale Renewable Energy Projects"]
[null,null,"How much installed capacity from RE is expected to come online in the next 3 years?",{"$f":"E70","v":0.75},{"$f":"E38","v":0.75}]
[null,null,"How much renewable energy generation is expected to come online in the next 3 years?",{"$f":"E71","v":11320},{"$f":"E39","v":11320}]
[null,null,"Please provide as much information as possible for RE projects currently under development in the box below as:\n- Project Name\n- Developer\n- Offtaker\n- Renewable Energy Technology Type\n- Start of Commercial Operation (Year)\n- Estimated Capacity Factor (in %) OR Estimated Annual Production (in MWh)\n- Installed Capacity (MW)\n- Length of PPA ","750 kW Solar PV Project\nMontserrat Utilities Limited(MUL)\nMUL\nSolar PV\nMarch 2021\n22%\n0.75\nN/A",{"$f":"E41","v":"750 kW Solar PV Project\nMontserrat Utilities Limited(MUL)\nMUL\nSolar PV\nMarch 2021\n22%\n0.75\nN/A"}]
[null,null,"Electric Mobility"]
[null,null,"What is the target and target year?",{"$f":"E74","v":0},{"$f":"E46","v":0}]
[null,null,"How many electric cars are currently in your country?",{"$f":"E75","v":4},{"$f":"E47","v":4}]
[null,null,"How many charging stations are in your country?",2,2]
[null,null,"Covid"]
[null,null,"Has any measure been implemented to respond to disruptions in revenue collections from electricity services (particularly given the current circumstances during the COVID pandemic)?",{"$f":"E78","v":"No"},"No"]
[null,null,"If yes, to get a score on this kindly describe how the measure works and who is responsible for implementing it",{"$f":"E79","v":0}]
[null,null,"Outlook sentiment"]
[null,null,"How enthusiastic are you about the investment prospects in renewables, electric mobility, and resilience compared to this time last year, and why?",{"$f":"E81","v":"Same"},"Same"]
[null,null,"Please elaborate on your reasoning for the previous response.",{"$f":"E82","v":0}]

{"sheet":"Nevis","index":21,"n_rows":82,"n_cols":5,"rows_kept":82,"cut":false,"hidden":false,"merged":[[1,5,1,10]]}
[null,"Nevis"]
[null,null,"Overall Indicator",null,"Jervan Swanston, Nevis Electricity Company Limited (NEVLEC)"]
[1,null,"Enabling Environment for Renewable Energy (RE) Investments","Consolidated Survey Response","Respondent #24"]
[null,null,"Government - Renewable Energy Strategy","Y/N"]
[null,1,"Does your country have a strategic plan to develop renewable energy?"]
[null,null,"Which of the following renewable generation options is included in you country's strategic plan to develop renewable energy?",{"$f":"IF(B6<>0,IF(ISBLANK(E6),\"NA\",E6),\" \")","v":" "},"Solar PV, Waste-to-Energy, Geothermal"]
[null,2,"Does your country have a specific target for renewable energy?",{"$f":"IF(B7<>0,IF(ISBLANK(E7),\"NA\",E7),\" \")","v":"Yes"},"Yes"]
[null,null,"If yes, what is the target and target year?"," ","100% Renewable by 2030 (seems unrealistic at this point)"]
[null,null,"What is the current breakdown of your country's energy mix?"," ","3% wind, 97% diesel"]
[null,3,"Does your country have an Integrated Resource Plan (IRP) that was produced within the last three years?","Yes","Yes"]
[null,null,"Utilities"]
[null,1,"When planning generation expansion, does the utility consider RE options?","Yes","Yes"]
[null,2,"Can the utility safely recover RE investments through tariffs like it can recover fossil fuel costs?","No","No"]
[null,3,"Are there clear, specific planning and permitting processes and rules in place for developing RE?","No","No"]
[null,null,"On average, how long does it take for the power utility to get investments in RE projects approved by the regulatory authority (or relevant entity) for recovery through tariffs?"," ","5 years"]
[null,null,"IPPs"]
[null,1,"Can the utility safely recover purchases of RE from third parties, just as it recovers fossil fuel costs?","Yes","Yes"]
[null,2,"Are there workable precedents or rules for PPA terms and grid operation rules?","Yes","Yes"]
[null,3,"Are there clear and effective licensing processes and requirements in place for IPPs?","Yes","Yes"]
[null,4,"Does the utility have an obligation to purchase from IPPs when it is cheaper than generating the power itself?","Yes","Yes"]
[null,5,"Does the PPA have any take-or-pay arrangements?","Yes","Yes"]
[null,null,"Distributed generation"]
[null,1,"Do you have a registry or database of distributed generation?","No","No"]
[null,null,"What was the number of existing distributed scale RE systems in 2019?"," ",1]
[null,null,"Is there an aggregate maximum capacity for distributed generation?"," ","No"]
[null,null,"What is the total installed capacity from renewable distributed generation in your country?"," ","2.2 MW"]
[null,null,"What was the total generation from existing distributed scale RE systems in 2019?"," ","2046.37 MWh"]
[null,2,"Is there a standard arrangement in place for customers to sell electricity to the utility at a reasonable price, for a reasonable timeframe, and with a clear interconnection agreement?","No","No"]
[null,null,null," "]
[2,null,"Existing renewable generation"]
[null,null,"What is the number of existing Utility-Scale RE projects?"," ",1]
[null,1,"What was the total electricity generated in 2019? (MWh)",{"$f":"IF(B32<>0,IF(ISBLANK(E32),\"NA\",E32),\" \")","v":59225.21},59225.21]
[null,1,"What was the total electricity generated from Utility Scale RE projects in 2019? (MWh) ",{"$f":"IF(B33<>0,IF(ISBLANK(E33),\"NA\",E33),\" \")","v":"NA"}]
[null,null,"Please provide as much information as possible for existing RE projects in the box below as:\n- Project Name\n- Developer\n- Offtaker\n- Renewable Energy Technology Type\n- Start of Commercial Operation (Year)\n- Estimated Capacity Factor (in %) OR Estimated Annual Production (in MWh)\n- Installed Capacity (MW)\n- Length of PPA "," ","Nevis Geothermal Project\nNevis Renewable Energy International - Developer\nNEVLEC - offtaker\nGeothermal\n10 MW \n25 years"]
[null,null,null," "]
[3,null,"Planned Utility-Scale Renewable Energy Projects"]
[null,1,"Does your country have an estimate of planned installed capacity expected to come online from-utility scale RE projects?","Yes","Yes"]
[null,null,"How much installed capacity from RE is expected to come online in the next 3 years? (MW)"," ",0]
[null,2,"How much renewable energy generation is expected to come online in the next 3 years? (MWh)",0,0]
[null,3,"Is climate resilience incorporated in your IRP or national policy?","Yes","Yes"]
[null,null,"Please provide as much information as possible for RE projects currently under development in the box below as:\n- Project Name\n- Developer\n- Offtaker\n- Renewable Energy Technology Type\n- Start of Commercial Operation (Year)\n- Estimated Capacity Factor (in %) OR Estimated Annual Production (in MWh)\n- Installed Capacity (MW)\n- Length of PPA "," ","Nevis Geothermal Project\nNevis Renewable Energy International - Developer\nNEVLEC - offtaker\nGeothermal\n10 MW \n25 years"]
[null,null,null," "]
[4,null,"Electric Mobility"]
[null,1,"Does your country have policies in place or draft legislation to promote the uptake of electric mobility?","No","No"]
[null,2,"Does your country have specific targets for the uptake of electric vehicles?","No","No"]
[null,null,"What is the target and target year?"," "]
[null,null,"How many electric cars are currently in your country?"," ",0]
[null,null,"How many charging stations are in your country?"," ",0]
[]
[null,null,"Descriptive CREF Index Survey"]
[null,null,"Enabling Environment for Renewable Energy (RE) Investments"]
[null,null,"Renewable energy strategy"]
[null,null,"Which of the following renewable generation options is included in your country's strategic plan to develop renewable energy?\n- Solar PV\n- Offshore wind\n- Biomass\n- Waste to energy\n- Hydro\n-Geothermal\n- Other",{"$f":"E53","v":"Solar PV, Waste-to-Energy, Geothermal"},{"$f":"E6","v":"Solar PV, Waste-to-Energy, Geothermal"}]
[null,null,"What is the target and target year?",{"$f":"E54","v":"100% Renewable by 2030 (seems unrealistic at this point)"},{"$f":"E8","v":"100% Renewable by 2030 (seems unrealistic at this point)"}]
[null,null,"What is the current breakdown of your country's energy mix?","3% wind, 97% diesel",{"$f":"E9","v":"3% wind, 97% diesel"}]
[null,null,"Utilities"]
[null,null,"On average, how long does it take for the power utility to get investments in RE projects approved by the regulatory authority 9or the relevant entity) for recovery through tariffs?",{"$f":"E57","v":"5 years"},{"$f":"E15","v":"5 years"}]
[null,null,"Distributed Generation"]
[null,null,"What is the number of existing distributed scale RE systems in 2019?",{"$f":"E59","v":1},{"$f":"E24","v":1}]
[null,null,"What is the total installed capacity from renewable distributed generation in your country?",{"$f":"E60","v":"2.2 MW"},{"$f":"E26","v":"2.2 MW"}]
[null,null,"What was the total generation from existing distributed scale RE systems in 2019?","2046.37 MWh",{"$f":"E27","v":"2046.37 MWh"}]
[null,null,"Existing renewable generation"]
[null,null,"Existing Utility-Scale Renewable Energy Projects"]
[null,null,"What is the number of existing utility-scale RE projects?",{"$f":"E64","v":1},{"$f":"E31","v":1}]
[null,null,"What was the total electricity generated in 2019 (MWh)?",{"$f":"E65","v":59225.21},{"$f":"E32","v":59225.21}]
[null,null,"What was the total electricity generated from utility-scale RE projects in 2019 (MWh)?",0,{"$f":"E33","v":0}]
[null,null,"Please provide as much information as possible for existing RE projects in the box below as:\n- Project Name\n- Developer\n- Offtaker\n- Renewable Energy Technology Type\n- Start of Commercial Operation (Year)\n- Estimated Capacity Factor (in %) OR Estimated Annual Production (in MWh)\n- Installed Capacity (MW)\n- Length of PPA ","Nevis Geothermal Project\nNevis Renewable Energy International - Developer\nNEVLEC - offtaker\nGeothermal\n10 MW \n25 years",{"$f":"E34","v":"Nevis Geothermal Project\nNevis Renewable Energy International - Developer\nNEVLEC - offtaker\nGeothermal\n10 MW \n25 years"}]
[null,null,"Planned renewable generation"]
[null,null,"Potential Utility-Scale Renewable Energy Projects"]
[null,null,"How much installed capacity from RE is expected to come online in the next 3 years?",{"$f":"E70","v":0},{"$f":"E38","v":0}]
[null,null,"How much renewable energy generation is expected to come online in the next 3 years?",{"$f":"E71","v":0},{"$f":"E39","v":0}]
[null,null,"Please provide as much information as possible for RE projects currently under development in the box below as:\n- Project Name\n- Developer\n- Offtaker\n- Renewable Energy Technology Type\n- Start of Commercial Operation (Year)\n- Estimated Capacity Factor (in %) OR Estimated Annual Production (in MWh)\n- Installed Capacity (MW)\n- Length of PPA ","Nevis Geothermal Project\nNevis Renewable Energy International - Developer\nNEVLEC - offtaker\nGeothermal\n10 MW \n25 years",{"$f":"E41","v":"Nevis Geothermal Project\nNevis Renewable Energy International - Developer\nNEVLEC - offtaker\nGeothermal\n10 MW \n25 years"}]
[null,null,"Electric Mobility"]
[null,null,"What is the target and target year?",{"$f":"E74","v":0},{"$f":"E46","v":0}]
[null,null,"How many electric cars are currently in your country?",{"$f":"E75","v":0},{"$f":"E47","v":0}]
[null,null,"How many charging stations are in your country?",0,0]
[null,null,"Covid"]
[null,null,"Has any measure been implemented to respond to disruptions in revenue collections from electricity services (particularly given the current circumstances during the COVID pandemic)?",{"$f":"E78","v":"No"},"No"]
[null,null,"If yes, to get a score on this kindly describe how the measure works and who is responsible for implementing it",{"$f":"E79","v":0}]
[null,null,"Outlook sentiment"]
[null,null,"How enthusiastic are you about the investment prospects in renewables, electric mobility, and resilience compared to this time last year, and why?",{"$f":"E81","v":"Less"},"Less"]
[null,null,"Please elaborate on your reasoning for the previous response.",{"$f":"E82","v":"The progress has been extremely slow"},"The progress has been extremely slow"]

{"sheet":"Puerto_Rico_copy","index":22,"n_rows":124,"n_cols":6,"rows_kept":124,"cut":false,"hidden":true,"merged":[[33,2,33,3],[0,1,0,4],[1,2,1,3],[1,6,1,12],[4,2,4,3],[11,2,11,3],[12,2,12,3],[13,2,13,3],[14,2,14,3],[23,2,23,3],[28,2,28,3],[0,5,0,8],[69,2,69,3],[46,2,46,3],[47,2,47,3],[48,2,48,3],[51,2,51,3],[58,2,58,3],[60,2,60,3],[62,2,62,3],[63,2,63,3],[64,2,64,3],[67,2,67,3],[68,2,68,3],[73,2,73,3],[77,2,77,3],[78,2,78,3],[79,2,79,3],[82,2,82,3]]}
[null,"Puerto Rico"]
[null,null,"Overall Indicator",null,"Excluded from RE Index - insufficient data","Arnaldo Bisono, AES"]
[1,null,"Enabling Environment for Renewable Energy (RE) Investments",null,"Consolidated Survey Response","Respondent #3"]
[null,null,"Government - Renewable Energy Strategy",null,"Y/N"]
[null,1,"Does your country have a strategic plan to develop renewble energy?"]
[null,null,"Which of the following renewable generation options is includd in you country's strategic plan to develop renewable energy?",null,"NA"]
[null,2,"Does your country have a specific target for renewable energy?",null,"NA"]
[null,null,"If yes, what is the target and target year?",null,"NA"]
[null,null,"What is the current breakdown of your country's energy mix?",null,"NA"]
[null,3,"Does your country have an Integrated Resource Plan (IRP) that was produced within the last three years?",null,"NA"]
[null,null,"Utilities",null,"Y/N"]
[null,1,"When planning generation expansion, does the utility consider RE options?",null,"NA"]
[null,2,"Can the utility safely recover RE investments through tariffs like it can recover fossil fuel costs?",null,"NA"]
[null,3,"Are there clear, specific planning and permitting processes and rules in place for developing RE?",null,"NA"]
[null,null,"On average, how long does it take for the power utility to get investments in RE projects approved by the regulatory authority (or relevant entity) fror recovery through tariffs?",null,"NA"]
[null,null,"IPPs",null,"Y/N"]
[null,1,"Can the utility safely recover purchases of RE from third parties, just as it recovers fossil fuel costs?",null,"NA"]
[null,null,"How long did it take to get your off-take agreement?",null,"NA"]
[null,2,"Are there workable precedents or rules for PPA terms and grid operation rules?",null,"NA"]
[null,3,"Are there clear and effective licensing processes and requirements in place for IPPs?",null,"NA"]
[null,4,"Does the utility have an obligation to purchase from IPPs when it is cheaper than generating the power itself?",null,"NA"]
[null,5,"Does the PPA have any take-or-pay arrangements?",null,"NA"]
[null,null,"Distributed generation",null,"Y/N"]
[null,1,"Do you have a registry or database of distributed generation?",null,"NA"]
[null,null,"What was the number of existing distributed scale RE systems in 2018?",null,"NA"]
[null,null,"Is there an aggregate maximum capacity for distributed generation?",null,"NA"]
[null,null,"What is the total installed capacity from renewable distributed generation in your country?",null,"NA"]
[null,null,"What was the total generation from existing distributed scale RE systems in 2018?",null,"NA"]
[null,2,"Is there a standard arrangement in place for customers to sell electricity to the utility at a reasonable price, for a reasonable timeframe, and with a clear interconnection agreement?",null,"NA"]
[]
[2,null,"Existing renewable generation"]
[null,null,"What is the number of existing Utility-Scale RE projects?",null,"NA"]
[null,1,"What was the total electricity generated in 2018? (MWh)",null,"NA"]
[null,1,"What was the total electricity generated from Utility Scale RE projects in 2018? (MWh) ",null,"NA"]
[null,null,"Please provide as much information as possible for exisitng RE projects in the box below as:\n- Project Name\n- Developer\n- Offtaker\n- Renewable Energy Technology Type\n- Start of Commercial Operation (Year)\n- Estimated Capacity Factor (in %) OR Estimated Annual Production (in MWh)\n- Installed Capacity (MW)\n- Length of PPA ",null,"NA"]
[]
[3,null,"Planned Utility-Scale Renewable Energy Projects"]
[null,1,"Does your country have an estimate of planned installed capacity expected to come online from-utility scale RE projects?",null,"NA"]
[null,null,"How much installed capacity from RE is expected to come online in the next 3 years?",null,"NA"]
[null,2,"How much renewable energy generation is expected to come online in the next 3 years?",null,"NA"]
[null,3,"Is climate resilience incorporated in your IRP or national policy?",null,"NA"]
[null,null,"Please provide as much information as possible for RE projects currently under development in the box below as:\n- Project Name\n- Developer\n- Offtaker\n- Renewable Energy Technology Type\n- Start of Commercial Operation (Year)\n- Estimated Capacity Factor (in %) OR Estimated Annual Production (in MWh)\n- Installed Capacity (MW)\n- Length of PPA ",null,"NA"]
[]
[4,null,"Electric Mobility"]
[null,1,"Does your country have policies in place or draft legislation to promote the uptake of electric mobility?",null,"NA"]
[null,2,"Does your country have specific targets for the uptake of electric vehicles?",null,"NA"]
[null,null,"What is the target and target year?",null,"NA"]
[null,null,"How many electric cars are currently in your country?",null,"NA"]
[null,null,"How many charging stations are in your country?",null,"NA"]
[]
[]
[null,null,"Descriptive CREF Index Survey"]
[null,null,"Enabling Environment for Renewable Energy (RE) Investments"]
[null,null,"Renewable energy strategy"]
[null,null,"Which of the rollowing renewable generation options is included in your country's strategic plan to develop renewable energy?\n- Solar PV\n- Offshore wind\n- Biomass\n- Waste to energy\n- Hydro\n-Geothermal\n- Other",null,{"$f":"E6","v":"NA"}]
[null,null,"What is the target and target year?",null,{"$f":"E8","v":"NA"}]
[null,null,"What is the current breakdown of your country's energy mix?",null,{"$f":"E9","v":"NA"}]
[null,null,"Utilities"]
[null,null,"On average, how long does it take for the power utility to get investments in RE projects approved by the regulatory authority 9or the relevant entity) for recovery through tariffs?",null,{"$f":"E15","v":"NA"}]
[null,null,"IPPs"]
[null,null,"How long did it take to get your off-take agreement?",null,{"$f":"E18","v":"NA"}]
[null,null,"Distributed Generation"]
[null,null,"What is the number of exisiting distributed scale RE systems in 2018?",null,{"$f":"E25","v":"NA"}]
[null,null,"What is the total installed capacity from renewable distributed generation in your country?",null,{"$f":"E27","v":"NA"}]
[null,null,"What was the total generation from exisitng distributed scale RE systems in 2018?",null,{"$f":"E28","v":"NA"}]
[null,null,"Existing renewable generation"]
[null,null,"Existing Utility-Scale Renewable Energy Projects"]
[null,null,"What is the number of existing utility-scale RE projects?",null,{"$f":"E32","v":"NA"}]
[null,null,"What was the total electricity generated in 2018 (MWh)?",null,{"$f":"E33","v":"NA"}]
[null,null,"What was the total electricity generated from utility-scale RE projects in 2018 (MWh)?",null,{"$f":"E34","v":"NA"}]
[null,null,"Please provide as much information as possible for exisitng RE projects in the box below as:\n- Project Name\n- Developer\n- Offtaker\n- Renewable Energy Technology Type\n- Start of Commercial Operation (Year)\n- Estimated Capacity Factor (in %) OR Estimated Annual Production (in MWh)\n- Installed Capacity (MW)\n- Length of PPA ",null,{"$f":"E35","v":"NA"}]
[null,null,"Planned renewable generation"]
[null,null,"Potential Utility-Scale Renewable Energy Projects"]
[null,null,"How much installed capacity from RE is expected to come online in the next 3 years?",null,{"$f":"E39","v":"NA"}]
[null,null,"How much renewable energy generation is expected to come online in the next 3 years?",null,{"$f":"E40","v":"NA"}]
[null,null,"Please provide as much information as possible for RE projects currently under development in the box below as:\n- Project Name\n- Developer\n- Offtaker\n- Renewable Energy Technology Type\n- Start of Commercial Operation (Year)\n- Estimated Capacity Factor (in %) OR Estimated Annual Production (in MWh)\n- Installed Capacity (MW)\n- Length of PPA ",null,{"$f":"E42","v":"NA"}]
[null,null,"Electric Mobility"]
[null,null,"What is the target and target year?",null,{"$f":"E47","v":"NA"}]
[null,null,"How many electric cars are currently in your country?",null,{"$f":"E48","v":"NA"}]
[null,null,"How many charging stations are in your country?",null,"NA"]
[]
[]
[null,null,"Improvement Year-on-Year"]
[null,null,"Enabling environment for renewable energy investments","Change",{"$f":"IF(ISERR(E91-E90),\"\",E91-E90)","v":0.4375}]
[null,null,"2012 Score","0 to 5"]
[null,null,"2013 Score","0 to 5",3.333333333333333]
[null,null,"2014 Score","0 to 5",2]
[null,null,"2015 Score","0 to 5",2]
[null,null,"2016 Score","0 to 5",3.6666666666666665]
[null,null,"2017 Score","0 to 5",2.8125]
[null,null,"2018 Score","0 to 5",{"$f":"VLOOKUP(C84,'RE Index | Ranking inputs'!$D$8:$AM$44,MATCH($B$1,'RE Index | Ranking inputs'!$D$5:$AM$5,0),0)","v":3.25}]
[null,null,"Existing renewable generation","Change",{"$f":"IF(ISERR(E99-E98),\"\",E99-E98)","v":-9.8844665069671461E-2}]
[null,null,"2012 Score","0 to 5"]
[null,null,"2013 Score","0 to 5",0.10090843837380969]
[null,null,"2014 Score","0 to 5",0.10544559381438179]
[null,null,"2015 Score","0 to 5",9.3144445421987548E-2]
[null,null,"2016 Score","0 to 5",0.21468909736516367]
[null,null,"2017 Score","0 to 5",0.19884466506967147]
[null,null,"2018 Score","0 to 5",{"$f":"VLOOKUP(C92,'RE Index | Ranking inputs'!$D$8:$AM$44,MATCH($B$1,'RE Index | Ranking inputs'!$D$5:$AM$5,0),0)","v":0.1}]
[null,null,"Planned renewable generation","Change",{"$f":"IF(ISERR(E107-E106),\"\",E107-E106)","v":1.0351079211753358}]
[null,null,"2012 Score","0 to 5"]
[null,null,"2013 Score","0 to 5",6.0755105895985942E-2]
[null,null,"2014 Score","0 to 5",0]
[null,null,"2015 Score","0 to 5",5.9521681209052948E-2]
[null,null,"2016 Score","0 to 5",0]
[null,null,"2017 Score","0 to 5",7.6003189935775317E-2]
[null,null,"2018 Score","0 to 5",{"$f":"VLOOKUP(C100,'RE Index | Ranking inputs'!$D$8:$AM$44,MATCH($B$1,'RE Index | Ranking inputs'!$D$5:$AM$5,0),0)","v":1.1111111111111112}]
[null,null,"Electric Mobility","Change","N/A"]
[null,null,"2018 Score","0 to 5",{"$f":"VLOOKUP(C108,'RE Index | Ranking inputs'!$D$8:$AM$44,MATCH($B$1,'RE Index | Ranking inputs'!$D$5:$AM$5,0),0)","v":0}]
[null,null,"Overall Score Year-on-Year","Change",{"$f":"E123-E121","v":-0.76972918707571947}]
[null,null,"2012 Overall Score",null,0]
[null,null,"2012 Rank",null,22]
[null,null,"2013 Overall Score",null,1.1649989592010428]
[null,null,"2013 Rank",null,15]
[null,null,"2014 Overall Score",null,0.70181519793812719]
[null,null,"2014 Rank",null,24]
[null,null,"2015 Overall Score",null,0.7175553755436801]
[null,null,"2015 Rank",null,26]
[null,null,"2016 Overall Score",null,1.2937852546772766]
[null,null,"2016 Rank",null,16]
[null,null,"2017 Overall Score",null,1.0291159516684822]
[null,null,"2017 Rank",null,23]
[null,null,"2018 Overall Score",null,{"$f":"VLOOKUP(C123,'RE Index | Ranking inputs'!$D$8:$AM$140,MATCH($B$1,'RE Index | Ranking inputs'!$D$5:$AM$5,0),0)","v":0.25938676459276278}]
[null,null,"2018 Rank",null,{"$f":"VLOOKUP(C124,'RE Index | Ranking inputs'!$D$8:$AM$140,MATCH($B$1,'RE Index | Ranking inputs'!$D$5:$AM$5,0),0)","v":23}]

{"sheet":"Puerto_Rico","index":23,"n_rows":82,"n_cols":5,"rows_kept":82,"cut":false,"hidden":false,"merged":[[1,5,1,11]]}
[null,"Puerto Rico"]
[null,null,"Overall Indicator",null,"Arnaldo Bisono, AES"]
[1,null,"Enabling Environment for Renewable Energy (RE) Investments","Consolidated Survey Response","Respondent #3"]
[null,null,"Government - Renewable Energy Strategy","Y/N","Y/N"]
[null,1,"Does your country have a strategic plan to develop renewable energy?"]
[null,null,"Which of the following renewable generation options is included in you country's strategic plan to develop renewable energy?",{"$f":"IF(B6<>0,IF(ISBLANK(E6),\"NA\",E6),\" \")","v":" "},"Solar PV"]
[null,2,"Does your country have a specific target for renewable energy?",{"$f":"IF(B7<>0,IF(ISBLANK(E7),\"NA\",E7),\" \")","v":"Yes"},"Yes"]
[null,null,"If yes, what is the target and target year?",{"$f":"IF(B8<>0,IF(ISBLANK(E8),\"NA\",E8),\" \")","v":" "},"Article 2.3 Ley 17 2019 (PS1121) Puerto Rico\n2015-2022 = 20%\n2023-2025 = 40%\n2026-2040 = 60%\n2041-2050 = 100%"]
[null,null,"What is the current breakdown of your country's energy mix?",{"$f":"IF(B9<>0,IF(ISBLANK(E9),\"NA\",E9),\" \")","v":" "},"Installed Capacity\nNatural Gas = 33%\nFuel 6 = 29%\nDiesel = 24%\nCoal = 8%\nSolar = 3%\nWind = 2%\nHydro = 1%"]
[null,3,"Does your country have an Integrated Resource Plan (IRP) that was produced within the last three years?",{"$f":"IF(B10<>0,IF(ISBLANK(E10),\"NA\",E10),\" \")","v":"Yes"},"Yes"]
[null,null,"Utilities",null,"Y/N"]
[null,1,"When planning generation expansion, does the utility consider RE options?",{"$f":"IF(B12<>0,IF(ISBLANK(E12),\"NA\",E12),\" \")","v":"Yes"},"Yes"]
[null,2,"Can the utility safely recover RE investments through tariffs like it can recover fossil fuel costs?",{"$f":"IF(B13<>0,IF(ISBLANK(E13),\"NA\",E13),\" \")","v":"Yes"},"Yes"]
[null,3,"Are there clear, specific planning and permitting processes and rules in place for developing RE?",{"$f":"IF(B14<>0,IF(ISBLANK(E14),\"NA\",E14),\" \")","v":"No"},"No"]
[null,null,"On average, how long does it take for the power utility to get investments in RE projects approved by the regulatory authority (or relevant entity) for recovery through tariffs?",{"$f":"IF(B15<>0,IF(ISBLANK(E15),\"NA\",E15),\" \")","v":" "},"Generally the process for the approval should be expedite."]
[null,null,"IPPs",null,"Y/N"]
[null,1,"Can the utility safely recover purchases of RE from third parties, just as it recovers fossil fuel costs?",{"$f":"IF(B17<>0,IF(ISBLANK(E17),\"NA\",E17),\" \")","v":"Yes"},"Yes"]
[null,2,"Are there workable precedents or rules for PPA terms and grid operation rules?",{"$f":"IF(B18<>0,IF(ISBLANK(E18),\"NA\",E18),\" \")","v":"Yes"},"Yes"]
[null,3,"Are there clear and effective licensing processes and requirements in place for IPPs?",{"$f":"IF(B19<>0,IF(ISBLANK(E19),\"NA\",E19),\" \")","v":"Yes"},"Yes"]
[null,4,"Does the utility have an obligation to purchase from IPPs when it is cheaper than generating the power itself?",{"$f":"IF(B20<>0,IF(ISBLANK(E20),\"NA\",E20),\" \")","v":"No"},"No"]
[null,5,"Does the PPA have any take-or-pay arrangements?",{"$f":"IF(B21<>0,IF(ISBLANK(E21),\"NA\",E21),\" \")","v":"No"},"No"]
[null,null,"Distributed generation",null,"Y/N"]
[null,1,"Do you have a registry or database of distributed generation?",{"$f":"IF(B23<>0,IF(ISBLANK(E23),\"NA\",E23),\" \")","v":"No"},"No"]
[null,null,"What was the number of existing distributed scale RE systems in 2019?"," ","We do not have a database available"]
[null,null,"Is there an aggregate maximum capacity for distributed generation?"," ","Yes"]
[null,null,"What is the total installed capacity from renewable distributed generation in your country?"," ","5 MW behind the meter for net metering"]
[null,null,"What was the total generation from existing distributed scale RE systems in 2019?"," ","We do not have a database available"]
[null,2,"Is there a standard arrangement in place for customers to sell electricity to the utility at a reasonable price, for a reasonable timeframe, and with a clear interconnection agreement?","Yes","Yes"]
[]
[2,null,"Existing renewable generation"]
[null,null,"What is the number of existing Utility-Scale RE projects?",{"$f":"IF(B31<>0,IF(ISBLANK(E31),\"NA\",E31),\" \")","v":" "},16]
[null,1,"What was the total electricity generated in 2019? (MWh)",{"$f":"IF(B32<>0,IF(ISBLANK(E32),\"NA\",E32),\" \")","v":357408},357408]
[null,1,"What was the total electricity generated from Utility Scale RE projects in 2019? (MWh) ",{"$f":"IF(B33<>0,IF(ISBLANK(E33),\"NA\",E33),\" \")","v":357408},357408]
[null,null,"Please provide as much information as possible for existing RE projects in the box below as:\n- Project Name\n- Developer\n- Offtaker\n- Renewable Energy Technology Type\n- Start of Commercial Operation (Year)\n- Estimated Capacity Factor (in %) OR Estimated Annual Production (in MWh)\n- Installed Capacity (MW)\n- Length of PPA ",{"$f":"IF(B34<>0,IF(ISBLANK(E34),\"NA\",E34),\" \")","v":" "},"The next time, please allow a box to upload documents so we can share all the information required"]
[]
[3,null,"Planned Utility-Scale Renewable Energy Projects"]
[null,1,"Does your country have an estimate of planned installed capacity expected to come online from-utility scale RE projects?",{"$f":"IF(B37<>0,IF(ISBLANK(E37),\"NA\",E37),\" \")","v":"Yes"},"Yes"]
[null,null,"How much installed capacity from RE is expected to come online in the next 3 years? (MW)",{"$f":"IF(B38<>0,IF(ISBLANK(E38),\"NA\",E38),\" \")","v":" "},"Solar PV at least 3,500 MW and up to 3,900 MW by 2025"]
[null,2,"How much renewable energy generation is expected to come online in the next 3 years? (MWh)",{"$f":"IF(B39<>0,IF(ISBLANK(E39),\"NA\",E39),\" \")","v":"Solar PV at least 3,500 MW and up to 3,900 MW by 2025\nIf 3,500 MW x 8760 x 17% = 5,212 GWh"},"Solar PV at least 3,500 MW and up to 3,900 MW by 2025\nIf 3,500 MW x 8760 x 17% = 5,212 GWh"]
[null,3,"Is climate resilience incorporated in your IRP or national policy?",{"$f":"IF(B40<>0,IF(ISBLANK(E40),\"NA\",E40),\" \")","v":"Yes"},"Yes"]
[null,null,"Please provide as much information as possible for RE projects currently under development in the box below as:\n- Project Name\n- Developer\n- Offtaker\n- Renewable Energy Technology Type\n- Start of Commercial Operation (Year)\n- Estimated Capacity Factor (in %) OR Estimated Annual Production (in MWh)\n- Installed Capacity (MW)\n- Length of PPA ",{"$f":"IF(B41<>0,IF(ISBLANK(E41),\"NA\",E41),\" \")","v":" "},"The next time, please allow a box to upload documents so we can share all the information required"]
[]
[4,null,"Electric Mobility"]
[null,1,"Does your country have policies in place or draft legislation to promote the uptake of electric mobility?",{"$f":"IF(B44<>0,IF(ISBLANK(E44),\"NA\",E44),\" \")","v":"No"},"No"]
[null,2,"Does your country have specific targets for the uptake of electric vehicles?",{"$f":"IF(B45<>0,IF(ISBLANK(E45),\"NA\",E45),\" \")","v":"No"},"No"]
[null,null,"What is the target and target year?",{"$f":"IF(B46<>0,IF(ISBLANK(E46),\"NA\",E46),\" \")","v":" "},"NA"]
[null,null,"How many electric cars are currently in your country?",{"$f":"IF(B47<>0,IF(ISBLANK(E47),\"NA\",E47),\" \")","v":" "},"No information available"]
[null,null,"How many charging stations are in your country?",{"$f":"IF(B48<>0,IF(ISBLANK(E48),\"NA\",E48),\" \")","v":" "},"No information available"]
[]
[null,null,"Descriptive CREF Index Survey"]
[null,null,"Enabling Environment for Renewable Energy (RE) Investments"]
[null,null,"Renewable energy strategy"]
[null,null,"Which of the following renewable generation options is included in your country's strategic plan to develop renewable energy?\n- Solar PV\n- Offshore wind\n- Biomass\n- Waste to energy\n- Hydro\n-Geothermal\n- Other",{"$f":"E53","v":"Solar PV"},{"$f":"E6","v":"Solar PV"}]
[null,null,"What is the target and target year?",{"$f":"E54","v":"Article 2.3 Ley 17 2019 (PS1121) Puerto Rico\n2015-2022 = 20%\n2023-2025 = 40%\n2026-2040 = 60%\n2041-2050 = 100%"},{"$f":"E8","v":"Article 2.3 Ley 17 2019 (PS1121) Puerto Rico\n2015-2022 = 20%\n2023-2025 = 40%\n2026-2040 = 60%\n2041-2050 = 100%"}]
[null,null,"What is the current breakdown of your country's energy mix?","Installed Capacity\nNatural Gas = 33%\nFuel 6 = 29%\nDiesel = 24%\nCoal = 8%\nSolar = 3%\nWind = 2%\nHydro = 1%",{"$f":"E9","v":"Installed Capacity\nNatural Gas = 33%\nFuel 6 = 29%\nDiesel = 24%\nCoal = 8%\nSolar = 3%\nWind = 2%\nHydro = 1%"}]
[null,null,"Utilities"]
[null,null,"On average, how long does it take for the power utility to get investments in RE projects approved by the regulatory authority 9or the relevant entity) for recovery through tariffs?",{"$f":"E57","v":"Generally the process for the approval should be expedite."},{"$f":"E15","v":"Generally the process for the approval should be expedite."}]
[null,null,"Distributed Generation"]
[null,null,"What is the number of existing distributed scale RE systems in 2019?",{"$f":"E59","v":"We do not have a database available"},{"$f":"E24","v":"We do not have a database available"}]
[null,null,"What is the total installed capacity from renewable distributed generation in your country?",{"$f":"E60","v":"5 MW behind the meter for net metering"},{"$f":"E26","v":"5 MW behind the meter for net metering"}]
[null,null,"What was the total generation from existing distributed scale RE systems in 2019?","We do not have a database available",{"$f":"E27","v":"We do not have a database available"}]
[null,null,"Existing renewable generation"]
[null,null,"Existing Utility-Scale Renewable Energy Projects"]
[null,null,"What is the number of existing utility-scale RE projects?",{"$f":"E64","v":16},{"$f":"E31","v":16}]
[null,null,"What was the total electricity generated in 2019 (MWh)?",{"$f":"E65","v":357408},357408]
[null,null,"What was the total electricity generated from utility-scale RE projects in 2019 (MWh)?",357408,357408]
[null,null,"Please provide as much information as possible for existing RE projects in the box below as:\n- Project Name\n- Developer\n- Offtaker\n- Renewable Energy Technology Type\n- Start of Commercial Operation (Year)\n- Estimated Capacity Factor (in %) OR Estimated Annual Production (in MWh)\n- Installed Capacity (MW)\n- Length of PPA ","The next time, please allow a box to upload documents so we can share all the information required","The next time, please allow a box to upload documents so we can share all the information required"]
[null,null,"Planned renewable generation"]
[null,null,"Potential Utility-Scale Renewable Energy Projects"]
[null,null,"How much installed capacity from RE is expected to come online in the next 3 years?",{"$f":"E70","v":"Solar PV at least 3,500 MW and up to 3,900 MW by 2025"},{"$f":"E38","v":"Solar PV at least 3,500 MW and up to 3,900 MW by 2025"}]
[null,null,"How much renewable energy generation is expected to come online in the next 3 years?",{"$f":"E71","v":"Solar PV at least 3,500 MW and up to 3,900 MW by 2025\nIf 3,500 MW x 8760 x 17% = 5,212 GWh"},{"$f":"E39","v":"Solar PV at least 3,500 MW and up to 3,900 MW by 2025\nIf 3,500 MW x 8760 x 17% = 5,212 GWh"}]
[null,null,"Please provide as much information as possible for RE projects currently under development in the box below as:\n- Project Name\n- Developer\n- Offtaker\n- Renewable Energy Technology Type\n- Start of Commercial Operation (Year)\n- Estimated Capacity Factor (in %) OR Estimated Annual Production (in MWh)\n- Installed Capacity (MW)\n- Length of PPA ","The next time, please allow a box to upload documents so we can share all the information required",{"$f":"E41","v":"The next time, please allow a box to upload documents so we can share all the information required"}]
[null,null,"Electric Mobility"]
[null,null,"What is the target and target year?",{"$f":"E74","v":"NA"},{"$f":"E46","v":"NA"}]
[null,null,"How many electric cars are currently in your country?",{"$f":"E75","v":"No information available"},{"$f":"E47","v":"No information available"}]
[null,null,"How many charging stations are in your country?","No information available","No information available"]
[null,null,"Covid"]
[null,null,"Has any measure been implemented to respond to disruptions in revenue collections from electricity services (particularly given the current circumstances during the COVID pandemic)?",{"$f":"E78","v":"No"},"No"]
[null,null,"If yes, to get a score on this kindly describe how the measure works and who is responsible for implementing it",{"$f":"E79","v":"No information available"},"No information available"]
[null,null,"Outlook sentiment"]
[null,null,"How enthusiastic are you about the investment prospects in renewables, electric mobility, and resilience compared to this time last year, and why?",{"$f":"E81","v":"Same"},"Same"]
[null,null,"Please elaborate on your reasoning for the previous response.",{"$f":"E82","v":"No plans available for electric mobility"},"No plans available for electric mobility"]

{"sheet":"St_Kitts","index":24,"n_rows":82,"n_cols":5,"rows_kept":82,"cut":false,"hidden":true,"merged":[[1,5,1,11]]}
[null,"St. Kitts"]
[null,null,"Overall Indicator"]
[1,null,"Enabling Environment for Renewable Energy (RE) Investments","Consolidated Survey Response"]
[null,null,"Government - Renewable Energy Strategy","Y/N","Y/N"]
[null,1,"Does your country have a strategic plan to develop renewble energy?"]
[null,null,"Which of the following renewable generation options is includd in you country's strategic plan to develop renewable energy?",{"$f":"IF(B6<>0,IF(ISBLANK(E6),\"NA\",E6),\" \")","v":" "}]
[null,2,"Does your country have a specific target for renewable energy?",{"$f":"IF(B7<>0,IF(ISBLANK(E7),\"NA\",E7),\" \")","v":"Yes"},"Yes"]
[null,null,"If yes, what is the target and target year?",{"$f":"IF(B8<>0,IF(ISBLANK(E8),\"NA\",E8),\" \")","v":" "}]
[null,null,"What is the current breakdown of your country's energy mix?",{"$f":"IF(B9<>0,IF(ISBLANK(E9),\"NA\",E9),\" \")","v":" "}]
[null,3,"Does your country have an Integrated Resource Plan (IRP) that was produced within the last three years?",{"$f":"IF(B10<>0,IF(ISBLANK(E10),\"NA\",E10),\" \")","v":"Yes"},"Yes"]
[null,null,"Utilities",null,"Y/N"]
[null,1,"When planning generation expansion, does the utility consider RE options?",{"$f":"IF(B12<>0,IF(ISBLANK(E12),\"NA\",E12),\" \")","v":"NA"}]
[null,2,"Can the utility safely recover RE investments through tariffs like it can recover fossil fuel costs?",{"$f":"IF(B13<>0,IF(ISBLANK(E13),\"NA\",E13),\" \")","v":"NA"}]
[null,3,"Are there clear, specific planning and permitting processes and rules in place for developing RE?",{"$f":"IF(B14<>0,IF(ISBLANK(E14),\"NA\",E14),\" \")","v":"NA"}]
[null,null,"On average, how long does it take for the power utility to get investments in RE projects approved by the regulatory authority (or relevant entity) fror recovery through tariffs?",{"$f":"IF(B15<>0,IF(ISBLANK(E15),\"NA\",E15),\" \")","v":" "}]
[null,null,"IPPs",null,"Y/N"]
[null,1,"Can the utility safely recover purchases of RE from third parties, just as it recovers fossil fuel costs?",{"$f":"IF(B17<>0,IF(ISBLANK(E17),\"NA\",E17),\" \")","v":"NA"}]
[null,2,"Are there workable precedents or rules for PPA terms and grid operation rules?",{"$f":"IF(B18<>0,IF(ISBLANK(E18),\"NA\",E18),\" \")","v":"NA"}]
[null,3,"Are there clear and effective licensing processes and requirements in place for IPPs?",{"$f":"IF(B19<>0,IF(ISBLANK(E19),\"NA\",E19),\" \")","v":"NA"}]
[null,4,"Does the utility have an obligation to purchase from IPPs when it is cheaper than generating the power itself?",{"$f":"IF(B20<>0,IF(ISBLANK(E20),\"NA\",E20),\" \")","v":"NA"}]
[null,5,"Does the PPA have any take-or-pay arrangements?",{"$f":"IF(B21<>0,IF(ISBLANK(E21),\"NA\",E21),\" \")","v":"NA"}]
[null,null,"Distributed generation",null,"Y/N"]
[null,1,"Do you have a registry or database of distributed generation?",{"$f":"IF(B23<>0,IF(ISBLANK(E23),\"NA\",E23),\" \")","v":"NA"}]
[null,null,"What was the number of existing distributed scale RE systems in 2019?"," "]
[null,null,"Is there an aggregate maximum capacity for distributed generation?"," "]
[null,null,"What is the total installed capacity from renewable distributed generation in your country?"," "]
[null,null,"What was the total generation from existing distributed scale RE systems in 2019?"," "]
[null,2,"Is there a standard arrangement in place for customers to sell electricity to the utility at a reasonable price, for a reasonable timeframe, and with a clear interconnection agreement?","NA"]
[]
[2,null,"Existing renewable generation"]
[null,null,"What is the number of existing Utility-Scale RE projects?",{"$f":"IF(B31<>0,IF(ISBLANK(E31),\"NA\",E31),\" \")","v":" "}]
[null,1,"What was the total electricity generated in 2019? (MWh)",{"$f":"IF(B32<>0,IF(ISBLANK(E32),\"NA\",E32),\" \")","v":"NA"}]
[null,1,"What was the total electricity generated from Utility Scale RE projects in 2019? (MWh) ",{"$f":"IF(B33<>0,IF(ISBLANK(E33),\"NA\",E33),\" \")","v":"NA"}]
[null,null,"Please provide as much information as possible for exisitng RE projects in the box below as:\n- Project Name\n- Developer\n- Offtaker\n- Renewable Energy Technology Type\n- Start of Commercial Operation (Year)\n- Estimated Capacity Factor (in %) OR Estimated Annual Production (in MWh)\n- Installed Capacity (MW)\n- Length of PPA ",{"$f":"IF(B34<>0,IF(ISBLANK(E34),\"NA\",E34),\" \")","v":" "}]
[]
[3,null,"Planned Utility-Scale Renewable Energy Projects"]
[null,1,"Does your country have an estimate of planned installed capacity expected to come online from-utility scale RE projects?",{"$f":"IF(B37<>0,IF(ISBLANK(E37),\"NA\",E37),\" \")","v":"NA"}]
[null,null,"How much installed capacity from RE is expected to come online in the next 3 years? (MW)",{"$f":"IF(B38<>0,IF(ISBLANK(E38),\"NA\",E38),\" \")","v":" "}]
[null,2,"How much renewable energy generation is expected to come online in the next 3 years? (MWh)",{"$f":"IF(B39<>0,IF(ISBLANK(E39),\"NA\",E39),\" \")","v":"NA"}]
[null,3,"Is climate resilience incorporated in your IRP or national policy?",{"$f":"IF(B40<>0,IF(ISBLANK(E40),\"NA\",E40),\" \")","v":"NA"}]
[null,null,"Please provide as much information as possible for RE projects currently under development in the box below as:\n- Project Name\n- Developer\n- Offtaker\n- Renewable Energy Technology Type\n- Start of Commercial Operation (Year)\n- Estimated Capacity Factor (in %) OR Estimated Annual Production (in MWh)\n- Installed Capacity (MW)\n- Length of PPA ",{"$f":"IF(B41<>0,IF(ISBLANK(E41),\"NA\",E41),\" \")","v":" "}]
[]
[4,null,"Electric Mobility"]
[null,1,"Does your country have policies in place or draft legislation to promote the uptake of electric mobility?",{"$f":"IF(B44<>0,IF(ISBLANK(E44),\"NA\",E44),\" \")","v":"No"},"No"]
[null,2,"Does your country have specific targets for the uptake of electric vehicles?",{"$f":"IF(B45<>0,IF(ISBLANK(E45),\"NA\",E45),\" \")","v":"No"},"No"]
[null,null,"What is the target and target year?",{"$f":"IF(B46<>0,IF(ISBLANK(E46),\"NA\",E46),\" \")","v":" "}]
[null,null,"How many electric cars are currently in your country?",{"$f":"IF(B47<>0,IF(ISBLANK(E47),\"NA\",E47),\" \")","v":" "}]
[null,null,"How many charging stations are in your country?",{"$f":"IF(B48<>0,IF(ISBLANK(E48),\"NA\",E48),\" \")","v":" "}]
[]
[null,null,"Descriptive CREF Index Survey"]
[null,null,"Enabling Environment for Renewable Energy (RE) Investments"]
[null,null,"Renewable energy strategy"]
[null,null,"Which of the rollowing renewable generation options is included in your country's strategic plan to develop renewable energy?\n- Solar PV\n- Offshore wind\n- Biomass\n- Waste to energy\n- Hydro\n-Geothermal\n- Other",{"$f":"E53","v":0},{"$f":"E6","v":0}]
[null,null,"What is the target and target year?",{"$f":"E54","v":0},{"$f":"E8","v":0}]
[null,null,"What is the current breakdown of your country's energy mix?",0,{"$f":"E9","v":0}]
[null,null,"Utilities"]
[null,null,"On average, how long does it take for the power utility to get investments in RE projects approved by the regulatory authority 9or the relevant entity) for recovery through tariffs?",{"$f":"E57","v":0},{"$f":"E15","v":0}]
[null,null,"Distributed Generation"]
[null,null,"What is the number of exisiting distributed scale RE systems in 2019?",{"$f":"E59","v":0},{"$f":"E24","v":0}]
[null,null,"What is the total installed capacity from renewable distributed generation in your country?",{"$f":"E60","v":0},{"$f":"E26","v":0}]
[null,null,"What was the total generation from exisitng distributed scale RE systems in 2019?",0,{"$f":"E27","v":0}]
[null,null,"Existing renewable generation"]
[null,null,"Existing Utility-Scale Renewable Energy Projects"]
[null,null,"What is the number of existing utility-scale RE projects?",{"$f":"E64","v":0},{"$f":"E31","v":0}]
[null,null,"What was the total electricity generated in 2019 (MWh)?",{"$f":"E65","v":0},0]
[null,null,"What was the total electricity generated from utility-scale RE projects in 2019 (MWh)?",0,0]
[null,null,"Please provide as much information as possible for exisitng RE projects in the box below as:\n- Project Name\n- Developer\n- Offtaker\n- Renewable Energy Technology Type\n- Start of Commercial Operation (Year)\n- Estimated Capacity Factor (in %) OR Estimated Annual Production (in MWh)\n- Installed Capacity (MW)\n- Length of PPA ",0,0]
[null,null,"Planned renewable generation"]
[null,null,"Potential Utility-Scale Renewable Energy Projects"]
[null,null,"How much installed capacity from RE is expected to come online in the next 3 years?",{"$f":"E70","v":0},{"$f":"E38","v":0}]
[null,null,"How much renewable energy generation is expected to come online in the next 3 years?",{"$f":"E71","v":0},{"$f":"E39","v":0}]
[null,null,"Please provide as much information as possible for RE projects currently under development in the box below as:\n- Project Name\n- Developer\n- Offtaker\n- Renewable Energy Technology Type\n- Start of Commercial Operation (Year)\n- Estimated Capacity Factor (in %) OR Estimated Annual Production (in MWh)\n- Installed Capacity (MW)\n- Length of PPA ",0,{"$f":"E41","v":0}]
[null,null,"Electric Mobility"]
[null,null,"What is the target and target year?",{"$f":"E74","v":0},{"$f":"E46","v":0}]
[null,null,"How many electric cars are currently in your country?",{"$f":"E75","v":0},{"$f":"E47","v":0}]
[null,null,"How many charging stations are in your country?",0,0]
[null,null,"Covid"]
[null,null,"Has any measure been implemented to respond to disruptions in revenue collections from electricity services (particularly given the current circumstances during the COVID pandemic)?",{"$f":"E78","v":0}]
[null,null,"If yes, to get a score on this kindly describe how the measure works and who is responsible for implementing it",{"$f":"E79","v":0}]
[null,null,"Outlook sentiment"]
[null,null,"How enthusiastic are you about the investment prospects in renewables, electric mobility, and resilience compared to this time last year, and why?",{"$f":"E81","v":0}]
[null,null,"Please elaborate on your reasoning for the previous response.",{"$f":"E82","v":0}]

{"sheet":"St_Lucia","index":25,"n_rows":82,"n_cols":5,"rows_kept":82,"cut":false,"hidden":true,"merged":[[1,5,1,11]]}
[null,"St. Lucia"]
[null,null,"Overall Indicator"]
[1,null,"Enabling Environment for Renewable Energy (RE) Investments","Consolidated Survey Response"]
[null,null,"Government - Renewable Energy Strategy","Y/N"]
[null,1,"Does your country have a strategic plan to develop renewble energy?"]
[null,null,"Which of the following renewable generation options is includd in you country's strategic plan to develop renewable energy?",{"$f":"IF(B6<>0,IF(ISBLANK(E6),\"NA\",E6),\" \")","v":" "}]
[null,2,"Does your country have a specific target for renewable energy?",{"$f":"IF(B7<>0,IF(ISBLANK(E7),\"NA\",E7),\" \")","v":"Yes"},"Yes"]
[null,null,"If yes, what is the target and target year?",{"$f":"IF(B8<>0,IF(ISBLANK(E8),\"NA\",E8),\" \")","v":" "}]
[null,null,"What is the current breakdown of your country's energy mix?",{"$f":"IF(B9<>0,IF(ISBLANK(E9),\"NA\",E9),\" \")","v":" "}]
[null,3,"Does your country have an Integrated Resource Plan (IRP) that was produced within the last three years?",{"$f":"IF(B10<>0,IF(ISBLANK(E10),\"NA\",E10),\" \")","v":"Yes"},"Yes"]
[null,null,"Utilities","Y/N"]
[null,1,"When planning generation expansion, does the utility consider RE options?",{"$f":"IF(B12<>0,IF(ISBLANK(E12),\"NA\",E12),\" \")","v":"NA"}]
[null,2,"Can the utility safely recover RE investments through tariffs like it can recover fossil fuel costs?",{"$f":"IF(B13<>0,IF(ISBLANK(E13),\"NA\",E13),\" \")","v":"NA"}]
[null,3,"Are there clear, specific planning and permitting processes and rules in place for developing RE?",{"$f":"IF(B14<>0,IF(ISBLANK(E14),\"NA\",E14),\" \")","v":"NA"}]
[null,null,"On average, how long does it take for the power utility to get investments in RE projects approved by the regulatory authority (or relevant entity) fror recovery through tariffs?",{"$f":"IF(B15<>0,IF(ISBLANK(E15),\"NA\",E15),\" \")","v":" "}]
[null,null,"IPPs","Y/N"]
[null,1,"Can the utility safely recover purchases of RE from third parties, just as it recovers fossil fuel costs?",{"$f":"IF(B17<>0,IF(ISBLANK(E17),\"NA\",E17),\" \")","v":"NA"}]
[null,2,"Are there workable precedents or rules for PPA terms and grid operation rules?",{"$f":"IF(B18<>0,IF(ISBLANK(E18),\"NA\",E18),\" \")","v":"NA"}]
[null,3,"Are there clear and effective licensing processes and requirements in place for IPPs?",{"$f":"IF(B19<>0,IF(ISBLANK(E19),\"NA\",E19),\" \")","v":"NA"}]
[null,4,"Does the utility have an obligation to purchase from IPPs when it is cheaper than generating the power itself?",{"$f":"IF(B20<>0,IF(ISBLANK(E20),\"NA\",E20),\" \")","v":"NA"}]
[null,5,"Does the PPA have any take-or-pay arrangements?",{"$f":"IF(B21<>0,IF(ISBLANK(E21),\"NA\",E21),\" \")","v":"NA"}]
[null,null,"Distributed generation","Y/N"]
[null,1,"Do you have a registry or database of distributed generation?",{"$f":"IF(B23<>0,IF(ISBLANK(E23),\"NA\",E23),\" \")","v":"NA"}]
[null,null,"What was the number of existing distributed scale RE systems in 2019?"," "]
[null,null,"Is there an aggregate maximum capacity for distributed generation?"," "]
[null,null,"What is the total installed capacity from renewable distributed generation in your country?"," "]
[null,null,"What was the total generation from existing distributed scale RE systems in 2019?"," "]
[null,2,"Is there a standard arrangement in place for customers to sell electricity to the utility at a reasonable price, for a reasonable timeframe, and with a clear interconnection agreement?","NA"]
[]
[2,null,"Existing renewable generation"]
[null,null,"What is the number of existing Utility-Scale RE projects?",{"$f":"IF(B31<>0,IF(ISBLANK(E31),\"NA\",E31),\" \")","v":" "}]
[null,1,"What was the total electricity generated in 2019? (MWh)",{"$f":"IF(B32<>0,IF(ISBLANK(E32),\"NA\",E32),\" \")","v":"NA"}]
[null,1,"What was the total electricity generated from Utility Scale RE projects in 2019? (MWh) ",{"$f":"IF(B33<>0,IF(ISBLANK(E33),\"NA\",E33),\" \")","v":"NA"}]
[null,null,"Please provide as much information as possible for exisitng RE projects in the box below as:\n- Project Name\n- Developer\n- Offtaker\n- Renewable Energy Technology Type\n- Start of Commercial Operation (Year)\n- Estimated Capacity Factor (in %) OR Estimated Annual Production (in MWh)\n- Installed Capacity (MW)\n- Length of PPA ",{"$f":"IF(B34<>0,IF(ISBLANK(E34),\"NA\",E34),\" \")","v":" "}]
[]
[3,null,"Planned Utility-Scale Renewable Energy Projects"]
[null,1,"Does your country have an estimate of planned installed capacity expected to come online from-utility scale RE projects?",{"$f":"IF(B37<>0,IF(ISBLANK(E37),\"NA\",E37),\" \")","v":"NA"}]
[null,null,"How much installed capacity from RE is expected to come online in the next 3 years? (MW)",{"$f":"IF(B38<>0,IF(ISBLANK(E38),\"NA\",E38),\" \")","v":" "}]
[null,2,"How much renewable energy generation is expected to come online in the next 3 years? (MWh)","NA"]
[null,3,"Is climate resilience incorporated in your IRP or national policy?","NA"]
[null,null,"Please provide as much information as possible for RE projects currently under development in the box below as:\n- Project Name\n- Developer\n- Offtaker\n- Renewable Energy Technology Type\n- Start of Commercial Operation (Year)\n- Estimated Capacity Factor (in %) OR Estimated Annual Production (in MWh)\n- Installed Capacity (MW)\n- Length of PPA "," "]
[]
[4,null,"Electric Mobility"]
[null,1,"Does your country have policies in place or draft legislation to promote the uptake of electric mobility?",{"$f":"IF(B44<>0,IF(ISBLANK(E44),\"NA\",E44),\" \")","v":"Yes"},"Yes"]
[null,2,"Does your country have specific targets for the uptake of electric vehicles?",{"$f":"IF(B45<>0,IF(ISBLANK(E45),\"NA\",E45),\" \")","v":"No"},"No"]
[null,null,"What is the target and target year?",{"$f":"IF(B46<>0,IF(ISBLANK(E46),\"NA\",E46),\" \")","v":" "}]
[null,null,"How many electric cars are currently in your country?",{"$f":"IF(B47<>0,IF(ISBLANK(E47),\"NA\",E47),\" \")","v":" "}]
[null,null,"How many charging stations are in your country?",{"$f":"IF(B48<>0,IF(ISBLANK(E48),\"NA\",E48),\" \")","v":" "}]
[]
[null,null,"Descriptive CREF Index Survey"]
[null,null,"Enabling Environment for Renewable Energy (RE) Investments"]
[null,null,"Renewable energy strategy"]
[null,null,"Which of the rollowing renewable generation options is included in your country's strategic plan to develop renewable energy?\n- Solar PV\n- Offshore wind\n- Biomass\n- Waste to energy\n- Hydro\n-Geothermal\n- Other",{"$f":"E53","v":0},{"$f":"E6","v":0}]
[null,null,"What is the target and target year?",{"$f":"E54","v":0},{"$f":"E8","v":0}]
[null,null,"What is the current breakdown of your country's energy mix?",{"$f":"E55","v":0},{"$f":"E9","v":0}]
[null,null,"Utilities"]
[null,null,"On average, how long does it take for the power utility to get investments in RE projects approved by the regulatory authority 9or the relevant entity) for recovery through tariffs?",{"$f":"E57","v":0},{"$f":"E15","v":0}]
[null,null,"Distributed Generation"]
[null,null,"What is the number of exisiting distributed scale RE systems in 2019?",{"$f":"E59","v":0},{"$f":"E24","v":0}]
[null,null,"What is the total installed capacity from renewable distributed generation in your country?",{"$f":"E60","v":0},{"$f":"E26","v":0}]
[null,null,"What was the total generation from exisitng distributed scale RE systems in 2019?",{"$f":"E61","v":0},{"$f":"E27","v":0}]
[null,null,"Existing renewable generation"]
[null,null,"Existing Utility-Scale Renewable Energy Projects"]
[null,null,"What is the number of existing utility-scale RE projects?",{"$f":"E64","v":0},{"$f":"E31","v":0}]
[null,null,"What was the total electricity generated in 2019 (MWh)?",{"$f":"E65","v":0},{"$f":"E32","v":0}]
[null,null,"What was the total electricity generated from utility-scale RE projects in 2019 (MWh)?",0,{"$f":"E33","v":0}]
[null,null,"Please provide as much information as possible for exisitng RE projects in the box below as:\n- Project Name\n- Developer\n- Offtaker\n- Renewable Energy Technology Type\n- Start of Commercial Operation (Year)\n- Estimated Capacity Factor (in %) OR Estimated Annual Production (in MWh)\n- Installed Capacity (MW)\n- Length of PPA ",0,{"$f":"E34","v":0}]
[null,null,"Planned renewable generation"]
[null,null,"Potential Utility-Scale Renewable Energy Projects"]
[null,null,"How much installed capacity from RE is expected to come online in the next 3 years?",{"$f":"E70","v":0},{"$f":"E38","v":0}]
[null,null,"How much renewable energy generation is expected to come online in the next 3 years?",{"$f":"E71","v":0},{"$f":"E39","v":0}]
[null,null,"Please provide as much information as possible for RE projects currently under development in the box below as:\n- Project Name\n- Developer\n- Offtaker\n- Renewable Energy Technology Type\n- Start of Commercial Operation (Year)\n- Estimated Capacity Factor (in %) OR Estimated Annual Production (in MWh)\n- Installed Capacity (MW)\n- Length of PPA ",0,{"$f":"E41","v":0}]
[null,null,"Electric Mobility"]
[null,null,"What is the target and target year?",{"$f":"E74","v":0},{"$f":"E46","v":0}]
[null,null,"How many electric cars are currently in your country?",{"$f":"E75","v":0},{"$f":"E47","v":0}]
[null,null,"How many charging stations are in your country?",0,{"$f":"E48","v":0}]
[null,null,"Covid"]
[null,null,"Has any measure been implemented to respond to disruptions in revenue collections from electricity services (particularly given the current circumstances during the COVID pandemic)?",{"$f":"E78","v":0}]
[null,null,"If yes, to get a score on this kindly describe how the measure works and who is responsible for implementing it",{"$f":"E79","v":0}]
[null,null,"Outlook sentiment"]
[null,null,"How enthusiastic are you about the investment prospects in renewables, electric mobility, and resilience compared to this time last year, and why?",{"$f":"E81","v":0}]
[null,null,"Please elaborate on your reasoning for the previous response.",{"$f":"E82","v":0}]

{"sheet":"St_Vincent_Grenadines","index":26,"n_rows":82,"n_cols":5,"rows_kept":82,"cut":false,"hidden":true,"merged":[[1,5,1,11]]}
[null,"St. Vincent & Grenadines"]
[null,null,"Overall Indicator"]
[1,null,"Enabling Environment for Renewable Energy (RE) Investments","Consolidated Survey Response"]
[null,null,"Government - Renewable Energy Strategy",null,"Y/N"]
[null,1,"Does your country have a strategic plan to develop renewble energy?"]
[null,null,"Which of the following renewable generation options is includd in you country's strategic plan to develop renewable energy?",{"$f":"IF(B6<>0,IF(ISBLANK(E6),\"NA\",E6),\" \")","v":" "}]
[null,2,"Does your country have a specific target for renewable energy?",{"$f":"IF(B7<>0,IF(ISBLANK(E7),\"NA\",E7),\" \")","v":"Yes"},"Yes"]
[null,null,"If yes, what is the target and target year?",{"$f":"IF(B8<>0,IF(ISBLANK(E8),\"NA\",E8),\" \")","v":" "}]
[null,null,"What is the current breakdown of your country's energy mix?",{"$f":"IF(B9<>0,IF(ISBLANK(E9),\"NA\",E9),\" \")","v":" "}]
[null,3,"Does your country have an Integrated Resource Plan (IRP) that was produced within the last three years?",{"$f":"IF(B10<>0,IF(ISBLANK(E10),\"NA\",E10),\" \")","v":"No"},"No"]
[null,null,"Utilities",null,"Y/N"]
[null,1,"When planning generation expansion, does the utility consider RE options?",{"$f":"IF(B12<>0,IF(ISBLANK(E12),\"NA\",E12),\" \")","v":"NA"}]
[null,2,"Can the utility safely recover RE investments through tariffs like it can recover fossil fuel costs?",{"$f":"IF(B13<>0,IF(ISBLANK(E13),\"NA\",E13),\" \")","v":"NA"}]
[null,3,"Are there clear, specific planning and permitting processes and rules in place for developing RE?",{"$f":"IF(B14<>0,IF(ISBLANK(E14),\"NA\",E14),\" \")","v":"NA"}]
[null,null,"On average, how long does it take for the power utility to get investments in RE projects approved by the regulatory authority (or relevant entity) fror recovery through tariffs?",{"$f":"IF(B15<>0,IF(ISBLANK(E15),\"NA\",E15),\" \")","v":" "}]
[null,null,"IPPs",null,"Y/N"]
[null,1,"Can the utility safely recover purchases of RE from third parties, just as it recovers fossil fuel costs?",{"$f":"IF(B17<>0,IF(ISBLANK(E17),\"NA\",E17),\" \")","v":"NA"}]
[null,2,"Are there workable precedents or rules for PPA terms and grid operation rules?",{"$f":"IF(B18<>0,IF(ISBLANK(E18),\"NA\",E18),\" \")","v":"NA"}]
[null,3,"Are there clear and effective licensing processes and requirements in place for IPPs?",{"$f":"IF(B19<>0,IF(ISBLANK(E19),\"NA\",E19),\" \")","v":"NA"}]
[null,4,"Does the utility have an obligation to purchase from IPPs when it is cheaper than generating the power itself?",{"$f":"IF(B20<>0,IF(ISBLANK(E20),\"NA\",E20),\" \")","v":"NA"}]
[null,5,"Does the PPA have any take-or-pay arrangements?",{"$f":"IF(B21<>0,IF(ISBLANK(E21),\"NA\",E21),\" \")","v":"NA"}]
[null,null,"Distributed generation",null,"Y/N"]
[null,1,"Do you have a registry or database of distributed generation?",{"$f":"IF(B23<>0,IF(ISBLANK(E23),\"NA\",E23),\" \")","v":"NA"}]
[null,null,"What was the number of existing distributed scale RE systems in 2019?"," "]
[null,null,"Is there an aggregate maximum capacity for distributed generation?"," "]
[null,null,"What is the total installed capacity from renewable distributed generation in your country?"," "]
[null,null,"What was the total generation from existing distributed scale RE systems in 2019?"," "]
[null,2,"Is there a standard arrangement in place for customers to sell electricity to the utility at a reasonable price, for a reasonable timeframe, and with a clear interconnection agreement?","NA"]
[]
[2,null,"Existing renewable generation"]
[null,null,"What is the number of existing Utility-Scale RE projects?",{"$f":"IF(B31<>0,IF(ISBLANK(E31),\"NA\",E31),\" \")","v":" "}]
[null,1,"What was the total electricity generated in 2019? (MWh)",{"$f":"IF(B32<>0,IF(ISBLANK(E32),\"NA\",E32),\" \")","v":"NA"}]
[null,1,"What was the total electricity generated from Utility Scale RE projects in 2019? (MWh) ",{"$f":"IF(B33<>0,IF(ISBLANK(E33),\"NA\",E33),\" \")","v":"NA"}]
[null,null,"Please provide as much information as possible for exisitng RE projects in the box below as:\n- Project Name\n- Developer\n- Offtaker\n- Renewable Energy Technology Type\n- Start of Commercial Operation (Year)\n- Estimated Capacity Factor (in %) OR Estimated Annual Production (in MWh)\n- Installed Capacity (MW)\n- Length of PPA ",{"$f":"IF(B34<>0,IF(ISBLANK(E34),\"NA\",E34),\" \")","v":" "}]
[]
[3,null,"Planned Utility-Scale Renewable Energy Projects"]
[null,1,"Does your country have an estimate of planned installed capacity expected to come online from-utility scale RE projects?",{"$f":"IF(B37<>0,IF(ISBLANK(E37),\"NA\",E37),\" \")","v":"NA"}]
[null,null,"How much installed capacity from RE is expected to come online in the next 3 years? (MW)",{"$f":"IF(B38<>0,IF(ISBLANK(E38),\"NA\",E38),\" \")","v":" "}]
[null,2,"How much renewable energy generation is expected to come online in the next 3 years? (MWh)",{"$f":"IF(B39<>0,IF(ISBLANK(E39),\"NA\",E39),\" \")","v":"NA"}]
[null,3,"Is climate resilience incorporated in your IRP or national policy?",{"$f":"IF(B40<>0,IF(ISBLANK(E40),\"NA\",E40),\" \")","v":"NA"}]
[null,null,"Please provide as much information as possible for RE projects currently under development in the box below as:\n- Project Name\n- Developer\n- Offtaker\n- Renewable Energy Technology Type\n- Start of Commercial Operation (Year)\n- Estimated Capacity Factor (in %) OR Estimated Annual Production (in MWh)\n- Installed Capacity (MW)\n- Length of PPA ",{"$f":"IF(B41<>0,IF(ISBLANK(E41),\"NA\",E41),\" \")","v":" "}]
[]
[4,null,"Electric Mobility"]
[null,1,"Does your country have policies in place or draft legislation to promote the uptake of electric mobility?",{"$f":"IF(B44<>0,IF(ISBLANK(E44),\"NA\",E44),\" \")","v":"No"},"No"]
[null,2,"Does your country have specific targets for the uptake of electric vehicles?",{"$f":"IF(B45<>0,IF(ISBLANK(E45),\"NA\",E45),\" \")","v":"No"},"No"]
[null,null,"What is the target and target year?",{"$f":"IF(B46<>0,IF(ISBLANK(E46),\"NA\",E46),\" \")","v":" "}]
[null,null,"How many electric cars are currently in your country?",{"$f":"IF(B47<>0,IF(ISBLANK(E47),\"NA\",E47),\" \")","v":" "}]
[null,null,"How many charging stations are in your country?",{"$f":"IF(B48<>0,IF(ISBLANK(E48),\"NA\",E48),\" \")","v":" "}]
[]
[null,null,"Descriptive CREF Index Survey"]
[null,null,"Enabling Environment for Renewable Energy (RE) Investments"]
[null,null,"Renewable energy strategy"]
[null,null,"Which of the rollowing renewable generation options is included in your country's strategic plan to develop renewable energy?\n- Solar PV\n- Offshore wind\n- Biomass\n- Waste to energy\n- Hydro\n-Geothermal\n- Other",{"$f":"E53","v":0},{"$f":"E6","v":0}]
[null,null,"What is the target and target year?",{"$f":"E54","v":0},{"$f":"E8","v":0}]
[null,null,"What is the current breakdown of your country's energy mix?",0,{"$f":"E9","v":0}]
[null,null,"Utilities"]
[null,null,"On average, how long does it take for the power utility to get investments in RE projects approved by the regulatory authority 9or the relevant entity) for recovery through tariffs?",{"$f":"E57","v":0},{"$f":"E15","v":0}]
[null,null,"Distributed Generation"]
[null,null,"What is the number of exisiting distributed scale RE systems in 2019?",{"$f":"E59","v":0},{"$f":"E24","v":0}]
[null,null,"What is the total installed capacity from renewable distributed generation in your country?",{"$f":"E60","v":0},{"$f":"E26","v":0}]
[null,null,"What was the total generation from exisitng distributed scale RE systems in 2019?",0,{"$f":"E27","v":0}]
[null,null,"Existing renewable generation"]
[null,null,"Existing Utility-Scale Renewable Energy Projects"]
[null,null,"What is the number of existing utility-scale RE projects?",{"$f":"E64","v":0},{"$f":"E31","v":0}]
[null,null,"What was the total electricity generated in 2019 (MWh)?",{"$f":"E65","v":0},0]
[null,null,"What was the total electricity generated from utility-scale RE projects in 2019 (MWh)?",0,0]
[null,null,"Please provide as much information as possible for exisitng RE projects in the box below as:\n- Project Name\n- Developer\n- Offtaker\n- Renewable Energy Technology Type\n- Start of Commercial Operation (Year)\n- Estimated Capacity Factor (in %) OR Estimated Annual Production (in MWh)\n- Installed Capacity (MW)\n- Length of PPA ",0,0]
[null,null,"Planned renewable generation"]
[null,null,"Potential Utility-Scale Renewable Energy Projects"]
[null,null,"How much installed capacity from RE is expected to come online in the next 3 years?",{"$f":"E70","v":0},{"$f":"E38","v":0}]
[null,null,"How much renewable energy generation is expected to come online in the next 3 years?",{"$f":"E71","v":0},{"$f":"E39","v":0}]
[null,null,"Please provide as much information as possible for RE projects currently under development in the box below as:\n- Project Name\n- Developer\n- Offtaker\n- Renewable Energy Technology Type\n- Start of Commercial Operation (Year)\n- Estimated Capacity Factor (in %) OR Estimated Annual Production (in MWh)\n- Installed Capacity (MW)\n- Length of PPA ",0,{"$f":"E41","v":0}]
[null,null,"Electric Mobility"]
[null,null,"What is the target and target year?",{"$f":"E74","v":0},{"$f":"E46","v":0}]
[null,null,"How many electric cars are currently in your country?",{"$f":"E75","v":0},{"$f":"E47","v":0}]
[null,null,"How many charging stations are in your country?",0,0]
[null,null,"Covid"]
[null,null,"Has any measure been implemented to respond to disruptions in revenue collections from electricity services (particularly given the current circumstances during the COVID pandemic)?",{"$f":"E78","v":0}]
[null,null,"If yes, to get a score on this kindly describe how the measure works and who is responsible for implementing it",{"$f":"E79","v":0}]
[null,null,"Outlook sentiment"]
[null,null,"How enthusiastic are you about the investment prospects in renewables, electric mobility, and resilience compared to this time last year, and why?",{"$f":"E81","v":0}]
[null,null,"Please elaborate on your reasoning for the previous response.",{"$f":"E82","v":0}]

{"sheet":"Suriname","index":27,"n_rows":82,"n_cols":5,"rows_kept":82,"cut":false,"hidden":true,"merged":[]}
[null,"Suriname"]
[null,null,"Overall Indicator"]
[1,null,"Enabling Environment for Renewable Energy (RE) Investments","Consolidated Survey Response"]
[null,null,"Government - Renewable Energy Strategy","Y/N"]
[null,1,"Does your country have a strategic plan to develop renewble energy?"]
[null,null,"Which of the following renewable generation options is includd in you country's strategic plan to develop renewable energy?",{"$f":"IF(B6<>0,IF(ISBLANK(E6),\"NA\",E6),\" \")","v":" "}]
[null,2,"Does your country have a specific target for renewable energy?",{"$f":"IF(B7<>0,IF(ISBLANK(E7),\"NA\",E7),\" \")","v":"Yes"},"Yes"]
[null,null,"If yes, what is the target and target year?"," "]
[null,null,"What is the current breakdown of your country's energy mix?"," "]
[null,3,"Does your country have an Integrated Resource Plan (IRP) that was produced within the last three years?","No","No"]
[null,null,"Utilities"]
[null,1,"When planning generation expansion, does the utility consider RE options?","NA"]
[null,2,"Can the utility safely recover RE investments through tariffs like it can recover fossil fuel costs?","NA"]
[null,3,"Are there clear, specific planning and permitting processes and rules in place for developing RE?","NA"]
[null,null,"On average, how long does it take for the power utility to get investments in RE projects approved by the regulatory authority (or relevant entity) fror recovery through tariffs?"," "]
[null,null,"IPPs"]
[null,1,"Can the utility safely recover purchases of RE from third parties, just as it recovers fossil fuel costs?","NA"]
[null,2,"Are there workable precedents or rules for PPA terms and grid operation rules?","NA"]
[null,3,"Are there clear and effective licensing processes and requirements in place for IPPs?","NA"]
[null,4,"Does the utility have an obligation to purchase from IPPs when it is cheaper than generating the power itself?","NA"]
[null,5,"Does the PPA have any take-or-pay arrangements?","NA"]
[null,null,"Distributed generation"]
[null,1,"Do you have a registry or database of distributed generation?","NA"]
[null,null,"What was the number of existing distributed scale RE systems in 2019?"," "]
[null,null,"Is there an aggregate maximum capacity for distributed generation?"," "]
[null,null,"What is the total installed capacity from renewable distributed generation in your country?"," "]
[null,null,"What was the total generation from existing distributed scale RE systems in 2019?"," "]
[null,2,"Is there a standard arrangement in place for customers to sell electricity to the utility at a reasonable price, for a reasonable timeframe, and with a clear interconnection agreement?","NA"]
[null,null,null," "]
[2,null,"Existing renewable generation"]
[null,null,"What is the number of existing Utility-Scale RE projects?"," "]
[null,1,"What was the total electricity generated in 2019? (MWh)","NA"]
[null,1,"What was the total electricity generated from Utility Scale RE projects in 2019? (MWh) ","NA"]
[null,null,"Please provide as much information as possible for exisitng RE projects in the box below as:\n- Project Name\n- Developer\n- Offtaker\n- Renewable Energy Technology Type\n- Start of Commercial Operation (Year)\n- Estimated Capacity Factor (in %) OR Estimated Annual Production (in MWh)\n- Installed Capacity (MW)\n- Length of PPA "," "]
[null,null,null," "]
[3,null,"Planned Utility-Scale Renewable Energy Projects"]
[null,1,"Does your country have an estimate of planned installed capacity expected to come online from-utility scale RE projects?","NA"]
[null,null,"How much installed capacity from RE is expected to come online in the next 3 years? (MW)"," "]
[null,2,"How much renewable energy generation is expected to come online in the next 3 years? (MWh)","NA"]
[null,3,"Is climate resilience incorporated in your IRP or national policy?","NA"]
[null,null,"Please provide as much information as possible for RE projects currently under development in the box below as:\n- Project Name\n- Developer\n- Offtaker\n- Renewable Energy Technology Type\n- Start of Commercial Operation (Year)\n- Estimated Capacity Factor (in %) OR Estimated Annual Production (in MWh)\n- Installed Capacity (MW)\n- Length of PPA "," "]
[null,null,null," "]
[4,null,"Electric Mobility"]
[null,1,"Does your country have policies in place or draft legislation to promote the uptake of electric mobility?","No","No"]
[null,2,"Does your country have specific targets for the uptake of electric vehicles?","No","No"]
[null,null,"What is the target and target year?"," "]
[null,null,"How many electric cars are currently in your country?"," "]
[null,null,"How many charging stations are in your country?"," "]
[]
[null,null,"Descriptive CREF Index Survey"]
[null,null,"Enabling Environment for Renewable Energy (RE) Investments"]
[null,null,"Renewable energy strategy"]
[null,null,"Which of the rollowing renewable generation options is included in your country's strategic plan to develop renewable energy?\n- Solar PV\n- Offshore wind\n- Biomass\n- Waste to energy\n- Hydro\n-Geothermal\n- Other",{"$f":"E53","v":0},{"$f":"E6","v":0}]
[null,null,"What is the target and target year?",{"$f":"E54","v":0},{"$f":"E8","v":0}]
[null,null,"What is the current breakdown of your country's energy mix?",0,{"$f":"E9","v":0}]
[null,null,"Utilities"]
[null,null,"On average, how long does it take for the power utility to get investments in RE projects approved by the regulatory authority 9or the relevant entity) for recovery through tariffs?",0,{"$f":"E15","v":0}]
[null,null,"Distributed Generation"]
[null,null,"What is the number of exisiting distributed scale RE systems in 2019?",0,{"$f":"E24","v":0}]
[null,null,"What is the total installed capacity from renewable distributed generation in your country?",0,{"$f":"E26","v":0}]
[null,null,"What was the total generation from exisitng distributed scale RE systems in 2019?",0,{"$f":"E27","v":0}]
[null,null,"Existing renewable generation"]
[null,null,"Existing Utility-Scale Renewable Energy Projects"]
[null,null,"What is the number of existing utility-scale RE projects?",0,{"$f":"E31","v":0}]
[null,null,"What was the total electricity generated in 2019 (MWh)?",0,{"$f":"E32","v":0}]
[null,null,"What was the total electricity generated from utility-scale RE projects in 2019 (MWh)?",0,{"$f":"E33","v":0}]
[null,null,"Please provide as much information as possible for exisitng RE projects in the box below as:\n- Project Name\n- Developer\n- Offtaker\n- Renewable Energy Technology Type\n- Start of Commercial Operation (Year)\n- Estimated Capacity Factor (in %) OR Estimated Annual Production (in MWh)\n- Installed Capacity (MW)\n- Length of PPA ",0,{"$f":"E34","v":0}]
[null,null,"Planned renewable generation"]
[null,null,"Potential Utility-Scale Renewable Energy Projects"]
[null,null,"How much installed capacity from RE is expected to come online in the next 3 years?",0,{"$f":"E38","v":0}]
[null,null,"How much renewable energy generation is expected to come online in the next 3 years?",0,{"$f":"E39","v":0}]
[null,null,"Please provide as much information as possible for RE projects currently under development in the box below as:\n- Project Name\n- Developer\n- Offtaker\n- Renewable Energy Technology Type\n- Start of Commercial Operation (Year)\n- Estimated Capacity Factor (in %) OR Estimated Annual Production (in MWh)\n- Installed Capacity (MW)\n- Length of PPA ",0,{"$f":"E41","v":0}]
[null,null,"Electric Mobility"]
[null,null,"What is the target and target year?",0,{"$f":"E46","v":0}]
[null,null,"How many electric cars are currently in your country?",0,{"$f":"E47","v":0}]
[null,null,"How many charging stations are in your country?",0,{"$f":"E48","v":0}]
[null,null,"Covid"]
[null,null,"Has any measure been implemented to respond to disruptions in revenue collections from electricity services (particularly given the current circumstances during the COVID pandemic)?",0]
[null,null,"If yes, to get a score on this kindly describe how the measure works and who is responsible for implementing it",0]
[null,null,"Outlook sentiment"]
[null,null,"How enthusiastic are you about the investment prospects in renewables, electric mobility, and resilience compared to this time last year, and why?",0]
[null,null,"Please elaborate on your reasoning for the previous response.",0]

{"sheet":"Trinidad_Tobago","index":28,"n_rows":82,"n_cols":5,"rows_kept":82,"cut":false,"hidden":false,"merged":[]}
[null,"Trinidad & Tobago"]
[null,null,"Overall Indicator",null,"Victor Rodriguez, Regulated Industries Commission"]
[1,null,"Enabling Environment for Renewable Energy (RE) Investments","Consolidated Survey Response","Respondent #18"]
[null,null,"Government - Renewable Energy Strategy","Y/N"]
[null,1,"Does your country have a strategic plan to develop renewable energy?"]
[null,null,"Which of the following renewable generation options is included in you country's strategic plan to develop renewable energy?",{"$f":"IF(B6<>0,IF(ISBLANK(E6),\"NA\",E6),\" \")","v":" "},"Solar PV, Onshore Wind"]
[null,2,"Does your country have a specific target for renewable energy?",{"$f":"IF(B7<>0,IF(ISBLANK(E7),\"NA\",E7),\" \")","v":"Yes"},"Yes"]
[null,null,"If yes, what is the target and target year?",{"$f":"IF(B8<>0,IF(ISBLANK(E8),\"NA\",E8),\" \")","v":" "},"10% of traditional generation capacity"]
[null,null,"What is the current breakdown of your country's energy mix?",{"$f":"IF(B9<>0,IF(ISBLANK(E9),\"NA\",E9),\" \")","v":" "},"Fossil fuels"]
[null,3,"Does your country have an Integrated Resource Plan (IRP) that was produced within the last three years?",{"$f":"IF(B10<>0,IF(ISBLANK(E10),\"NA\",E10),\" \")","v":"Yes"},"Yes"]
[null,null,"Utilities"]
[null,1,"When planning generation expansion, does the utility consider RE options?",{"$f":"IF(B12<>0,IF(ISBLANK(E12),\"NA\",E12),\" \")","v":"No"},"No"]
[null,2,"Can the utility safely recover RE investments through tariffs like it can recover fossil fuel costs?",{"$f":"IF(B13<>0,IF(ISBLANK(E13),\"NA\",E13),\" \")","v":"No"},"No"]
[null,3,"Are there clear, specific planning and permitting processes and rules in place for developing RE?",{"$f":"IF(B14<>0,IF(ISBLANK(E14),\"NA\",E14),\" \")","v":"No"},"No"]
[null,null,"On average, how long does it take for the power utility to get investments in RE projects approved by the regulatory authority (or relevant entity) for recovery through tariffs?",{"$f":"IF(B15<>0,IF(ISBLANK(E15),\"NA\",E15),\" \")","v":" "},"1-2 years"]
[null,null,"IPPs"]
[null,1,"Can the utility safely recover purchases of RE from third parties, just as it recovers fossil fuel costs?",{"$f":"IF(B17<>0,IF(ISBLANK(E17),\"NA\",E17),\" \")","v":"No"},"No"]
[null,2,"Are there workable precedents or rules for PPA terms and grid operation rules?",{"$f":"IF(B18<>0,IF(ISBLANK(E18),\"NA\",E18),\" \")","v":"No"},"No"]
[null,3,"Are there clear and effective licensing processes and requirements in place for IPPs?",{"$f":"IF(B19<>0,IF(ISBLANK(E19),\"NA\",E19),\" \")","v":"Yes"},"Yes"]
[null,4,"Does the utility have an obligation to purchase from IPPs when it is cheaper than generating the power itself?",{"$f":"IF(B20<>0,IF(ISBLANK(E20),\"NA\",E20),\" \")","v":"No"},"No"]
[null,5,"Does the PPA have any take-or-pay arrangements?",{"$f":"IF(B21<>0,IF(ISBLANK(E21),\"NA\",E21),\" \")","v":"Yes"},"Yes"]
[null,null,"Distributed generation"]
[null,1,"Do you have a registry or database of distributed generation?",{"$f":"IF(B23<>0,IF(ISBLANK(E23),\"NA\",E23),\" \")","v":"No"},"No"]
[null,null,"What was the number of existing distributed scale RE systems in 2019?"," ","NA"]
[null,null,"Is there an aggregate maximum capacity for distributed generation?"," ","No"]
[null,null,"What is the total installed capacity from renewable distributed generation in your country?"," ","0.03 MW"]
[null,null,"What was the total generation from existing distributed scale RE systems in 2019?"," ","0 MW"]
[null,2,"Is there a standard arrangement in place for customers to sell electricity to the utility at a reasonable price, for a reasonable timeframe, and with a clear interconnection agreement?","No","No"]
[]
[2,null,"Existing renewable generation"]
[null,null,"What is the number of existing Utility-Scale RE projects?",{"$f":"IF(B31<>0,IF(ISBLANK(E31),\"NA\",E31),\" \")","v":" "},0]
[null,1,"What was the total electricity generated in 2019? (MWh)",{"$f":"IF(B32<>0,IF(ISBLANK(E32),\"NA\",E32),\" \")","v":"NA"}]
[null,1,"What was the total electricity generated from Utility Scale RE projects in 2019? (MWh) ",{"$f":"IF(B33<>0,IF(ISBLANK(E33),\"NA\",E33),\" \")","v":0},0]
[null,null,"Please provide as much information as possible for existing RE projects in the box below as:\n- Project Name\n- Developer\n- Offtaker\n- Renewable Energy Technology Type\n- Start of Commercial Operation (Year)\n- Estimated Capacity Factor (in %) OR Estimated Annual Production (in MWh)\n- Installed Capacity (MW)\n- Length of PPA ",null,"NA"]
[null,null,null,{"$f":"IF(B35<>0,IF(ISBLANK(E35),\"NA\",E35),\" \")","v":" "}]
[3,null,"Planned Utility-Scale Renewable Energy Projects"]
[null,1,"Does your country have an estimate of planned installed capacity expected to come online from-utility scale RE projects?",{"$f":"IF(B37<>0,IF(ISBLANK(E37),\"NA\",E37),\" \")","v":"Yes"},"Yes"]
[null,null,"How much installed capacity from RE is expected to come online in the next 3 years? (MW)"," ",200]
[null,2,"How much renewable energy generation is expected to come online in the next 3 years? (MWh)","NA","NA"]
[null,3,"Is climate resilience incorporated in your IRP or national policy?","No","No"]
[null,null,"Please provide as much information as possible for RE projects currently under development in the box below as:\n- Project Name\n- Developer\n- Offtaker\n- Renewable Energy Technology Type\n- Start of Commercial Operation (Year)\n- Estimated Capacity Factor (in %) OR Estimated Annual Production (in MWh)\n- Installed Capacity (MW)\n- Length of PPA "," ","NA"]
[null,null,null," "]
[4,null,"Electric Mobility"]
[null,1,"Does your country have policies in place or draft legislation to promote the uptake of electric mobility?",{"$f":"IF(B44<>0,IF(ISBLANK(E44),\"NA\",E44),\" \")","v":"Yes"},"Yes"]
[null,2,"Does your country have specific targets for the uptake of electric vehicles?",{"$f":"IF(B45<>0,IF(ISBLANK(E45),\"NA\",E45),\" \")","v":"No"},"No"]
[null,null,"What is the target and target year?",{"$f":"IF(B46<>0,IF(ISBLANK(E46),\"NA\",E46),\" \")","v":" "},"NA"]
[null,null,"How many electric cars are currently in your country?",{"$f":"IF(B47<>0,IF(ISBLANK(E47),\"NA\",E47),\" \")","v":" "},"50 to 75"]
[null,null,"How many charging stations are in your country?",{"$f":"IF(B48<>0,IF(ISBLANK(E48),\"NA\",E48),\" \")","v":" "},"5 to 10"]
[]
[null,null,"Descriptive CREF Index Survey"]
[null,null,"Enabling Environment for Renewable Energy (RE) Investments"]
[null,null,"Renewable energy strategy"]
[null,null,"Which of the following renewable generation options is included in your country's strategic plan to develop renewable energy?\n- Solar PV\n- Offshore wind\n- Biomass\n- Waste to energy\n- Hydro\n-Geothermal\n- Other",{"$f":"E53","v":"Solar PV, Onshore Wind"},{"$f":"E6","v":"Solar PV, Onshore Wind"}]
[null,null,"What is the target and target year?",{"$f":"E54","v":"10% of traditional generation capacity"},{"$f":"E8","v":"10% of traditional generation capacity"}]
[null,null,"What is the current breakdown of your country's energy mix?",{"$f":"E55","v":"Fossil fuels"},{"$f":"E9","v":"Fossil fuels"}]
[null,null,"Utilities"]
[null,null,"On average, how long does it take for the power utility to get investments in RE projects approved by the regulatory authority 9or the relevant entity) for recovery through tariffs?",{"$f":"E57","v":"1-2 years"},{"$f":"E15","v":"1-2 years"}]
[null,null,"Distributed Generation"]
[null,null,"What is the number of existing distributed scale RE systems in 2019?",{"$f":"E59","v":"NA"},{"$f":"E24","v":"NA"}]
[null,null,"What is the total installed capacity from renewable distributed generation in your country?",{"$f":"E60","v":"0.03 MW"},{"$f":"E26","v":"0.03 MW"}]
[null,null,"What was the total generation from existing distributed scale RE systems in 2019?","0 MW",{"$f":"E27","v":"0 MW"}]
[null,null,"Existing renewable generation"]
[null,null,"Existing Utility-Scale Renewable Energy Projects"]
[null,null,"What is the number of existing utility-scale RE projects?",{"$f":"E64","v":0},{"$f":"E31","v":0}]
[null,null,"What was the total electricity generated in 2019 (MWh)?",{"$f":"E65","v":0},{"$f":"E32","v":0}]
[null,null,"What was the total electricity generated from utility-scale RE projects in 2019 (MWh)?",0,0]
[null,null,"Please provide as much information as possible for existing RE projects in the box below as:\n- Project Name\n- Developer\n- Offtaker\n- Renewable Energy Technology Type\n- Start of Commercial Operation (Year)\n- Estimated Capacity Factor (in %) OR Estimated Annual Production (in MWh)\n- Installed Capacity (MW)\n- Length of PPA ","NA","NA"]
[null,null,"Planned renewable generation"]
[null,null,"Potential Utility-Scale Renewable Energy Projects"]
[null,null,"How much installed capacity from RE is expected to come online in the next 3 years?",{"$f":"E70","v":"NA"},{"$f":"E39","v":"NA"}]
[null,null,"How much renewable energy generation is expected to come online in the next 3 years?",{"$f":"E71","v":"NA"},{"$f":"E39","v":"NA"}]
[null,null,"Please provide as much information as possible for RE projects currently under development in the box below as:\n- Project Name\n- Developer\n- Offtaker\n- Renewable Energy Technology Type\n- Start of Commercial Operation (Year)\n- Estimated Capacity Factor (in %) OR Estimated Annual Production (in MWh)\n- Installed Capacity (MW)\n- Length of PPA ","NA",{"$f":"E41","v":"NA"}]
[null,null,"Electric Mobility"]
[null,null,"What is the target and target year?",{"$f":"E74","v":"NA"},{"$f":"E46","v":"NA"}]
[null,null,"How many electric cars are currently in your country?",{"$f":"E75","v":"50 to 75"},{"$f":"E47","v":"50 to 75"}]
[null,null,"How many charging stations are in your country?","5 to 10",{"$f":"E48","v":"5 to 10"}]
[null,null,"Covid"]
[null,null,"Has any measure been implemented to respond to disruptions in revenue collections from electricity services (particularly given the current circumstances during the COVID pandemic)?",{"$f":"E78","v":"No"},"No"]
[null,null,"If yes, to get a score on this kindly describe how the measure works and who is responsible for implementing it",{"$f":"E79","v":"NA"},"NA"]
[null,null,"Outlook sentiment"]
[null,null,"How enthusiastic are you about the investment prospects in renewables, electric mobility, and resilience compared to this time last year, and why?",{"$f":"E81","v":"Same"},"Same"]
[null,null,"Please elaborate on your reasoning for the previous response.",{"$f":"E82","v":"While it is one of the government's target, to increase renewables and electric mobility, not much has been done in the last year and government has not mentioned much about these projects in their annual address nor budget."},"While it is one of the government's target, to increase renewables and electric mobility, not much has been done in the last year and government has not mentioned much about these projects in their annual address nor budget."]

{"sheet":"2019 Response Template","index":29,"n_rows":120,"n_cols":7,"rows_kept":120,"cut":false,"hidden":true,"merged":[[0,3,0,6],[1,8,1,14],[28,4,28,5],[51,4,51,5],[4,4,4,5],[13,4,13,5],[12,4,12,5],[11,4,11,5],[14,4,14,5],[46,4,46,5],[47,4,47,5],[48,4,48,5],[16,7,21,7],[23,4,23,5],[33,4,33,5],[58,4,58,5],[60,4,60,5],[1,4,1,5],[69,4,69,5],[62,4,62,5],[63,4,63,5],[64,4,64,5],[67,4,67,5],[68,4,68,5],[73,4,73,5],[77,4,77,5],[78,4,78,5],[79,4,79,5],[82,4,82,5]]}
[]
[null,null,null,null,"Overall Indicator"]
[null,null,1,null,"Enabling Environment for Renewable Energy (RE) Investments"]
[null,null,null,null,"Government - Renewable Energy Strategy",null,"Y/N"]
[null,null,null,1,"Does your country have a strategic plan to develop renewble energy?",null,"Y if check any of the boxes"]
[null,null,null,null,"Which of the following renewable generation options is includd in you country's strategic plan to develop renewable energy?"]
[null,4,null,2,"Does your country have a specific target for renewable energy?"]
[null,null,null,null,"If yes, what is the target and target year?"]
[null,null,null,null,"What is the current breakdown of your country's energy mix?"]
[null,5,null,3,"Does your country have an Integrated Resource Plan (IRP) that was produced within the last three years?"]
[null,null,null,null,"Utilities",null,"Y/N"]
[null,6,null,1,"When planning generation expansion, does the utility consider RE options?"]
[null,null,null,2,"Can the utility safely recover RE investments through tariffs like it can recover fossil fuel costs?"]
[null,9,null,3,"Are there clear, specific planning and permitting processes and rules in place for developing RE?"]
[null,null,null,null,"On average, how long does it take for the power utility to get investments in RE projects approved by the regulatory authority (or relevant entity) fror recovery through tariffs?"]
[null,null,null,null,"IPPs",null,"Y/N"]
[null,12,null,1,"Can the utility safely recover purchases of RE from third parties, just as it recovers fossil fuel costs?"]
[null,null,null,null,"How long did it take to get your off-take agreement?"]
[null,14,null,2,"Are there workable precedents or rules for PPA terms and grid operation rules?"]
[null,15,null,3,"Are there clear and effective licensing processes and requirements in place for IPPs?"]
[null,16,null,4,"Does the utility have an obligation to purchase from IPPs when it is cheaper than generating the power itself?"]
[null,17,null,5,"Does the PPA have any take-or-pay arrangements?"]
[null,null,null,null,"Distributed generation",null,"Y/N"]
[null,null,null,1,"Do you have a registry or database of distributed generation?"]
[null,null,null,null,"What was the number of existing distributed scale RE systems in 2018?"]
[null,null,null,null,"Is there an aggregate maximum capacity for distributed generation?"]
[null,null,null,null,"What is the total installed capacity from renewable distributed generation in your country?"]
[null,null,null,null,"What was the total generation from existing distributed scale RE systems in 2018?"]
[null,null,null,2,"Is there a standard arrangement in place for customers to sell electricity to the utility at a reasonable price, for a reasonable timeframe, and with a clear interconnection agreement?"]
[]
[null,null,2,null,"Existing renewable generation"]
[null,24,null,null,"What is the number of existing Utility-Scale RE projects?"]
[null,22,null,null,"What was the total electricity generated in 2018? (MWh)"]
[null,23,null,1,"What was the total electricity generated from Utility Scale RE projects in 2018? (MWh) "]
[null,null,null,null,"Please provide as much information as possible for exisitng RE projects in the box below as:\n- Project Name\n- Developer\n- Offtaker\n- Renewable Energy Technology Type\n- Start of Commercial Operation (Year)\n- Estimated Capacity Factor (in %) OR Estimated Annual Production (in MWh)\n- Installed Capacity (MW)\n- Length of PPA "]
[]
[null,null,3,null,"Planned Utility-Scale Renewable Energy Projects"]
[null,32,null,1,"Does your country have an estimate of planned installed capacity expected to come online from-utility scale RE projects?"]
[null,null,null,null,"How much installed capacity from RE is expected to come online in the next 3 years?"]
[null,null,null,2,"How much renewable energy generation is expected to come online in the next 3 years?"]
[null,null,null,3,"Is climate resilience incorporated in your IRP or national policy?"]
[null,null,null,null,"Please provide as much information as possible for RE projects currently under development in the box below as:\n- Project Name\n- Developer\n- Offtaker\n- Renewable Energy Technology Type\n- Start of Commercial Operation (Year)\n- Estimated Capacity Factor (in %) OR Estimated Annual Production (in MWh)\n- Installed Capacity (MW)\n- Length of PPA "]
[]
[null,null,4,null,"Electric Mobility"]
[null,null,null,1,"Does your country have policies in place or draft legislation to promote the uptake of electric mobility?"]
[null,null,null,2,"Does your country have specific targets for the uptake of electric vehicles?"]
[null,null,null,null,"What is the target and target year?"]
[null,null,null,null,"How many electric cars are currently in your country?"]
[null,null,null,null,"How many charging stations are in your country?"]
[]
[]
[null,null,null,null,"Descriptive CREF Index Survey"]
[null,null,null,null,"Enabling Environment for Renewable Energy (RE) Investments"]
[null,null,null,null,"Renewable energy strategy"]
[null,null,null,null,"Which of the rollowing renewable generation options is included in your country's strategic plan to develop renewable energy?\n- Solar PV\n- Offshore wind\n- Biomass\n- Waste to energy\n- Hydro\n-Geothermal\n- Other",null,{"$f":"G6","v":0}]
[null,null,null,null,"What is the target and target year?",null,{"$f":"G8","v":0}]
[null,null,null,null,"What is the current breakdown of your country's energy mix?",null,{"$f":"G9","v":0}]
[null,null,null,null,"Utilities"]
[null,null,null,null,"On average, how long does it take for the power utility to get investments in RE projects approved by the regulatory authority 9or the relevant entity) for recovery through tariffs?",null,{"$f":"G15","v":0}]
[null,null,null,null,"IPPs"]
[null,null,null,null,"How long did it take to get your off-take agreement?",null,{"$f":"G18","v":0}]
[null,null,null,null,"Distributed Generation"]
[null,null,null,null,"What is the number of exisiting distributed scale RE systems in 2018?",null,{"$f":"G25","v":0}]
[null,null,null,null,"What is the total installed capacity from renewable distributed generation in your country?",null,{"$f":"G27","v":0}]
[null,null,null,null,"What was the total generation from exisitng distributed scale RE systems in 2018?",null,{"$f":"G28","v":0}]
[null,null,null,null,"Existing renewable generation"]
[null,null,null,null,"Existing Utility-Scale Renewable Energy Projects"]
[null,null,null,null,"What is the number of existing utility-scale RE projects?",null,{"$f":"G32","v":0}]
[null,null,null,null,"What was the total electricity generated in 2018 (MWh)?",null,{"$f":"G33","v":0}]
[null,null,null,null,"What was the total electricity generated from utility-scale RE projects in 2018 (MWh)?",null,{"$f":"G34","v":0}]
[null,27,null,null,"Please provide as much information as possible for exisitng RE projects in the box below as:\n- Project Name\n- Developer\n- Offtaker\n- Renewable Energy Technology Type\n- Start of Commercial Operation (Year)\n- Estimated Capacity Factor (in %) OR Estimated Annual Production (in MWh)\n- Installed Capacity (MW)\n- Length of PPA ",null,{"$f":"G35","v":0}]
[null,null,null,null,"Planned renewable generation"]
[null,null,null,null,"Potential Utility-Scale Renewable Energy Projects"]
[null,null,null,null,"How much installed capacity from RE is expected to come online in the next 3 years?",null,{"$f":"G39","v":0}]
[null,null,null,null,"How much renewable energy generation is expected to come online in the next 3 years?",null,{"$f":"G40","v":0}]
[null,35,null,null,"Please provide as much information as possible for RE projects currently under development in the box below as:\n- Project Name\n- Developer\n- Offtaker\n- Renewable Energy Technology Type\n- Start of Commercial Operation (Year)\n- Estimated Capacity Factor (in %) OR Estimated Annual Production (in MWh)\n- Installed Capacity (MW)\n- Length of PPA ",null,{"$f":"G42","v":0}]
[null,null,null,null,"Electric Mobility"]
[null,null,null,null,"What is the target and target year?",null,{"$f":"G47","v":0}]
[null,null,null,null,"How many electric cars are currently in your country?",null,{"$f":"G48","v":0}]
[null,null,null,null,"How many charging stations are in your country?",null,0]
[]
[]
[null,null,null,null,"Improvement Year-on-Year"]
[null,null,null,null,"Enabling environment for renewable energy investments","Change",{"$f":"IF(ISERR(G90-G89),\"\",G90-G89)","v":""}]
[null,null,null,null,"2012 Score","0 to 5",2.3333333333333335]
[null,null,null,null,"2013 Score","0 to 5",2.3333333333333335]
[null,null,null,null,"2014 Score","0 to 5",2.3333333333333335]
[null,null,null,null,"2015 Score","0 to 5",2.3333333333333335]
[null,null,null,null,"2016 Score","0 to 5",1.3333333333333333]
[null,null,null,null,"2017 Score","0 to 5",{"$f":"#REF!","v":{"$error":"#REF!"}}]
[null,null,null,null,"Existing renewable generation","Change",{"$f":"IF(ISERR(G97-G96),\"\",G97-G96)","v":""}]
[null,null,null,null,"2012 Score","0 to 5",0.01]
[null,null,null,null,"2013 Score","0 to 5",0]
[null,null,null,null,"2014 Score","0 to 5",8.4686434362367599E-2]
[null,null,null,null,"2015 Score","0 to 5",6.7815814156560753E-2]
[null,null,null,null,"2016 Score","0 to 5",{"$f":"#REF!","v":{"$error":"#REF!"}}]
[null,null,null,null,"2017 Score","0 to 5",{"$f":"#REF!","v":{"$error":"#REF!"}}]
[null,null,null,null,"2013 Old Method Score","0 to 5"]
[null,null,null,null,"Planned renewable generation","Change",{"$f":"IF(ISERR(G105-G104),\"\",G105-G104)","v":""}]
[null,null,null,null,"2012 Score","0 to 5",0.26]
[null,null,null,null,"2013 Score","0 to 5",6.3811188811188815E-2]
[null,null,null,null,"2014 Score","0 to 5",0.17561119865884323]
[null,null,null,null,"2015 Score","0 to 5",0.24491375533524537]
[null,null,null,null,"2016 Score","0 to 5",0]
[null,null,null,null,"2017 Score","0 to 5",{"$f":"#REF!","v":{"$error":"#REF!"}}]
[null,null,null,null,"2013 Old Method Score","0 to 5"]
[null,null,null,null,"Overall Score Year-on-Year"]
[null,null,null,null,"2012 Overall Score",null,{"$f":" (1/3) * G85 + (1/3) * G92 + (1/3) * G100","v":0.86777777777777776}]
[null,null,null,null,"2012 Rank"]
[null,null,null,null,"2013 Overall Score",null,{"$f":" (1/3) * G86 + (1/3) * G93 + (1/3) * G101","v":0.79904817404817408}]
[null,null,null,null,"2013 Rank"]
[null,null,null,null,"2014 Overall Score",null,{"$f":" (1/3) * G87 + (1/3) * G94 + (1/3) * G102","v":0.86454365545151468}]
[null,null,null,null,"2014 Rank"]
[null,null,null,null,"2015 Overall Score",null,{"$f":" (1/3) * G88 + (1/3) * G95 + (1/3) * G103","v":0.88202096760837989}]
[null,null,null,null,"2015 Rank"]
[null,null,null,null,"2016 Overall Score",null,{"$f":" (1/3) * G89 + (1/3) * G96 + (1/3) * G104","v":{"$error":"#REF!"}}]
[null,null,null,null,"2016 Rank"]
[null,null,null,null,"2017 Overall Score",null,{"$f":" (1/3) * G90 + (1/3) * G97 + (1/3) * G105","v":{"$error":"#REF!"}}]
[null,null,null,null,"2017 Rank"]
[null,null,null,null,"Rank change from 2017 to 2016"]

{"sheet":"Turks_and_Caicos","index":30,"n_rows":82,"n_cols":5,"rows_kept":82,"cut":false,"hidden":false,"merged":[]}
[null,"Turks and Caicos Islands"]
[null,null,"Overall Indicator",null,"Rachell Salao Roullet, Fortis TCI"]
[1,null,"Enabling Environment for Renewable Energy (RE) Investments","Consolidated Survey Response","Respondent #5"]
[null,null,"Government - Renewable Energy Strategy","Y/N"]
[null,1,"Does your country have a strategic plan to develop renewable energy?"]
[null,null,"Which of the following renewable generation options is included in you country's strategic plan to develop renewable energy?",{"$f":"IF(B6<>0,IF(ISBLANK(E6),\"NA\",E6),\" \")","v":" "},"Solar PV, Onshore Wind, Waste-to-Energy"]
[null,2,"Does your country have a specific target for renewable energy?",{"$f":"IF(B7<>0,IF(ISBLANK(E7),\"NA\",E7),\" \")","v":"Yes"},"Yes"]
[null,null,"If yes, what is the target and target year?",{"$f":"IF(B8<>0,IF(ISBLANK(E8),\"NA\",E8),\" \")","v":" "},"33% by 2040"]
[null,null,"What is the current breakdown of your country's energy mix?",{"$f":"IF(B9<>0,IF(ISBLANK(E9),\"NA\",E9),\" \")","v":" "},"99% Diesel, 1% Solar"]
[null,3,"Does your country have an Integrated Resource Plan (IRP) that was produced within the last three years?",{"$f":"IF(B10<>0,IF(ISBLANK(E10),\"NA\",E10),\" \")","v":"Yes"},"Yes"]
[null,null,"Utilities"]
[null,1,"When planning generation expansion, does the utility consider RE options?",{"$f":"IF(B12<>0,IF(ISBLANK(E12),\"NA\",E12),\" \")","v":"Yes"},"Yes"]
[null,2,"Can the utility safely recover RE investments through tariffs like it can recover fossil fuel costs?",{"$f":"IF(B13<>0,IF(ISBLANK(E13),\"NA\",E13),\" \")","v":"No"},"No"]
[null,3,"Are there clear, specific planning and permitting processes and rules in place for developing RE?",{"$f":"IF(B14<>0,IF(ISBLANK(E14),\"NA\",E14),\" \")","v":"No"},"No"]
[null,null,"On average, how long does it take for the power utility to get investments in RE projects approved by the regulatory authority (or relevant entity) for recovery through tariffs?",{"$f":"IF(B15<>0,IF(ISBLANK(E15),\"NA\",E15),\" \")","v":" "},"NA"]
[null,null,"IPPs"]
[null,1,"Can the utility safely recover purchases of RE from third parties, just as it recovers fossil fuel costs?",{"$f":"IF(B17<>0,IF(ISBLANK(E17),\"NA\",E17),\" \")","v":"No"},"No"]
[null,2,"Are there workable precedents or rules for PPA terms and grid operation rules?",{"$f":"IF(B18<>0,IF(ISBLANK(E18),\"NA\",E18),\" \")","v":"No"},"No"]
[null,3,"Are there clear and effective licensing processes and requirements in place for IPPs?",{"$f":"IF(B19<>0,IF(ISBLANK(E19),\"NA\",E19),\" \")","v":"No"},"No"]
[null,4,"Does the utility have an obligation to purchase from IPPs when it is cheaper than generating the power itself?",{"$f":"IF(B20<>0,IF(ISBLANK(E20),\"NA\",E20),\" \")","v":"No"},"No"]
[null,5,"Does the PPA have any take-or-pay arrangements?",{"$f":"IF(B21<>0,IF(ISBLANK(E21),\"NA\",E21),\" \")","v":"No"},"No"]
[null,null,"Distributed generation"]
[null,1,"Do you have a registry or database of distributed generation?",{"$f":"IF(B23<>0,IF(ISBLANK(E23),\"NA\",E23),\" \")","v":"Yes"},"Yes"]
[null,null,"What was the number of existing distributed scale RE systems in 2019?"," ",10]
[null,null,"Is there an aggregate maximum capacity for distributed generation?"," ","No"]
[null,null,"What is the total installed capacity from renewable distributed generation in your country?"," ","1.03MW"]
[null,null,"What was the total generation from existing distributed scale RE systems in 2019?"," ","1,000 MWh"]
[null,2,"Is there a standard arrangement in place for customers to sell electricity to the utility at a reasonable price, for a reasonable timeframe, and with a clear interconnection agreement?","Yes","Yes"]
[null,null,null," "]
[2,null,"Existing renewable generation"]
[null,null,"What is the number of existing Utility-Scale RE projects?",{"$f":"IF(B31<>0,IF(ISBLANK(E31),\"NA\",E31),\" \")","v":" "},0]
[null,1,"What was the total electricity generated in 2019? (MWh)",{"$f":"IF(B32<>0,IF(ISBLANK(E32),\"NA\",E32),\" \")","v":250700},250700]
[null,1,"What was the total electricity generated from Utility Scale RE projects in 2019? (MWh) ",{"$f":"IF(B33<>0,IF(ISBLANK(E33),\"NA\",E33),\" \")","v":0},0]
[null,null,"Please provide as much information as possible for existing RE projects in the box below as:\n- Project Name\n- Developer\n- Offtaker\n- Renewable Energy Technology Type\n- Start of Commercial Operation (Year)\n- Estimated Capacity Factor (in %) OR Estimated Annual Production (in MWh)\n- Installed Capacity (MW)\n- Length of PPA ",null,"Project: UORE and CORE Program\nDeveloper: FortisTCI\nRE technology type: Solar\nStart: Ongoing\nEst. Capacity Factor: 17%\nInstalled capacity: 500 kW\nLength of PPA: Not applicable"]
[null,null,null,{"$f":"IF(B35<>0,IF(ISBLANK(E35),\"NA\",E35),\" \")","v":" "}]
[3,null,"Planned Utility-Scale Renewable Energy Projects"]
[null,1,"Does your country have an estimate of planned installed capacity expected to come online from-utility scale RE projects?",{"$f":"IF(B37<>0,IF(ISBLANK(E37),\"NA\",E37),\" \")","v":"Yes"},"Yes"]
[null,null,"How much installed capacity from RE is expected to come online in the next 3 years? (MW)"," ",5]
[null,2,"How much renewable energy generation is expected to come online in the next 3 years? (MWh)",8000,8000]
[null,3,"Is climate resilience incorporated in your IRP or national policy?","Yes","Yes"]
[null,null,"Please provide as much information as possible for RE projects currently under development in the box below as:\n- Project Name\n- Developer\n- Offtaker\n- Renewable Energy Technology Type\n- Start of Commercial Operation (Year)\n- Estimated Capacity Factor (in %) OR Estimated Annual Production (in MWh)\n- Installed Capacity (MW)\n- Length of PPA "," ","Project Name: 1MW Utility Scale in PNSG\nDeveloper: FortisTCI\nRE Tech: Solar\nStart: 2022\nEst. CF: 17%\nInstalled Capacity 1MW\nLength of PPA: Not applicable (utility-owned)"]
[null,null,null," "]
[4,null,"Electric Mobility"]
[null,1,"Does your country have policies in place or draft legislation to promote the uptake of electric mobility?",{"$f":"IF(B44<>0,IF(ISBLANK(E44),\"NA\",E44),\" \")","v":"No"},"No"]
[null,2,"Does your country have specific targets for the uptake of electric vehicles?","No","No"]
[null,null,"What is the target and target year?"," ","None"]
[null,null,"How many electric cars are currently in your country?"," ",5]
[null,null,"How many charging stations are in your country?"," ",1]
[null,null,null," "]
[null,null,"Descriptive CREF Index Survey","Descriptive CREF Index Survey"]
[null,null,"Enabling Environment for Renewable Energy (RE) Investments"]
[null,null,"Renewable energy strategy"]
[null,null,"Which of the following renewable generation options is included in your country's strategic plan to develop renewable energy?\n- Solar PV\n- Offshore wind\n- Biomass\n- Waste to energy\n- Hydro\n-Geothermal\n- Other",{"$f":"E53","v":"Solar PV, Onshore Wind, Waste-to-Energy"},{"$f":"E6","v":"Solar PV, Onshore Wind, Waste-to-Energy"}]
[null,null,"What is the target and target year?",{"$f":"E54","v":"33% by 2040"},{"$f":"E8","v":"33% by 2040"}]
[null,null,"What is the current breakdown of your country's energy mix?","Yes",{"$f":"E10","v":"Yes"}]
[null,null,"Utilities"]
[null,null,"On average, how long does it take for the power utility to get investments in RE projects approved by the regulatory authority 9or the relevant entity) for recovery through tariffs?","NA",{"$f":"E15","v":"NA"}]
[null,null,"Distributed Generation"]
[null,null,"What is the number of existing distributed scale RE systems in 2019?",10,{"$f":"E24","v":10}]
[null,null,"What is the total installed capacity from renewable distributed generation in your country?","1.03MW",{"$f":"E26","v":"1.03MW"}]
[null,null,"What was the total generation from existing distributed scale RE systems in 2019?","1,000 MWh",{"$f":"E27","v":"1,000 MWh"}]
[null,null,"Existing renewable generation"]
[null,null,"Existing Utility-Scale Renewable Energy Projects"]
[null,null,"What is the number of existing utility-scale RE projects?",0,{"$f":"E31","v":0}]
[null,null,"What was the total electricity generated in 2019 (MWh)?",250700,{"$f":"E32","v":250700}]
[null,null,"What was the total electricity generated from utility-scale RE projects in 2019 (MWh)?",0,{"$f":"E33","v":0}]
[null,null,"Please provide as much information as possible for existing RE projects in the box below as:\n- Project Name\n- Developer\n- Offtaker\n- Renewable Energy Technology Type\n- Start of Commercial Operation (Year)\n- Estimated Capacity Factor (in %) OR Estimated Annual Production (in MWh)\n- Installed Capacity (MW)\n- Length of PPA ","Project: UORE and CORE Program\nDeveloper: FortisTCI\nRE technology type: Solar\nStart: Ongoing\nEst. Capacity Factor: 17%\nInstalled capacity: 500 kW\nLength of PPA: Not applicable",{"$f":"E34","v":"Project: UORE and CORE Program\nDeveloper: FortisTCI\nRE technology type: Solar\nStart: Ongoing\nEst. Capacity Factor: 17%\nInstalled capacity: 500 kW\nLength of PPA: Not applicable"}]
[null,null,"Planned renewable generation"]
[null,null,"Potential Utility-Scale Renewable Energy Projects"]
[null,null,"How much installed capacity from RE is expected to come online in the next 3 years?",5,{"$f":"E38","v":5}]
[null,null,"How much renewable energy generation is expected to come online in the next 3 years?",8000,{"$f":"E39","v":8000}]
[null,null,"Please provide as much information as possible for RE projects currently under development in the box below as:\n- Project Name\n- Developer\n- Offtaker\n- Renewable Energy Technology Type\n- Start of Commercial Operation (Year)\n- Estimated Capacity Factor (in %) OR Estimated Annual Production (in MWh)\n- Installed Capacity (MW)\n- Length of PPA ","Project Name: 1MW Utility Scale in PNSG\nDeveloper: FortisTCI\nRE Tech: Solar\nStart: 2022\nEst. CF: 17%\nInstalled Capacity 1MW\nLength of PPA: Not applicable (utility-owned)",{"$f":"E41","v":"Project Name: 1MW Utility Scale in PNSG\nDeveloper: FortisTCI\nRE Tech: Solar\nStart: 2022\nEst. CF: 17%\nInstalled Capacity 1MW\nLength of PPA: Not applicable (utility-owned)"}]
[null,null,"Electric Mobility"]
[null,null,"What is the target and target year?","None",{"$f":"E46","v":"None"}]
[null,null,"How many electric cars are currently in your country?",5,{"$f":"E47","v":5}]
[null,null,"How many charging stations are in your country?",1,{"$f":"E48","v":1}]
[null,null,"Covid"]
[null,null,"Has any measure been implemented to respond to disruptions in revenue collections from electricity services (particularly given the current circumstances during the COVID pandemic)?","No","No"]
[null,null,"If yes, to get a score on this kindly describe how the measure works and who is responsible for implementing it","NA","NA"]
[null,null,"Outlook sentiment"]
[null,null,"How enthusiastic are you about the investment prospects in renewables, electric mobility, and resilience compared to this time last year, and why?","Same","Same"]
[null,null,"Please elaborate on your reasoning for the previous response.","Based on observation, it will be the same level but change in who will implement or will still push with the plan.  In TCI, those businesses that are being affected by the current pandemic has hold off to projects e.g. changing their fleet to EVs.  However, those who are just in the process of constructing their business e.g. hotel in construction has continued their plans and even benefited with stimulus provided during lockdown period e.g. discount in custom fees and other government fees.\n","Based on observation, it will be the same level but change in who will implement or will still push with the plan.  In TCI, those businesses that are being affected by the current pandemic has hold off to projects e.g. changing their fleet to EVs.  However, those who are just in the process of constructing their business e.g. hotel in construction has continued their plans and even benefited with stimulus provided during lockdown period e.g. discount in custom fees and other government fees.\n"]

{"sheet":"USVI","index":31,"n_rows":82,"n_cols":5,"rows_kept":82,"cut":false,"hidden":true,"merged":[[1,5,1,11]]}
[null,"US Vigin Islands"]
[null,null,"Overall Indicator"]
[1,null,"Enabling Environment for Renewable Energy (RE) Investments","Consolidated Survey Response"]
[null,null,"Government - Renewable Energy Strategy","Y/N"]
[null,1,"Does your country have a strategic plan to develop renewble energy?"]
[null,null,"Which of the following renewable generation options is includd in you country's strategic plan to develop renewable energy?",{"$f":"IF(B6<>0,IF(ISBLANK(E6),\"NA\",E6),\" \")","v":" "}]
[null,2,"Does your country have a specific target for renewable energy?",{"$f":"IF(B7<>0,IF(ISBLANK(E7),\"NA\",E7),\" \")","v":"Yes"},"Yes"]
[null,null,"If yes, what is the target and target year?",{"$f":"IF(B8<>0,IF(ISBLANK(E8),\"NA\",E8),\" \")","v":" "}]
[null,null,"What is the current breakdown of your country's energy mix?",{"$f":"IF(B9<>0,IF(ISBLANK(E9),\"NA\",E9),\" \")","v":" "}]
[null,3,"Does your country have an Integrated Resource Plan (IRP) that was produced within the last three years?",{"$f":"IF(B10<>0,IF(ISBLANK(E10),\"NA\",E10),\" \")","v":"No"},"No"]
[null,null,"Utilities","Y/N"]
[null,1,"When planning generation expansion, does the utility consider RE options?",{"$f":"IF(B12<>0,IF(ISBLANK(E12),\"NA\",E12),\" \")","v":"NA"}]
[null,2,"Can the utility safely recover RE investments through tariffs like it can recover fossil fuel costs?",{"$f":"IF(B13<>0,IF(ISBLANK(E13),\"NA\",E13),\" \")","v":"NA"}]
[null,3,"Are there clear, specific planning and permitting processes and rules in place for developing RE?",{"$f":"IF(B14<>0,IF(ISBLANK(E14),\"NA\",E14),\" \")","v":"NA"}]
[null,null,"On average, how long does it take for the power utility to get investments in RE projects approved by the regulatory authority (or relevant entity) fror recovery through tariffs?",{"$f":"IF(B15<>0,IF(ISBLANK(E15),\"NA\",E15),\" \")","v":" "}]
[null,null,"IPPs","Y/N"]
[null,1,"Can the utility safely recover purchases of RE from third parties, just as it recovers fossil fuel costs?",{"$f":"IF(B17<>0,IF(ISBLANK(E17),\"NA\",E17),\" \")","v":"NA"}]
[null,2,"Are there workable precedents or rules for PPA terms and grid operation rules?",{"$f":"IF(B18<>0,IF(ISBLANK(E18),\"NA\",E18),\" \")","v":"NA"}]
[null,3,"Are there clear and effective licensing processes and requirements in place for IPPs?",{"$f":"IF(B19<>0,IF(ISBLANK(E19),\"NA\",E19),\" \")","v":"NA"}]
[null,4,"Does the utility have an obligation to purchase from IPPs when it is cheaper than generating the power itself?",{"$f":"IF(B20<>0,IF(ISBLANK(E20),\"NA\",E20),\" \")","v":"NA"}]
[null,5,"Does the PPA have any take-or-pay arrangements?",{"$f":"IF(B21<>0,IF(ISBLANK(E21),\"NA\",E21),\" \")","v":"NA"}]
[null,null,"Distributed generation","Y/N"]
[null,1,"Do you have a registry or database of distributed generation?",{"$f":"IF(B23<>0,IF(ISBLANK(E23),\"NA\",E23),\" \")","v":"NA"}]
[null,null,"What was the number of existing distributed scale RE systems in 2019?"," "]
[null,null,"Is there an aggregate maximum capacity for distributed generation?"," "]
[null,null,"What is the total installed capacity from renewable distributed generation in your country?"," "]
[null,null,"What was the total generation from existing distributed scale RE systems in 2019?"," "]
[null,2,"Is there a standard arrangement in place for customers to sell electricity to the utility at a reasonable price, for a reasonable timeframe, and with a clear interconnection agreement?","NA"]
[]
[2,null,"Existing renewable generation"]
[null,null,"What is the number of existing Utility-Scale RE projects?","NA"]
[null,null,"What was the total electricity generated in 2019? (MWh)","NA"]
[null,1,"What was the total electricity generated from Utility Scale RE projects in 2019? (MWh) ","NA"]
[null,null,"Please provide as much information as possible for exisitng RE projects in the box below as:\n- Project Name\n- Developer\n- Offtaker\n- Renewable Energy Technology Type\n- Start of Commercial Operation (Year)\n- Estimated Capacity Factor (in %) OR Estimated Annual Production (in MWh)\n- Installed Capacity (MW)\n- Length of PPA ","NA"]
[]
[3,null,"Planned Utility-Scale Renewable Energy Projects"]
[null,1,"Does your country have an estimate of planned installed capacity expected to come online from-utility scale RE projects?","NA"]
[null,null,"How much installed capacity from RE is expected to come online in the next 3 years? (MW)","NA"]
[null,2,"How much renewable energy generation is expected to come online in the next 3 years? (MWh)","NA"]
[null,3,"Is climate resilience incorporated in your IRP or national policy?","NA"]
[null,null,"Please provide as much information as possible for RE projects currently under development in the box below as:\n- Project Name\n- Developer\n- Offtaker\n- Renewable Energy Technology Type\n- Start of Commercial Operation (Year)\n- Estimated Capacity Factor (in %) OR Estimated Annual Production (in MWh)\n- Installed Capacity (MW)\n- Length of PPA ","NA"]
[]
[4,null,"Electric Mobility"]
[null,1,"Does your country have policies in place or draft legislation to promote the uptake of electric mobility?","NA","No"]
[null,2,"Does your country have specific targets for the uptake of electric vehicles?","NA","No"]
[null,null,"What is the target and target year?","NA"]
[null,null,"How many electric cars are currently in your country?","NA"]
[null,null,"How many charging stations are in your country?","NA"]
[]
[null,null,"Descriptive CREF Index Survey"]
[null,null,"Enabling Environment for Renewable Energy (RE) Investments"]
[null,null,"Renewable energy strategy"]
[null,null,"Which of the rollowing renewable generation options is included in your country's strategic plan to develop renewable energy?\n- Solar PV\n- Offshore wind\n- Biomass\n- Waste to energy\n- Hydro\n-Geothermal\n- Other",{"$f":"E53","v":0},{"$f":"E6","v":0}]
[null,null,"What is the target and target year?",{"$f":"E54","v":0},{"$f":"E8","v":0}]
[null,null,"What is the current breakdown of your country's energy mix?",{"$f":"E55","v":0},{"$f":"E9","v":0}]
[null,null,"Utilities"]
[null,null,"On average, how long does it take for the power utility to get investments in RE projects approved by the regulatory authority 9or the relevant entity) for recovery through tariffs?",{"$f":"E57","v":0},{"$f":"E15","v":0}]
[null,null,"Distributed Generation"]
[null,null,"What is the number of exisiting distributed scale RE systems in 2019?",{"$f":"E59","v":0},{"$f":"E24","v":0}]
[null,null,"What is the total installed capacity from renewable distributed generation in your country?",{"$f":"E60","v":0},{"$f":"E26","v":0}]
[null,null,"What was the total generation from exisitng distributed scale RE systems in 2019?",0,{"$f":"E27","v":0}]
[null,null,"Existing renewable generation"]
[null,null,"Existing Utility-Scale Renewable Energy Projects"]
[null,null,"What is the number of existing utility-scale RE projects?",{"$f":"E64","v":0},{"$f":"E31","v":0}]
[null,null,"What was the total electricity generated in 2019 (MWh)?",{"$f":"E65","v":0},0]
[null,null,"What was the total electricity generated from utility-scale RE projects in 2019 (MWh)?",0,0]
[null,null,"Please provide as much information as possible for exisitng RE projects in the box below as:\n- Project Name\n- Developer\n- Offtaker\n- Renewable Energy Technology Type\n- Start of Commercial Operation (Year)\n- Estimated Capacity Factor (in %) OR Estimated Annual Production (in MWh)\n- Installed Capacity (MW)\n- Length of PPA ",0,0]
[null,null,"Planned renewable generation"]
[null,null,"Potential Utility-Scale Renewable Energy Projects"]
[null,null,"How much installed capacity from RE is expected to come online in the next 3 years?",{"$f":"E70","v":0},{"$f":"E38","v":0}]
[null,null,"How much renewable energy generation is expected to come online in the next 3 years?",{"$f":"E71","v":0},{"$f":"E39","v":0}]
[null,null,"Please provide as much information as possible for RE projects currently under development in the box below as:\n- Project Name\n- Developer\n- Offtaker\n- Renewable Energy Technology Type\n- Start of Commercial Operation (Year)\n- Estimated Capacity Factor (in %) OR Estimated Annual Production (in MWh)\n- Installed Capacity (MW)\n- Length of PPA ",0,{"$f":"E41","v":0}]
[null,null,"Electric Mobility"]
[null,null,"What is the target and target year?",{"$f":"E74","v":0},{"$f":"E46","v":0}]
[null,null,"How many electric cars are currently in your country?",{"$f":"E75","v":0},{"$f":"E47","v":0}]
[null,null,"How many charging stations are in your country?",0,0]
[null,null,"Covid"]
[null,null,"Has any measure been implemented to respond to disruptions in revenue collections from electricity services (particularly given the current circumstances during the COVID pandemic)?",{"$f":"E78","v":"NA"},"NA"]
[null,null,"If yes, to get a score on this kindly describe how the measure works and who is responsible for implementing it",{"$f":"E79","v":"NA"},"NA"]
[null,null,"Outlook sentiment"]
[null,null,"How enthusiastic are you about the investment prospects in renewables, electric mobility, and resilience compared to this time last year, and why?",{"$f":"E81","v":"NA"},"NA"]
[null,null,"Please elaborate on your reasoning for the previous response.",{"$f":"E82","v":"NA"},"NA"]

{"sheet":"Anguilla","index":32,"n_rows":82,"n_cols":4,"rows_kept":82,"cut":false,"hidden":true,"merged":[[0,1,0,3],[1,5,1,11],[16,4,20,4]]}
[null,"Anguilla"]
[null,null,"Overall Indicator","Excluded from RE Index - insufficient data"]
[1,null,"Enabling Environment for Renewable Energy (RE) Investments","Consolidated Survey Response"]
[null,null,"Government - Renewable Energy Strategy","Y/N"]
[null,1,"Does your country have a strategic plan to develop renewble energy?"]
[null,null,"Which of the following renewable generation options is includd in you country's strategic plan to develop renewable energy?","NA"]
[null,2,"Does your country have a specific target for renewable energy?","NA"]
[null,null,"If yes, what is the target and target year?","NA"]
[null,null,"What is the current breakdown of your country's energy mix?","NA"]
[null,3,"Does your country have an Integrated Resource Plan (IRP) that was produced within the last three years?","NA"]
[null,null,"Utilities","Y/N"]
[null,1,"When planning generation expansion, does the utility consider RE options?","NA"]
[null,2,"Can the utility safely recover RE investments through tariffs like it can recover fossil fuel costs?","NA"]
[null,3,"Are there clear, specific planning and permitting processes and rules in place for developing RE?","NA"]
[null,null,"On average, how long does it take for the power utility to get investments in RE projects approved by the regulatory authority (or relevant entity) fror recovery through tariffs?","NA"]
[null,null,"IPPs","Y/N"]
[null,1,"Can the utility safely recover purchases of RE from third parties, just as it recovers fossil fuel costs?","NA"]
[null,null,"How long did it take to get your off-take agreement?","NA"]
[null,2,"Are there workable precedents or rules for PPA terms and grid operation rules?","NA"]
[null,3,"Are there clear and effective licensing processes and requirements in place for IPPs?","NA"]
[null,4,"Does the utility have an obligation to purchase from IPPs when it is cheaper than generating the power itself?","NA"]
[null,null,"Distributed generation","Y/N"]
[null,1,"Do you have a registry or database of distributed generation?","NA"]
[null,null,"What was the number of existing distributed scale RE systems in 2019?","NA"]
[null,null,"Is there an aggregate maximum capacity for distributed generation?","NA"]
[null,null,"What is the total installed capacity from renewable distributed generation in your country?","NA"]
[null,null,"What was the total generation from existing distributed scale RE systems in 2019?","NA"]
[null,2,"Is there a standard arrangement in place for customers to sell electricity to the utility at a reasonable price, for a reasonable timeframe, and with a clear interconnection agreement?","NA"]
[]
[2,null,"Existing renewable generation"]
[null,null,"What is the number of existing Utility-Scale RE projects?","NA"]
[null,1,"What was the total electricity generated in 2019? (MWh)","NA"]
[null,1,"What was the total electricity generated from Utility Scale RE projects in 2019? (MWh) ","NA"]
[null,null,"Please provide as much information as possible for exisitng RE projects in the box below as:\n- Project Name\n- Developer\n- Offtaker\n- Renewable Energy Technology Type\n- Start of Commercial Operation (Year)\n- Estimated Capacity Factor (in %) OR Estimated Annual Production (in MWh)\n- Installed Capacity (MW)\n- Length of PPA ","NA"]
[]
[3,null,"Planned Utility-Scale Renewable Energy Projects"]
[null,1,"Does your country have an estimate of planned installed capacity expected to come online from-utility scale RE projects?","NA"]
[null,null,"How much installed capacity from RE is expected to come online in the next 3 years?","NA"]
[null,2,"How much renewable energy generation is expected to come online in the next 3 years?","NA"]
[null,3,"Is climate resilience incorporated in your IRP or national policy?","NA"]
[null,null,"Please provide as much information as possible for RE projects currently under development in the box below as:\n- Project Name\n- Developer\n- Offtaker\n- Renewable Energy Technology Type\n- Start of Commercial Operation (Year)\n- Estimated Capacity Factor (in %) OR Estimated Annual Production (in MWh)\n- Installed Capacity (MW)\n- Length of PPA ","NA"]
[]
[4,null,"Electric Mobility"]
[null,1,"Does your country have policies in place or draft legislation to promote the uptake of electric mobility?","NA"]
[null,2,"Does your country have specific targets for the uptake of electric vehicles?","NA"]
[null,null,"What is the target and target year?","NA"]
[null,null,"How many electric cars are currently in your country?","NA"]
[null,null,"How many charging stations are in your country?","NA"]
[]
[null,null,"Descriptive CREF Index Survey"]
[null,null,"Enabling Environment for Renewable Energy (RE) Investments"]
[null,null,"Renewable energy strategy"]
[null,null,"Which of the rollowing renewable generation options is included in your country's strategic plan to develop renewable energy?\n- Solar PV\n- Offshore wind\n- Biomass\n- Waste to energy\n- Hydro\n-Geothermal\n- Other",{"$f":"D6","v":"NA"}]
[null,null,"What is the target and target year?",{"$f":"D8","v":"NA"}]
[null,null,"What is the current breakdown of your country's energy mix?",{"$f":"D9","v":"NA"}]
[null,null,"Utilities"]
[null,null,"On average, how long does it take for the power utility to get investments in RE projects approved by the regulatory authority 9or the relevant entity) for recovery through tariffs?",{"$f":"D15","v":"NA"}]
[null,null,"Distributed Generation"]
[null,null,"What is the number of exisiting distributed scale RE systems in 2019?",{"$f":"D24","v":"NA"}]
[null,null,"What is the total installed capacity from renewable distributed generation in your country?",{"$f":"D26","v":"NA"}]
[null,null,"What was the total generation from exisitng distributed scale RE systems in 2019?",{"$f":"D27","v":"NA"}]
[null,null,"Existing renewable generation"]
[null,null,"Existing Utility-Scale Renewable Energy Projects"]
[null,null,"What is the number of existing utility-scale RE projects?",{"$f":"D31","v":"NA"}]
[null,null,"What was the total electricity generated in 2019 (MWh)?",{"$f":"D32","v":"NA"}]
[null,null,"What was the total electricity generated from utility-scale RE projects in 2019 (MWh)?",{"$f":"D33","v":"NA"}]
[null,null,"Please provide as much information as possible for exisitng RE projects in the box below as:\n- Project Name\n- Developer\n- Offtaker\n- Renewable Energy Technology Type\n- Start of Commercial Operation (Year)\n- Estimated Capacity Factor (in %) OR Estimated Annual Production (in MWh)\n- Installed Capacity (MW)\n- Length of PPA ",{"$f":"D34","v":"NA"}]
[null,null,"Planned renewable generation"]
[null,null,"Potential Utility-Scale Renewable Energy Projects"]
[null,null,"How much installed capacity from RE is expected to come online in the next 3 years?",{"$f":"D38","v":"NA"}]
[null,null,"How much renewable energy generation is expected to come online in the next 3 years?",{"$f":"D39","v":"NA"}]
[null,null,"Please provide as much information as possible for RE projects currently under development in the box below as:\n- Project Name\n- Developer\n- Offtaker\n- Renewable Energy Technology Type\n- Start of Commercial Operation (Year)\n- Estimated Capacity Factor (in %) OR Estimated Annual Production (in MWh)\n- Installed Capacity (MW)\n- Length of PPA ",{"$f":"D41","v":"NA"}]
[null,null,"Electric Mobility"]
[null,null,"What is the target and target year?",{"$f":"D46","v":"NA"}]
[null,null,"How many electric cars are currently in your country?",{"$f":"D47","v":"NA"}]
[null,null,"How many charging stations are in your country?","NA"]
[null,null,"Covid"]
[null,null,"Has any measure been implemented to respond to disruptions in revenue collections from electricity services (particularly given the current circumstances during the COVID pandemic)?","NA"]
[null,null,"If yes, to get a score on this kindly describe how the measure works and who is responsible for implementing it","NA"]
[null,null,"Outlook sentiment"]
[null,null,"How enthusiastic are you about the investment prospects in renewables, electric mobility, and resilience compared to this time last year, and why?","NA"]
[null,null,"Please elaborate on your reasoning for the previous response.","NA"]

{"sheet":"Aruba","index":33,"n_rows":82,"n_cols":4,"rows_kept":82,"cut":false,"hidden":true,"merged":[[0,1,0,3],[1,5,1,11],[16,4,20,4]]}
[null,"Aruba"]
[null,null,"Overall Indicator","Excluded from RE Index - insufficient data"]
[1,null,"Enabling Environment for Renewable Energy (RE) Investments","Consolidated Survey Response"]
[null,null,"Government - Renewable Energy Strategy","Y/N"]
[null,1,"Does your country have a strategic plan to develop renewble energy?"]
[null,null,"Which of the following renewable generation options is includd in you country's strategic plan to develop renewable energy?","NA"]
[null,2,"Does your country have a specific target for renewable energy?","NA"]
[null,null,"If yes, what is the target and target year?","NA"]
[null,null,"What is the current breakdown of your country's energy mix?","NA"]
[null,3,"Does your country have an Integrated Resource Plan (IRP) that was produced within the last three years?","NA"]
[null,null,"Utilities","Y/N"]
[null,1,"When planning generation expansion, does the utility consider RE options?","NA"]
[null,2,"Can the utility safely recover RE investments through tariffs like it can recover fossil fuel costs?","NA"]
[null,3,"Are there clear, specific planning and permitting processes and rules in place for developing RE?","NA"]
[null,null,"On average, how long does it take for the power utility to get investments in RE projects approved by the regulatory authority (or relevant entity) fror recovery through tariffs?","NA"]
[null,null,"IPPs","Y/N"]
[null,1,"Can the utility safely recover purchases of RE from third parties, just as it recovers fossil fuel costs?","NA"]
[null,null,"How long did it take to get your off-take agreement?","NA"]
[null,2,"Are there workable precedents or rules for PPA terms and grid operation rules?","NA"]
[null,3,"Are there clear and effective licensing processes and requirements in place for IPPs?","NA"]
[null,4,"Does the utility have an obligation to purchase from IPPs when it is cheaper than generating the power itself?","NA"]
[null,null,"Distributed generation","Y/N"]
[null,1,"Do you have a registry or database of distributed generation?","NA"]
[null,null,"What was the number of existing distributed scale RE systems in 2019?","NA"]
[null,null,"Is there an aggregate maximum capacity for distributed generation?","NA"]
[null,null,"What is the total installed capacity from renewable distributed generation in your country?","NA"]
[null,null,"What was the total generation from existing distributed scale RE systems in 2019?","NA"]
[null,2,"Is there a standard arrangement in place for customers to sell electricity to the utility at a reasonable price, for a reasonable timeframe, and with a clear interconnection agreement?","NA"]
[]
[2,null,"Existing renewable generation"]
[null,null,"What is the number of existing Utility-Scale RE projects?","NA"]
[null,1,"What was the total electricity generated in 2019? (MWh)","NA"]
[null,1,"What was the total electricity generated from Utility Scale RE projects in 2019? (MWh) ","NA"]
[null,null,"Please provide as much information as possible for exisitng RE projects in the box below as:\n- Project Name\n- Developer\n- Offtaker\n- Renewable Energy Technology Type\n- Start of Commercial Operation (Year)\n- Estimated Capacity Factor (in %) OR Estimated Annual Production (in MWh)\n- Installed Capacity (MW)\n- Length of PPA ","NA"]
[]
[3,null,"Planned Utility-Scale Renewable Energy Projects"]
[null,1,"Does your country have an estimate of planned installed capacity expected to come online from-utility scale RE projects?","NA"]
[null,null,"How much installed capacity from RE is expected to come online in the next 3 years?","NA"]
[null,2,"How much renewable energy generation is expected to come online in the next 3 years?","NA"]
[null,3,"Is climate resilience incorporated in your IRP or national policy?","NA"]
[null,null,"Please provide as much information as possible for RE projects currently under development in the box below as:\n- Project Name\n- Developer\n- Offtaker\n- Renewable Energy Technology Type\n- Start of Commercial Operation (Year)\n- Estimated Capacity Factor (in %) OR Estimated Annual Production (in MWh)\n- Installed Capacity (MW)\n- Length of PPA ","NA"]
[]
[4,null,"Electric Mobility"]
[null,1,"Does your country have policies in place or draft legislation to promote the uptake of electric mobility?","NA"]
[null,2,"Does your country have specific targets for the uptake of electric vehicles?","NA"]
[null,null,"What is the target and target year?","NA"]
[null,null,"How many electric cars are currently in your country?","NA"]
[null,null,"How many charging stations are in your country?","NA"]
[]
[null,null,"Descriptive CREF Index Survey"]
[null,null,"Enabling Environment for Renewable Energy (RE) Investments"]
[null,null,"Renewable energy strategy"]
[null,null,"Which of the rollowing renewable generation options is included in your country's strategic plan to develop renewable energy?\n- Solar PV\n- Offshore wind\n- Biomass\n- Waste to energy\n- Hydro\n-Geothermal\n- Other",{"$f":"D6","v":"NA"}]
[null,null,"What is the target and target year?",{"$f":"D8","v":"NA"}]
[null,null,"What is the current breakdown of your country's energy mix?",{"$f":"D9","v":"NA"}]
[null,null,"Utilities"]
[null,null,"On average, how long does it take for the power utility to get investments in RE projects approved by the regulatory authority 9or the relevant entity) for recovery through tariffs?",{"$f":"D15","v":"NA"}]
[null,null,"Distributed Generation"]
[null,null,"What was the total generation from exisitng distributed scale RE systems in 2019?",{"$f":"D24","v":"NA"}]
[null,null,"What is the total installed capacity from renewable distributed generation in your country?",{"$f":"D26","v":"NA"}]
[null,null,"What was the total generation from exisitng distributed scale RE systems in 2018?",{"$f":"D27","v":"NA"}]
[null,null,"Existing renewable generation"]
[null,null,"What was the total electricity generated in 2019 (MWh)?"]
[null,null,"What was the total electricity generated from utility-scale RE projects in 2019 (MWh)?",{"$f":"D31","v":"NA"}]
[null,null,"What was the total electricity generated in 2018 (MWh)?",{"$f":"D32","v":"NA"}]
[null,null,"What was the total electricity generated from utility-scale RE projects in 2018 (MWh)?",{"$f":"D33","v":"NA"}]
[null,null,"Please provide as much information as possible for exisitng RE projects in the box below as:\n- Project Name\n- Developer\n- Offtaker\n- Renewable Energy Technology Type\n- Start of Commercial Operation (Year)\n- Estimated Capacity Factor (in %) OR Estimated Annual Production (in MWh)\n- Installed Capacity (MW)\n- Length of PPA ",{"$f":"D34","v":"NA"}]
[null,null,"Planned renewable generation"]
[null,null,"Potential Utility-Scale Renewable Energy Projects"]
[null,null,"How much installed capacity from RE is expected to come online in the next 3 years?",{"$f":"D38","v":"NA"}]
[null,null,"How much renewable energy generation is expected to come online in the next 3 years?",{"$f":"D39","v":"NA"}]
[null,null,"Please provide as much information as possible for RE projects currently under development in the box below as:\n- Project Name\n- Developer\n- Offtaker\n- Renewable Energy Technology Type\n- Start of Commercial Operation (Year)\n- Estimated Capacity Factor (in %) OR Estimated Annual Production (in MWh)\n- Installed Capacity (MW)\n- Length of PPA ",{"$f":"D41","v":"NA"}]
[null,null,"Electric Mobility"]
[null,null,"What is the target and target year?",{"$f":"D46","v":"NA"}]
[null,null,"How many electric cars are currently in your country?",{"$f":"D47","v":"NA"}]
[null,null,"How many charging stations are in your country?","NA"]
[null,null,"Covid"]
[null,null,"Has any measure been implemented to respond to disruptions in revenue collections from electricity services (particularly given the current circumstances during the COVID pandemic)?","NA"]
[null,null,"If yes, to get a score on this kindly describe how the measure works and who is responsible for implementing it","NA"]
[null,null,"Outlook sentiment"]
[null,null,"How enthusiastic are you about the investment prospects in renewables, electric mobility, and resilience compared to this time last year, and why?","NA"]
[null,null,"Please elaborate on your reasoning for the previous response.","NA"]

{"sheet":"BVI","index":34,"n_rows":124,"n_cols":5,"rows_kept":124,"cut":false,"hidden":true,"merged":[[33,2,33,3],[0,1,0,4],[1,2,1,3],[1,6,1,12],[4,2,4,3],[11,2,11,3],[12,2,12,3],[13,2,13,3],[14,2,14,3],[16,5,21,5],[23,2,23,3],[28,2,28,3],[69,2,69,3],[46,2,46,3],[47,2,47,3],[48,2,48,3],[51,2,51,3],[58,2,58,3],[60,2,60,3],[62,2,62,3],[63,2,63,3],[64,2,64,3],[67,2,67,3],[68,2,68,3],[73,2,73,3],[77,2,77,3],[78,2,78,3],[79,2,79,3],[82,2,82,3]]}
[null,"British Virgin Islands"]
[null,null,"Overall Indicator",null,"Excluded from RE Index - insufficient data"]
[1,null,"Enabling Environment for Renewable Energy (RE) Investments",null,"Consolidated Survey Response"]
[null,null,"Government - Renewable Energy Strategy",null,"Y/N"]
[null,1,"Does your country have a strategic plan to develop renewble energy?"]
[null,null,"Which of the following renewable generation options is includd in you country's strategic plan to develop renewable energy?",null,"NA"]
[null,2,"Does your country have a specific target for renewable energy?",null,"NA"]
[null,null,"If yes, what is the target and target year?",null,"NA"]
[null,null,"What is the current breakdown of your country's energy mix?",null,"NA"]
[null,3,"Does your country have an Integrated Resource Plan (IRP) that was produced within the last three years?",null,"NA"]
[null,null,"Utilities",null,"Y/N"]
[null,1,"When planning generation expansion, does the utility consider RE options?",null,"NA"]
[null,2,"Can the utility safely recover RE investments through tariffs like it can recover fossil fuel costs?",null,"NA"]
[null,3,"Are there clear, specific planning and permitting processes and rules in place for developing RE?",null,"NA"]
[null,null,"On average, how long does it take for the power utility to get investments in RE projects approved by the regulatory authority (or relevant entity) fror recovery through tariffs?",null,"NA"]
[null,null,"IPPs",null,"Y/N"]
[null,1,"Can the utility safely recover purchases of RE from third parties, just as it recovers fossil fuel costs?",null,"NA"]
[null,null,"How long did it take to get your off-take agreement?",null,"NA"]
[null,2,"Are there workable precedents or rules for PPA terms and grid operation rules?",null,"NA"]
[null,3,"Are there clear and effective licensing processes and requirements in place for IPPs?",null,"NA"]
[null,4,"Does the utility have an obligation to purchase from IPPs when it is cheaper than generating the power itself?",null,"NA"]
[null,5,"Does the PPA have any take-or-pay arrangements?",null,"NA"]
[null,null,"Distributed generation",null,"Y/N"]
[null,1,"Do you have a registry or database of distributed generation?",null,"NA"]
[null,null,"What was the number of existing distributed scale RE systems in 2018?",null,"NA"]
[null,null,"Is there an aggregate maximum capacity for distributed generation?",null,"NA"]
[null,null,"What is the total installed capacity from renewable distributed generation in your country?",null,"NA"]
[null,null,"What was the total generation from existing distributed scale RE systems in 2018?",null,"NA"]
[null,2,"Is there a standard arrangement in place for customers to sell electricity to the utility at a reasonable price, for a reasonable timeframe, and with a clear interconnection agreement?",null,"NA"]
[]
[2,null,"Existing renewable generation"]
[null,null,"What is the number of existing Utility-Scale RE projects?"]
[null,1,"What was the total electricity generated in 2018? (MWh)"]
[null,1,"What was the total electricity generated from Utility Scale RE projects in 2018? (MWh) ",null,"NA"]
[null,null,"Please provide as much information as possible for exisitng RE projects in the box below as:\n- Project Name\n- Developer\n- Offtaker\n- Renewable Energy Technology Type\n- Start of Commercial Operation (Year)\n- Estimated Capacity Factor (in %) OR Estimated Annual Production (in MWh)\n- Installed Capacity (MW)\n- Length of PPA "]
[]
[3,null,"Planned Utility-Scale Renewable Energy Projects"]
[null,1,"Does your country have an estimate of planned installed capacity expected to come online from-utility scale RE projects?",null,"NA"]
[null,null,"How much installed capacity from RE is expected to come online in the next 3 years?"]
[null,2,"How much renewable energy generation is expected to come online in the next 3 years?",null,"NA"]
[null,3,"Is climate resilience incorporated in your IRP or national policy?",null,"NA"]
[null,null,"Please provide as much information as possible for RE projects currently under development in the box below as:\n- Project Name\n- Developer\n- Offtaker\n- Renewable Energy Technology Type\n- Start of Commercial Operation (Year)\n- Estimated Capacity Factor (in %) OR Estimated Annual Production (in MWh)\n- Installed Capacity (MW)\n- Length of PPA "]
[]
[4,null,"Electric Mobility"]
[null,1,"Does your country have policies in place or draft legislation to promote the uptake of electric mobility?",null,"NA"]
[null,2,"Does your country have specific targets for the uptake of electric vehicles?",null,"NA"]
[null,null,"What is the target and target year?"]
[null,null,"How many electric cars are currently in your country?"]
[null,null,"How many charging stations are in your country?"]
[]
[]
[null,null,"Descriptive CREF Index Survey"]
[null,null,"Enabling Environment for Renewable Energy (RE) Investments"]
[null,null,"Renewable energy strategy"]
[null,null,"Which of the rollowing renewable generation options is included in your country's strategic plan to develop renewable energy?\n- Solar PV\n- Offshore wind\n- Biomass\n- Waste to energy\n- Hydro\n-Geothermal\n- Other",null,{"$f":"E6","v":"NA"}]
[null,null,"What is the target and target year?",null,{"$f":"E8","v":"NA"}]
[null,null,"What is the current breakdown of your country's energy mix?",null,{"$f":"E9","v":"NA"}]
[null,null,"Utilities"]
[null,null,"On average, how long does it take for the power utility to get investments in RE projects approved by the regulatory authority 9or the relevant entity) for recovery through tariffs?",null,{"$f":"E15","v":"NA"}]
[null,null,"IPPs"]
[null,null,"How long did it take to get your off-take agreement?",null,{"$f":"E18","v":"NA"}]
[null,null,"Distributed Generation"]
[null,null,"What is the number of exisiting distributed scale RE systems in 2018?",null,{"$f":"E25","v":"NA"}]
[null,null,"What is the total installed capacity from renewable distributed generation in your country?",null,{"$f":"E27","v":"NA"}]
[null,null,"What was the total generation from exisitng distributed scale RE systems in 2018?",null,{"$f":"E28","v":"NA"}]
[null,null,"Existing renewable generation"]
[null,null,"Existing Utility-Scale Renewable Energy Projects"]
[null,null,"What is the number of existing utility-scale RE projects?",null,{"$f":"E32","v":0}]
[null,null,"What was the total electricity generated in 2018 (MWh)?",null,{"$f":"E33","v":0}]
[null,null,"What was the total electricity generated from utility-scale RE projects in 2018 (MWh)?",null,{"$f":"E34","v":"NA"}]
[null,null,"Please provide as much information as possible for exisitng RE projects in the box below as:\n- Project Name\n- Developer\n- Offtaker\n- Renewable Energy Technology Type\n- Start of Commercial Operation (Year)\n- Estimated Capacity Factor (in %) OR Estimated Annual Production (in MWh)\n- Installed Capacity (MW)\n- Length of PPA ",null,{"$f":"E35","v":0}]
[null,null,"Planned renewable generation"]
[null,null,"Potential Utility-Scale Renewable Energy Projects"]
[null,null,"How much installed capacity from RE is expected to come online in the next 3 years?",null,{"$f":"E39","v":0}]
[null,null,"How much renewable energy generation is expected to come online in the next 3 years?",null,{"$f":"E40","v":"NA"}]
[null,null,"Please provide as much information as possible for RE projects currently under development in the box below as:\n- Project Name\n- Developer\n- Offtaker\n- Renewable Energy Technology Type\n- Start of Commercial Operation (Year)\n- Estimated Capacity Factor (in %) OR Estimated Annual Production (in MWh)\n- Installed Capacity (MW)\n- Length of PPA ",null,{"$f":"E42","v":0}]
[null,null,"Electric Mobility"]
[null,null,"What is the target and target year?",null,{"$f":"E47","v":0}]
[null,null,"How many electric cars are currently in your country?",null,{"$f":"E48","v":0}]
[null,null,"How many charging stations are in your country?",null,0]
[]
[]
[null,null,"Improvement Year-on-Year"]
[null,null,"Enabling environment for renewable energy investments","Change",{"$f":"IF(ISERR(E91-E90),\"\",E91-E90)","v":-0.875}]
[null,null,"2012 Score","0 to 5",1]
[null,null,"2013 Score","0 to 5",1]
[null,null,"2014 Score","0 to 5",1]
[null,null,"2015 Score","0 to 5",2]
[null,null,"2016 Score","0 to 5",1.3333333333333333]
[null,null,"2017 Score","0 to 5",4.375]
[null,null,"2018 Score","0 to 5",{"$f":"VLOOKUP(C84,'RE Index | Ranking inputs'!$D$8:$AM$44,MATCH($B$1,'RE Index | Ranking inputs'!$D$5:$AM$5,0),0)","v":3.5}]
[null,null,"Existing renewable generation","Change",{"$f":"IF(ISERR(E99-E98),\"\",E99-E98)","v":-0.25}]
[null,null,"2012 Score","0 to 5",0]
[null,null,"2013 Score","0 to 5",0]
[null,null,"2014 Score","0 to 5",0.19085937600000003]
[null,null,"2015 Score","0 to 5",0.15303478879646401]
[null,null,"2016 Score","0 to 5",0.15343047062233445]
[null,null,"2017 Score","0 to 5",0.25]
[null,null,"2018 Score","0 to 5",{"$f":"VLOOKUP(C92,'RE Index | Ranking inputs'!$D$8:$AM$44,MATCH($B$1,'RE Index | Ranking inputs'!$D$5:$AM$5,0),0)","v":0}]
[null,null,"Planned renewable generation","Change",{"$f":"IF(ISERR(E107-E106),\"\",E107-E106)","v":0.55555555555555558}]
[null,null,"2012 Score","0 to 5",0]
[null,null,"2013 Score","0 to 5",0]
[null,null,"2014 Score","0 to 5",0]
[null,null,"2015 Score","0 to 5",0]
[null,null,"2016 Score","0 to 5",0.37019627320591419]
[null,null,"2017 Score","0 to 5",0]
[null,null,"2018 Score","0 to 5",{"$f":"VLOOKUP(C100,'RE Index | Ranking inputs'!$D$8:$AM$44,MATCH($B$1,'RE Index | Ranking inputs'!$D$5:$AM$5,0),0)","v":0.55555555555555558}]
[null,null,"Electric Mobility","Change","N/A"]
[null,null,"2018 Score","0 to 5",{"$f":"VLOOKUP(C108,'RE Index | Ranking inputs'!$D$8:$AM$44,MATCH($B$1,'RE Index | Ranking inputs'!$D$5:$AM$5,0),0)","v":0}]
[null,null,"Overall Score Year-on-Year","Change",{"$f":"E123-E121","v":-1.4409266666666665}]
[null,null,"2012 Overall Score",null,0.33]
[null,null,"2012 Rank",null,21]
[null,null,"2013 Overall Score",null,0.33333333333333331]
[null,null,"2013 Rank",null,28]
[null,null,"2014 Overall Score",null,0.39695312533333332]
[null,null,"2014 Rank",null,28]
[null,null,"2015 Overall Score",null,0.71767826293215464]
[null,null,"2015 Rank",null,25]
[null,null,"2016 Overall Score",null,0.61898669238719395]
[null,null,"2016 Rank",null,23]
[null,null,"2017 Overall Score",null,1.5416666666666665]
[null,null,"2017 Rank",null,13]
[null,null,"2018 Overall Score",null,{"$f":"VLOOKUP(C123,'RE Index | Ranking inputs'!$D$8:$AM$140,MATCH($B$1,'RE Index | Ranking inputs'!$D$5:$AM$5,0),0)","v":0.10074}]
[null,null,"2018 Rank",null,{"$f":"VLOOKUP(C124,'RE Index | Ranking inputs'!$D$8:$AM$140,MATCH($B$1,'RE Index | Ranking inputs'!$D$5:$AM$5,0),0)","v":29}]

{"sheet":"Cuba","index":35,"n_rows":82,"n_cols":4,"rows_kept":82,"cut":false,"hidden":true,"merged":[[0,1,0,3],[1,5,1,11],[16,4,20,4]]}
[null,"Cuba"]
[null,null,"Overall Indicator","Excluded from RE Index - insufficient data"]
[1,null,"Enabling Environment for Renewable Energy (RE) Investments","Consolidated Survey Response"]
[null,null,"Government - Renewable Energy Strategy","Y/N"]
[null,1,"Does your country have a strategic plan to develop renewble energy?"]
[null,null,"Which of the following renewable generation options is includd in you country's strategic plan to develop renewable energy?","NA"]
[null,2,"Does your country have a specific target for renewable energy?","NA"]
[null,null,"If yes, what is the target and target year?","NA"]
[null,null,"What is the current breakdown of your country's energy mix?","NA"]
[null,3,"Does your country have an Integrated Resource Plan (IRP) that was produced within the last three years?","NA"]
[null,null,"Utilities","Y/N"]
[null,1,"When planning generation expansion, does the utility consider RE options?","NA"]
[null,2,"Can the utility safely recover RE investments through tariffs like it can recover fossil fuel costs?","NA"]
[null,3,"Are there clear, specific planning and permitting processes and rules in place for developing RE?","NA"]
[null,null,"On average, how long does it take for the power utility to get investments in RE projects approved by the regulatory authority (or relevant entity) fror recovery through tariffs?","NA"]
[null,null,"IPPs","Y/N"]
[null,1,"Can the utility safely recover purchases of RE from third parties, just as it recovers fossil fuel costs?","NA"]
[null,null,"How long did it take to get your off-take agreement?","NA"]
[null,2,"Are there workable precedents or rules for PPA terms and grid operation rules?","NA"]
[null,3,"Are there clear and effective licensing processes and requirements in place for IPPs?","NA"]
[null,4,"Does the utility have an obligation to purchase from IPPs when it is cheaper than generating the power itself?","NA"]
[null,null,"Distributed generation","Y/N"]
[null,1,"Do you have a registry or database of distributed generation?","NA"]
[null,null,"What was the number of existing distributed scale RE systems in 2019?","NA"]
[null,null,"Is there an aggregate maximum capacity for distributed generation?","NA"]
[null,null,"What is the total installed capacity from renewable distributed generation in your country?","NA"]
[null,null,"What was the total generation from existing distributed scale RE systems in 2019?","NA"]
[null,2,"Is there a standard arrangement in place for customers to sell electricity to the utility at a reasonable price, for a reasonable timeframe, and with a clear interconnection agreement?","NA"]
[]
[2,null,"Existing renewable generation"]
[null,null,"What is the number of existing Utility-Scale RE projects?","NA"]
[null,1,"What was the total electricity generated in 2019? (MWh)","NA"]
[null,1,"What was the total electricity generated from Utility Scale RE projects in 2019? (MWh) ","NA"]
[null,null,"Please provide as much information as possible for exisitng RE projects in the box below as:\n- Project Name\n- Developer\n- Offtaker\n- Renewable Energy Technology Type\n- Start of Commercial Operation (Year)\n- Estimated Capacity Factor (in %) OR Estimated Annual Production (in MWh)\n- Installed Capacity (MW)\n- Length of PPA ","NA"]
[]
[3,null,"Planned Utility-Scale Renewable Energy Projects"]
[null,1,"Does your country have an estimate of planned installed capacity expected to come online from-utility scale RE projects?","NA"]
[null,null,"How much installed capacity from RE is expected to come online in the next 3 years?","NA"]
[null,2,"How much renewable energy generation is expected to come online in the next 3 years?","NA"]
[null,3,"Is climate resilience incorporated in your IRP or national policy?","NA"]
[null,null,"Please provide as much information as possible for RE projects currently under development in the box below as:\n- Project Name\n- Developer\n- Offtaker\n- Renewable Energy Technology Type\n- Start of Commercial Operation (Year)\n- Estimated Capacity Factor (in %) OR Estimated Annual Production (in MWh)\n- Installed Capacity (MW)\n- Length of PPA ","NA"]
[]
[4,null,"Electric Mobility"]
[null,1,"Does your country have policies in place or draft legislation to promote the uptake of electric mobility?","NA"]
[null,2,"Does your country have specific targets for the uptake of electric vehicles?","NA"]
[null,null,"What is the target and target year?","NA"]
[null,null,"How many electric cars are currently in your country?","NA"]
[null,null,"How many charging stations are in your country?","NA"]
[]
[null,null,"Descriptive CREF Index Survey"]
[null,null,"Enabling Environment for Renewable Energy (RE) Investments"]
[null,null,"Renewable energy strategy"]
[null,null,"Which of the rollowing renewable generation options is included in your country's strategic plan to develop renewable energy?\n- Solar PV\n- Offshore wind\n- Biomass\n- Waste to energy\n- Hydro\n-Geothermal\n- Other",{"$f":"D6","v":"NA"}]
[null,null,"What is the target and target year?",{"$f":"D8","v":"NA"}]
[null,null,"What is the current breakdown of your country's energy mix?",{"$f":"D9","v":"NA"}]
[null,null,"Utilities"]
[null,null,"On average, how long does it take for the power utility to get investments in RE projects approved by the regulatory authority 9or the relevant entity) for recovery through tariffs?",{"$f":"D15","v":"NA"}]
[null,null,"Distributed Generation"]
[null,null,"What was the total generation from exisitng distributed scale RE systems in 2019?",{"$f":"D24","v":"NA"}]
[null,null,"What is the total installed capacity from renewable distributed generation in your country?",{"$f":"D26","v":"NA"}]
[null,null,"What was the total generation from exisitng distributed scale RE systems in 2018?",{"$f":"D27","v":"NA"}]
[null,null,"Existing renewable generation"]
[null,null,"What was the total electricity generated in 2019 (MWh)?"]
[null,null,"What was the total electricity generated from utility-scale RE projects in 2019 (MWh)?",{"$f":"D31","v":"NA"}]
[null,null,"What was the total electricity generated in 2018 (MWh)?",{"$f":"D32","v":"NA"}]
[null,null,"What was the total electricity generated from utility-scale RE projects in 2018 (MWh)?",{"$f":"D33","v":"NA"}]
[null,null,"Please provide as much information as possible for exisitng RE projects in the box below as:\n- Project Name\n- Developer\n- Offtaker\n- Renewable Energy Technology Type\n- Start of Commercial Operation (Year)\n- Estimated Capacity Factor (in %) OR Estimated Annual Production (in MWh)\n- Installed Capacity (MW)\n- Length of PPA ",{"$f":"D34","v":"NA"}]
[null,null,"Planned renewable generation"]
[null,null,"Potential Utility-Scale Renewable Energy Projects"]
[null,null,"How much installed capacity from RE is expected to come online in the next 3 years?",{"$f":"D38","v":"NA"}]
[null,null,"How much renewable energy generation is expected to come online in the next 3 years?",{"$f":"D39","v":"NA"}]
[null,null,"Please provide as much information as possible for RE projects currently under development in the box below as:\n- Project Name\n- Developer\n- Offtaker\n- Renewable Energy Technology Type\n- Start of Commercial Operation (Year)\n- Estimated Capacity Factor (in %) OR Estimated Annual Production (in MWh)\n- Installed Capacity (MW)\n- Length of PPA ",{"$f":"D41","v":"NA"}]
[null,null,"Electric Mobility"]
[null,null,"What is the target and target year?",{"$f":"D46","v":"NA"}]
[null,null,"How many electric cars are currently in your country?",{"$f":"D47","v":"NA"}]
[null,null,"How many charging stations are in your country?","NA"]
[null,null,"Covid"]
[null,null,"Has any measure been implemented to respond to disruptions in revenue collections from electricity services (particularly given the current circumstances during the COVID pandemic)?","NA"]
[null,null,"If yes, to get a score on this kindly describe how the measure works and who is responsible for implementing it","NA"]
[null,null,"Outlook sentiment"]
[null,null,"How enthusiastic are you about the investment prospects in renewables, electric mobility, and resilience compared to this time last year, and why?","NA"]
[null,null,"Please elaborate on your reasoning for the previous response.","NA"]

{"sheet":"Guyana","index":36,"n_rows":82,"n_cols":4,"rows_kept":82,"cut":false,"hidden":true,"merged":[[0,1,0,3],[1,5,1,11],[16,4,20,4]]}
[null,"Guyana"]
[null,null,"Overall Indicator","Excluded from RE Index - insufficient data"]
[1,null,"Enabling Environment for Renewable Energy (RE) Investments","Consolidated Survey Response"]
[null,null,"Government - Renewable Energy Strategy","Y/N"]
[null,1,"Does your country have a strategic plan to develop renewble energy?"]
[null,null,"Which of the following renewable generation options is includd in you country's strategic plan to develop renewable energy?","NA"]
[null,2,"Does your country have a specific target for renewable energy?","NA"]
[null,null,"If yes, what is the target and target year?","NA"]
[null,null,"What is the current breakdown of your country's energy mix?","NA"]
[null,3,"Does your country have an Integrated Resource Plan (IRP) that was produced within the last three years?","NA"]
[null,null,"Utilities","Y/N"]
[null,1,"When planning generation expansion, does the utility consider RE options?","NA"]
[null,2,"Can the utility safely recover RE investments through tariffs like it can recover fossil fuel costs?","NA"]
[null,3,"Are there clear, specific planning and permitting processes and rules in place for developing RE?","NA"]
[null,null,"On average, how long does it take for the power utility to get investments in RE projects approved by the regulatory authority (or relevant entity) fror recovery through tariffs?","NA"]
[null,null,"IPPs","Y/N"]
[null,1,"Can the utility safely recover purchases of RE from third parties, just as it recovers fossil fuel costs?","NA"]
[null,null,"How long did it take to get your off-take agreement?","NA"]
[null,2,"Are there workable precedents or rules for PPA terms and grid operation rules?","NA"]
[null,3,"Are there clear and effective licensing processes and requirements in place for IPPs?","NA"]
[null,4,"Does the utility have an obligation to purchase from IPPs when it is cheaper than generating the power itself?","NA"]
[null,null,"Distributed generation","Y/N"]
[null,1,"Do you have a registry or database of distributed generation?","NA"]
[null,null,"What was the number of existing distributed scale RE systems in 2019?","NA"]
[null,null,"Is there an aggregate maximum capacity for distributed generation?","NA"]
[null,null,"What is the total installed capacity from renewable distributed generation in your country?","NA"]
[null,null,"What was the total generation from existing distributed scale RE systems in 2019?","NA"]
[null,2,"Is there a standard arrangement in place for customers to sell electricity to the utility at a reasonable price, for a reasonable timeframe, and with a clear interconnection agreement?","NA"]
[]
[2,null,"Existing renewable generation"]
[null,null,"What is the number of existing Utility-Scale RE projects?","NA"]
[null,1,"What was the total electricity generated in 2019? (MWh)","NA"]
[null,1,"What was the total electricity generated from Utility Scale RE projects in 2019? (MWh) ","NA"]
[null,null,"Please provide as much information as possible for exisitng RE projects in the box below as:\n- Project Name\n- Developer\n- Offtaker\n- Renewable Energy Technology Type\n- Start of Commercial Operation (Year)\n- Estimated Capacity Factor (in %) OR Estimated Annual Production (in MWh)\n- Installed Capacity (MW)\n- Length of PPA ","NA"]
[]
[3,null,"Planned Utility-Scale Renewable Energy Projects"]
[null,1,"Does your country have an estimate of planned installed capacity expected to come online from-utility scale RE projects?","NA"]
[null,null,"How much installed capacity from RE is expected to come online in the next 3 years?","NA"]
[null,2,"How much renewable energy generation is expected to come online in the next 3 years?","NA"]
[null,3,"Is climate resilience incorporated in your IRP or national policy?","NA"]
[null,null,"Please provide as much information as possible for RE projects currently under development in the box below as:\n- Project Name\n- Developer\n- Offtaker\n- Renewable Energy Technology Type\n- Start of Commercial Operation (Year)\n- Estimated Capacity Factor (in %) OR Estimated Annual Production (in MWh)\n- Installed Capacity (MW)\n- Length of PPA ","NA"]
[]
[4,null,"Electric Mobility"]
[null,1,"Does your country have policies in place or draft legislation to promote the uptake of electric mobility?","NA"]
[null,2,"Does your country have specific targets for the uptake of electric vehicles?","NA"]
[null,null,"What is the target and target year?","NA"]
[null,null,"How many electric cars are currently in your country?","NA"]
[null,null,"How many charging stations are in your country?","NA"]
[]
[null,null,"Descriptive CREF Index Survey"]
[null,null,"Enabling Environment for Renewable Energy (RE) Investments"]
[null,null,"Renewable energy strategy"]
[null,null,"Which of the rollowing renewable generation options is included in your country's strategic plan to develop renewable energy?\n- Solar PV\n- Offshore wind\n- Biomass\n- Waste to energy\n- Hydro\n-Geothermal\n- Other",{"$f":"D6","v":"NA"}]
[null,null,"What is the target and target year?",{"$f":"D8","v":"NA"}]
[null,null,"What is the current breakdown of your country's energy mix?",{"$f":"D9","v":"NA"}]
[null,null,"Utilities"]
[null,null,"On average, how long does it take for the power utility to get investments in RE projects approved by the regulatory authority 9or the relevant entity) for recovery through tariffs?",{"$f":"D15","v":"NA"}]
[null,null,"Distributed Generation"]
[null,null,"What was the total generation from exisitng distributed scale RE systems in 2019?",{"$f":"D24","v":"NA"}]
[null,null,"What is the total installed capacity from renewable distributed generation in your country?",{"$f":"D26","v":"NA"}]
[null,null,"What was the total generation from exisitng distributed scale RE systems in 2018?",{"$f":"D27","v":"NA"}]
[null,null,"Existing renewable generation"]
[null,null,"What was the total electricity generated in 2019 (MWh)?"]
[null,null,"What was the total electricity generated from utility-scale RE projects in 2019 (MWh)?",{"$f":"D31","v":"NA"}]
[null,null,"What was the total electricity generated in 2018 (MWh)?",{"$f":"D32","v":"NA"}]
[null,null,"What was the total electricity generated from utility-scale RE projects in 2018 (MWh)?",{"$f":"D33","v":"NA"}]
[null,null,"Please provide as much information as possible for exisitng RE projects in the box below as:\n- Project Name\n- Developer\n- Offtaker\n- Renewable Energy Technology Type\n- Start of Commercial Operation (Year)\n- Estimated Capacity Factor (in %) OR Estimated Annual Production (in MWh)\n- Installed Capacity (MW)\n- Length of PPA ",{"$f":"D34","v":"NA"}]
[null,null,"Planned renewable generation"]
[null,null,"Potential Utility-Scale Renewable Energy Projects"]
[null,null,"How much installed capacity from RE is expected to come online in the next 3 years?",{"$f":"D38","v":"NA"}]
[null,null,"How much renewable energy generation is expected to come online in the next 3 years?",{"$f":"D39","v":"NA"}]
[null,null,"Please provide as much information as possible for RE projects currently under development in the box below as:\n- Project Name\n- Developer\n- Offtaker\n- Renewable Energy Technology Type\n- Start of Commercial Operation (Year)\n- Estimated Capacity Factor (in %) OR Estimated Annual Production (in MWh)\n- Installed Capacity (MW)\n- Length of PPA ",{"$f":"D41","v":"NA"}]
[null,null,"Electric Mobility"]
[null,null,"What is the target and target year?",{"$f":"D46","v":"NA"}]
[null,null,"How many electric cars are currently in your country?",{"$f":"D47","v":"NA"}]
[null,null,"How many charging stations are in your country?","NA"]
[null,null,"Covid"]
[null,null,"Has any measure been implemented to respond to disruptions in revenue collections from electricity services (particularly given the current circumstances during the COVID pandemic)?","NA"]
[null,null,"If yes, to get a score on this kindly describe how the measure works and who is responsible for implementing it","NA"]
[null,null,"Outlook sentiment"]
[null,null,"How enthusiastic are you about the investment prospects in renewables, electric mobility, and resilience compared to this time last year, and why?","NA"]
[null,null,"Please elaborate on your reasoning for the previous response.","NA"]

{"sheet":"Martinique","index":37,"n_rows":82,"n_cols":4,"rows_kept":82,"cut":false,"hidden":true,"merged":[[0,1,0,3],[1,5,1,11],[16,4,20,4]]}
[null,"Martinique"]
[null,null,"Overall Indicator","Excluded from RE Index - insufficient data"]
[1,null,"Enabling Environment for Renewable Energy (RE) Investments","Consolidated Survey Response"]
[null,null,"Government - Renewable Energy Strategy","Y/N"]
[null,1,"Does your country have a strategic plan to develop renewble energy?"]
[null,null,"Which of the following renewable generation options is includd in you country's strategic plan to develop renewable energy?","NA"]
[null,2,"Does your country have a specific target for renewable energy?","NA"]
[null,null,"If yes, what is the target and target year?","NA"]
[null,null,"What is the current breakdown of your country's energy mix?","NA"]
[null,3,"Does your country have an Integrated Resource Plan (IRP) that was produced within the last three years?","NA"]
[null,null,"Utilities","Y/N"]
[null,1,"When planning generation expansion, does the utility consider RE options?","NA"]
[null,2,"Can the utility safely recover RE investments through tariffs like it can recover fossil fuel costs?","NA"]
[null,3,"Are there clear, specific planning and permitting processes and rules in place for developing RE?","NA"]
[null,null,"On average, how long does it take for the power utility to get investments in RE projects approved by the regulatory authority (or relevant entity) fror recovery through tariffs?","NA"]
[null,null,"IPPs","Y/N"]
[null,1,"Can the utility safely recover purchases of RE from third parties, just as it recovers fossil fuel costs?","NA"]
[null,null,"How long did it take to get your off-take agreement?","NA"]
[null,2,"Are there workable precedents or rules for PPA terms and grid operation rules?","NA"]
[null,3,"Are there clear and effective licensing processes and requirements in place for IPPs?","NA"]
[null,4,"Does the utility have an obligation to purchase from IPPs when it is cheaper than generating the power itself?","NA"]
[null,null,"Distributed generation","Y/N"]
[null,1,"Do you have a registry or database of distributed generation?","NA"]
[null,null,"What was the number of existing distributed scale RE systems in 2019?","NA"]
[null,null,"Is there an aggregate maximum capacity for distributed generation?","NA"]
[null,null,"What is the total installed capacity from renewable distributed generation in your country?","NA"]
[null,null,"What was the total generation from existing distributed scale RE systems in 2019?","NA"]
[null,2,"Is there a standard arrangement in place for customers to sell electricity to the utility at a reasonable price, for a reasonable timeframe, and with a clear interconnection agreement?","NA"]
[]
[2,null,"Existing renewable generation"]
[null,null,"What is the number of existing Utility-Scale RE projects?","NA"]
[null,1,"What was the total electricity generated in 2019? (MWh)","NA"]
[null,1,"What was the total electricity generated from Utility Scale RE projects in 2019? (MWh) ",{"$f":"7%*'Jurisdictions | Generation'!E22","v":109200.00000000001}]
[null,null,"Please provide as much information as possible for exisitng RE projects in the box below as:\n- Project Name\n- Developer\n- Offtaker\n- Renewable Energy Technology Type\n- Start of Commercial Operation (Year)\n- Estimated Capacity Factor (in %) OR Estimated Annual Production (in MWh)\n- Installed Capacity (MW)\n- Length of PPA ","NA"]
[]
[3,null,"Planned Utility-Scale Renewable Energy Projects"]
[null,1,"Does your country have an estimate of planned installed capacity expected to come online from-utility scale RE projects?","NA"]
[null,null,"How much installed capacity from RE is expected to come online in the next 3 years?","NA"]
[null,2,"How much renewable energy generation is expected to come online in the next 3 years?","NA"]
[null,3,"Is climate resilience incorporated in your IRP or national policy?","NA"]
[null,null,"Please provide as much information as possible for RE projects currently under development in the box below as:\n- Project Name\n- Developer\n- Offtaker\n- Renewable Energy Technology Type\n- Start of Commercial Operation (Year)\n- Estimated Capacity Factor (in %) OR Estimated Annual Production (in MWh)\n- Installed Capacity (MW)\n- Length of PPA ","NA"]
[]
[4,null,"Electric Mobility"]
[null,1,"Does your country have policies in place or draft legislation to promote the uptake of electric mobility?","NA"]
[null,2,"Does your country have specific targets for the uptake of electric vehicles?","NA"]
[null,null,"What is the target and target year?","NA"]
[null,null,"How many electric cars are currently in your country?","NA"]
[null,null,"How many charging stations are in your country?","NA"]
[]
[null,null,"Descriptive CREF Index Survey"]
[null,null,"Enabling Environment for Renewable Energy (RE) Investments"]
[null,null,"Renewable energy strategy"]
[null,null,"Which of the rollowing renewable generation options is included in your country's strategic plan to develop renewable energy?\n- Solar PV\n- Offshore wind\n- Biomass\n- Waste to energy\n- Hydro\n-Geothermal\n- Other",{"$f":"D6","v":"NA"}]
[null,null,"What is the target and target year?",{"$f":"D8","v":"NA"}]
[null,null,"What is the current breakdown of your country's energy mix?",{"$f":"D9","v":"NA"}]
[null,null,"Utilities"]
[null,null,"On average, how long does it take for the power utility to get investments in RE projects approved by the regulatory authority 9or the relevant entity) for recovery through tariffs?",{"$f":"D15","v":"NA"}]
[null,null,"Distributed Generation"]
[null,null,"What was the total generation from exisitng distributed scale RE systems in 2019?",{"$f":"D24","v":"NA"}]
[null,null,"What is the total installed capacity from renewable distributed generation in your country?",{"$f":"D26","v":"NA"}]
[null,null,"What was the total generation from exisitng distributed scale RE systems in 2018?",{"$f":"D27","v":"NA"}]
[null,null,"Existing renewable generation"]
[null,null,"What was the total electricity generated in 2019 (MWh)?"]
[null,null,"What was the total electricity generated from utility-scale RE projects in 2019 (MWh)?",{"$f":"D31","v":"NA"}]
[null,null,"What was the total electricity generated in 2018 (MWh)?",{"$f":"D32","v":"NA"}]
[null,null,"What was the total electricity generated from utility-scale RE projects in 2018 (MWh)?",{"$f":"D33","v":109200.00000000001}]
[null,null,"Please provide as much information as possible for exisitng RE projects in the box below as:\n- Project Name\n- Developer\n- Offtaker\n- Renewable Energy Technology Type\n- Start of Commercial Operation (Year)\n- Estimated Capacity Factor (in %) OR Estimated Annual Production (in MWh)\n- Installed Capacity (MW)\n- Length of PPA ",{"$f":"D34","v":"NA"}]
[null,null,"Planned renewable generation"]
[null,null,"Potential Utility-Scale Renewable Energy Projects"]
[null,null,"How much installed capacity from RE is expected to come online in the next 3 years?",{"$f":"D38","v":"NA"}]
[null,null,"How much renewable energy generation is expected to come online in the next 3 years?",{"$f":"D39","v":"NA"}]
[null,null,"Please provide as much information as possible for RE projects currently under development in the box below as:\n- Project Name\n- Developer\n- Offtaker\n- Renewable Energy Technology Type\n- Start of Commercial Operation (Year)\n- Estimated Capacity Factor (in %) OR Estimated Annual Production (in MWh)\n- Installed Capacity (MW)\n- Length of PPA ",{"$f":"D41","v":"NA"}]
[null,null,"Electric Mobility"]
[null,null,"What is the target and target year?",{"$f":"D46","v":"NA"}]
[null,null,"How many electric cars are currently in your country?",{"$f":"D47","v":"NA"}]
[null,null,"How many charging stations are in your country?","NA"]
[null,null,"Covid"]
[null,null,"Has any measure been implemented to respond to disruptions in revenue collections from electricity services (particularly given the current circumstances during the COVID pandemic)?","NA"]
[null,null,"If yes, to get a score on this kindly describe how the measure works and who is responsible for implementing it","NA"]
[null,null,"Outlook sentiment"]
[null,null,"How enthusiastic are you about the investment prospects in renewables, electric mobility, and resilience compared to this time last year, and why?","NA"]
[null,null,"Please elaborate on your reasoning for the previous response.","NA"]

{"sheet":"Saint_Martin","index":38,"n_rows":82,"n_cols":4,"rows_kept":82,"cut":false,"hidden":true,"merged":[[0,1,0,3],[1,5,1,11],[16,4,20,4]]}
[null,"Saint-Martin"]
[null,null,"Overall Indicator","Excluded from RE Index - insufficient data"]
[1,null,"Enabling Environment for Renewable Energy (RE) Investments","Consolidated Survey Response"]
[null,null,"Government - Renewable Energy Strategy","Y/N"]
[null,1,"Does your country have a strategic plan to develop renewble energy?"]
[null,null,"Which of the following renewable generation options is includd in you country's strategic plan to develop renewable energy?","NA"]
[null,2,"Does your country have a specific target for renewable energy?","NA"]
[null,null,"If yes, what is the target and target year?","NA"]
[null,null,"What is the current breakdown of your country's energy mix?","NA"]
[null,3,"Does your country have an Integrated Resource Plan (IRP) that was produced within the last three years?","NA"]
[null,null,"Utilities","Y/N"]
[null,1,"When planning generation expansion, does the utility consider RE options?","NA"]
[null,2,"Can the utility safely recover RE investments through tariffs like it can recover fossil fuel costs?","NA"]
[null,3,"Are there clear, specific planning and permitting processes and rules in place for developing RE?","NA"]
[null,null,"On average, how long does it take for the power utility to get investments in RE projects approved by the regulatory authority (or relevant entity) fror recovery through tariffs?","NA"]
[null,null,"IPPs","Y/N"]
[null,1,"Can the utility safely recover purchases of RE from third parties, just as it recovers fossil fuel costs?","NA"]
[null,null,"How long did it take to get your off-take agreement?","NA"]
[null,2,"Are there workable precedents or rules for PPA terms and grid operation rules?","NA"]
[null,3,"Are there clear and effective licensing processes and requirements in place for IPPs?","NA"]
[null,4,"Does the utility have an obligation to purchase from IPPs when it is cheaper than generating the power itself?","NA"]
[null,null,"Distributed generation","Y/N"]
[null,1,"Do you have a registry or database of distributed generation?","NA"]
[null,null,"What was the number of existing distributed scale RE systems in 2019?","NA"]
[null,null,"Is there an aggregate maximum capacity for distributed generation?","NA"]
[null,null,"What is the total installed capacity from renewable distributed generation in your country?","NA"]
[null,null,"What was the total generation from existing distributed scale RE systems in 2019?","NA"]
[null,2,"Is there a standard arrangement in place for customers to sell electricity to the utility at a reasonable price, for a reasonable timeframe, and with a clear interconnection agreement?","NA"]
[]
[2,null,"Existing renewable generation"]
[null,null,"What is the number of existing Utility-Scale RE projects?","NA"]
[null,null,"What was the total electricity generated in 2019? (MWh)","NA"]
[null,1,"What was the total electricity generated from Utility Scale RE projects in 2019? (MWh) ","NA"]
[null,null,"Please provide as much information as possible for exisitng RE projects in the box below as:\n- Project Name\n- Developer\n- Offtaker\n- Renewable Energy Technology Type\n- Start of Commercial Operation (Year)\n- Estimated Capacity Factor (in %) OR Estimated Annual Production (in MWh)\n- Installed Capacity (MW)\n- Length of PPA ","NA"]
[]
[3,null,"Planned Utility-Scale Renewable Energy Projects"]
[null,1,"Does your country have an estimate of planned installed capacity expected to come online from-utility scale RE projects?","NA"]
[null,null,"How much installed capacity from RE is expected to come online in the next 3 years?","NA"]
[null,2,"How much renewable energy generation is expected to come online in the next 3 years?","NA"]
[null,3,"Is climate resilience incorporated in your IRP or national policy?","NA"]
[null,null,"Please provide as much information as possible for RE projects currently under development in the box below as:\n- Project Name\n- Developer\n- Offtaker\n- Renewable Energy Technology Type\n- Start of Commercial Operation (Year)\n- Estimated Capacity Factor (in %) OR Estimated Annual Production (in MWh)\n- Installed Capacity (MW)\n- Length of PPA ","NA"]
[]
[4,null,"Electric Mobility"]
[null,1,"Does your country have policies in place or draft legislation to promote the uptake of electric mobility?","NA"]
[null,2,"Does your country have specific targets for the uptake of electric vehicles?","NA"]
[null,null,"What is the target and target year?","NA"]
[null,null,"How many electric cars are currently in your country?","NA"]
[null,null,"How many charging stations are in your country?","NA"]
[]
[null,null,"Descriptive CREF Index Survey"]
[null,null,"Enabling Environment for Renewable Energy (RE) Investments"]
[null,null,"Renewable energy strategy"]
[null,null,"Which of the rollowing renewable generation options is included in your country's strategic plan to develop renewable energy?\n- Solar PV\n- Offshore wind\n- Biomass\n- Waste to energy\n- Hydro\n-Geothermal\n- Other",{"$f":"D6","v":"NA"}]
[null,null,"What is the target and target year?",{"$f":"D8","v":"NA"}]
[null,null,"What is the current breakdown of your country's energy mix?",{"$f":"D9","v":"NA"}]
[null,null,"Utilities"]
[null,null,"On average, how long does it take for the power utility to get investments in RE projects approved by the regulatory authority 9or the relevant entity) for recovery through tariffs?",{"$f":"D15","v":"NA"}]
[null,null,"Distributed Generation"]
[null,null,"What was the total generation from exisitng distributed scale RE systems in 2019?",{"$f":"D24","v":"NA"}]
[null,null,"What is the total installed capacity from renewable distributed generation in your country?",{"$f":"D26","v":"NA"}]
[null,null,"What was the total generation from exisitng distributed scale RE systems in 2018?",{"$f":"D27","v":"NA"}]
[null,null,"Existing renewable generation"]
[null,null,"What was the total electricity generated in 2019 (MWh)?"]
[null,null,"What was the total electricity generated from utility-scale RE projects in 2019 (MWh)?",{"$f":"D31","v":"NA"}]
[null,null,"What was the total electricity generated in 2018 (MWh)?",{"$f":"D32","v":"NA"}]
[null,null,"What was the total electricity generated from utility-scale RE projects in 2018 (MWh)?",{"$f":"D33","v":"NA"}]
[null,null,"Please provide as much information as possible for exisitng RE projects in the box below as:\n- Project Name\n- Developer\n- Offtaker\n- Renewable Energy Technology Type\n- Start of Commercial Operation (Year)\n- Estimated Capacity Factor (in %) OR Estimated Annual Production (in MWh)\n- Installed Capacity (MW)\n- Length of PPA ",{"$f":"D34","v":"NA"}]
[null,null,"Planned renewable generation"]
[null,null,"Potential Utility-Scale Renewable Energy Projects"]
[null,null,"How much installed capacity from RE is expected to come online in the next 3 years?",{"$f":"D38","v":"NA"}]
[null,null,"How much renewable energy generation is expected to come online in the next 3 years?",{"$f":"D39","v":"NA"}]
[null,null,"Please provide as much information as possible for RE projects currently under development in the box below as:\n- Project Name\n- Developer\n- Offtaker\n- Renewable Energy Technology Type\n- Start of Commercial Operation (Year)\n- Estimated Capacity Factor (in %) OR Estimated Annual Production (in MWh)\n- Installed Capacity (MW)\n- Length of PPA ",{"$f":"D41","v":"NA"}]
[null,null,"Electric Mobility"]
[null,null,"What is the target and target year?",{"$f":"D46","v":"NA"}]
[null,null,"How many electric cars are currently in your country?",{"$f":"D47","v":"NA"}]
[null,null,"How many charging stations are in your country?","NA"]
[null,null,"Covid"]
[null,null,"Has any measure been implemented to respond to disruptions in revenue collections from electricity services (particularly given the current circumstances during the COVID pandemic)?","NA"]
[null,null,"If yes, to get a score on this kindly describe how the measure works and who is responsible for implementing it","NA"]
[null,null,"Outlook sentiment"]
[null,null,"How enthusiastic are you about the investment prospects in renewables, electric mobility, and resilience compared to this time last year, and why?","NA"]
[null,null,"Please elaborate on your reasoning for the previous response.","NA"]

{"sheet":"Sint_Marteen","index":39,"n_rows":82,"n_cols":4,"rows_kept":82,"cut":false,"hidden":true,"merged":[[0,1,0,3],[1,5,1,11],[16,4,20,4]]}
[null,"Sint-Marteen"]
[null,null,"Overall Indicator","Excluded from RE Index - insufficient data"]
[1,null,"Enabling Environment for Renewable Energy (RE) Investments","Consolidated Survey Response"]
[null,null,"Government - Renewable Energy Strategy","Y/N"]
[null,1,"Does your country have a strategic plan to develop renewble energy?"]
[null,null,"Which of the following renewable generation options is includd in you country's strategic plan to develop renewable energy?","NA"]
[null,2,"Does your country have a specific target for renewable energy?","NA"]
[null,null,"If yes, what is the target and target year?","NA"]
[null,null,"What is the current breakdown of your country's energy mix?","NA"]
[null,3,"Does your country have an Integrated Resource Plan (IRP) that was produced within the last three years?","NA"]
[null,null,"Utilities","Y/N"]
[null,1,"When planning generation expansion, does the utility consider RE options?","NA"]
[null,2,"Can the utility safely recover RE investments through tariffs like it can recover fossil fuel costs?","NA"]
[null,3,"Are there clear, specific planning and permitting processes and rules in place for developing RE?","NA"]
[null,null,"On average, how long does it take for the power utility to get investments in RE projects approved by the regulatory authority (or relevant entity) fror recovery through tariffs?","NA"]
[null,null,"IPPs","Y/N"]
[null,1,"Can the utility safely recover purchases of RE from third parties, just as it recovers fossil fuel costs?","NA"]
[null,null,"How long did it take to get your off-take agreement?","NA"]
[null,2,"Are there workable precedents or rules for PPA terms and grid operation rules?","NA"]
[null,3,"Are there clear and effective licensing processes and requirements in place for IPPs?","NA"]
[null,4,"Does the utility have an obligation to purchase from IPPs when it is cheaper than generating the power itself?","NA"]
[null,null,"Distributed generation","Y/N"]
[null,1,"Do you have a registry or database of distributed generation?","NA"]
[null,null,"What was the number of existing distributed scale RE systems in 2019?","NA"]
[null,null,"Is there an aggregate maximum capacity for distributed generation?","NA"]
[null,null,"What is the total installed capacity from renewable distributed generation in your country?","NA"]
[null,null,"What was the total generation from existing distributed scale RE systems in 2019?","NA"]
[null,2,"Is there a standard arrangement in place for customers to sell electricity to the utility at a reasonable price, for a reasonable timeframe, and with a clear interconnection agreement?","NA"]
[]
[2,null,"Existing renewable generation"]
[null,null,"What is the number of existing Utility-Scale RE projects?","NA"]
[null,1,"What was the total electricity generated in 2019? (MWh)","NA"]
[null,1,"What was the total electricity generated from Utility Scale RE projects in 2019? (MWh) ","NA"]
[null,null,"Please provide as much information as possible for exisitng RE projects in the box below as:\n- Project Name\n- Developer\n- Offtaker\n- Renewable Energy Technology Type\n- Start of Commercial Operation (Year)\n- Estimated Capacity Factor (in %) OR Estimated Annual Production (in MWh)\n- Installed Capacity (MW)\n- Length of PPA ","NA"]
[]
[3,null,"Planned Utility-Scale Renewable Energy Projects"]
[null,1,"Does your country have an estimate of planned installed capacity expected to come online from-utility scale RE projects?","NA"]
[null,null,"How much installed capacity from RE is expected to come online in the next 3 years?","NA"]
[null,2,"How much renewable energy generation is expected to come online in the next 3 years?","NA"]
[null,3,"Is climate resilience incorporated in your IRP or national policy?","NA"]
[null,null,"Please provide as much information as possible for RE projects currently under development in the box below as:\n- Project Name\n- Developer\n- Offtaker\n- Renewable Energy Technology Type\n- Start of Commercial Operation (Year)\n- Estimated Capacity Factor (in %) OR Estimated Annual Production (in MWh)\n- Installed Capacity (MW)\n- Length of PPA ","NA"]
[]
[4,null,"Electric Mobility"]
[null,1,"Does your country have policies in place or draft legislation to promote the uptake of electric mobility?","NA"]
[null,2,"Does your country have specific targets for the uptake of electric vehicles?","NA"]
[null,null,"What is the target and target year?","NA"]
[null,null,"How many electric cars are currently in your country?","NA"]
[null,null,"How many charging stations are in your country?","NA"]
[]
[null,null,"Descriptive CREF Index Survey"]
[null,null,"Enabling Environment for Renewable Energy (RE) Investments"]
[null,null,"Renewable energy strategy"]
[null,null,"Which of the rollowing renewable generation options is included in your country's strategic plan to develop renewable energy?\n- Solar PV\n- Offshore wind\n- Biomass\n- Waste to energy\n- Hydro\n-Geothermal\n- Other",{"$f":"D6","v":"NA"}]
[null,null,"What is the target and target year?",{"$f":"D8","v":"NA"}]
[null,null,"What is the current breakdown of your country's energy mix?",{"$f":"D9","v":"NA"}]
[null,null,"Utilities"]
[null,null,"On average, how long does it take for the power utility to get investments in RE projects approved by the regulatory authority 9or the relevant entity) for recovery through tariffs?",{"$f":"D15","v":"NA"}]
[null,null,"Distributed Generation"]
[null,null,"What was the total generation from exisitng distributed scale RE systems in 2019?",{"$f":"D24","v":"NA"}]
[null,null,"What is the total installed capacity from renewable distributed generation in your country?",{"$f":"D26","v":"NA"}]
[null,null,"What was the total generation from exisitng distributed scale RE systems in 2018?",{"$f":"D27","v":"NA"}]
[null,null,"Existing renewable generation"]
[null,null,"What was the total electricity generated in 2019 (MWh)?"]
[null,null,"What was the total electricity generated from utility-scale RE projects in 2019 (MWh)?",{"$f":"D31","v":"NA"}]
[null,null,"What was the total electricity generated in 2018 (MWh)?",{"$f":"D32","v":"NA"}]
[null,null,"What was the total electricity generated from utility-scale RE projects in 2018 (MWh)?",{"$f":"D33","v":"NA"}]
[null,null,"Please provide as much information as possible for exisitng RE projects in the box below as:\n- Project Name\n- Developer\n- Offtaker\n- Renewable Energy Technology Type\n- Start of Commercial Operation (Year)\n- Estimated Capacity Factor (in %) OR Estimated Annual Production (in MWh)\n- Installed Capacity (MW)\n- Length of PPA ",{"$f":"D34","v":"NA"}]
[null,null,"Planned renewable generation"]
[null,null,"Potential Utility-Scale Renewable Energy Projects"]
[null,null,"How much installed capacity from RE is expected to come online in the next 3 years?",{"$f":"D38","v":"NA"}]
[null,null,"How much renewable energy generation is expected to come online in the next 3 years?",{"$f":"D39","v":"NA"}]
[null,null,"Please provide as much information as possible for RE projects currently under development in the box below as:\n- Project Name\n- Developer\n- Offtaker\n- Renewable Energy Technology Type\n- Start of Commercial Operation (Year)\n- Estimated Capacity Factor (in %) OR Estimated Annual Production (in MWh)\n- Installed Capacity (MW)\n- Length of PPA ",{"$f":"D41","v":"NA"}]
[null,null,"Electric Mobility"]
[null,null,"What is the target and target year?",{"$f":"D46","v":"NA"}]
[null,null,"How many electric cars are currently in your country?",{"$f":"D47","v":"NA"}]
[null,null,"How many charging stations are in your country?","NA"]
[null,null,"Covid"]
[null,null,"Has any measure been implemented to respond to disruptions in revenue collections from electricity services (particularly given the current circumstances during the COVID pandemic)?","NA"]
[null,null,"If yes, to get a score on this kindly describe how the measure works and who is responsible for implementing it","NA"]
[null,null,"Outlook sentiment"]
[null,null,"How enthusiastic are you about the investment prospects in renewables, electric mobility, and resilience compared to this time last year, and why?","NA"]
[null,null,"Please elaborate on your reasoning for the previous response.","NA"]

{"sheet":"Jurisdictions | RE targets","index":40,"n_rows":34,"n_cols":10,"rows_kept":34,"cut":false,"hidden":false,"merged":[[0,1,0,2]]}
[null,null,null,"Renewable Energy Share",null,"Renewable Energy Target ","Ministry ","Renewable Energy  Institution","Regulator","Utility"]
[]
["Aruba","Aruba",null,{"$f":"HLOOKUP(A3,'RE Index | Ranking inputs'!$H$4:$AM$28,25,FALSE)","v":0.14850747474747475},1,"100% by 2020","Ministry of Finance, Communication, Utilities and Energy","WEB Aruba N.V. and N.V. Elmar","None","WEB Aruba N.V. and N.V. Elmar"]
["Bonaire","Bonaire",null,{"$f":"HLOOKUP(A4,'RE Index | Ranking inputs'!$H$4:$AM$28,25,FALSE)","v":0.31818181818181818},0.5,"50% by 2030","Ministry of Economic Affairs","Ministry of Infrastructure and the Environment","Authority for Consumers and Markets","WEB Bonaire N.V."]
["Dominica","Dominica",null,{"$f":"HLOOKUP(A5,'RE Index | Ranking inputs'!$H$4:$AM$28,25,FALSE)","v":0.21623709680880743},1,"100% by 2030","Ministry of Public Works, Energy, and Ports","Energy Unit within the Ministry","Independent Regulatory Commission","Dominica Electricity Services Limited"]
["Martinique","Martinique",null,{"$f":"HLOOKUP(A6,'RE Index | Ranking inputs'!$H$4:$AM$28,25,FALSE)","v":7.0000000000000007E-2},1,"100% by 2030","Department of Energy and Utilities","None","None","Électricité de France S.A. (EDF)"]
["Nevis","Nevis ",null,{"$f":"HLOOKUP(A7,'RE Index | Ranking inputs'!$H$4:$AM$28,25,FALSE)","v":0.14968490614047633},1,"100% by 2025","Ministry of Public Works, Housing, Energy, and Utilities","None","None","Nevis Electricity Company Ltd. (NEVLEC)"]
["St_Kitts","St. Kitts",null,{"$f":"HLOOKUP(A8,'RE Index | Ranking inputs'!$H$4:$AM$28,25,FALSE)","v":1.256952380952381E-2},1,"100% by 2020","Ministry of Public Works, Housing, Energy, and Utilities","None","None","St. Kitts Electricity Company Ltd. (SKELEC)"]
["Puerto_Rico","Puerto Rico",null,{"$f":"HLOOKUP(A9,'RE Index | Ranking inputs'!$H$4:$AM$28,25,FALSE)","v":0.02},1,"100% by 2025","Energy Public Policy Office","Puerto Rico Energy Commission","Puerto Rico Energy Commission","Puerto Rico Electric Power Authority (PREPA)"]
["Belize","Belize",null,{"$f":"HLOOKUP(A10,'RE Index | Ranking inputs'!$H$4:$AM$28,25,FALSE)","v":0.24976501266465925},0.85,"85% by 2030","Ministry of Energy, Science and Technology, and Public Utilities","None","Public Utilities Commission","Belize Electricity Limited"]
["Sint_Marteen","Sint Maarten",null,{"$f":"HLOOKUP(A11,'RE Index | Ranking inputs'!$H$4:$AM$28,25,FALSE)","v":0},0.8,"80% by 2020","Ministry of Public Housing, Spatial Planning, Environment and Infrastructure ","Ministry of Public Housing, Spatial Planning, Environment and Infrastructure ","None","NV GEBE"]
["Cayman_Islands","Cayman Islands",null,{"$f":"HLOOKUP(A12,'RE Index | Ranking inputs'!$H$4:$AM$28,25,FALSE)","v":1.6389510901591044E-2},0.7,"70% by 2037","Ministry of Communication, Works, and Infrastructure","None","Electricity Regulatory Authority of the Cayman Islands ","Caribbean Utilities Company, Ltd. "]
["St_Vincent_Grenadines","SVG",null,{"$f":"HLOOKUP(A13,'RE Index | Ranking inputs'!$H$4:$AM$28,25,FALSE)","v":5.1942185968024863E-3},0.6,"60% by 2020","Ministry of National Security, Air and Sea Port Development","Ministry of National Security, Air and Sea Port Development","None","St. Vincent Electricity Services Ltd. (VINLEC)"]
["Guadeloupe","Guadeloupe",null,{"$f":"HLOOKUP(A14,'RE Index | Ranking inputs'!$H$4:$AM$28,25,FALSE)","v":0.220162224797219},0.5,"50% by 2020","Directorate of the Environment, of the Interior and Housing ","Directorate of the Environment, of the Interior and Housing ","Commission for Regulation of Energy","Électricité de France S.A. (EDF)"]
["Haiti","Haiti",null,{"$f":"HLOOKUP(A15,'RE Index | Ranking inputs'!$H$4:$AM$28,25,FALSE)","v":0.1886903643238729},0.5,"50% by 2030","Ministry of Public Works, Transport, and Communication ","Office of Energy Security","None","Electricite d’Haiti (EDH)"]
["Jamaica","Jamaica",null,{"$f":"HLOOKUP(A16,'RE Index | Ranking inputs'!$H$4:$AM$28,25,FALSE)","v":0.10687198259633154},0.5,"50% by 2030","Ministry of Science, Technology, Energy and Mining","Ministry of Science, Technology, Energy and Mining","Office of Utilities Regulation","Jamaica Public Services Company Limited"]
["Bermuda","Bermuda",null,{"$f":"HLOOKUP(A17,'RE Index | Ranking inputs'!$H$4:$AM$28,25,FALSE)","v":5.6010909090909083E-2},0.75,"75% by 2035","Ministry of Economic Development","Department of Energy","Regulatory Authority of Bermuda","Bermuda Electric Light Company Ltd. (BELCO)"]
["St_Lucia","St. Lucia ",null,{"$f":"HLOOKUP(A18,'RE Index | Ranking inputs'!$H$4:$AM$28,25,FALSE)","v":1.9357175843350671E-2},0.35,"35% by 2025","Ministry of Sustainable Development, Energy, and Science and Technology","Energy Policy Advisory Committee","Ministry of Communications, Works, Transport, and Public Utilities","St. Lucia Electricity Services Limited"]
["Anguilla","Anguilla",null,{"$f":"HLOOKUP(A19,'RE Index | Ranking inputs'!$H$4:$AM$28,25,FALSE)","v":0},0.3,"30% by 2030","Ministry of Infrastructure, Communications, Utilities, Housing","Anguilla Renewable Energy Office","Ministry of Infrastructure, Communications, Utilities, Housing","Anguilla Electricity Company Limited (ANGLEC)"]
["Bahamas","The Bahamas",null,{"$f":"HLOOKUP(A20,'RE Index | Ranking inputs'!$H$4:$AM$28,25,FALSE)","v":0},0.3,"30% by 2030","Ministry of the Environment","None","Utilities Competition Regulatory Agency ","Bahamas Electricity Corporation and Grand Bahama Power Corporation"]
["British_Virgin_Islands","British Virgin Islands",null,{"$f":"HLOOKUP(A21,'RE Index | Ranking inputs'!$H$4:$AM$28,25,FALSE)","v":0},0.3,"30% by 2023","Ministry of Communications and Works","None","British Virgin Islands Government","British Virgin Islands Electricity Corporation "]
["Curacao","Curaҫao",null,{"$f":"HLOOKUP(A22,'RE Index | Ranking inputs'!$H$4:$AM$28,25,FALSE)","v":0.25},0.3,"30% by 2020","Electricity Monitor, Bureau of Telecommunications and Post","Electricity Monitor, Bureau of Telecommunications and Post","Electricity Monitor, Bureau of Telecommunications and Post","Aqualectra"]
["USVI","U.S. Virgin Islands",null,{"$f":"HLOOKUP(A23,'RE Index | Ranking inputs'!$H$4:$AM$28,25,FALSE)","v":1.4636E-2},0.3,"30% by 2025","Virgin Islands Energy Office","Verigin Islands Energy Office","Virgin Islands Public Service Commission","Virgin Islands Water and Power Authority"]
["Barbados","Barbados",null,{"$f":"HLOOKUP(A24,'RE Index | Ranking inputs'!$H$4:$AM$28,25,FALSE)","v":1.9162553256971297E-2},1,"100% by 2030","Energy Division, Office of the Prime Minister","Renewable Energy and Energy Conversation Unit","Utility Regulation Department, Fair Trading Commission","Barbados Light And Power Company Limited"]
["Guyana","Guyana ",null,{"$f":"HLOOKUP(A25,'RE Index | Ranking inputs'!$H$4:$AM$28,25,FALSE)","v":9.7970548954733755E-2},0.28000000000000003,"28% by 2022","Guyana Energy Agency ","None","Public Utilities Commission ","Guyana Power and Light Inc. (GPL)"]
["Dominican_Republic","Dominican Republic",null,{"$f":"HLOOKUP(A26,'RE Index | Ranking inputs'!$H$4:$AM$28,25,FALSE)","v":0.87699798896536663},0.25,"25% by 2025","National Energy Commission","National Energy Commission","Superintendency of Electricity ","CDEEE and EGE Haina"]
["Suriname","Suriname",null,{"$f":"HLOOKUP(A27,'RE Index | Ranking inputs'!$H$4:$AM$28,25,FALSE)","v":0.44562608603797121},0.25,"25% by 2025","Ministry of Natural Resources","None","None","N.V. EnergieBedrijven Suriname (EBS)"]
["Cuba","Cuba",null,{"$f":"HLOOKUP(A28,'RE Index | Ranking inputs'!$H$4:$AM$28,25,FALSE)","v":4.0813453222632813E-3},0.24,"24% by 2030","Ministry of Energy and Mines","None","None","Unión Eléctrica de Cuba (UNE)"]
["Grenada","Grenada",null,{"$f":"HLOOKUP(A29,'RE Index | Ranking inputs'!$H$4:$AM$28,25,FALSE)","v":6.492537444056307E-3},0.2,"10% by 2030","Ministry of Finance, Planning, Economic Development, Trade, Energy, and Cooperatives","Department of Energy and Sustainable Development","In development","Grenada Electricity Services Limited"]
["Antigua_Barbuda","Antigua and Barbuda",null,{"$f":"HLOOKUP(A30,'RE Index | Ranking inputs'!$H$4:$AM$28,25,FALSE)","v":2.3978770794922895E-2},0.2,"15% by 2030","Ministry of Tourism, Economic Development, Investment and Energy","Ministry of Tourism, Economic Development, Investment and Energy","Ministry of Public Utilities, Civil Aviation, and Transportation","Antigua Public Utilities Authorities (APUA)"]
["Trinidad_Tobago","Trinidad and Tobago",null,{"$f":"HLOOKUP(A31,'RE Index | Ranking inputs'!$H$4:$AM$28,25,FALSE)","v":0},0.1,"10% by 2021","Ministry of Energy and Energy Affairs","Energy Research and Planning Division, Mistry of Energy and Energy Affairs","Regulated Industries Commission","Trinidad and Tobago Electricity Commission"]
["Montserrat","Montserrat",null,{"$f":"HLOOKUP(A32,'RE Index | Ranking inputs'!$H$4:$AM$28,25,FALSE)","v":3.1428571428571431E-2},1,"100% by 2020","Ministry of Communications, Works, Energy and Labour","Ministry of Communications, Works, Energy and Labour","Ministry of Communications, Works, Energy and Labour","Montserrat Utilities Limited"]
["Saint_Martin","Saint-Martin",null,{"$f":"HLOOKUP(A33,'RE Index | Ranking inputs'!$H$4:$AM$28,25,FALSE)","v":0},null,"None","None","None","Commission for Regulation of Energy","Électricité de France S.A. (EDF)"]
["Turks_and_Caicos","Turks and Caicos Islands",null,{"$f":"HLOOKUP(A34,'RE Index | Ranking inputs'!$H$4:$AM$28,25,FALSE)","v":0},null,"None","Ministry of Government Support, Services, Energy and Utilities Department ","None","The Electricity Commissioner","FortisTCI"]

{"sheet":"Jurisdictions | Generation","index":41,"n_rows":35,"n_cols":15,"rows_kept":35,"cut":false,"hidden":false,"merged":[[0,4,0,7],[0,8,0,11],[0,1,0,3]]}
["Jurisdiction","Population",null,null,"Total Generation",null,null,null,"Customers",null,null,null,"RE Generation (according to database)"]
["Name","Number","Source","Link","MWh","Year","Source","Link","Customers","Year","Source","Link",2018,null,"Helper"]
["Anguilla",17422,"CIA Factbook 2018 Est.","https://www.cia.gov/library/publications/resources/the-world-factbook/geos/xx.html",100446,2016,"ANGLEC 2016 Annual Report","https://www.anglec.com/documents/annrep2016.pdf",8000,2016,"CARILEC 2012 Tariff Survey, The Anguillan","http://carilec.com/technical/CARILEC_TariffSurvey_Sept2012.pdf, https://theanguillian.com/2016/09/anglec-turns-to-sun-for-greater-power/",{"$f":"SUMIFS(Marketplace!$P$3:$P$435,Marketplace!$C$3:$C$435,'Jurisdictions | Generation'!O3,Marketplace!$J$3:$J$435,\"Operational\",Marketplace!$I$3:$I$435,\"Utility/IPP\",Marketplace!$AI$3:$AI$435,\"Confident\",Marketplace!$AF$3:$AF$435,\"<2019\")","v":0},null,"Anguilla"]
["Antigua_Barbuda",95882,"CIA Factbook 2018 Est.","https://www.cia.gov/library/publications/resources/the-world-factbook/geos/av.html",330000,2017,"Energy Report Card 2017","https://europa.eu/capacity4dev/covenantinsubsaharanafrica/file/88842/download?token=OvZBliiG",38000,2017,"Energy Report Card 2017","https://www.google.com/search?rlz=1C1CAFC_enUS858US858&ei=mnpEXbeVCKum_Qbi8pGAAw&q=antigua+and+barbuda+energy+report+card&oq=antigua+and+barbuda+energy+report+card&gs_l=psy-ab.3..35i39.93063.95893..96013...0.0..0.75.1107.19......0....1..gws-wiz.......0i71j0i67j0i20i263j0j0i3j0i22i30j0i22i10i30.RUyRYnu4Nbk&ved=0ahUKEwi3yom-4uTjAhUrU98KHWJ5BDAQ4dUDCAo&uact=5#",{"$f":"SUMIFS(Marketplace!$P$3:$P$435,Marketplace!$C$3:$C$435,'Jurisdictions | Generation'!O4,Marketplace!$J$3:$J$435,\"Operational\",Marketplace!$I$3:$I$435,\"Utility/IPP\",Marketplace!$AI$3:$AI$435,\"Confident\",Marketplace!$AF$3:$AF$435,\"<2019\")","v":4665},null,"Antigua & Barbuda"]
["Aruba",116576,"CIA Factbook 2018 Est.","https://www.cia.gov/library/publications/resources/the-world-factbook/geos/ac.html",990000,2015,"National Renewable Energy Laboratory","https://www.nrel.gov/docs/fy15osti/62709.pdf",40238,2010,"CARILEC 2010 Tariff Survey","http://www.carilec.com/services/Tariff2010.pdf",{"$f":"SUMIFS(Marketplace!$P$3:$P$435,Marketplace!$C$3:$C$435,'Jurisdictions | Generation'!O5,Marketplace!$J$3:$J$435,\"Operational\",Marketplace!$I$3:$I$435,\"Utility/IPP\",Marketplace!$AI$3:$AI$435,\"Confident\",Marketplace!$AF$3:$AF$435,\"<2019\")","v":147022.39999999999},null,"Aruba"]
["Bahamas",332634,"CIA Factbook 2018 Est.","https://www.cia.gov/library/publications/resources/the-world-factbook/geos/aa.html",1930000,2015,"National Renewable Energy Laboratory","https://www.nrel.gov/docs/fy15osti/62691.pdf",{"$f":"95000+19000","v":114000},2015,"Energy Report Card 2017","https://europa.eu/capacity4dev/pg/file/88839/download?token=kpuJGblj",{"$f":"SUMIFS(Marketplace!$P$3:$P$435,Marketplace!$C$3:$C$435,'Jurisdictions | Generation'!O6,Marketplace!$J$3:$J$435,\"Operational\",Marketplace!$I$3:$I$435,\"Utility/IPP\",Marketplace!$AI$3:$AI$435,\"Confident\",Marketplace!$AF$3:$AF$435,\"<2019\")","v":0},null,"The Bahamas"]
["Barbados",293131,"CIA Factbook 2018 Est.","https://www.cia.gov/library/publications/resources/the-world-factbook/geos/bb.html",967800,2016,"Inter-American Development Bank","https://publications.iadb.org/publications/english/document/Achieving-Sustainable-Energy-in-Barbados-Energy-Dossier.pdf",126200,2015,"Emera Caribbean 2015 Annual Report ","http://www.emeracaribbean.com/site-emera/media/EmeraCaribbean/Emera%2017%20Final%20Approved%20(OPT).pdf",{"$f":"SUMIFS(Marketplace!$P$3:$P$435,Marketplace!$C$3:$C$435,'Jurisdictions | Generation'!O7,Marketplace!$J$3:$J$435,\"Operational\",Marketplace!$I$3:$I$435,\"Utility/IPP\",Marketplace!$AI$3:$AI$435,\"Confident\",Marketplace!$AF$3:$AF$435,\"<2019\")","v":20200},null,"Barbados"]
["Belize","385,854 ","CIA Factbook 2018 Est.","https://www.cia.gov/library/publications/resources/the-world-factbook/geos/bh.html",650000,2019,"BEL 2019 Annual Report","http://www.bel.com.bz/annual_reports/Annual%20Report%202019.pdf",97714,2018,"BEL 2018 Annual Report","http://www.bel.com.bz/annual_reports/Annual%20Report%202018.pdf",{"$f":"SUMIFS(Marketplace!$P$3:$P$435,Marketplace!$C$3:$C$435,'Jurisdictions | Generation'!O8,Marketplace!$J$3:$J$435,\"Operational\",Marketplace!$I$3:$I$435,\"Utility/IPP\",Marketplace!$AI$3:$AI$435,\"Confident\",Marketplace!$AF$3:$AF$435,\"<2019\")","v":391585.72},null,"Belize"]
["Bermuda",71176,"CIA Factbook 2018 Est.","https://www.cia.gov/library/publications/resources/the-world-factbook/geos/bd.html",598138,2019,"Ascendant Group 2019 Annual Report","https://ascendant.bm/wp-content/uploads/2020/06/ASCENDANT_AR2019_FINAL_ForEmail_17June2020_F.pdf",38013,2018,"Ascendant Group 2018 Annual Report","https://ascendant.bm/wp-content/uploads/2019/07/AGL-Annual-Report-for-BSX-28Jun19.pdf",{"$f":"SUMIFS(Marketplace!$P$3:$P$435,Marketplace!$C$3:$C$435,'Jurisdictions | Generation'!O9,Marketplace!$J$3:$J$435,\"Operational\",Marketplace!$I$3:$I$435,\"Utility/IPP\",Marketplace!$AI$3:$AI$435,\"Confident\",Marketplace!$AF$3:$AF$435,\"<2019\")","v":30805.999999999996},null,"Bermuda"]
["Bonaire",20100,"Netherlands Centraal Bureau voor de Statistiek","https://www.cbs.nl/en-gb/news/2019/31/caribbean-dutch-population-larger-and-older-by-2030",110000,2017,"Statistics Netherlands (CBS)","https://www.cbs.nl/en-gb/publication/2018/50/trends-in-the-caribbean-netherlands-2018",8283,2013,"CARILEC 2010 Tariff Survey","http://www.carilec.com/services/Tariff2010.pdf",{"$f":"SUMIFS(Marketplace!$P$3:$P$435,Marketplace!$C$3:$C$435,'Jurisdictions | Generation'!O10,Marketplace!$J$3:$J$435,\"Operational\",Marketplace!$I$3:$I$435,\"Utility/IPP\",Marketplace!$AI$3:$AI$435,\"Confident\",Marketplace!$AF$3:$AF$435,\"<2019\")","v":35000},null,"Bonaire"]
["BVI",35802,"CIA Factbook 2018 Est.","https://www.cia.gov/library/publications/resources/the-world-factbook/geos/vi.html",210176,2015,"BVI Electricity Corporation Annual Report 2015","https://bvielectricity.com/download/bviec-2015-annual-report/",16638,2016,"British Virgin Islands Energy Policy 2016","http://www.bvi.gov.vg/sites/default/files/resources/energy_policy_of_the_virgin_islands_oct_2016.pdf",{"$f":"SUMIFS(Marketplace!$P$3:$P$435,Marketplace!$C$3:$C$435,'Jurisdictions | Generation'!O11,Marketplace!$J$3:$J$435,\"Operational\",Marketplace!$I$3:$I$435,\"Utility/IPP\",Marketplace!$AI$3:$AI$435,\"Confident\",Marketplace!$AF$3:$AF$435,\"<2019\")","v":0},null,"British Virgin Islands"]
["Cayman_Islands",59613,"CIA Factbook 2018 Est.","https://www.cia.gov/library/publications/resources/the-world-factbook/geos/cj.html",678800,2019,"CUC 2019 Annual Report","https://www.cuc-cayman.com/annual-reports",29000,2018,"CUC 2018 Annual Report","https://www.cuc-cayman.com/annual-reports",{"$f":"SUMIFS(Marketplace!$P$3:$P$435,Marketplace!$C$3:$C$435,'Jurisdictions | Generation'!O12,Marketplace!$J$3:$J$435,\"Operational\",Marketplace!$I$3:$I$435,\"Utility/IPP\",Marketplace!$AI$3:$AI$435,\"Confident\",Marketplace!$AF$3:$AF$435,\"<2019\")","v":11125.2},null,"Cayman Islands"]
["Cuba",11116396,"CIA Factbook 2018 Est.","https://www.cia.gov/library/publications/resources/the-world-factbook/geos/cu.html",20837000,2018,"Cuba Oficina Nacional de Estadistica","http://www.onei.gob.cu/sites/default/files/prodconselectdici18.pdf",3400000,2013,"Cuba Unión Eléctrica","http://www.olade.org/eficiencia/Documents/ponencias/Sesion%207/7-3-Cuba-Montes.pdf",{"$f":"SUMIFS(Marketplace!$P$3:$P$435,Marketplace!$C$3:$C$435,'Jurisdictions | Generation'!O13,Marketplace!$J$3:$J$435,\"Operational\",Marketplace!$I$3:$I$435,\"Utility/IPP\",Marketplace!$AI$3:$AI$435,\"Confident\",Marketplace!$AF$3:$AF$435,\"<2019\")","v":85042.992479999986},null,"Cuba"]
["Curacao",150241,"CIA Factbook 2018 Est.","https://www.cia.gov/library/publications/resources/the-world-factbook/geos/uc.html",879200,2019,"Curacao Central Bureau of Statistics","https://curacaodata.cbs.cw/environment/",74024,2013,"CARILEC 2012 Tariff Survey","http://carilec.com/technical/CARILEC_TariffSurvey_Sept2012.pdf",{"$f":"SUMIFS(Marketplace!$P$3:$P$435,Marketplace!$C$3:$C$435,'Jurisdictions | Generation'!O14,Marketplace!$J$3:$J$435,\"Operational\",Marketplace!$I$3:$I$435,\"Utility/IPP\",Marketplace!$AI$3:$AI$435,\"Confident\",Marketplace!$AF$3:$AF$435,\"<2019\")","v":233000},null,"Curaҫao"]
["Dominica",74027,"CIA Factbook 2018 Est.","https://www.cia.gov/library/publications/resources/the-world-factbook/geos/do.html",93181,2019,"Domlec 2019 Annual Report","https://www.domlec.dm/wp-content/uploads/AR2019.pdf",28353,2018,"Domlec 2018 Annual Report","http://www.domlec.dm/pdf/DomlecAR2018.pdf",{"$f":"SUMIFS(Marketplace!$P$3:$P$435,Marketplace!$C$3:$C$435,'Jurisdictions | Generation'!O15,Marketplace!$J$3:$J$435,\"Operational\",Marketplace!$I$3:$I$435,\"Utility/IPP\",Marketplace!$AI$3:$AI$435,\"Confident\",Marketplace!$AF$3:$AF$435,\"<2019\")","v":54548.520000000004},null,"Dominica"]
["Dominican_Republic",10298756,"CIA Factbook 2018 Est.","https://www.cia.gov/library/publications/resources/the-world-factbook/geos/dr.html",19651017,2018,"Comision Nacional de Energia (CNE)","https://www.cne.gob.do/estadisticas-energeticas/",2310930,2017,"Energy Report Card 2017","https://europa.eu/capacity4dev/file/88824/download?token=lFvP5JCK",{"$f":"SUMIFS(Marketplace!$P$3:$P$435,Marketplace!$C$3:$C$435,'Jurisdictions | Generation'!O16,Marketplace!$J$3:$J$435,\"Operational\",Marketplace!$I$3:$I$435,\"Utility/IPP\",Marketplace!$AI$3:$AI$435,\"Confident\",Marketplace!$AF$3:$AF$435,\"<2019\")","v":17233902.390124232},null,"Dominican Republic"]
["Grenada",112207,"CIA Factbook 2018 Est.","https://www.cia.gov/library/publications/resources/the-world-factbook/geos/gj.html",224456,2018,"GRENLEC 2018 Annual Report ","http://grenlec.com/Portals/0/AnnualReportsPDF/Grenlec_AR_2018.pdf",51218,2018,"GRENLEC 2018 Annual Report ","http://grenlec.com/Portals/0/AnnualReportsPDF/Grenlec_AR_2018.pdf",{"$f":"SUMIFS(Marketplace!$P$3:$P$435,Marketplace!$C$3:$C$435,'Jurisdictions | Generation'!O17,Marketplace!$J$3:$J$435,\"Operational\",Marketplace!$I$3:$I$435,\"Utility/IPP\",Marketplace!$AI$3:$AI$435,\"Confident\",Marketplace!$AF$3:$AF$435,\"<2019\")","v":700.8},null,"Grenada"]
["Guadeloupe",448767,"Worldometers","https://www.worldometers.info/world-population/guadeloupe-population/",1726000,2019,"Les Chiffres Clés de  L’énergie en Guadeloupe","https://www.guadeloupe-energie.gp/download/122/orec-chiffres-clefs-de-lenergie/9870/orec-chiffres-cles-de-lenergie-2019.pdf",227000,2012,"CARILEC 2012 Tariff Survey","http://carilec.com/technical/CARILEC_TariffSurvey_Sept2012.pdf",{"$f":"SUMIFS(Marketplace!$P$3:$P$435,Marketplace!$C$3:$C$435,'Jurisdictions | Generation'!O18,Marketplace!$J$3:$J$435,\"Operational\",Marketplace!$I$3:$I$435,\"Utility/IPP\",Marketplace!$AI$3:$AI$435,\"Confident\",Marketplace!$AF$3:$AF$435,\"<2019\")","v":266941.11111111112},null,"Guadeloupe"]
["Guyana",740685,"CIA Factbook 2018 Est.","https://www.cia.gov/library/publications/resources/the-world-factbook/geos/gy.html",809411,2017,"Energy Report Card 2017","https://europa.eu/capacity4dev/file/88815/download?token=RJeOyw7b",188664,2017,"Energy Report Card 2017","https://europa.eu/capacity4dev/file/88815/download?token=RJeOyw7b",{"$f":"SUMIFS(Marketplace!$P$3:$P$435,Marketplace!$C$3:$C$435,'Jurisdictions | Generation'!O19,Marketplace!$J$3:$J$435,\"Operational\",Marketplace!$I$3:$I$435,\"Utility/IPP\",Marketplace!$AI$3:$AI$435,\"Confident\",Marketplace!$AF$3:$AF$435,\"<2019\")","v":79298.44},null,"Guyana "]
["Haiti",10788440,"CIA Factbook 2018 Est.","https://www.cia.gov/library/publications/resources/the-world-factbook/geos/ha.html",1056000,2018,"BNEF ClimateScope ","https://global-climatescope.org/capacity-generation",245300,2015,"Energy Report Card 2017","https://europa.eu/capacity4dev/file/88812/download?token=Sm9bXYCG",{"$f":"SUMIFS(Marketplace!$P$3:$P$435,Marketplace!$C$3:$C$435,'Jurisdictions | Generation'!O20,Marketplace!$J$3:$J$435,\"Operational\",Marketplace!$I$3:$I$435,\"Utility/IPP\",Marketplace!$AI$3:$AI$435,\"Confident\",Marketplace!$AF$3:$AF$435,\"<2019\")","v":402084},null,"Haiti"]
["Jamaica",2812090,"CIA Factbook 2018 Est.","https://www.cia.gov/library/publications/resources/the-world-factbook/geos/jm.html",4429831,2019,"JPS Annual Report 2019","https://s26303.pcdn.co/wp-content/uploads/2020/07/JPS-ANNUAL-REPORT-2019.pdf",642944,2017,"JPS 2017 Annual Report","https://s26303.pcdn.co/wp-content/uploads/2018/07/JPS-2017-AR.pdf",{"$f":"SUMIFS(Marketplace!$P$3:$P$435,Marketplace!$C$3:$C$435,'Jurisdictions | Generation'!O21,Marketplace!$J$3:$J$435,\"Operational\",Marketplace!$I$3:$I$435,\"Utility/IPP\",Marketplace!$AI$3:$AI$435,\"Confident\",Marketplace!$AF$3:$AF$435,\"<2019\")","v":441653.54359999998},null,"Jamaica"]
["Martinique",385341,"Worldometers","https://www.worldometers.info/world-population/martinique-population/",1560000,2017,"EDF 2017 Bilan Prévisionnel de l'Equilibre Offre/Demande ","https://www.edf.mq/sites/default/files/SEI/producteurs/martinique/edf_sei_bp2018_martinique.pdf",186800,2013,"CARILEC 2012 Tariff Survey","http://carilec.com/technical/CARILEC_TariffSurvey_Sept2012.pdf",{"$f":"SUMIFS(Marketplace!$P$3:$P$435,Marketplace!$C$3:$C$435,'Jurisdictions | Generation'!O22,Marketplace!$J$3:$J$435,\"Operational\",Marketplace!$I$3:$I$435,\"Utility/IPP\",Marketplace!$AI$3:$AI$435,\"Confident\",Marketplace!$AF$3:$AF$435,\"<2019\")","v":327900},null,"Martinique"]
["Montserrat",5315,"CIA Factbook 2018 Est.","https://www.cia.gov/library/publications/resources/the-world-factbook/geos/mh.html",12282,2016,"Montserrat Energy Policy 2016-2030","http://www.gov.ms/wp-content/uploads/2016/02/The-Power-to-Change-MNEP-Cabinet-Approved.pdf",3590,2016,"Montserrat Energy Policy 2016-2030","http://www.gov.ms/wp-content/uploads/2016/02/The-Power-to-Change-MNEP-Cabinet-Approved.pdf",{"$f":"SUMIFS(Marketplace!$P$3:$P$435,Marketplace!$C$3:$C$435,'Jurisdictions | Generation'!O23,Marketplace!$J$3:$J$435,\"Operational\",Marketplace!$I$3:$I$435,\"Utility/IPP\",Marketplace!$AI$3:$AI$435,\"Confident\",Marketplace!$AF$3:$AF$435,\"<2019\")","v":0},null,"Montserrat"]
["Nevis",{"$f":"53094*0.23976","v":12729.817440000001},"CIA Factbook 2017 Est.","https://www.cia.gov/library/publications/the-world-factbook/geos/sc.html",58000,2019,"NEVLEC Surcharge Calculations","https://www.nevlec.com/surcharge-calculations-february-2020/",6750,2012,"CARILEC 2012 Tariff Survey","http://carilec.com/technical/CARILEC_TariffSurvey_Sept2012.pdf",{"$f":"SUMIFS(Marketplace!$P$3:$P$435,Marketplace!$C$3:$C$435,'Jurisdictions | Generation'!O24,Marketplace!$J$3:$J$435,\"Operational\",Marketplace!$I$3:$I$435,\"Utility/IPP\",Marketplace!$AI$3:$AI$435,\"Confident\",Marketplace!$AF$3:$AF$435,\"<2019\")","v":8865.1200000000008},null,"Nevis "]
["Puerto_Rico",3294626,"CIA Factbook 2018 Est.","https://www.cia.gov/library/publications/resources/the-world-factbook/geos/rq.html",17706414,2018,"PREPA","https://aeepr.com/es-pr/investors/FinancialInformation/Monthly%20Reports/2019/January%202019.pdf",1470605,2018,"PREPA","https://aeepr.com/es-pr/investors/FinancialInformation/Monthly%20Reports/2019/January%202019.pdf",{"$f":"SUMIFS(Marketplace!$P$3:$P$435,Marketplace!$C$3:$C$435,'Jurisdictions | Generation'!O25,Marketplace!$J$3:$J$435,\"Operational\",Marketplace!$I$3:$I$435,\"Utility/IPP\",Marketplace!$AI$3:$AI$435,\"Confident\",Marketplace!$AF$3:$AF$435,\"<2019\")","v":392131.30200000003},null,"Puerto Rico"]
["St_Barthelemy",7160,"CIA Factbook 2018 Est.","https://www.cia.gov/library/publications/resources/the-world-factbook/geos/tb.html",107000,2017,"EDF 2017 Bilan Prévisionnel de l'Equilibre Offre/Demande ","https://www.edf.gp/sites/default/files/SEI/producteurs/guadeloupe/edf_sei_bp2018_saint-barthelemy.pdf",4600,2013,"EDF (phone interview)",null,{"$f":"SUMIFS(Marketplace!$P$3:$P$435,Marketplace!$C$3:$C$435,'Jurisdictions | Generation'!O26,Marketplace!$J$3:$J$435,\"Operational\",Marketplace!$I$3:$I$435,\"Utility/IPP\",Marketplace!$AI$3:$AI$435,\"Confident\",Marketplace!$AF$3:$AF$435,\"<2019\")","v":0},null,"St. Barthelemy"]
["St_Kitts",{"$f":"53094*0.761","v":40404.534},"CIA Factbook 2017 Est.","https://www.cia.gov/library/publications/the-world-factbook/geos/sc.html",150000,2015,"National Renewable Energy Laboratory","http://www.nrel.gov/docs/fy15osti/62706.pdf",13000,2013,"The World Bank","http://www-wds.worldbank.org/external/default/WDSContentServer/WDSP/IB/2011/05/30/000356161_20110530015337/Rendered/PDF/515760PAD0P1010e0only0900BOX358362B.pdf",{"$f":"SUMIFS(Marketplace!$P$3:$P$435,Marketplace!$C$3:$C$435,'Jurisdictions | Generation'!O27,Marketplace!$J$3:$J$435,\"Operational\",Marketplace!$I$3:$I$435,\"Utility/IPP\",Marketplace!$AI$3:$AI$435,\"Confident\",Marketplace!$AF$3:$AF$435,\"<2019\")","v":1885.4285714285716},null,"St. Kitts"]
["St_Lucia",165510,"CIA Factbook 2018 Est.","https://www.cia.gov/library/publications/resources/the-world-factbook/geos/st.html",361623,2018,"Lucelec Annual Report 2018","https://www.lucelec.com/sites/default/files/annual-reports/LUCELEC-2018-Annual-Report.pdf",67301,2018,"Lucelec Annual Report 2018","https://www.lucelec.com/sites/default/files/annual-reports/LUCELEC-2018-Annual-Report.pdf",{"$f":"SUMIFS(Marketplace!$P$3:$P$435,Marketplace!$C$3:$C$435,'Jurisdictions | Generation'!O28,Marketplace!$J$3:$J$435,\"Operational\",Marketplace!$I$3:$I$435,\"Utility/IPP\",Marketplace!$AI$3:$AI$435,\"Confident\",Marketplace!$AF$3:$AF$435,\"<2019\")","v":7000},null,"St. Lucia "]
["Saint_Martin",32284,"CIA Factbook 2018 Est.","https://www.cia.gov/library/publications/resources/the-world-factbook/geos/rn.html",175000,2017,"EDF 2017 Bilan Prévisionnel de l'Equilibre Offre/Demande ","https://www.edf.gp/sites/default/files/SEI/producteurs/guadeloupe/edf_sei_bp2018_saint-martin.pdf",16000,2013,"EDF (phone interview)",null,{"$f":"SUMIFS(Marketplace!$P$3:$P$435,Marketplace!$C$3:$C$435,'Jurisdictions | Generation'!O29,Marketplace!$J$3:$J$435,\"Operational\",Marketplace!$I$3:$I$435,\"Utility/IPP\",Marketplace!$AI$3:$AI$435,\"Confident\",Marketplace!$AF$3:$AF$435,\"<2019\")","v":0},null,"Saint-Martin"]
["St_Vincent_Grenadines",101844,"CIA Factbook 2018 Est.","https://www.cia.gov/library/publications/resources/the-world-factbook/geos/vc.html",149929,2018,"VINLEC Annual Report 2018","vinlec.com/public/uploads/userfiles/VINLEC%202018%20Annual%20Report.pdf",44522,2017,"https://europa.eu/capacity4dev/file/88797/download?token=uMM5Ps04","http://carilec.com/technical/CARILEC_TariffSurvey_Sept2012.pdf",{"$f":"SUMIFS(Marketplace!$P$3:$P$435,Marketplace!$C$3:$C$435,'Jurisdictions | Generation'!O30,Marketplace!$J$3:$J$435,\"Operational\",Marketplace!$I$3:$I$435,\"Utility/IPP\",Marketplace!$AI$3:$AI$435,\"Confident\",Marketplace!$AF$3:$AF$435,\"<2019\")","v":778.76400000000001},null,"St. Vincent and the Grenadines"]
["Sint_Marteen",42677,"CIA Factbook 2018 Est.","https://www.cia.gov/library/publications/resources/the-world-factbook/geos/nn.html",372671,2015,"NREL","https://www.nrel.gov/docs/fy15osti/64122.pdf",20034,2014,"Sint Maarten National Energy Policy","http://www.sintmaartengov.org/Policy%20and%20Reports/140822-National%20Energy%20Policy%20SXM%20-DEF%202-0.pdf",{"$f":"SUMIFS(Marketplace!$P$3:$P$435,Marketplace!$C$3:$C$435,'Jurisdictions | Generation'!O31,Marketplace!$J$3:$J$435,\"Operational\",Marketplace!$I$3:$I$435,\"Utility/IPP\",Marketplace!$AI$3:$AI$435,\"Confident\",Marketplace!$AF$3:$AF$435,\"<2019\")","v":0},null,"Sint Maarten"]
["Suriname",597927,"CIA Factbook 2018 Est.","https://www.cia.gov/library/publications/resources/the-world-factbook/geos/ns.html",1949000,2018,"IEA","https://www.iea.org/countries/suriname",124700,2013,"NV EBS","http://www.carilec.com/members2/uploads/ENG2010_Presentations/JointSessions/3SMehairjanRMehairjan_DevelopmentsandFutureExpansionsPotentialinSuriname.pdf",{"$f":"SUMIFS(Marketplace!$P$3:$P$435,Marketplace!$C$3:$C$435,'Jurisdictions | Generation'!O32,Marketplace!$J$3:$J$435,\"Operational\",Marketplace!$I$3:$I$435,\"Utility/IPP\",Marketplace!$AI$3:$AI$435,\"Confident\",Marketplace!$AF$3:$AF$435,\"<2019\")","v":868525.24168800586},null,"Suriname"]
["Trinidad_Tobago",1215527,"CIA Factbook 2018 Est.","https://www.cia.gov/library/publications/resources/the-world-factbook/geos/td.html",11100000,2019,"BP Statistical Review of World Energy","https://www.bp.com/content/dam/bp/business-sites/en/global/corporate/pdfs/energy-economics/statistical-review/bp-stats-review-2020-electricity.pdf",487877,2017,"Energy Report Card 2017","https://europa.eu/capacity4dev/file/88794/download?token=U6hVP1fQ",{"$f":"SUMIFS(Marketplace!$P$3:$P$435,Marketplace!$C$3:$C$435,'Jurisdictions | Generation'!O33,Marketplace!$J$3:$J$435,\"Operational\",Marketplace!$I$3:$I$435,\"Utility/IPP\",Marketplace!$AI$3:$AI$435,\"Confident\",Marketplace!$AF$3:$AF$435,\"<2019\")","v":0},null,"Trinidad and Tobago"]
["Turks_and_Caicos",53701,"CIA Factbook 2018 Est.","https://www.cia.gov/library/publications/resources/the-world-factbook/geos/tk.html",241764.24795399999,2017,"Fortis Inc. 2017 Annual Report","http://www.fortisinc.com/InvestorCentre/FinancialReports/AnnualReport/",15000,2018,"Fortis Inc. 2018 Annual Report","https://www.fortisinc.com/docs/default-source/finance-regulatory-reports/annual-reports/fortis-2018-annual-report-final1.pdf?sfvrsn=42767798_2",{"$f":"SUMIFS(Marketplace!$P$3:$P$435,Marketplace!$C$3:$C$435,'Jurisdictions | Generation'!O34,Marketplace!$J$3:$J$435,\"Operational\",Marketplace!$I$3:$I$435,\"Utility/IPP\",Marketplace!$AI$3:$AI$435,\"Confident\",Marketplace!$AF$3:$AF$435,\"<2019\")","v":0},null,"Turks and Caicos Islands"]
["USVI",106977,"CIA Factbook 2018 Est.","https://www.cia.gov/library/publications/resources/the-world-factbook/geos/vq.html",1000000,2017,"US EIA","https://www.eia.gov/state/data.php?sid=VQ#Supply",54917,2013,"VI WAPA 2014 Annual Report","http://www.viwapa.vi/Libraries/PDFs/Audit_Electric_System_FS2012_FINAL_2.sflb.ashx",{"$f":"SUMIFS(Marketplace!$P$3:$P$435,Marketplace!$C$3:$C$435,'Jurisdictions | Generation'!O35,Marketplace!$J$3:$J$435,\"Operational\",Marketplace!$I$3:$I$435,\"Utility/IPP\",Marketplace!$AI$3:$AI$435,\"Confident\",Marketplace!$AF$3:$AF$435,\"<2019\")","v":14636},null,"U.S. Virgin Islands"]

{"sheet":"Marketplace","index":42,"n_rows":435,"n_cols":38,"rows_kept":435,"cut":false,"hidden":false,"merged":[]}
[null,"Project Number","Jurisdiction","Project Name","City or Province","Project Developer","Technology Type","Number of Projects (GU)","Distributed or Utility","Status","Project Developer","Project Offtaker","Capacity (KW)","System Units","Size Per Unit","Generation","Generation Actual","Generation Reported Estimate","Generation Technology Estimate","Capacity Factor","Capacity Factor Actual","Capacity Factor Reported Estimate","Capacity Factor Technology Estimate","CAPEX (US$)","CAPEX Actual","CAPEX Reported Estimate","CAPEX Technology Estimate","CAPEX/kW","Fuel Cost","LRMC","Commercial Operation Date","Commercial Operation Date (Actual)","Additional Notes","Date Updated","Status"]
[{"$f":"H2","v":1},"P0001","Anguilla",null,"Rendezvous Bay","Inovateus Solar","Solar PV",1,"Distributed","Operational","Inovateus Solar","CuisinArt Golf and Resort Spa ",1000,3322,{"$f":"M2/N2","v":0.30102347983142685},{"$f":"IF(ISNUMBER(Q2),Q2,IF(ISNUMBER(R2),R2, IF(ISNUMBER(S2), S2,\"NA\")))","v":1850},1850,null,{"$f":" (M2 * 8760 * T2)/1000","v":1850},{"$f":"IF(AND(U2=\"NA\",ISBLANK(V2)),W2,IF(U2<>\"NA\",U2,IF(ISNUMBER(V2),V2,W2)))","v":0.21118721461187215},{"$f":"IF(OR(ISBLANK(M2),ISBLANK(Q2)),\"NA\",(Q2*1000)/(M2*8760))","v":0.21118721461187215},null,0.254,{"$f":" IF(ISNUMBER(Y2), Y2,IF(ISNUMBER(Z2),Z2,IF(ISNUMBER(AA2), AA2, \"NA\")))","v":2578000},null,null,2578000,{"$f":" IF(AND(ISNUMBER(M2), ISNUMBER(X2)),X2/M2,\"NA\")","v":2578},null,{"$f":"SUM(AC2:AC2)","v":0},{"$f":"IF(ISNUMBER(AF2),AF2,IF(ISNUMBER(AG2),AG2,\"NA\"))","v":2014},2014,"In operation","2017-08-03"]
[{"$f":"H3","v":1},"P0002","Anguilla",null,"Corito","Anguilla Electricity Company Limited (ANGLEC)","Solar PV",1,"Utility/IPP","Out","Anguilla Electricity Company Limited (ANGLEC)","Anguilla Electricity Company Limited (ANGLEC)",1000,4452,{"$f":"M3/N3","v":0.22461814914645103},2233.8000000000002,null,null,2233.8000000000002,{"$f":"IF(AND(U3=\"NA\",ISBLANK(V3)),W3,IF(U3<>\"NA\",U3,IF(ISNUMBER(V3),V3,W3)))","v":0.255},"NA",null,0.255,2341000,null,2341000,2578000,{"$f":" IF(AND(ISNUMBER(M3), ISNUMBER(X3)),X3/M3,\"NA\")","v":2341},null,0,2016,2016,"Solar farm Corito was destroyed by Hurricane. Has been seeking developer to rebuild","2019-08-06","Confident"]
[{"$f":"H4","v":1},null,"Anguilla",null,"Meads Bay","SwitchLogix","Solar PV",1,"Distributed","Operational","SwitchLogix","Frangipani Beach Resort",350,null,null,705.18,null,null,705.18,{"$f":"IF(AND(U4=\"NA\",ISBLANK(V4)),W4,IF(U4<>\"NA\",U4,IF(ISNUMBER(V4),V4,W4)))","v":0.23},"NA",null,{"$f":"IF(OR(J4=\"Under development\",J4=\"Planned\"),VLOOKUP(G4,'Capex by RE tech'!$A$4:$D$18,4,TRUE),IF(AND(J4=\"Operational\",G4=\"Solar PV\"),VLOOKUP(AF4,'Capex by RE tech'!$C$11:$D$13,2,TRUE),IF(AND(J4=\"Operational\",G4=\"Wind\"),VLOOKUP(AF4,'Capex by RE tech'!$C$17:$D$19,2,TRUE),IF(AND(J4=\"Operational\",G4=\"Biomass\"),VLOOKUP(AF4,'Capex by RE tech'!$C$2:$D$4,2,TRUE),IF(AND(J4=\"Operational\",G4=\"Geothermal\"),VLOOKUP(AF4,'Capex by RE tech'!$C$2:$D$4,2,TRUE),IF(AND(J4=\"Operational\",G4=\"Hydro\"),VLOOKUP(AF4,'Capex by RE tech'!$C$8:$D$10,2,TRUE),IF(AND(J4=\"Operational\",G4=\"Waste-to-Energy\"),VLOOKUP(AF4,'Capex by RE tech'!$C$14:$D$16,2,TRUE),IF(AND(J4=\"Operational\",AF4<2010),VLOOKUP(G4,'Capex by RE tech'!$A$2:$D$19,4,FALSE),NA))))))))","v":0.23},507500,null,null,{"$f":"AB4*M4","v":507500},{"$f":"VLOOKUP(G4,'Capex by RE tech'!$A$2:$F$19,6,TRUE)","v":1450},null,0,2019,2019,"Will power 70% of resort","2019-08-06","Confident"]
[null,null,"Antigua & Barbuda","Green Barbuda",null,"Masdar","Hybrid (Solar PV and Wind)",null,null,"Under development","Masdar",null,720,null,null,null,null,null,null,null,null,null,null,null,null,null,null,null,null,null,null,null," Joint funding from the UAE and New Zealand, Antigua and Barbuda and the CARICOM Development Fund. Project studies complete."]
[1,"P0003","Antigua & Barbuda",null,"TBD","PV Energy Limited ","Solar PV",2,"Utility/IPP","Planned","PV Energy Limited ","Antigua Public Utilities Authority (APUA)",7000,null,null,10885,null,null,10885,{"$f":" T7","v":0.17751141552511415},"NA",null,0.254,14322786.705260007,null,{"$f":" 20500000 * M6/(M7+M6)","v":14322786.705260007},null,{"$f":" IF(AND(ISNUMBER(M6), ISNUMBER(X6)),X6/M6,\"NA\")","v":2046.1123864657152},null,0,"NA",null,"Agreement for remaining  7MW reached in 2018. ADFD issued US$15 million loan for solar/wind generation project. Project's first phase will have capacity of 10 MW, expanding to 25 MW in later phases.  ","2019-08-07","Confident"]
[{"$f":"H7","v":1},"P0003","Antigua & Barbuda",null,"Osbourn","PV Energy Limited ","Solar PV",1,"Utility/IPP","Operational","PV Energy Limited ","Antigua Public Utilities Authority (APUA)",3019,12000,{"$f":"M7/N7","v":0.25158333333333333},4665,null,4665,4694.5450000000001,{"$f":"IF(AND(U7=\"NA\",ISBLANK(V7)),W7,IF(U7<>\"NA\",U7,IF(ISNUMBER(V7),V7,W7)))","v":0.17751141552511415},"NA",{"$f":" R7/(3 * 8760)","v":0.17751141552511415},0.254,6177213.2947399942,null,{"$f":" 20500000 * M7/(M7+M6)","v":6177213.2947399942},7782982,2046.1123864657152,null,0,2016,2016,null,"2019-08-07","Confident"]
[1,"P0004","Antigua & Barbuda",null,null,"Gearing Up Limited (GUL)","Solar PV",1,"Distributed","Operational","Gearing Up Limited (GUL)","Shirley Heights Lookout",6,null,null,10.512,10.512,null,10.512,0.2,0.2,null,0.254,15468,null,null,15468,2578,null,0,2013,2013,"Provides Solar PV  for premier tourist locale. ","2017-08-03"]
[1,"P0005","Antigua & Barbuda",null,null,null,"Solar PV",1,"Distributed","Operational",null,"Antigua Public Utilities Authority (APUA)",150,600,{"$f":"M9/N9","v":0.25},229.9,229.9,null,229.89999999999998,0.17496194824961947,0.17496194824961947,null,0.254,386700,null,null,386700,2578,null,0,"NA",null,null,"2017-08-03"]
[1,"P0006","Antigua & Barbuda",null,"Jumby Bay","PV Energy Limited","Solar PV",1,"Distributed","Operational","PV Energy Limited",null,404,11,{"$f":"M10/N10","v":36.727272727272727},626,626,null,626,0.17688412676884127,0.17688412676884127,null,0.254,1041512,null,null,1041512,2578,null,0,2017,2017,"11 solar installations on the small private island Jumby Bay in the north of Antigua by the renewable energy provider PV Energy Limited. ","2017-08-03"]
[1,null,"Antigua & Barbuda",null,null,"GreenTech Solar","Solar PV",1,"Distributed","Planned","GreenTech Solar","Government buildings, hospitals, schools",10000,null,null,20148,null,null,20148,0.23,"NA",null,{"$f":"IF(OR(J11=\"Under development\",J11=\"Planned\"),VLOOKUP(G11,'Capex by RE tech'!$A$4:$D$18,4,TRUE),IF(AND(J11=\"Operational\",G11=\"Solar PV\"),VLOOKUP(AF11,'Capex by RE tech'!$C$11:$D$13,2,TRUE),IF(AND(J11=\"Operational\",G11=\"Wind\"),VLOOKUP(AF11,'Capex by RE tech'!$C$17:$D$19,2,TRUE),IF(AND(J11=\"Operational\",G11=\"Biomass\"),VLOOKUP(AF11,'Capex by RE tech'!$C$2:$D$4,2,TRUE),IF(AND(J11=\"Operational\",G11=\"Geothermal\"),VLOOKUP(AF11,'Capex by RE tech'!$C$2:$D$4,2,TRUE),IF(AND(J11=\"Operational\",G11=\"Hydro\"),VLOOKUP(AF11,'Capex by RE tech'!$C$8:$D$10,2,TRUE),IF(AND(J11=\"Operational\",G11=\"Waste-to-Energy\"),VLOOKUP(AF11,'Capex by RE tech'!$C$14:$D$16,2,TRUE),IF(AND(J11=\"Operational\",AF11<2010),VLOOKUP(G11,'Capex by RE tech'!$A$2:$D$19,4,FALSE),NA))))))))","v":0.23},20000000,null,20000000,null,2000,null,0,"NA",null,"Retroactively fitting gov't buildings, hospitals, schools, car parks with wind and solar","2019-08-07","Confident"]
[1,null,"Antigua & Barbuda","Grid Interactive Solar PV Systems for Schools and Clinics","St. John's","Department of Environment","Solar PV",1,"Distributed","Operational","Department of Environment","Ottos Comprehensive Secondary School",null,null,null,null,null,null,null,null,null,null,null,null,null,null,null,null,null,null,null,null,"Part of the joint initiative between Government of Italy and Department of Environment to equip schools with renewable energy systems."]
[1,"P0008","Aruba"," Sunrise Solar Park","San Nicolas","Water- en Energiebedrijf Arbua N.V (WEB Aruba)","Solar PV",1,"Utility/IPP","Under development","Water- en Energiebedrijf Arbua N.V (WEB Aruba)","Water- en Energiebedrijf Arbua N.V (WEB Aruba)",5900,null,null,11800,null,null,11800,0.22831050228310501,"NA",{"$f":" V14","v":0.22831050228310501},0.254,8900000,null,8900000,null,1508.4745762711864,0,0,"NA",null,"Project is a part of the island's \"Aruba Renewable Energy Strategy\" (ARES). Solar Project Launches","2019-08-05","Confident"]
[1,"P0010","Aruba","Reina Beatrix International Airport Solar Park","Oranjestad","Pfixx Solar System","Solar PV",1,"Utility/IPP","Operational","Pfixx Solar System","N.V. Electriciteit-Maatschappij Aruba (NV Elmar)",3474,13896,{"$f":"M14/N14","v":0.25},6000,null,{"$f":" 6000","v":6000},6948,0.22831050228310501,"NA",{"$f":" R14/(3 * 8760)","v":0.22831050228310501},0.254,8955972,null,null,8955972,2578,null,0,2017,2017,"Project operational since May 23rd 2017","2018-07-18","Confident"]
[0,"P0009","Aruba",null,null,"Carbon War Room, TNO, and Utilities Aruba NV","Solar PV","Various","Distributed","Operational","Carbon War Room, TNO, and Utilities Aruba NV","WEB Aruba & NV Elmar",4000,null,null,8900.16,null,null,8900.16,0.254,"NA",null,0.254,10312000,null,null,10312000,2578,0,0,2015,2015,"Solar panels are spread out over school rooftops. ","2017-08-03"]
[{"$f":"H16","v":1},"P0011","Aruba",null,"Oranjestad","Ecological Technologies ","Waste-to-Energy",1,"Utility/IPP","Operational","Ecological Technologies ","Water- en Energiebedrijf Arbua N.V (WEB Aruba)",2000,null,null,12322.399999999998,null,null,12322.399999999998,0.70333333333333325,"NA",null,0.70333333333333325,6000000,null,null,{"$f":" 3000 * M16","v":6000000},3000,null,0,2015,2015,null,"2018-07-18","Confident"]
[2,"P0007","Aruba",null,"San Nicolas","NuCapital & Vestas Benelux B.V.","Wind",2,"Utility/IPP","Operational","NuCapital & Vestas Benelux B.V.","Water- en Energiebedrijf Arbua N.V (WEB Aruba)",30000,10,{"$f":"M17/N17","v":3000},128700,null,128700,165564,0.63,"NA",0.63,0.46,75000000,null,75000000,47270000,2500,0,0,2009,2009,null,"2018-07-18","Confident"]
[1,2018,"Aruba",null,null,"Pfixx Solar System","Solar PV",1,"Distributed","Operational","Pfixx Solar System","St. Michael Paviljoen Elderly",20,null,null,30.66,null,30.66,30.659999999999997,0.17499999999999999,"NA",0.17499999999999999,0.254,50000,null,50000,51560,2500,null,0,"NA",null,"PV system will power elderly home's cooling system.","2017-08-03"]
[1,null,"Aruba","Microgrid",null,"ABB","Microgrid",1,null,"Planned","ABB",null,null,null,null,0,null,null,0,0,null,null,{"$f":"IF(OR(J19=\"Under development\",J19=\"Planned\"),VLOOKUP(G19,'Capex by RE tech'!$A$4:$D$18,4,TRUE),IF(AND(J19=\"Operational\",G19=\"Solar PV\"),VLOOKUP(AF19,'Capex by RE tech'!$C$11:$D$13,2,TRUE),IF(AND(J19=\"Operational\",G19=\"Wind\"),VLOOKUP(AF19,'Capex by RE tech'!$C$17:$D$19,2,TRUE),IF(AND(J19=\"Operational\",G19=\"Biomass\"),VLOOKUP(AF19,'Capex by RE tech'!$C$2:$D$4,2,TRUE),IF(AND(J19=\"Operational\",G19=\"Geothermal\"),VLOOKUP(AF19,'Capex by RE tech'!$C$2:$D$4,2,TRUE),IF(AND(J19=\"Operational\",G19=\"Hydro\"),VLOOKUP(AF19,'Capex by RE tech'!$C$8:$D$10,2,TRUE),IF(AND(J19=\"Operational\",G19=\"Waste-to-Energy\"),VLOOKUP(AF19,'Capex by RE tech'!$C$14:$D$16,2,TRUE),IF(AND(J19=\"Operational\",AF19<2010),VLOOKUP(G19,'Capex by RE tech'!$A$2:$D$19,4,FALSE),NA))))))))","v":0.40600000000000003},0,null,null,{"$f":"AB19*M19","v":0},{"$f":"VLOOKUP(G19,'Capex by RE tech'!$A$2:$F$19,6,TRUE)","v":2813},null,null,null,null,null,"2019-08-07","Not confident"]
[1,null,"Barbados",null,"Lamberts, St. Lucy","Barbados Light and Power Company Ltd. (BL&P)","Wind",1,"Utility/IPP","Planned","Barbados Light and Power Company Ltd. (BL&P)","Barbados Light and Power Company Ltd. (BL&P)",10000,11,{"$f":"M20/N20","v":909.09090909090912},40296,null,null,40296,0.46,{"$f":"IF(OR(ISBLANK(M20),ISBLANK(Q20)),\"NA\",(Q20*1000)/(M20*8760))","v":"NA"},null,0.46,15756666.666666668,null,null,15756666.666666668,{"$f":" IF(AND(ISNUMBER(M20), ISNUMBER(X20)),X20/M20,\"NA\")","v":1575.6666666666667},null,{"$f":"SUM(AC20:AC20)","v":0},null,2022,"Plans to develop it, as of 2018 still in the works, appear to be problems with land lease. ","2019-08-05","Confident"]
[1,"P0018","Barbados","Trents PV","Trent, St. Lucy","Barbados Light and Power Company Ltd. (BL&P)","Solar PV",1,"Utility/IPP","Operational","Barbados Light and Power Company Ltd. (BL&P)","Barbados Light and Power Company Ltd. (BL&P)",10000,44496,{"$f":"M21/N21","v":0.22473930240920531},20200,null,20200,17520,0.2,"NA",0.2,0.254,21500000,21500000,null,25780000,2150,null,0,{"$f":"IF(ISNUMBER(AF21),AF21,IF(ISNUMBER(AG21),AG21,\"NA\"))","v":2016},2016,"The Barbados Light & Power (BL&P) solar farm in Trents, St Lucy, is saving the country an estimated $10 million a year.","2019-09-17","Confident"]
[1,"P0019","Barbados",null,null,"Williams Solar","Solar PV",1,"Distributed","Operational","Williams Solar","Armstrong Agencies Ltd. ",62.68,null,null,139.46550720000002,null,null,{"$f":" (M22 * 8760 * T22)/1000","v":139.46550720000002},{"$f":"IF(AND(U22=\"NA\",ISBLANK(V22)),W22,IF(U22<>\"NA\",U22,IF(ISNUMBER(V22),V22,W22)))","v":0.254},"NA",null,0.254,161589.04,null,null,161589.04,2578,null,0,2012,2012,"Commissioned 10/11/12. System comprised of 246 x 256 W solar panels. ","2017-08-03"]
[null,null,"Barbados","Lower Estate Solar PV",null,"Barbados Light and Power Company Ltd. (BL&P)","Solar PV",null,"Utility/IPP","Under development","Barbados Light and Power Company Ltd. (BL&P)","Barbados Light and Power Company Ltd. (BL&P)",7000,null,null,{"$f":"IF(ISNUMBER(Q23),Q23,IF(ISNUMBER(R23),R23, IF(ISNUMBER(S23), S23,\"NA\")))","v":14103.6},null,null,14103.6,{"$f":"IF(AND(U23=\"NA\",ISBLANK(V23)),W23,IF(U23<>\"NA\",U23,IF(ISNUMBER(V23),V23,W23)))","v":0.23},"NA",null,{"$f":"IF(OR(J23=\"Under development\",J23=\"Planned\"),VLOOKUP(G23,'Capex by RE tech'!$A$4:$D$18,4,TRUE),IF(AND(J23=\"Operational\",G23=\"Solar PV\"),VLOOKUP(AF23,'Capex by RE tech'!$C$11:$D$13,2,TRUE),IF(AND(J23=\"Operational\",G23=\"Wind\"),VLOOKUP(AF23,'Capex by RE tech'!$C$17:$D$19,2,TRUE),IF(AND(J23=\"Operational\",G23=\"Biomass\"),VLOOKUP(AF23,'Capex by RE tech'!$C$2:$D$4,2,TRUE),IF(AND(J23=\"Operational\",G23=\"Geothermal\"),VLOOKUP(AF23,'Capex by RE tech'!$C$2:$D$4,2,TRUE),IF(AND(J23=\"Operational\",G23=\"Hydro\"),VLOOKUP(AF23,'Capex by RE tech'!$C$8:$D$10,2,TRUE),IF(AND(J23=\"Operational\",G23=\"Waste-to-Energy\"),VLOOKUP(AF23,'Capex by RE tech'!$C$14:$D$16,2,TRUE),IF(AND(J23=\"Operational\",AF23<2010),VLOOKUP(G23,'Capex by RE tech'!$A$2:$D$19,4,FALSE),NA))))))))","v":0.23},"NA",null,null,null,"NA",null,null,null,"2021 (est.)","See 2019 survey results"]
[1,"P0020","Barbados",null,"St. Thomas",null,"Solar PV",1,"Distributed","Operational",null,"Footprint Environmental",60.1,null,null,133.72490400000001,null,"1,561 ",133.72490400000001,0.254,"NA",null,0.254,154937.80000000002,null,null,154937.80000000002,2578.0000000000005,null,0,2010,2010,"Premier tourist attraction utilizing PV system to power lighting. ","2017-08-03"]
[1,"P0021","Barbados",null,null,null,"Solar PV",1,"Distributed","Operational",null,null,11.1,null,null,24.697944,null,null,24.697944,0.254,"NA",null,0.254,28615.8,null,null,28615.8,2578,null,0,2001,2001,"In 2001, solar PV installed to power a solar icemaker for fishers.","2017-08-03"]
[1,"P0022","Barbados",null,null,null,"Solar PV",1,"Distributed","Operational",null,"Combermere School ",3,null,null,6.6751199999999997,null,null,6.6751199999999997,0.254,"NA",null,0.254,7734,null,null,7734,2578,null,0,2001,2001,"School uses solar PV to power computer laboratory. ","2017-08-03"]
[1,"P0023","Barbados",null,null,null,"Solar PV",1,"Distributed","Operational",null,null,2,null,null,4.4500799999999998,null,null,4.4500799999999998,0.254,"NA",null,0.254,5156,null,null,5156,2578,null,0,2001,2001,"Building relies on solar PV to operate lighting and provide emergency power. ","2017-08-03"]
[1,"P0024","Barbados",null,null,null,"Solar PV",1,"Distributed","Operational",null,null,1.1000000000000001,null,null,2.4475439999999997,null,null,2.4475439999999997,0.254,"NA",null,0.254,2835.8,null,null,2835.8,2578,null,0,2001,2001,"UWI first university outside the US to get EBSCO solar grant","2017-08-03"]
[1,"P0025","Barbados",null,null,null,"Wind",1,"Distributed","Operational",null,null,20,null,null,80.591999999999999,null,null,80.591999999999999,0.46,"NA",null,0.46,31513.333333333336,null,null,31513.333333333336,1575.6666666666667,null,0,2016,2016,"U.S. Embassy Bridgetown Installs Wind Turbin","2017-08-03"]
[1,null,"Barbados","Part of Public Sector Smart Energy Programme","Bridgetown","Solar Watt Systems ","Solar PV",1,"Distributed","Operational","Solar Watt Systems ","Samuel Jackman Prescod Institute of Technology",109,null,null,219.61320000000001,null,null,219.61320000000001,0.23,"NA",null,{"$f":"IF(OR(J30=\"Under development\",J30=\"Planned\"),VLOOKUP(G30,'Capex by RE tech'!$A$4:$D$18,4,TRUE),IF(AND(J30=\"Operational\",G30=\"Solar PV\"),VLOOKUP(AF30,'Capex by RE tech'!$C$11:$D$13,2,TRUE),IF(AND(J30=\"Operational\",G30=\"Wind\"),VLOOKUP(AF30,'Capex by RE tech'!$C$17:$D$19,2,TRUE),IF(AND(J30=\"Operational\",G30=\"Biomass\"),VLOOKUP(AF30,'Capex by RE tech'!$C$2:$D$4,2,TRUE),IF(AND(J30=\"Operational\",G30=\"Geothermal\"),VLOOKUP(AF30,'Capex by RE tech'!$C$2:$D$4,2,TRUE),IF(AND(J30=\"Operational\",G30=\"Hydro\"),VLOOKUP(AF30,'Capex by RE tech'!$C$8:$D$10,2,TRUE),IF(AND(J30=\"Operational\",G30=\"Waste-to-Energy\"),VLOOKUP(AF30,'Capex by RE tech'!$C$14:$D$16,2,TRUE),IF(AND(J30=\"Operational\",AF30<2010),VLOOKUP(G30,'Capex by RE tech'!$A$2:$D$19,4,FALSE),NA))))))))","v":0.23},158050,null,null,{"$f":"AB30*M30","v":158050},{"$f":"VLOOKUP(G30,'Capex by RE tech'!$A$2:$F$19,6,TRUE)","v":1450},null,0,2019,2019,"This row is for 1 of the 16 public buildings as part of the Public Sector Smart Energy Programme funded through IDB and EU grants (USD 17 million and EUR 5.8 million respectively) ","2019-08-08","Confident"]
[4,null,"Barbados","Part of Public Sector Smart Energy Programme",null,null,"Solar PV",4,"Distributed","Operational",null,"Bayley's Primary School, St. Catherine's Primary School, Selah Primary School, Half Moon Fort Primary School",70,null,null,141.036,null,null,141.036,0.23,"NA",null,{"$f":"IF(OR(J31=\"Under development\",J31=\"Planned\"),VLOOKUP(G31,'Capex by RE tech'!$A$4:$D$18,4,TRUE),IF(AND(J31=\"Operational\",G31=\"Solar PV\"),VLOOKUP(AF31,'Capex by RE tech'!$C$11:$D$13,2,TRUE),IF(AND(J31=\"Operational\",G31=\"Wind\"),VLOOKUP(AF31,'Capex by RE tech'!$C$17:$D$19,2,TRUE),IF(AND(J31=\"Operational\",G31=\"Biomass\"),VLOOKUP(AF31,'Capex by RE tech'!$C$2:$D$4,2,TRUE),IF(AND(J31=\"Operational\",G31=\"Geothermal\"),VLOOKUP(AF31,'Capex by RE tech'!$C$2:$D$4,2,TRUE),IF(AND(J31=\"Operational\",G31=\"Hydro\"),VLOOKUP(AF31,'Capex by RE tech'!$C$8:$D$10,2,TRUE),IF(AND(J31=\"Operational\",G31=\"Waste-to-Energy\"),VLOOKUP(AF31,'Capex by RE tech'!$C$14:$D$16,2,TRUE),IF(AND(J31=\"Operational\",AF31<2010),VLOOKUP(G31,'Capex by RE tech'!$A$2:$D$19,4,FALSE),NA))))))))","v":0.23},101500,null,null,101500,{"$f":"VLOOKUP(G31,'Capex by RE tech'!$A$2:$F$19,6,TRUE)","v":1450},null,0,2018,2018,"This row refers to retrofitted rooftops of elementary schools as part of the Public Sector Smart Energy Programme","2019-08-08","Confident"]
[0,null,"Barbados","Public Sector Smart Energy Programme",null,null,"Solar PV",null,"Distributed","Under development",null,"Various public buildings",{"$f":"2600-(M30+M31)","v":2421},null,null,4.5,null,4.5,0,0,"NA",null,null,3510450,null,null,3510450,{"$f":"VLOOKUP(G32,'Capex by RE tech'!$A$2:$F$19,6,TRUE)","v":1450},null,0,"NA",null,"This row refers to the remaining public buildings as part of the Public Sector Smart Energy Programme. 12 of the 16 \"substantially completed\" as of Sept 2018","2019-08-08","Confident"]
[1,null,"Barbados",null,null,"MPC Capital","Solar PV",1,"Distributed","Planned","MPC Capital","Guinea Estates Inc. ",5,null,null,10.074,null,null,10.074,0.23,"NA",null,{"$f":"IF(OR(J33=\"Under development\",J33=\"Planned\"),VLOOKUP(G33,'Capex by RE tech'!$A$4:$D$18,4,TRUE),IF(AND(J33=\"Operational\",G33=\"Solar PV\"),VLOOKUP(AF33,'Capex by RE tech'!$C$11:$D$13,2,TRUE),IF(AND(J33=\"Operational\",G33=\"Wind\"),VLOOKUP(AF33,'Capex by RE tech'!$C$17:$D$19,2,TRUE),IF(AND(J33=\"Operational\",G33=\"Biomass\"),VLOOKUP(AF33,'Capex by RE tech'!$C$2:$D$4,2,TRUE),IF(AND(J33=\"Operational\",G33=\"Geothermal\"),VLOOKUP(AF33,'Capex by RE tech'!$C$2:$D$4,2,TRUE),IF(AND(J33=\"Operational\",G33=\"Hydro\"),VLOOKUP(AF33,'Capex by RE tech'!$C$8:$D$10,2,TRUE),IF(AND(J33=\"Operational\",G33=\"Waste-to-Energy\"),VLOOKUP(AF33,'Capex by RE tech'!$C$14:$D$16,2,TRUE),IF(AND(J33=\"Operational\",AF33<2010),VLOOKUP(G33,'Capex by RE tech'!$A$2:$D$19,4,FALSE),NA))))))))","v":0.23},7250,null,null,7250,{"$f":"VLOOKUP(G33,'Capex by RE tech'!$A$2:$F$19,6,TRUE)","v":1450},null,0,"NA",null,"Construction expected to start 2020","2019-08-08","Confident"]
["Multiple",null,"Barbados",null,null,null,"Solar PV","Multiple","Distributed","Operational",null,"Various",18000,null,null,36266.400000000001,null,null,36266.400000000001,0.23,"NA",null,0.23,26100000,null,null,26100000,{"$f":"VLOOKUP(G34,'Capex by RE tech'!$A$2:$F$19,6,TRUE)","v":1450},null,0,"NA",null,"Supply 3% of electricity demands. 2% is from solar PV farm in St. Lucy according to BL&P MD Roger Blackman","2019-08-08","Confident"]
[1,null,"Barbados",null,"Portvale Sugar Factory",null,"Biomass",1,"Utility/IPP","Planned",null,null,null,null,null,0,null,null,0,0.9,"NA",null,{"$f":"IF(OR(J35=\"Under development\",J35=\"Planned\"),VLOOKUP(G35,'Capex by RE tech'!$A$4:$D$18,4,TRUE),IF(AND(J35=\"Operational\",G35=\"Solar PV\"),VLOOKUP(AF35,'Capex by RE tech'!$C$11:$D$13,2,TRUE),IF(AND(J35=\"Operational\",G35=\"Wind\"),VLOOKUP(AF35,'Capex by RE tech'!$C$17:$D$19,2,TRUE),IF(AND(J35=\"Operational\",G35=\"Biomass\"),VLOOKUP(AF35,'Capex by RE tech'!$C$2:$D$4,2,TRUE),IF(AND(J35=\"Operational\",G35=\"Geothermal\"),VLOOKUP(AF35,'Capex by RE tech'!$C$2:$D$4,2,TRUE),IF(AND(J35=\"Operational\",G35=\"Hydro\"),VLOOKUP(AF35,'Capex by RE tech'!$C$8:$D$10,2,TRUE),IF(AND(J35=\"Operational\",G35=\"Waste-to-Energy\"),VLOOKUP(AF35,'Capex by RE tech'!$C$14:$D$16,2,TRUE),IF(AND(J35=\"Operational\",AF35<2010),VLOOKUP(G35,'Capex by RE tech'!$A$2:$D$19,4,FALSE),NA))))))))","v":0.9},0,null,null,0,{"$f":"VLOOKUP(G35,'Capex by RE tech'!$A$2:$F$19,6,TRUE)","v":3000},null,0,"NA",null,"Project under consideration. \"If stakeholders come together, the project could be in place by 2020 said the Minister\"","2019-08-08","Confident"]
[null,null,"Barbados","Vaucluse WTE Plant",null,null,"Waste-to-Energy",null,"Utility/IPP","Planned",null,null,25000,null,null,null,null,null,null,null,null,null,null,null,null,null,null,null,null,null,{"$f":"IF(ISNUMBER(AF36),AF36,IF(ISNUMBER(AG36),AG36,\"NA\"))","v":"NA"},null,"Government announced plan to build a $320 million, 25 megawatt waste-to-energy plant at Vaucluse, St Thomas"]
[1,"P0026","Belize",null,"Tower Hill Sugar Factory, Orange Walk","Belize Co-Generation Energy Limited (Belcogen)","Biomass",1,"Utility/IPP","Operational","Belize Co-Generation Energy Limited (Belcogen)","Belize Electricity Ltd. (BEL) & Belize Sugar Industries",32500,null,null,37933,37933,null,37933,0.13323849666315421,0.13323849666315421,null,0.69633333333333336,35500000,null,35500000,115754166.66666666,{"$f":" IF(AND(ISNUMBER(M37), ISNUMBER(X37)),X37/M37,\"NA\")","v":1092.3076923076924},null,0,2010,2010,"13MW are for the national grid","2018-07-18","Confident"]
[1,"P0027","Belize","Mollejon hydroelectric facility","Macal River (Cayo)","Belize Electricity Company Ltd. (BECOL)","Hydro",1,"Utility/IPP","Operational","Belize Electricity Company Ltd. (BECOL)","Belize Electricity Ltd. (BEL)",25200,3,{"$f":"M38/N38","v":8400},79470.720000000001,null,null,79470.720000000001,0.36,"NA",0.36,null,59000000,null,59000000,77515200,2341.2698412698414,null,0,1996,1996,"American Hydro will enhance the efficiency and performance of the Mollejon hydroelectric generating plant (2017)","2018-07-18","Confident"]
[1,"P0028","Belize","Vaca hydroelectric facility","Macal River (Cayo)","BECOL & Sinohydro Corporation Ltd","Hydro",1,"Utility/IPP","Operational","BECOL & Sinohydro Corporation Ltd","Belize Electricity Ltd. (BEL)",19000,3,{"$f":"M39/N39","v":6333.333333333333},79521,null,79521,79558.320000000007,0.47799999999999998,"NA",{"$f":" R39 * 1000/(M39 * 8760)","v":0.47777577505407354},0.85,39000000,null,39000000,58444000,2052.6315789473683,null,0,2010,2010,null,"2018-07-18","Confident"]
[1,"P0029","Belize",null,"Santander Sugar Mill, Cayo","Santander Sugar Energy Ltd. (SSEL)","Biomass",1,"Utility/IPP","Operational","Santander Sugar Energy Ltd. (SSEL)","Belize Electricity Ltd. (BEL)",16000,null,null,46252.800000000003,null,null,46252.800000000003,{"$f":"IF(AND(U40=\"NA\",ISBLANK(V40)),W40,IF(U40<>\"NA\",U40,IF(ISNUMBER(V40),V40,W40)))","v":0.33},"NA",0.33,0.69633333333333336,20000000,null,20000000,56986666.666666664,1250,null,0,"NA",null,"S.S. Energy Ltd., a subsidiary of the Santander Sugar Group, signed PPA with Belize Electricity Limited on December 13, 2016.   ","2018-07-10","Confident"]
[1,"P0030","Belize","Chalillo hydroelectric facility","Macal River (Cayo)","BECOL, Sinohydro Corporation Ltd., & Gilbert-Green Associates Inc.","Hydro",1,"Utility/IPP","Operational","BECOL, Sinohydro Corporation Ltd., & Gilbert-Green Associates Inc.","Belize Electricity Ltd. (BEL)",7300,2,{"$f":"M41/N41","v":3650},30161,null,30161,30161,{"$f":"IF(AND(U41=\"NA\",ISBLANK(V41)),W41,IF(U41<>\"NA\",U41,IF(ISNUMBER(V41),V41,W41)))","v":0.4716488396822418},"NA",{"$f":" (R41* 1000)/(M41 * 8760)","v":0.4716488396822418},0.85,100000000,null,100000000,22454800,13698.630136986301,null,0,2005,2005,null,"2018-07-18","Confident"]
[1,"P0031","Belize","Hydro Maya","San Miguel","Bradley Engineering ,Cisco Construction Ltd., & Sorenson Engineering","Hydro",1,"Utility/IPP","Operational","Bradley Engineering ,Cisco Construction Ltd., & Sorenson Engineering","Belize Electricity Ltd. (BEL)",3400,2,{"$f":"M42/N42","v":1700},14500,14500,null,14500,{"$f":"IF(AND(U42=\"NA\",ISBLANK(V42)),W42,IF(U42<>\"NA\",U42,IF(ISNUMBER(V42),V42,W42)))","v":0.48683857104485628},0.48683857104485628,0.51883561643835618,0.85,10458400,null,null,10458400,3076,null,0,2006,2006,null,"2018-07-18","Confident"]
[1,null,"Belize","BECOL 30 MW Solar Farm",null,"BECOL","Solar PV",1,"Utility/IPP","Planned","BECOL","Belize Electricity Ltd. (BEL)",30000,null,null,60444,null,null,60444,{"$f":"IF(AND(U43=\"NA\",ISBLANK(V43)),W43,IF(U43<>\"NA\",U43,IF(ISNUMBER(V43),V43,W43)))","v":0.23},"NA",null,{"$f":"'Capex by RE tech'!D13","v":0.23},43500000,null,null,{"$f":"AB43*M43","v":43500000},{"$f":"VLOOKUP(G43,'Capex by RE tech'!$A$2:$F$19,6,TRUE)","v":1450},null,null,null,null,"Commercial operation expected 2021. Details from CREF 2019 survey response from Belize Electricity Ltd. ","2019-09-17","Confident"]
[1,null,"Belize","BAPCOL 10MW Solar Farm",null,"BECOL","Solar PV",1,"Utility/IPP","Planned","BECOL","Belize Electricity Ltd. (BEL)",10000,null,null,20148,null,null,20148,{"$f":"IF(AND(U44=\"NA\",ISBLANK(V44)),W44,IF(U44<>\"NA\",U44,IF(ISNUMBER(V44),V44,W44)))","v":0.23},"NA",null,{"$f":"'Capex by RE tech'!D13","v":0.23},14500000,null,null,{"$f":"AB44*M44","v":14500000},{"$f":"VLOOKUP(G44,'Capex by RE tech'!$A$2:$F$19,6,TRUE)","v":1450},null,null,null,null,"Commercial operation expected 2021. Details from CREF 2019 survey response from Belize Electricity Ltd.","2019-09-17","Confident"]
[1,"P0032","Belize",null,null,null,"Solar PV",1,"Distributed","Operational",null,null,450,null,null,128700,null,128700,500.63400000000001,0.127,"NA",{"$f":"Q45/4205","v":0},0.254,20000000,null,20000000,1160100,{"$f":" IF(AND(ISNUMBER(M45), ISNUMBER(X45)),X45/M45,\"NA\")","v":44444.444444444445},null,{"$f":"SUM(AC45:AC45)","v":0},{"$f":"IF(ISNUMBER(AF45),AF45,IF(ISNUMBER(AG45),AG45,\"NA\"))","v":2012},2012,null,"2017-08-03"]
[1,null,"Belize","Belcogen power plant",null,null,"Biomass",1,"Utility/IPP","Operational",null,"Belize Electricity Ltd. (BEL)",31500,null,null,150000,null,{"$f":"106000+44000","v":150000},35044.379999999997,0.127,"NA",null,null,126000000,null,null,{"$f":"AB46*M46","v":126000000},{"$f":"'Capex by RE tech'!F2","v":4000},null,0,2009,2009,null,"2017-08-03","Confident"]
[1,"P0033","Bermuda","\"The Finger\" (airport) solar project","L.F. Wade International Airport","Saturn","Solar PV",1,"Utility/IPP","Operational","Saturn","Bermuda Electric Light Company Ltd. (BELCO)",6000,null,null,13350.24,null,null,13350.24,{"$f":"IF(AND(U47=\"NA\",ISBLANK(V47)),W47,IF(U47<>\"NA\",U47,IF(ISNUMBER(V47),V47,W47)))","v":0.254},"NA",null,0.254,15468000,null,null,15468000,{"$f":" IF(AND(ISNUMBER(M47), ISNUMBER(X47)),X47/M47,\"NA\")","v":2578},null,0,2020,2020,"Solar Power Plant Deal Signed. Project completed in 2020.","2019-08-05","Confident"]
[1,"P0034","Bermuda",null,"Tynes Bay","Von Roll Ltd. ","Waste-to-Energy",1,"Utility/IPP","Operational","Von Roll Ltd. ","Bermuda Electric Light Company Ltd. (BELCO)",5000,null,null,30805.999999999996,null,null,30805.999999999996,0.70333333333333325,"NA",null,0.70333333333333325,70000000,null,70000000,{"$error":"#DIV/0!"},{"$f":" IF(AND(ISNUMBER(M48), ISNUMBER(X48)),X48/M48,\"NA\")","v":14000},null,0,1994,1994,null,"2018-07-18","Confident"]
[1,"P0035","Bermuda",null,null,null,"Solar PV",1,"Distributed","Operational",null,null,416,null,null,925.61663999999996,null,null,925.61663999999996,0.254,"NA",null,0.254,1072448,null,null,1072448,{"$f":" IF(AND(ISNUMBER(M49), ISNUMBER(X49)),X49/M49,\"NA\")","v":2578},null,0,"NA",null,null,"2017-08-03"]
[{"$f":"H50","v":73},"P0036","Bermuda",null,null,null,"Solar PV",73,"Distributed","Operational",null,null,360,null,null,801.01440000000002,null,null,801.01440000000002,0.254,"NA",null,0.254,928080,null,null,928080,{"$f":" IF(AND(ISNUMBER(M50), ISNUMBER(X50)),X50/M50,\"NA\")","v":2578},null,0,"NA",null,null,"2017-08-03"]
[1,"P0037","Bermuda",null,null,null,"Solar PV",1,"Distributed","Operational",null,null,106.52,null,null,237.0112608,null,null,237.0112608,0.254,"NA",null,0.254,274608.56,null,null,274608.56,{"$f":" IF(AND(ISNUMBER(M51), ISNUMBER(X51)),X51/M51,\"NA\")","v":2578},null,0,"NA",null,null,"2017-08-03"]
["Multiple",null,"Bermuda",null,null,null,"Solar PV","Multiple","Utility/IPP","Planned",null,null,15000,null,null,30222,null,null,30222,0.23,"NA",null,{"$f":"IF(OR(J52=\"Under development\",J52=\"Planned\"),VLOOKUP(G52,'Capex by RE tech'!$A$4:$D$18,4,TRUE),IF(AND(J52=\"Operational\",G52=\"Solar PV\"),VLOOKUP(AF52,'Capex by RE tech'!$C$11:$D$13,2,TRUE),IF(AND(J52=\"Operational\",G52=\"Wind\"),VLOOKUP(AF52,'Capex by RE tech'!$C$17:$D$19,2,TRUE),IF(AND(J52=\"Operational\",G52=\"Biomass\"),VLOOKUP(AF52,'Capex by RE tech'!$C$2:$D$4,2,TRUE),IF(AND(J52=\"Operational\",G52=\"Geothermal\"),VLOOKUP(AF52,'Capex by RE tech'!$C$2:$D$4,2,TRUE),IF(AND(J52=\"Operational\",G52=\"Hydro\"),VLOOKUP(AF52,'Capex by RE tech'!$C$8:$D$10,2,TRUE),IF(AND(J52=\"Operational\",G52=\"Waste-to-Energy\"),VLOOKUP(AF52,'Capex by RE tech'!$C$14:$D$16,2,TRUE),IF(AND(J52=\"Operational\",AF52<2010),VLOOKUP(G52,'Capex by RE tech'!$A$2:$D$19,4,FALSE),NA))))))))","v":0.23},21750000,null,null,{"$f":"AB52*M52","v":21750000},{"$f":"VLOOKUP(G52,'Capex by RE tech'!$A$2:$F$19,6,TRUE)","v":1450},null,0,"NA",null,"Planned as part of IRP, to be installed around 2023","2019-08-08","Not confident"]
["Multiple",null,"Bermuda",null,null,null,"Wind","Multiple","Utility/IPP","Planned",null,null,60000,null,null,165564,null,null,165564,0.315,"NA",null,{"$f":"IF(OR(J53=\"Under development\",J53=\"Planned\"),VLOOKUP(G53,'Capex by RE tech'!$A$4:$D$18,4,TRUE),IF(AND(J53=\"Operational\",G53=\"Solar PV\"),VLOOKUP(AF53,'Capex by RE tech'!$C$11:$D$13,2,TRUE),IF(AND(J53=\"Operational\",G53=\"Wind\"),VLOOKUP(AF53,'Capex by RE tech'!$C$17:$D$19,2,TRUE),IF(AND(J53=\"Operational\",G53=\"Biomass\"),VLOOKUP(AF53,'Capex by RE tech'!$C$2:$D$4,2,TRUE),IF(AND(J53=\"Operational\",G53=\"Geothermal\"),VLOOKUP(AF53,'Capex by RE tech'!$C$2:$D$4,2,TRUE),IF(AND(J53=\"Operational\",G53=\"Hydro\"),VLOOKUP(AF53,'Capex by RE tech'!$C$8:$D$10,2,TRUE),IF(AND(J53=\"Operational\",G53=\"Waste-to-Energy\"),VLOOKUP(AF53,'Capex by RE tech'!$C$14:$D$16,2,TRUE),IF(AND(J53=\"Operational\",AF53<2010),VLOOKUP(G53,'Capex by RE tech'!$A$2:$D$19,4,FALSE),NA))))))))","v":0.315},88500000,null,null,{"$f":"AB53*M53","v":88500000},{"$f":"VLOOKUP(G53,'Capex by RE tech'!$A$2:$F$19,6,TRUE)","v":1475},null,0,"NA",null,"Planned as part of IRP, to be installed around 2026","2019-08-08","Not confident"]
[1,null,"Bermuda",null,null,null,"Battery",1,"Utility/IPP","Operational",null,"Bermuda Electric Light Company Ltd. (BELCO)",10000,null,null,"NA",null,null,null,null,null,null,null,null,null,null,{"$f":"AB54*M54","v":{"$error":"#N/A"}},{"$f":"VLOOKUP(G54,'Capex by RE tech'!$A$2:$F$19,6,TRUE)","v":{"$error":"#N/A"}},null,null,null,null,"Battery","2019-08-08","Confident"]
[1,"P0287","Bonaire",null,"Barcadera","Contour Global/Caribbean Energies","Solar PV",1,"Utility/IPP","Operational","Contour Global/Caribbean Energies","Water-en Energie Bedrijf Bonaire ",null,792,{"$f":"M55/N55","v":0},0,null,null,0,0,{"$f":"IF(OR(ISBLANK(M55),ISBLANK(Q55)),\"NA\",(Q55*1000)/(M55*8760))","v":"NA"},null,null,0,null,null,{"$f":"AB55*M55","v":0},{"$f":"VLOOKUP(G55,'Capex by RE tech'!$A$2:$F$19,6,TRUE)","v":1450},null,null,null,null,"This is a test setup of 792 solar panels on the Barcadera grounds","2018-07-18","Not confident"]
[1,"P0038","Bonaire",null,"Kralendjik","Evelop","Wind",1,"Utility/IPP","Operational","Evelop","Water-en Energie Bedrijf Bonaire ",11130,12,{"$f":"M56/N56","v":927.5},35000,null,35000,35000,0.35897877717469345,"NA",{"$f":" R56 * 1000/(M56 * 8760)","v":0.35897877717469345},0.46,60000000,null,60000000,17537170,{"$f":" IF(AND(ISNUMBER(M56), ISNUMBER(X56)),X56/M56,\"NA\")","v":5390.8355795148245},null,{"$f":"SUM(AC56:AC56)","v":0},{"$f":"IF(ISNUMBER(AF56),AF56,IF(ISNUMBER(AG56),AG56,\"NA\"))","v":2010},2010,null,"2018-07-18","Confident"]
[1,"P0039","Bonaire",null,null,null,"Wind",1,"Distributed","Operational",null,null,330,null,null,1329.768,null,null,1329.768,0.46,"NA",null,0.46,519970,null,null,519970,{"$f":" IF(AND(ISNUMBER(M57), ISNUMBER(X57)),X57/M57,\"NA\")","v":1575.6666666666667},null,{"$f":"SUM(AC57:AC57)","v":0},{"$f":"IF(ISNUMBER(AF57),AF57,IF(ISNUMBER(AG57),AG57,\"NA\"))","v":"NA"},null,null,"2017-08-03"]
[1,"P0040","Bonaire",null,null,null,"Solar PV",1,"Distributed","Operational",null,null,65,null,null,144.6276,null,null,144.6276,0.254,"NA",null,0.254,167570,null,null,167570,{"$f":" IF(AND(ISNUMBER(M58), ISNUMBER(X58)),X58/M58,\"NA\")","v":2578},null,{"$f":"SUM(AC58:AC58)","v":0},{"$f":"IF(ISNUMBER(AF58),AF58,IF(ISNUMBER(AG58),AG58,\"NA\"))","v":"NA"},null,null,"2017-08-03"]
[1,null,"Bonaire",null,null,"Wärtsilä",null,1,"Utility/IPP","Operational","Wärtsilä","ContourGlobal Bonaire",6000,null,null,null,null,null,null,null,null,null,null,null,null,null,{"$f":"AB59*M59","v":{"$error":"#N/A"}},{"$f":"VLOOKUP(G59,'Capex by RE tech'!$A$2:$F$19,6,TRUE)","v":{"$error":"#N/A"}},null,{"$f":"SUM(AC59:AC59)","v":0},{"$f":"IF(ISNUMBER(AF59),AF59,IF(ISNUMBER(AG59),AG59,\"NA\"))","v":"NA"},null,"Battery","2019-08-08","Confident"]
[1,"P0268","British Virgin Islands",null,null,null,"Wind",1,"Utility/IPP","Under development",null,null,500,null,null,1752,null,null,1752,0.4,"NA",null,0.4,737500,null,null,{"$f":"AB60*M60","v":737500},{"$f":"VLOOKUP(G60,'Capex by RE tech'!$A$2:$F$19,6,TRUE)","v":1475},null,null,null,null,"2 Turbines, Total 500 KW","2019-08-05","Not confident"]
[1,"P0041","British Virgin Islands",null,"Necker Island",null,"Wind",1,"Distributed","Operational",null,null,900,null,null,3626.64,null,null,3626.64,0.46,"NA",null,0.46,1418100,null,null,1418100,{"$f":" IF(AND(ISNUMBER(M61), ISNUMBER(X61)),X61/M61,\"NA\")","v":1575.6666666666667},null,{"$f":"SUM(AC61:AC61)","v":0},{"$f":"IF(ISNUMBER(AF61),AF61,IF(ISNUMBER(AG61),AG61,\"NA\"))","v":2016},2016,"Privately owned by billionaire entrepreneur Richard Branson on  Necker Island, working with NRG Energy. Microgrid includes 350kW solar PV and 500 kWh battery . See P0034","2019-08-05","Confident"]
[3,"P0042","British Virgin Islands",null,"Necker Island",null,"Wind",3,"Distributed","Operational",null,null,750,null,null,3022.2,null,null,3022.2,0.46,"NA",null,0.46,1181750,null,null,1181750,1575.6666666666667,null,0,"NA",null,null,"2017-08-03"]
[1,"P0043","British Virgin Islands",null,"Necker Island",null,"Solar PV",1,"Distributed","Operational",null,null,300,null,null,667.51199999999994,null,null,667.51199999999994,0.254,"NA",null,0.254,773400,null,null,773400,2578,null,0,"NA",null,"Privately owned by billionaire entrepreneur Richard Branson on  Necker Island, working with NRG Energy. Microgrid includes 350kW solar PV and 500 kWh battery. See P0041","2019-08-05","Confident"]
[1,"P0044","British Virgin Islands",null,null,null,"Solar PV",1,"Distributed","Operational",null,null,32,null,null,71.201279999999997,null,null,71.201279999999997,0.254,"NA",null,0.254,82496,null,null,82496,2578,null,0,"NA",null,null,"2017-08-03"]
[2,"P0045","British Virgin Islands",null,null,null,"Solar PV",2,"Distributed","Operational",null,null,6,null,null,13.350239999999999,null,null,13.350239999999999,0.254,"NA",null,0.254,15468,null,null,15468,2578,null,0,"NA",null,null,"2017-08-03"]
[1,"P0046","British Virgin Islands",null,null,null,"Wind",1,"Distributed","Operational",null,null,3.7,null,null,14.909520000000001,null,null,14.909520000000001,0.46,"NA",null,0.46,5829.9666666666672,null,null,5829.9666666666672,1575.6666666666667,null,0,"NA",null,null,"2017-08-03"]
[1,null,"British Virgin Islands","Cox Heath Solar Project","Tortola",null,"Solar PV",1,"Utility/IPP","Planned",null,"British Virgin Islands Electricity Corporation (BVIEC)",null,null,null,0,null,null,0,0.23,"NA",null,{"$f":"IF(OR(J67=\"Under development\",J67=\"Planned\"),VLOOKUP(G67,'Capex by RE tech'!$A$4:$D$18,4,TRUE),IF(AND(J67=\"Operational\",G67=\"Solar PV\"),VLOOKUP(AF67,'Capex by RE tech'!$C$11:$D$13,2,TRUE),IF(AND(J67=\"Operational\",G67=\"Wind\"),VLOOKUP(AF67,'Capex by RE tech'!$C$17:$D$19,2,TRUE),IF(AND(J67=\"Operational\",G67=\"Biomass\"),VLOOKUP(AF67,'Capex by RE tech'!$C$2:$D$4,2,TRUE),IF(AND(J67=\"Operational\",G67=\"Geothermal\"),VLOOKUP(AF67,'Capex by RE tech'!$C$2:$D$4,2,TRUE),IF(AND(J67=\"Operational\",G67=\"Hydro\"),VLOOKUP(AF67,'Capex by RE tech'!$C$8:$D$10,2,TRUE),IF(AND(J67=\"Operational\",G67=\"Waste-to-Energy\"),VLOOKUP(AF67,'Capex by RE tech'!$C$14:$D$16,2,TRUE),IF(AND(J67=\"Operational\",AF67<2010),VLOOKUP(G67,'Capex by RE tech'!$A$2:$D$19,4,FALSE),NA))))))))","v":0.23},0,null,null,{"$f":"AB67*M67","v":0},{"$f":"VLOOKUP(G67,'Capex by RE tech'!$A$2:$F$19,6,TRUE)","v":1450},null,0,"NA",null,"Part of Resilient National Energy Transition Strategy","2019-08-08","Confident"]
[0,null,"British Virgin Islands","Ground-Mount and Rooftop Solar",null,null,"Solar PV",null,"Utility/IPP","Planned",null,"British Virgin Islands Electricity Corporation (BVIEC)",5000,null,null,10074,null,null,10074,0.23,"NA",null,{"$f":"IF(OR(J68=\"Under development\",J68=\"Planned\"),VLOOKUP(G68,'Capex by RE tech'!$A$4:$D$18,4,TRUE),IF(AND(J68=\"Operational\",G68=\"Solar PV\"),VLOOKUP(AF68,'Capex by RE tech'!$C$11:$D$13,2,TRUE),IF(AND(J68=\"Operational\",G68=\"Wind\"),VLOOKUP(AF68,'Capex by RE tech'!$C$17:$D$19,2,TRUE),IF(AND(J68=\"Operational\",G68=\"Biomass\"),VLOOKUP(AF68,'Capex by RE tech'!$C$2:$D$4,2,TRUE),IF(AND(J68=\"Operational\",G68=\"Geothermal\"),VLOOKUP(AF68,'Capex by RE tech'!$C$2:$D$4,2,TRUE),IF(AND(J68=\"Operational\",G68=\"Hydro\"),VLOOKUP(AF68,'Capex by RE tech'!$C$8:$D$10,2,TRUE),IF(AND(J68=\"Operational\",G68=\"Waste-to-Energy\"),VLOOKUP(AF68,'Capex by RE tech'!$C$14:$D$16,2,TRUE),IF(AND(J68=\"Operational\",AF68<2010),VLOOKUP(G68,'Capex by RE tech'!$A$2:$D$19,4,FALSE),NA))))))))","v":0.23},7250000,null,null,7250000,{"$f":"VLOOKUP(G68,'Capex by RE tech'!$A$2:$F$19,6,TRUE)","v":1450},null,0,"NA",null,"Part of Resilient National Energy Transition Strategy. Need to identify sites. \"can be structured as a PPA where BVIEC purchases the electricity generated from the solar PV\"","2019-08-08","Confident"]
[0,null,"British Virgin Islands","Solar for Schools and Gov't Buildings Project",null,null,"Solar PV",null,"Utility/IPP","Planned",null,null,null,null,null,0,null,null,0,0.23,"NA",null,{"$f":"IF(OR(J69=\"Under development\",J69=\"Planned\"),VLOOKUP(G69,'Capex by RE tech'!$A$4:$D$18,4,TRUE),IF(AND(J69=\"Operational\",G69=\"Solar PV\"),VLOOKUP(AF69,'Capex by RE tech'!$C$11:$D$13,2,TRUE),IF(AND(J69=\"Operational\",G69=\"Wind\"),VLOOKUP(AF69,'Capex by RE tech'!$C$17:$D$19,2,TRUE),IF(AND(J69=\"Operational\",G69=\"Biomass\"),VLOOKUP(AF69,'Capex by RE tech'!$C$2:$D$4,2,TRUE),IF(AND(J69=\"Operational\",G69=\"Geothermal\"),VLOOKUP(AF69,'Capex by RE tech'!$C$2:$D$4,2,TRUE),IF(AND(J69=\"Operational\",G69=\"Hydro\"),VLOOKUP(AF69,'Capex by RE tech'!$C$8:$D$10,2,TRUE),IF(AND(J69=\"Operational\",G69=\"Waste-to-Energy\"),VLOOKUP(AF69,'Capex by RE tech'!$C$14:$D$16,2,TRUE),IF(AND(J69=\"Operational\",AF69<2010),VLOOKUP(G69,'Capex by RE tech'!$A$2:$D$19,4,FALSE),NA))))))))","v":0.23},0,null,null,0,{"$f":"VLOOKUP(G69,'Capex by RE tech'!$A$2:$F$19,6,TRUE)","v":1450},null,0,"NA",null,"Part of Resilient National Energy Transition Strategy, pg. 55","2019-08-08","Confident"]
[0,null,"British Virgin Islands","Paraquita Bay Integrated Energy Project",null,null,"Solar PV",null,null,null,null,null,null,null,null,{"$f":"IF(ISNUMBER(Q70),Q70,IF(ISNUMBER(R70),R70, IF(ISNUMBER(S70), S70,\"NA\")))","v":"NA"},null,null,{"$f":" (M70 * 8760 * T70)/1000","v":{"$error":"#NAME?"}},{"$error":"#NAME?"},"NA",null,{"$f":"IF(OR(J70=\"Under development\",J70=\"Planned\"),VLOOKUP(G70,'Capex by RE tech'!$A$4:$D$18,4,TRUE),IF(AND(J70=\"Operational\",G70=\"Solar PV\"),VLOOKUP(AF70,'Capex by RE tech'!$C$11:$D$13,2,TRUE),IF(AND(J70=\"Operational\",G70=\"Wind\"),VLOOKUP(AF70,'Capex by RE tech'!$C$17:$D$19,2,TRUE),IF(AND(J70=\"Operational\",G70=\"Biomass\"),VLOOKUP(AF70,'Capex by RE tech'!$C$2:$D$4,2,TRUE),IF(AND(J70=\"Operational\",G70=\"Geothermal\"),VLOOKUP(AF70,'Capex by RE tech'!$C$2:$D$4,2,TRUE),IF(AND(J70=\"Operational\",G70=\"Hydro\"),VLOOKUP(AF70,'Capex by RE tech'!$C$8:$D$10,2,TRUE),IF(AND(J70=\"Operational\",G70=\"Waste-to-Energy\"),VLOOKUP(AF70,'Capex by RE tech'!$C$14:$D$16,2,TRUE),IF(AND(J70=\"Operational\",AF70<2010),VLOOKUP(G70,'Capex by RE tech'!$A$2:$D$19,4,FALSE),NA))))))))","v":{"$error":"#NAME?"}},{"$f":" IF(ISNUMBER(Y70), Y70,IF(ISNUMBER(Z70),Z70,IF(ISNUMBER(AA70), AA70, \"NA\")))","v":0},null,null,0,{"$f":"VLOOKUP(G70,'Capex by RE tech'!$A$2:$F$19,6,TRUE)","v":1450},null,0,"NA"]
[0,null,"British Virgin Islands","Anegada Hybrid Microgrid Project","Anegada Island",null,"Hybrid",null,null,"Planned",null,null,2100,null,null,"NA",null,null,null,null,null,null,null,null,null,null,8925000,{"$f":"VLOOKUP(G71,'Capex by RE tech'!$A$2:$F$19,6,TRUE)","v":4250},null,0,"NA",null,"Part of Resilient National Energy Transition Strategy. Anegada island not connected to rest of BVI grid. Five bids received.","2019-08-08","Confident"]
[0,null,"British Virgin Islands","Anegada Generation Expansion Project","Anegada Island",null,"Hybrid",null,null,"Planned",null,null,2100,null,null,null,null,null,null,null,null,null,null,null,null,null,8925000,{"$f":"VLOOKUP(G72,'Capex by RE tech'!$A$2:$F$19,6,TRUE)","v":4250},null,0,"NA",null,"Part of Resilient National Energy Transition Strategy. Anegada island not connected to rest of BVI grid. Five bids received.","2019-08-08","Confident"]
[79,"P0047","Cayman Islands",null,"Various Residential and Commercial Customers","Caribbean Utilities Company Ltd. (CUC)","Solar PV",79,"Distributed","Operational","Caribbean Utilities Company Ltd. (CUC)","Caribbean Utilities Company Ltd. (CUC)",8000,null,null,17800.32,null,null,17800.32,0.254,"NA",null,0.254,20624000,null,null,20624000,{"$f":" IF(AND(ISNUMBER(M73), ISNUMBER(X73)),X73/M73,\"NA\")","v":2578},null,0,2009,2009,"CUC approved the allocation of two more MW of capacity for CUC's Core Programme in May 2017, however, customers will have only have access to 1 MW until December 2017. ","2017-08-03"]
[1,"P0048","Cayman Islands","Bodden Town Solar Farm","Bodden Town","BMR Energy LLC","Solar PV",1,"Utility/IPP","Operational","BMR Energy LLC","Caribbean Utilities Company Ltd. (CUC)",5000,null,null,11125.2,null,null,11125.2,0.254,"NA",null,0.254,12890000,null,null,12890000,{"$f":" IF(AND(ISNUMBER(M74), ISNUMBER(X74)),X74/M74,\"NA\")","v":2578},null,0,2017,2017,"Project in operation since 2017. BMR Energy acquired the plant from Entropy Cayman Solar I in January 2019. ","2019-09-17","Confident"]
[1,"P0049","Cayman Islands",null,"George Town ","TBD","Waste-to-Energy",1,"Utility/IPP","Planned","TBD","Caribbean Utilities Company Ltd. (CUC)",2700,null,null,16635.239999999998,null,null,16635.239999999998,0.70333333333333325,"NA",null,0.70333333333333325,7000000,null,7000000,null,{"$f":" IF(AND(ISNUMBER(M75), ISNUMBER(X75)),X75/M75,\"NA\")","v":2592.5925925925926},null,0,"NA",null,"In 2016, government announced George Town landfill will be capped and a WtE plant will be constructed on the site. Companies are currently being shortlisted to construct and operate the plant over a 25-year-period. Still waiting on Environmental Impact Assessment expected to be completed June 2019. As of September 2020, no progress has been made. ","2019-08-05","Confident"]
[1,"P0050","Cayman Islands",null,null,null,"Solar PV",1,"Distributed","Operational",null,null,58.5,null,null,130.16484,null,null,130.16484,0.254,"NA",null,0.254,250000,null,250000,150813,{"$f":" IF(AND(ISNUMBER(M76), ISNUMBER(X76)),X76/M76,\"NA\")","v":4273.5042735042734},null,0,"NA",null,"Completed at end of July 2014.","2017-08-03"]
[1,"P0051","Cayman Islands",null,null,null,"Solar PV",1,"Distributed","Operational",null,null,3.4,null,null,7.5651360000000007,null,null,7.5651360000000007,0.254,"NA",null,0.254,8765.1999999999989,null,null,8765.1999999999989,{"$f":" IF(AND(ISNUMBER(M77), ISNUMBER(X77)),X77/M77,\"NA\")","v":2577.9999999999995},null,0,"NA",null,null,"2017-08-03"]
[1,null,"Cayman Islands",null,null,null,"Waste-to-Energy",1,"Utility/IPP","Planned",null,"Caribbean Utilities Company Ltd. (CUC)",5000,null,null,30966.6,null,null,30966.6,0.70699999999999996,"NA",null,{"$f":"IF(OR(J78=\"Under development\",J78=\"Planned\"),VLOOKUP(G78,'Capex by RE tech'!$A$4:$D$18,4,TRUE),IF(AND(J78=\"Operational\",G78=\"Solar PV\"),VLOOKUP(AF78,'Capex by RE tech'!$C$11:$D$13,2,TRUE),IF(AND(J78=\"Operational\",G78=\"Wind\"),VLOOKUP(AF78,'Capex by RE tech'!$C$17:$D$19,2,TRUE),IF(AND(J78=\"Operational\",G78=\"Biomass\"),VLOOKUP(AF78,'Capex by RE tech'!$C$2:$D$4,2,TRUE),IF(AND(J78=\"Operational\",G78=\"Geothermal\"),VLOOKUP(AF78,'Capex by RE tech'!$C$2:$D$4,2,TRUE),IF(AND(J78=\"Operational\",G78=\"Hydro\"),VLOOKUP(AF78,'Capex by RE tech'!$C$8:$D$10,2,TRUE),IF(AND(J78=\"Operational\",G78=\"Waste-to-Energy\"),VLOOKUP(AF78,'Capex by RE tech'!$C$14:$D$16,2,TRUE),IF(AND(J78=\"Operational\",AF78<2010),VLOOKUP(G78,'Capex by RE tech'!$A$2:$D$19,4,FALSE),NA))))))))","v":0.70699999999999996},41360000,null,null,{"$f":"AB78*M78","v":41360000},{"$f":"VLOOKUP(G78,'Capex by RE tech'!$A$2:$F$19,6,TRUE)","v":8272},null,0,"NA",null,"Part of IRP designed in 2017 and approved in 2019. Expected to be operational 2020. As of September 2020, no progress has been made. ","2019-08-08","Confident"]
[1,null,"Cayman Islands",null,null,null,"Biomass",1,"Utility/IPP","Planned",null,"Caribbean Utilities Company Ltd. (CUC)",1000,null,null,7884,null,null,7884,0.9,"NA",null,{"$f":"IF(OR(J79=\"Under development\",J79=\"Planned\"),VLOOKUP(G79,'Capex by RE tech'!$A$4:$D$18,4,TRUE),IF(AND(J79=\"Operational\",G79=\"Solar PV\"),VLOOKUP(AF79,'Capex by RE tech'!$C$11:$D$13,2,TRUE),IF(AND(J79=\"Operational\",G79=\"Wind\"),VLOOKUP(AF79,'Capex by RE tech'!$C$17:$D$19,2,TRUE),IF(AND(J79=\"Operational\",G79=\"Biomass\"),VLOOKUP(AF79,'Capex by RE tech'!$C$2:$D$4,2,TRUE),IF(AND(J79=\"Operational\",G79=\"Geothermal\"),VLOOKUP(AF79,'Capex by RE tech'!$C$2:$D$4,2,TRUE),IF(AND(J79=\"Operational\",G79=\"Hydro\"),VLOOKUP(AF79,'Capex by RE tech'!$C$8:$D$10,2,TRUE),IF(AND(J79=\"Operational\",G79=\"Waste-to-Energy\"),VLOOKUP(AF79,'Capex by RE tech'!$C$14:$D$16,2,TRUE),IF(AND(J79=\"Operational\",AF79<2010),VLOOKUP(G79,'Capex by RE tech'!$A$2:$D$19,4,FALSE),NA))))))))","v":0.9},3000000,null,null,{"$f":"AB79*M79","v":3000000},{"$f":"VLOOKUP(G79,'Capex by RE tech'!$A$2:$F$19,6,TRUE)","v":3000},null,0,"NA",null,"Part of IRP designed in 2017 and approved in 2019. Expected to be operational 2020. As of September 2020, no progress has been made. ","2019-08-08","Confident"]
[1,"P0076","Cuba",null,null,"Ecotècnia S.c.c.l.","Wind",1,"Utility/IPP","Operational","Ecotècnia S.c.c.l.","Unión Eléctrica de Cuba (UNE)",450,null,null,1813.32,null,null,1813.32,0.46,"NA",null,0.46,709050,null,null,709050,{"$f":" IF(AND(ISNUMBER(M80), ISNUMBER(X80)),X80/M80,\"NA\")","v":1575.6666666666667},null,0,1997,1997,"Turiguano Island Wind Park commissioned in 1997 as Cuba's first wind project. Plans to add 1000 kW in the future.","2018-07-18","Confident"]
[180,"P0052","Cuba",null,"Various","Various","Hydro",180,"Utility/IPP","Operational","Various","Unión Eléctrica de Cuba (UNE)",62100,null,null,64200,64200,null,64200,0.11801557364392386,0.11801557364392386,null,null,174687300,null,null,{"$f":"AB81*M81","v":174687300},{"$f":"VLOOKUP(G81,'Capex by RE tech'!$A$2:$F$19,6,TRUE)","v":2813},null,0,{"$f":"IF(ISNUMBER(AF81),AF81,IF(ISNUMBER(AG96),AG96,\"NA\"))","v":"NA"},null,null,"2018-07-18","Not confident"]
[{"$f":"H82","v":1},"P0053","Cuba",null,"Ciro Redondo Sugar Mill, Ciego de Avila","Biopower S.A. (Joint venture between Zerus S.A. and Havana Energy)","Biomass",1,"Utility/IPP","Operational","Biopower S.A. (Joint venture between Zerus S.A. and Havana Energy)","Unión Eléctrica de Cuba (UNE)",62000,null,null,378192.56,null,null,378192.56,0.69633333333333336,"NA",null,0.69633333333333336,186000000,null,186000000,220823333.33333331,{"$f":" IF(AND(ISNUMBER(M82), ISNUMBER(X82)),X82/M82,\"NA\")","v":3000},null,0,{"$f":"IF(ISNUMBER(AF82),AF82,IF(ISNUMBER(AG82),AG82,\"NA\"))","v":2020},2020,"Biopower, joint venture between Azcuba's subsidiary Zerus SA and Havana Energy, began construction in April 2017 and hopes to complete inaugural project by 2019 (delayed to November). Using Marabu as the fuel. First PPA signed in Cuba","2019-08-05","Confident"]
[74,"P0054","Cuba",null,"Various","TBD","Hydro",74,"Utility/IPP","Under development","TBD","Unión Eléctrica de Cuba (UNE)",56000,null,null,350000,null,350000,350000,0.7134703196347032,"NA",{"$f":" R83 * 1000/(M83 * 8760)","v":0.7134703196347032},0.85,172256000,null,null,172256000,3076,null,0,2030,null,"Part of Cuban government's plan to generate 2.1 GW of renewable energy by 2030.","2019-08-05","Confident"]
[1,"P0055","Cuba","La Herradura-1 Wind Farm","Las Tunas Province","Empresa de Construccion y Montaje","Wind",1,"Utility/IPP","Under development","Unión Eléctrica de Cuba (UNE)","Unión Eléctrica de Cuba (UNE)",51000,null,null,205509.6,null,null,205509.6,0.46,"NA",null,0.46,81934666.666666672,null,null,81934666.666666672,1606.562091503268,null,0,{"$f":"IF(ISNUMBER(AF84),AF84,IF(ISNUMBER(AG84),AG84,\"NA\"))","v":"NA"},null,"Construction started March 2019. As of Construction of Wind Farms in Las Tunas Enters into New Stage . As of June 2020, 20 of 22 planned bases were constructed (https://www.evwind.es/2020/06/02/wind-power-in-cuba-wind-farm-with-goldwind-wind-turbines/74969).","2019-08-08","Confident"]
[1,"P0056","Cuba","La Herradura-2 Wind Farm","Las Tunas Province","Empresa de Construccion y Montaje","Wind",1,"Utility/IPP","Under development","Unión Eléctrica de Cuba (UNE)","Unión Eléctrica de Cuba (UNE)",50000,null,null,201480,null,null,201480,0.46,"NA",null,0.46,81934666.666666672,null,null,81934666.666666672,1638.6933333333334,null,0,"NA",null,"Construction has been underway. The company is also planning a third wind park. Construction of Wind Farms in Las Tunas Enters into New Stage ","2019-08-08","Confident"]
[1,"P0057","Cuba",null,"Cabo Lucrecia","Unión Eléctrica de Cuba (UNE)","Wind",1,"Utility/IPP","Planned","Unión Eléctrica de Cuba (UNE)","Unión Eléctrica de Cuba (UNE)",51000,null,null,205509.6,null,null,205509.6,0.46,{"$f":"IF(OR(ISBLANK(M86),ISBLANK(Q86)),\"NA\",(Q86*1000)/(M86*8760))","v":"NA"},null,0.46,80359000,null,null,80359000,1575.6666666666667,null,0,"NA",null,"Prospective wind farm site identified by Ministry of Energy and Mining. ","2018-07-10","Confident"]
[1,"P0058","Cuba",null,"Camagüey Province","Unión Eléctrica de Cuba (UNE)","Wind",1,"Utility/IPP","Planned","Unión Eléctrica de Cuba (UNE)","Unión Eléctrica de Cuba (UNE)",51000,null,null,205509.6,null,null,205509.6,0.46,"NA",null,0.46,80359000,null,null,80359000,1575.6666666666667,null,0,"NA",null,"Prospective wind farm site identified by Ministry of Energy and Mining. ","2018-07-10","Confident"]
[1,"P0060","Cuba",null,"Punta de Maisi","Unión Eléctrica de Cuba (UNE)","Wind",1,"Utility/IPP","Planned","Unión Eléctrica de Cuba (UNE)","Unión Eléctrica de Cuba (UNE)",51000,null,null,205509.6,null,null,205509.6,0.46,"NA",null,0.46,80359000,null,null,80359000,1575.6666666666667,null,0,"NA",null,"Prospective wind farm site identified by Ministry of Energy and Mining. As of March 2020, final phase of engineering assessment was underway.","2018-07-10","Confident"]
[1,"P0062","Cuba",null,"Mayabeque Province","Unión Eléctrica de Cuba (UNE)","Wind",1,"Utility/IPP","Planned","Unión Eléctrica de Cuba (UNE)","Unión Eléctrica de Cuba (UNE)",51000,null,null,205509.6,null,null,205509.6,0.46,"NA",null,0.46,80359000,null,null,80359000,1575.6666666666667,null,0,"NA",null,"Prospective wind farm site identified by Ministry of Energy and Mining. ","2018-07-10","Confident"]
[3,"P0063","Cuba","Mariel Solar PV Park","Mariel Special Development Zone","Hive Energy","Solar PV",3,"Utility/IPP","Under development","Hive Energy","Unión Eléctrica de Cuba (UNE)",50000,null,null,108897,null,108897,438000,1,"NA",{"$f":"93000/438000","v":0.21232876712328766},0.254,100000000,null,100000000,150452080,2000,null,0,"NA",null,"Expected to be completed 4Q2019. ","2019-08-05","Confident"]
[1,"P0064","Cuba",null,"Punta de Maisi","Unión Eléctrica de Cuba (UNE)","Wind",1,"Utility/IPP","Planned","Unión Eléctrica de Cuba (UNE)","Unión Eléctrica de Cuba (UNE)",36000,null,null,145065.60000000001,null,null,145065.60000000001,{"$f":"IF(AND(U91=\"NA\",ISBLANK(V91)),W91,IF(U91<>\"NA\",U91,IF(ISNUMBER(V91),V91,W91)))","v":0.46},"NA",null,0.46,56724000,null,null,56724000,1575.6666666666667,null,0,"NA",null,"Prospective wind farm site identified by Ministry of Energy and Mining. ","2018-07-10","Not confident"]
[1,"P0065","Cuba",null,"Punta de Maisi","Unión Eléctrica de Cuba (UNE)","Wind",1,"Utility/IPP","Planned","Unión Eléctrica de Cuba (UNE)","Unión Eléctrica de Cuba (UNE)",36000,null,null,145065.60000000001,null,null,145065.60000000001,0.46,"NA",null,0.46,56724000,null,null,56724000,1575.6666666666667,null,0,"NA",null,"Prospective wind farm site identified by Ministry of Energy and Mining. ","2018-07-10","Not confident"]
[1,"P0066","Cuba",null,"Punta de Mulas","Unión Eléctrica de Cuba (UNE)","Wind",1,"Utility/IPP","Planned","Unión Eléctrica de Cuba (UNE)","Unión Eléctrica de Cuba (UNE)",36000,null,null,145065.60000000001,null,null,145065.60000000001,0.46,"NA",null,0.46,56724000,null,null,56724000,1575.6666666666667,null,0,"NA",null,"Prospective wind farm site identified by Ministry of Energy and Mining. ","2018-07-10","Not confident"]
[1,"P0067","Cuba","Hector Rodríguez Sugar Mill","Matanzas Province","Shandong Electric Power Engineering Consulting Institute Corp., Ltd.","Biomass",1,"Utility/IPP","Under development","Shandong Electric Power Engineering Consulting Institute Corp., Ltd.","Unión Eléctrica de Cuba (UNE)",20000,null,null,90000,null,90000,90000.000000000015,0.51369863013698636,"NA",{"$f":"90000/175200","v":0.51369863013698636},0.69633333333333336,71233333.333333328,null,null,71233333.333333328,3561.6666666666665,null,0,"NA",null,"British-Chinese group invests in second biomass power plant in Cuba","2019-08-05","Not confident"]
[1,"P0290","Cuba",null,null,"ACIMUT","Wind",1,"Utility/IPP","Planned","ACIMUT","Unión Eléctrica de Cuba (UNE)",null,null,null,0,null,null,0,0.315,"NA",null,{"$f":"IF(OR(J95=\"Under development\",J95=\"Planned\"),VLOOKUP(G95,'Capex by RE tech'!$A$4:$D$18,4,TRUE),IF(AND(J95=\"Operational\",G95=\"Solar PV\"),VLOOKUP(AF95,'Capex by RE tech'!$C$11:$D$13,2,TRUE),IF(AND(J95=\"Operational\",G95=\"Wind\"),VLOOKUP(AF95,'Capex by RE tech'!$C$17:$D$19,2,TRUE),IF(AND(J95=\"Operational\",G95=\"Biomass\"),VLOOKUP(AF95,'Capex by RE tech'!$C$2:$D$4,2,TRUE),IF(AND(J95=\"Operational\",G95=\"Geothermal\"),VLOOKUP(AF95,'Capex by RE tech'!$C$2:$D$4,2,TRUE),IF(AND(J95=\"Operational\",G95=\"Hydro\"),VLOOKUP(AF95,'Capex by RE tech'!$C$8:$D$10,2,TRUE),IF(AND(J95=\"Operational\",G95=\"Waste-to-Energy\"),VLOOKUP(AF95,'Capex by RE tech'!$C$14:$D$16,2,TRUE),IF(AND(J95=\"Operational\",AF95<2010),VLOOKUP(G95,'Capex by RE tech'!$A$2:$D$19,4,FALSE),NA))))))))","v":0.315},0,null,null,{"$f":"AB95*M95","v":0},{"$f":"VLOOKUP(G95,'Capex by RE tech'!$A$2:$F$19,6,TRUE)","v":1475},null,null,null,null,null,"2018-07-18","Not confident"]
[1,"P0070","Cuba",null,"Guantanamo","Ministerio de la Industria Basica (MINBAS) & Unión Eléctrica de Cuba (UNE)\n ","Solar PV",1,"Utility/IPP","Operational","Ministerio de la Industria Basica (MINBAS) & Unión Eléctrica de Cuba (UNE)\n ","Unión Eléctrica de Cuba (UNE)",2500,null,null,3000,null,3000,3000,0.13698630136986301,"NA",{"$f":" R96 * 1000/(M96 * 8760)","v":0.13698630136986301},null,5000000,null,null,{"$f":" 2000 * M96","v":5000000},{"$f":" IF(AND(ISNUMBER(M96), ISNUMBER(X96)),X96/M96,\"NA\")","v":2000},null,{"$f":"SUM(AC96:AC96)","v":0},{"$f":"IF(ISNUMBER(AF96),AF96,IF(ISNUMBER(#REF!),#REF!,\"NA\"))","v":2013},2013,"Back on track after Hurricane","2018-07-18","Confident"]
[1,"P0072","Cuba",null,"Cienfuegos Province","Hidroenergia","Solar PV",1,"Utility/IPP","Operational","Hidroenergia","Unión Eléctrica de Cuba (UNE)",2600,14000,{"$f":"M97/N97","v":0.18571428571428572},5785.1040000000003,null,null,5785.1040000000003,0.254,"NA",null,0.254,6702800,null,null,6702800,2578,null,0,{"$f":"IF(ISNUMBER(AF97),AF97,IF(ISNUMBER(AG97),AG97,\"NA\"))","v":2013},2013,null,"2018-07-18","Confident"]
[280,"P0071","Cuba",null,"Various",null,"Solar PV",280,"Distributed","Operational",null,"Unión Eléctrica de Cuba (UNE)",2800,null,null,6230.1120000000001,null,null,6230.1120000000001,0.254,"NA",null,0.254,7218400,null,null,7218400,2578,null,0,"NA",null,"Number of installations estimated assuming 10kW average size of installation.","2017-08-03"]
[1,"P0073","Cuba",null,"Moa","Unión Eléctrica de Cuba (UNE)","Hydro",1,"Utility/IPP","Operational","Unión Eléctrica de Cuba (UNE)","Unión Eléctrica de Cuba (UNE)",2000,2,{"$f":"M99/N99","v":1000},16000,null,16000,16000,0.91324200913242004,"NA",{"$f":" R99 * 1000/(M99 * 8760)","v":0.91324200913242004},0.85,6400000,null,6400000,6152000,3200,null,0,2010,2010,null,"2018-07-18","Confident"]
[1,"P0075","Cuba",null,null,null,"Solar PV",1,"Utility/IPP","Operational",null,null,962,5200,{"$f":"M100/N100","v":0.185},2140.48848,null,null,2140.48848,0.254,"NA",null,0.254,2480036,null,null,2480036,2578,null,0,2013,2013,null,"2018-07-18","Confident"]
[1,"P0074","Cuba",null,"Isla de la Juventud","Vergnet","Wind",1,"Utility/IPP","Operational","Vergnet","Unión Eléctrica de Cuba (UNE)",1650,6,{"$f":"M101/N101","v":275},1800,null,1800,1800,0.12453300124533001,"NA",{"$f":" R101 * 1000/(M101 * 8760)","v":0.12453300124533001},0.46,3400000,null,3400000,2599850,2060.6060606060605,null,0,2007,2007,null,"2018-07-18","Confident"]
[1,"P0068","Cuba",null,"Holguín","Ministerio de la Industria Basica (MINBAS) & Unión Eléctrica de Cuba (UNE)\n ","Wind",1,"Utility/IPP","Operational","Ministerio de la Industria Basica (MINBAS) & Unión Eléctrica de Cuba (UNE)\n ","Unión Eléctrica de Cuba (UNE)",5100,6,{"$f":"M102/N102","v":850},11000,null,11000,11000,0.24621720834452501,"NA",{"$f":" R102 * 1000/(M102 * 8760)","v":0.24621720834452501},0.46,8035900,null,null,8035900,1575.6666666666667,null,0,2008,2008,null,"2018-07-18","Confident"]
[1,"P0069","Cuba",null,"Punta Rasa","Goldwind Global ","Wind",1,"Utility/IPP","Operational","Goldwind Global ","Unión Eléctrica de Cuba (UNE)",4500,6,{"$f":"M103/N103","v":750},10000,null,10000,10000,0.25367833587011668,"NA",{"$f":" R103 * 1000/(M103 * 8760)","v":0.25367833587011668},0.46,7090500,null,null,7090500,1575.6666666666667,null,0,2011,2011,"Construction of Wind Farm","2018-07-18","Confident"]
[1,null,"Cuba",null,"Mario Munoz sugar mill","Havana Energy","Biomass",1,null,"Under development","Havana Energy",null,62000,null,null,488808,null,null,488808,0.9,"NA",null,{"$f":"IF(OR(J104=\"Under development\",J104=\"Planned\"),VLOOKUP(G104,'Capex by RE tech'!$A$4:$D$18,4,TRUE),IF(AND(J104=\"Operational\",G104=\"Solar PV\"),VLOOKUP(AF104,'Capex by RE tech'!$C$11:$D$13,2,TRUE),IF(AND(J104=\"Operational\",G104=\"Wind\"),VLOOKUP(AF104,'Capex by RE tech'!$C$17:$D$19,2,TRUE),IF(AND(J104=\"Operational\",G104=\"Biomass\"),VLOOKUP(AF104,'Capex by RE tech'!$C$2:$D$4,2,TRUE),IF(AND(J104=\"Operational\",G104=\"Geothermal\"),VLOOKUP(AF104,'Capex by RE tech'!$C$2:$D$4,2,TRUE),IF(AND(J104=\"Operational\",G104=\"Hydro\"),VLOOKUP(AF104,'Capex by RE tech'!$C$8:$D$10,2,TRUE),IF(AND(J104=\"Operational\",G104=\"Waste-to-Energy\"),VLOOKUP(AF104,'Capex by RE tech'!$C$14:$D$16,2,TRUE),IF(AND(J104=\"Operational\",AF104<2010),VLOOKUP(G104,'Capex by RE tech'!$A$2:$D$19,4,FALSE),NA))))))))","v":0.9},140000000,null,null,140000000,2258.0645161290322,null,null,null,2020,"Expected to be operational 2020","2019-08-07","Confident"]
[1,null,"Cuba","Cardenas I","Matanzas",null,"Solar PV",1,"Utility/IPP","Operational",null,null,3750,null,null,7555.5,null,null,7555.5,0.23,"NA",null,{"$f":"IF(OR(J105=\"Under development\",J105=\"Planned\"),VLOOKUP(G105,'Capex by RE tech'!$A$4:$D$18,4,TRUE),IF(AND(J105=\"Operational\",G105=\"Solar PV\"),VLOOKUP(AF105,'Capex by RE tech'!$C$11:$D$13,2,TRUE),IF(AND(J105=\"Operational\",G105=\"Wind\"),VLOOKUP(AF105,'Capex by RE tech'!$C$17:$D$19,2,TRUE),IF(AND(J105=\"Operational\",G105=\"Biomass\"),VLOOKUP(AF105,'Capex by RE tech'!$C$2:$D$4,2,TRUE),IF(AND(J105=\"Operational\",G105=\"Geothermal\"),VLOOKUP(AF105,'Capex by RE tech'!$C$2:$D$4,2,TRUE),IF(AND(J105=\"Operational\",G105=\"Hydro\"),VLOOKUP(AF105,'Capex by RE tech'!$C$8:$D$10,2,TRUE),IF(AND(J105=\"Operational\",G105=\"Waste-to-Energy\"),VLOOKUP(AF105,'Capex by RE tech'!$C$14:$D$16,2,TRUE),IF(AND(J105=\"Operational\",AF105<2010),VLOOKUP(G105,'Capex by RE tech'!$A$2:$D$19,4,FALSE),NA))))))))","v":0.23},5437500,null,null,{"$f":"AB105*M105","v":5437500},{"$f":"VLOOKUP(G105,'Capex by RE tech'!$A$2:$F$19,6,TRUE)","v":1450},null,{"$f":"SUM(AC105:AC105)","v":0},{"$f":"IF(ISNUMBER(AF105),AF105,IF(ISNUMBER(AG105),AG105,\"NA\"))","v":2019},2019,"Opened July 2019, financed by IRENA and Bud Dhabi Fund for Development","2019-08-08","Confident"]
[1,null,"Cuba",null,null,"EFF Solar SA","Solar PV",1,"Utility/IPP","Under development","EFF Solar SA",null,5000,null,null,10074,null,null,10074,0.23,"NA",null,{"$f":"IF(OR(J106=\"Under development\",J106=\"Planned\"),VLOOKUP(G106,'Capex by RE tech'!$A$4:$D$18,4,TRUE),IF(AND(J106=\"Operational\",G106=\"Solar PV\"),VLOOKUP(AF106,'Capex by RE tech'!$C$11:$D$13,2,TRUE),IF(AND(J106=\"Operational\",G106=\"Wind\"),VLOOKUP(AF106,'Capex by RE tech'!$C$17:$D$19,2,TRUE),IF(AND(J106=\"Operational\",G106=\"Biomass\"),VLOOKUP(AF106,'Capex by RE tech'!$C$2:$D$4,2,TRUE),IF(AND(J106=\"Operational\",G106=\"Geothermal\"),VLOOKUP(AF106,'Capex by RE tech'!$C$2:$D$4,2,TRUE),IF(AND(J106=\"Operational\",G106=\"Hydro\"),VLOOKUP(AF106,'Capex by RE tech'!$C$8:$D$10,2,TRUE),IF(AND(J106=\"Operational\",G106=\"Waste-to-Energy\"),VLOOKUP(AF106,'Capex by RE tech'!$C$14:$D$16,2,TRUE),IF(AND(J106=\"Operational\",AF106<2010),VLOOKUP(G106,'Capex by RE tech'!$A$2:$D$19,4,FALSE),NA))))))))","v":0.23},7250000,null,null,7250000,{"$f":"VLOOKUP(G106,'Capex by RE tech'!$A$2:$F$19,6,TRUE)","v":1450},null,0,"NA",null,null,"2019-08-08","Confident"]
[1,null,"Cuba",null,"Sancti Spiritus Province",null,"Solar PV",1,"Utility/IPP","Operational",null,null,1250,null,null,1875,null,1875,0,0,"NA",null,null,1812500,null,null,1812500,{"$f":"VLOOKUP(G107,'Capex by RE tech'!$A$2:$F$19,6,TRUE)","v":1450},null,0,2019,2019,"Inaugurated February 2019","2019-08-08","Confident"]
[1,null,"Cuba","Parada II Solar Park","Puerto Padre, Las Tunas",null,"Solar PV",1,"Utility/IPP","Operational",null,null,4400,null,null,9125,null,{"$f":"25*365","v":9125},0,0,"NA",null,null,6380000,null,null,6380000,{"$f":"VLOOKUP(G108,'Capex by RE tech'!$A$2:$F$19,6,TRUE)","v":1450},null,0,2018,2018,"Operational since July 2018","2019-08-08","Confident"]
[1,null,"Cuba","Parada I Solar Park","Puerto Padre, Las Tunas",null,"Solar PV",1,"Utility/IPP","Operational",null,null,2200,null,null,4432.5600000000004,null,null,4432.5600000000004,0.23,"NA",null,{"$f":"IF(OR(J109=\"Under development\",J109=\"Planned\"),VLOOKUP(G109,'Capex by RE tech'!$A$4:$D$18,4,TRUE),IF(AND(J109=\"Operational\",G109=\"Solar PV\"),VLOOKUP(AF109,'Capex by RE tech'!$C$11:$D$13,2,TRUE),IF(AND(J109=\"Operational\",G109=\"Wind\"),VLOOKUP(AF109,'Capex by RE tech'!$C$17:$D$19,2,TRUE),IF(AND(J109=\"Operational\",G109=\"Biomass\"),VLOOKUP(AF109,'Capex by RE tech'!$C$2:$D$4,2,TRUE),IF(AND(J109=\"Operational\",G109=\"Geothermal\"),VLOOKUP(AF109,'Capex by RE tech'!$C$2:$D$4,2,TRUE),IF(AND(J109=\"Operational\",G109=\"Hydro\"),VLOOKUP(AF109,'Capex by RE tech'!$C$8:$D$10,2,TRUE),IF(AND(J109=\"Operational\",G109=\"Waste-to-Energy\"),VLOOKUP(AF109,'Capex by RE tech'!$C$14:$D$16,2,TRUE),IF(AND(J109=\"Operational\",AF109<2010),VLOOKUP(G109,'Capex by RE tech'!$A$2:$D$19,4,FALSE),NA))))))))","v":0.23},3190000,null,null,3190000,{"$f":"VLOOKUP(G109,'Capex by RE tech'!$A$2:$F$19,6,TRUE)","v":1450},null,0,2017,2017,"Operational since September 2017","2019-08-08","Confident"]
[1,null,"Cuba",null,"Ciego de Avlia, Ceballos",null,"Solar PV",1,"Utility/IPP","Operational",null,null,4400,null,null,8865.1200000000008,null,null,8865.1200000000008,0.23,"NA",null,{"$f":"IF(OR(J110=\"Under development\",J110=\"Planned\"),VLOOKUP(G110,'Capex by RE tech'!$A$4:$D$18,4,TRUE),IF(AND(J110=\"Operational\",G110=\"Solar PV\"),VLOOKUP(AF110,'Capex by RE tech'!$C$11:$D$13,2,TRUE),IF(AND(J110=\"Operational\",G110=\"Wind\"),VLOOKUP(AF110,'Capex by RE tech'!$C$17:$D$19,2,TRUE),IF(AND(J110=\"Operational\",G110=\"Biomass\"),VLOOKUP(AF110,'Capex by RE tech'!$C$2:$D$4,2,TRUE),IF(AND(J110=\"Operational\",G110=\"Geothermal\"),VLOOKUP(AF110,'Capex by RE tech'!$C$2:$D$4,2,TRUE),IF(AND(J110=\"Operational\",G110=\"Hydro\"),VLOOKUP(AF110,'Capex by RE tech'!$C$8:$D$10,2,TRUE),IF(AND(J110=\"Operational\",G110=\"Waste-to-Energy\"),VLOOKUP(AF110,'Capex by RE tech'!$C$14:$D$16,2,TRUE),IF(AND(J110=\"Operational\",AF110<2010),VLOOKUP(G110,'Capex by RE tech'!$A$2:$D$19,4,FALSE),NA))))))))","v":0.23},6380000,null,null,6380000,{"$f":"VLOOKUP(G110,'Capex by RE tech'!$A$2:$F$19,6,TRUE)","v":1450},null,0,2017,2017,"Operational since August 2017","2019-08-08","Confident"]
[1,null,"Cuba",null,"Chambras",null,"Solar PV",1,"Utility/IPP","Operational",null,null,5500,null,null,11081.4,null,null,11081.4,0.23,"NA",null,{"$f":"IF(OR(J111=\"Under development\",J111=\"Planned\"),VLOOKUP(G111,'Capex by RE tech'!$A$4:$D$18,4,TRUE),IF(AND(J111=\"Operational\",G111=\"Solar PV\"),VLOOKUP(AF111,'Capex by RE tech'!$C$11:$D$13,2,TRUE),IF(AND(J111=\"Operational\",G111=\"Wind\"),VLOOKUP(AF111,'Capex by RE tech'!$C$17:$D$19,2,TRUE),IF(AND(J111=\"Operational\",G111=\"Biomass\"),VLOOKUP(AF111,'Capex by RE tech'!$C$2:$D$4,2,TRUE),IF(AND(J111=\"Operational\",G111=\"Geothermal\"),VLOOKUP(AF111,'Capex by RE tech'!$C$2:$D$4,2,TRUE),IF(AND(J111=\"Operational\",G111=\"Hydro\"),VLOOKUP(AF111,'Capex by RE tech'!$C$8:$D$10,2,TRUE),IF(AND(J111=\"Operational\",G111=\"Waste-to-Energy\"),VLOOKUP(AF111,'Capex by RE tech'!$C$14:$D$16,2,TRUE),IF(AND(J111=\"Operational\",AF111<2010),VLOOKUP(G111,'Capex by RE tech'!$A$2:$D$19,4,FALSE),NA))))))))","v":0.23},7975000,null,null,7975000,{"$f":"VLOOKUP(G111,'Capex by RE tech'!$A$2:$F$19,6,TRUE)","v":1450},null,null,2018,2018,"Operational since March 2018","2019-08-08","Confident"]
[{"$f":"H112","v":15},null,"Cuba",null,null,null,"Solar PV",15,"Utility/IPP","Under development",null,null,42000,null,null,84621.6,null,null,84621.6,0.23,"NA",null,{"$f":"IF(OR(J112=\"Under development\",J112=\"Planned\"),VLOOKUP(G112,'Capex by RE tech'!$A$4:$D$18,4,TRUE),IF(AND(J112=\"Operational\",G112=\"Solar PV\"),VLOOKUP(AF112,'Capex by RE tech'!$C$11:$D$13,2,TRUE),IF(AND(J112=\"Operational\",G112=\"Wind\"),VLOOKUP(AF112,'Capex by RE tech'!$C$17:$D$19,2,TRUE),IF(AND(J112=\"Operational\",G112=\"Biomass\"),VLOOKUP(AF112,'Capex by RE tech'!$C$2:$D$4,2,TRUE),IF(AND(J112=\"Operational\",G112=\"Geothermal\"),VLOOKUP(AF112,'Capex by RE tech'!$C$2:$D$4,2,TRUE),IF(AND(J112=\"Operational\",G112=\"Hydro\"),VLOOKUP(AF112,'Capex by RE tech'!$C$8:$D$10,2,TRUE),IF(AND(J112=\"Operational\",G112=\"Waste-to-Energy\"),VLOOKUP(AF112,'Capex by RE tech'!$C$14:$D$16,2,TRUE),IF(AND(J112=\"Operational\",AF112<2010),VLOOKUP(G112,'Capex by RE tech'!$A$2:$D$19,4,FALSE),NA))))))))","v":0.23},60900000,null,null,60900000,{"$f":"VLOOKUP(G112,'Capex by RE tech'!$A$2:$F$19,6,TRUE)","v":1450},null,null,null,null,null,"2019-08-08","Confident"]
[13,null,"Cuba",null,null,null,"Wind",13,"Utility/IPP","Planned",null,null,688000,null,null,1898467.2,null,null,1898467.2,{"$f":"IF(AND(U113=\"NA\",ISBLANK(V113)),W113,IF(U113<>\"NA\",U113,IF(ISNUMBER(V113),V113,W113)))","v":0.315},"NA",null,{"$f":"IF(OR(J113=\"Under development\",J113=\"Planned\"),VLOOKUP(G113,'Capex by RE tech'!$A$4:$D$18,4,TRUE),IF(AND(J113=\"Operational\",G113=\"Solar PV\"),VLOOKUP(AF113,'Capex by RE tech'!$C$11:$D$13,2,TRUE),IF(AND(J113=\"Operational\",G113=\"Wind\"),VLOOKUP(AF113,'Capex by RE tech'!$C$17:$D$19,2,TRUE),IF(AND(J113=\"Operational\",G113=\"Biomass\"),VLOOKUP(AF113,'Capex by RE tech'!$C$2:$D$4,2,TRUE),IF(AND(J113=\"Operational\",G113=\"Geothermal\"),VLOOKUP(AF113,'Capex by RE tech'!$C$2:$D$4,2,TRUE),IF(AND(J113=\"Operational\",G113=\"Hydro\"),VLOOKUP(AF113,'Capex by RE tech'!$C$8:$D$10,2,TRUE),IF(AND(J113=\"Operational\",G113=\"Waste-to-Energy\"),VLOOKUP(AF113,'Capex by RE tech'!$C$14:$D$16,2,TRUE),IF(AND(J113=\"Operational\",AF113<2010),VLOOKUP(G113,'Capex by RE tech'!$A$2:$D$19,4,FALSE),NA))))))))","v":0.315},{"$f":" IF(ISNUMBER(Y113), Y113,IF(ISNUMBER(Z113),Z113,IF(ISNUMBER(AA113), AA113, \"NA\")))","v":1014800000},null,null,1014800000,{"$f":"VLOOKUP(G113,'Capex by RE tech'!$A$2:$F$19,6,TRUE)","v":1475},null,null,null,null,null,"2019-08-08","Confident"]
[null,null,"Cuba"]
[null,null,"Cuba","Jesus Rabi Sugar Mill","Matanzas",null,"Biomass",null,null,"Under development",null,null,20000,null,null,null,null,null,null,null,null,null,null,null,null,null,null,null,null,null,null,null,"Currently under construction"]
[null,null,"Cuba","Noviembre Sugar Mill","Artemisa",null,"Biomass",null,null,"Planned",null,null,50000,null,null,null,null,null,null,null,null,null,null,null,null,null,null,null,null,null,null,null,"Construction is expected to start end of 2020"]
[1,"P0291","Curaҫao",null,null,null,"Solar PV",1,"Utility/IPP","Planned",null,"Aqualectra",10000,null,null,17520,null,null,17520,0.2,"NA",null,0.2,14500000,null,null,14500000,{"$f":"VLOOKUP(G117,'Capex by RE tech'!$A$2:$F$19,6,TRUE)","v":1450},null,null,{"$f":"IF(ISNUMBER(AF117),AF117,IF(ISNUMBER(AG117),AG117,\"NA\"))","v":"NA"},null,"National Policy for Curacao, Pg. 76 ","2019-09-16","Confident"]
[1,"P0078","Curaҫao","Playa Kanoa Wind Farm","Playa Kanoa","NuCapital, Inc.","Wind",1,"Utility/IPP","Operational","NuCapital, Inc.","Aqualectra",15000,5,{"$f":"M118/N118","v":3000},65000,null,65000,65700,0.5,"NA",0.5,0.46,32727272.72727273,null,null,{"$f":" M118 * AB118","v":32727272.72727273},{"$f":" AB119","v":2181.818181818182},null,{"$f":"SUM(AC118:AC118)","v":0},2012,2012,"Confirmed in survey response from Aqualectra. Operational in 1999, purchased by NuCapital, Inc. in 2012 and repowered with five 3-MW turbines. ","2019-09-16","Confident"]
[1,"P0079","Curaҫao","Tera Kora Wind Farm (5X3MW)","Tera Kora","NuCapital, Inc.","Wind",1,"Utility/IPP","Operational","NuCapital, Inc.","Aqualectra",15000,5,{"$f":"M119/N119","v":3000},65000,null,65000,65700,0.5,{"$f":"IF(OR(ISBLANK(M119),ISBLANK(Q119)),\"NA\",(Q119*1000)/(M119*8760))","v":"NA"},0.5,null,32727272.72727273,null,null,{"$f":" M119 * AB119","v":32727272.72727273},{"$f":" AB120","v":2181.818181818182},null,0,2012,2012,"Confirmed in survey response from Aqualectra. Operational in 1999, purchased by NuCapital, Inc. in 2012 and repowered with five 3-MW turbines. ","2019-09-16","Confident"]
[1,"P0077","Curaҫao","Tera Kora Wind Farm (5X3.3MW)","Tera Kora","NuCuraҫao Windparken II B.V.","Wind",1,"Utility/IPP","Operational","NuCuraҫao Windparken II B.V.","Aqualectra",16500,5,{"$f":"M120/N120","v":3300},103000,null,103000,101178,0.7,"NA",0.7,0.46,36000000,null,36000000,27180250,{"$f":" IF(AND(ISNUMBER(M120), ISNUMBER(X120)),X120/M120,\"NA\")","v":2181.818181818182},null,0,2017,2017,"Confirmed in survey response from Aqualectra. Completed in August 2017","2019-09-16","Confident"]
[700,"P0080","Curaҫao",null,"Various",null,"Solar PV",700,"Distributed","Operational",null,null,8000,null,null,17800.32,null,null,17800.32,0.254,"NA",null,0.254,20624000,null,null,20624000,2578,null,0,"NA",null,"Part of net metering program, 8 MW of grid-connected solar systems by February 2014.","2017-08-03"]
[1,"P0081","Curaҫao",null,null,null,"Solar PV",1,"Distributed","Operational",null,null,734,null,null,1633.1793600000001,null,null,1633.1793600000001,0.254,"NA",null,0.254,1892252,null,null,1892252,2578,null,0,2013,2013,"Eco Energy installs 2669 panels  at Naval Base Parera in 2013.","2017-08-03"]
[1,"P0082","Curaҫao",null,null,null,"Solar PV",1,"Distributed","Operational",null,null,715,null,null,1590.9036000000001,null,null,1590.9036000000001,0.254,"NA",null,0.254,1843270,null,null,1843270,2578,null,0,2013,2013,"Eco Energy installs 2803 panels  at Central Bank in 2013.","2017-08-03"]
[1,"P0083","Dominica",null,"Roseau Valley","TBD","Geothermal",1,"Utility/IPP","Planned","TBD","Dominica Electricity Services Ltd. (DOMLEC)",100000,null,null,716860,null,null,716860,0.81833333333333336,"NA",null,0.81833333333333336,484700000,null,null,484700000,4847,null,0,"NA",null,"A small geothermal power plant with capacity of 7 MW will first (see P0269) be developed to produce at a domestic level, then a large power plant with capacity of up to 100 will be developed to export energy to other islands (Guadeloupe and Martinique). ","2019-10-09","Confident"]
[1,"P0085","Dominica",null,"Trafalgar Falls","Dominica Electricity Services Ltd. (DOMLEC)","Hydro",1,"Utility/IPP","Operational","Dominica Electricity Services Ltd. (DOMLEC)","Dominica Electricity Services Ltd. (DOMLEC)",3520,2,{"$f":"M125/N125","v":1760},26209.919999999998,null,null,26209.919999999998,0.85,"NA",null,0.85,10827520,null,null,10827520,3076,null,0,1991,1991,"Damaged by the hurricane Maria but operating","2018-07-18","Confident"]
[1,"P0086","Dominica",null,"Roseau River","Dominica Electricity Services Ltd. (DOMLEC)","Hydro",1,"Utility/IPP","Operational","Dominica Electricity Services Ltd. (DOMLEC)","Dominica Electricity Services Ltd. (DOMLEC)",1800,2,{"$f":"M126/N126","v":900},13402.8,null,null,13402.8,0.85,"NA",null,0.85,5536800,null,null,5536800,3076,null,0,1990,1990,"Hydro Power Plants – Padu power station suffered extensive damage to the turbine house and generating units.","2018-07-18","Confident"]
[1,"P0269","Dominica",null,"Roseau Valley",null,"Geothermal",1,"Utility/IPP","Planned",null,"Dominica Electricity Services Ltd. (DOMLEC)",7000,2,{"$f":"M127/N127","v":3500},50180.2,null,null,50180.2,0.81833333333333336,"NA",null,null,48000000,null,48000000,33929000,6857.1428571428569,null,null,null,null,"Secured $27 million in funding from the World Bank in March 2019. Testing on well began October 2019. Construction was set for 3Q 2019. As of August 2020, project was put on hold due to the fact the three bids received were much higher than the funding secured by the government.","2019-08-06","Confident"]
[1,"P0087","Dominica",null,"Laudat","Dominica Electricity Services Ltd. (DOMLEC)","Hydro",1,"Utility/IPP","Operational","Dominica Electricity Services Ltd. (DOMLEC)","Dominica Electricity Services Ltd. (DOMLEC)",1300,1,{"$f":"M128/N128","v":1300},9679.7999999999993,null,null,9679.7999999999993,{"$f":"IF(AND(U128=\"NA\",ISBLANK(V128)),W128,IF(U128<>\"NA\",U128,IF(ISNUMBER(V128),V128,W128)))","v":0.85},"NA",null,0.85,3998800,null,null,3998800,3076,null,{"$f":"SUM(AC128:AC128)","v":0},{"$f":"IF(ISNUMBER(AF128),AF128,IF(ISNUMBER(AG128),AG128,\"NA\"))","v":1967},1967,null,"2018-07-18","Confident"]
[1,"P0088","Dominica",null,null,null,"Solar PV",1,"Distributed","Operational",null,null,225,null,null,500.63400000000001,null,null,500.63400000000001,{"$f":"IF(AND(U129=\"NA\",ISBLANK(V129)),W129,IF(U129<>\"NA\",U129,IF(ISNUMBER(V129),V129,W129)))","v":0.254},"NA",null,0.254,580050,null,null,580050,2578,null,{"$f":"SUM(AC129:AC129)","v":0},2014,2014,"Eco Resort in Dominica got closed after hurricane","2018-08-06"]
[1,"P0089","Dominica",null,null,null,"Wind",1,"Distributed","Operational",null,null,225,null,null,906.66,null,null,906.66,{"$f":"IF(AND(U130=\"NA\",ISBLANK(V130)),W130,IF(U130<>\"NA\",U130,IF(ISNUMBER(V130),V130,W130)))","v":0.46},"NA",null,0.46,354525,null,null,354525,1575.6666666666667,null,{"$f":"SUM(AC130:AC130)","v":0},2014,2014,"Additional 1-kW turbine operational, but not connected to the grid.","2017-08-03"]
[1,"P0299","Dominica",null,null,null,"Solar PV",1,"Distributed","Planned",null,null,null,null,null,0,null,null,0,0.2,"NA",null,{"$f":"IF(OR(J131=\"Under development\",J131=\"Planned\"),VLOOKUP(G131,'Capex by RE tech'!$A$4:$D$18,4,TRUE),IF(AND(J131=\"Operational\",G131=\"Solar PV\"),VLOOKUP(AF131,'Capex by RE tech'!$C$11:$D$13,2,TRUE),IF(AND(J131=\"Operational\",G131=\"Wind\"),VLOOKUP(AF131,'Capex by RE tech'!$C$17:$D$19,2,TRUE),IF(AND(J131=\"Operational\",G131=\"Biomass\"),VLOOKUP(AF131,'Capex by RE tech'!$C$2:$D$4,2,TRUE),IF(AND(J131=\"Operational\",G131=\"Geothermal\"),VLOOKUP(AF131,'Capex by RE tech'!$C$2:$D$4,2,TRUE),IF(AND(J131=\"Operational\",G131=\"Hydro\"),VLOOKUP(AF131,'Capex by RE tech'!$C$8:$D$10,2,TRUE),IF(AND(J131=\"Operational\",G131=\"Waste-to-Energy\"),VLOOKUP(AF131,'Capex by RE tech'!$C$14:$D$16,2,TRUE),IF(AND(J131=\"Operational\",AF131<2010),VLOOKUP(G131,'Capex by RE tech'!$A$2:$D$19,4,FALSE),NA))))))))","v":0.23},6000000,null,6000000,null,"NA",null,null,"NA",null,"Incorporation of 4 Renewable  Distributed Generation Systems with Storm resilient Solar PV (6 Million US$). The country's Low Carbon Development Path project conducted site assessments for solar PV projects in November 2019.","2018-09-19","Confident"]
[1,"P0300","Dominica",null,null,null,"Solar PV",1,"Utility/IPP","Planned",null,null,null,null,null,0,null,null,0,0.2,"NA",null,{"$f":"IF(OR(J132=\"Under development\",J132=\"Planned\"),VLOOKUP(G132,'Capex by RE tech'!$A$4:$D$18,4,TRUE),IF(AND(J132=\"Operational\",G132=\"Solar PV\"),VLOOKUP(AF132,'Capex by RE tech'!$C$11:$D$13,2,TRUE),IF(AND(J132=\"Operational\",G132=\"Wind\"),VLOOKUP(AF132,'Capex by RE tech'!$C$17:$D$19,2,TRUE),IF(AND(J132=\"Operational\",G132=\"Biomass\"),VLOOKUP(AF132,'Capex by RE tech'!$C$2:$D$4,2,TRUE),IF(AND(J132=\"Operational\",G132=\"Geothermal\"),VLOOKUP(AF132,'Capex by RE tech'!$C$2:$D$4,2,TRUE),IF(AND(J132=\"Operational\",G132=\"Hydro\"),VLOOKUP(AF132,'Capex by RE tech'!$C$8:$D$10,2,TRUE),IF(AND(J132=\"Operational\",G132=\"Waste-to-Energy\"),VLOOKUP(AF132,'Capex by RE tech'!$C$14:$D$16,2,TRUE),IF(AND(J132=\"Operational\",AF132<2010),VLOOKUP(G132,'Capex by RE tech'!$A$2:$D$19,4,FALSE),NA))))))))","v":0.23},2400000,null,2400000,null,"NA",null,null,"NA",null,"Microgrid for airport and Castle Bruce Area (2.4 Million US$) ","2018-09-19","Not confident"]
[1,"P0301","Dominica",null,null,null,"Solar PV",1,"Utility/IPP","Operational",null,null,3000,null,null,5256,null,null,5256,{"$f":"IF(AND(U133=\"NA\",ISBLANK(V133)),W133,IF(U133<>\"NA\",U133,IF(ISNUMBER(V133),V133,W133)))","v":0.2},"NA",null,0.2,8000000,null,8000000,null,2666.6666666666665,null,null,2018,2018,"Large Scale Solar PV3 1MW Solar Installed during 2018/19, resilient to withstand cat 4 and 5 / Cost 8 M US$","2018-09-19","Confident"]
[1,"P0302","Dominica",null,null,null,"Solar PV",1,"Distributed","Planned",null,null,null,null,null,0,null,null,0,0.23,"NA",null,{"$f":"IF(OR(J134=\"Under development\",J134=\"Planned\"),VLOOKUP(G134,'Capex by RE tech'!$A$4:$D$18,4,TRUE),IF(AND(J134=\"Operational\",G134=\"Solar PV\"),VLOOKUP(AF134,'Capex by RE tech'!$C$11:$D$13,2,TRUE),IF(AND(J134=\"Operational\",G134=\"Wind\"),VLOOKUP(AF134,'Capex by RE tech'!$C$17:$D$19,2,TRUE),IF(AND(J134=\"Operational\",G134=\"Biomass\"),VLOOKUP(AF134,'Capex by RE tech'!$C$2:$D$4,2,TRUE),IF(AND(J134=\"Operational\",G134=\"Geothermal\"),VLOOKUP(AF134,'Capex by RE tech'!$C$2:$D$4,2,TRUE),IF(AND(J134=\"Operational\",G134=\"Hydro\"),VLOOKUP(AF134,'Capex by RE tech'!$C$8:$D$10,2,TRUE),IF(AND(J134=\"Operational\",G134=\"Waste-to-Energy\"),VLOOKUP(AF134,'Capex by RE tech'!$C$14:$D$16,2,TRUE),IF(AND(J134=\"Operational\",AF134<2010),VLOOKUP(G134,'Capex by RE tech'!$A$2:$D$19,4,FALSE),NA))))))))","v":0.23},5000000,null,5000000,null,"NA",null,null,"NA",null,"Aggregated Battery Storage of 15MWh for Commercial and Home","2018-09-19","Confident"]
[10,"P0090","Dominica",null,null,null,"Solar PV",10,"Distributed","Operational",null,null,195.7,null,null,{"$f":"IF(ISNUMBER(Q135),Q135,IF(ISNUMBER(R135),R135, IF(ISNUMBER(S135), S135,\"NA\")))","v":435.44032799999997},null,null,{"$f":" (M135 * 8760 * T135)/1000","v":435.44032799999997},0.254,"NA",null,0.254,{"$f":" IF(ISNUMBER(Y135), Y135,IF(ISNUMBER(Z135),Z135,IF(ISNUMBER(AA135), AA135, \"NA\")))","v":504514.6},null,null,504514.6,2578,null,{"$f":"SUM(AC135:AC135)","v":0},"NA",null,null,"2017-08-03"]
[1,"P0091","Dominica",null,null,null,"Wind",1,"Distributed","Operational",null,null,1.5,null,null,6.0444000000000004,null,null,6.0444000000000004,0.46,"NA",null,0.46,2363.5,null,null,2363.5,1575.6666666666667,null,{"$f":"SUM(AC136:AC136)","v":0},2003,2003,"Lodge is powered by completely clean energy (extra 800 watts of solar).","2017-08-03"]
[1,"P0292","Dominican Republic","Parque Eolico Tierra Nueva",null,"EGEHID","Wind",1,"Utility/IPP","Planned","EGEHID","Corporación Dominicana de Empresas Eléctricas Estatales",50000,null,null,116000,null,{"$f":" 116000","v":116000},116000,0.26484018264840181,"NA",{"$f":" R137 * 1000/(M137 * 8760)","v":0.26484018264840181},null,144450000,null,null,{"$f":" AB146 * M137","v":144450000},2889,null,null,null,null,"CDEEE Strategic Plan 2017-2020","2019-09-16","Confident"]
[1,"P0293","Dominican Republic","Proyecto Hidroeléctrico La Diferencia",null,"Generacion Hidroelectirca Dominicana","Hydro",1,"Utility/IPP","Planned","Generacion Hidroelectirca Dominicana","Corporación Dominicana de Empresas Eléctricas Estatales",11000,null,null,30400,null,30400,30400,0.31548360315483603,"NA",{"$f":" R138 * 1000/(M138 * 8760)","v":0.31548360315483603},null,30943000,null,null,{"$f":"AB138*M138","v":30943000},{"$f":"VLOOKUP(G138,'Capex by RE tech'!$A$2:$F$19,6,TRUE)","v":2813},null,null,null,null,"CDEEE Strategic Plan 2017-2020","2019-09-16","Confident"]
[1,"P0294","Dominican Republic","Proyecto Hidroeléctrico Expansión Hatillo",null,"Generacion Hidroelectirca Dominicana","Hydro",1,"Utility/IPP","Under development","Generacion Hidroelectirca Dominicana","Corporación Dominicana de Empresas Eléctricas Estatales",10700,null,null,70350,null,{"$f":" 70.35 * 1000","v":70350},70350,0.75054410446805786,"NA",{"$f":" R139 * 1000/(M139 * 8760)","v":0.75054410446805786},null,30099100,null,null,{"$f":"AB139*M139","v":30099100},{"$f":"VLOOKUP(G139,'Capex by RE tech'!$A$2:$F$19,6,TRUE)","v":2813},null,null,null,null,"CDEEE Strategic Plan 2017-2020. SIE also accepted a request from state hydroelectric generator Egehid for an additional provisional interconnection permit to test a 10.76MW expansion of the 8MW Hatillo plant. The extension expires June 10. (https://www.bnamericas.com/en/news/dominican-republic-generation-projects-secure-testing-extensions)","2019-09-16","Confident"]
[null,null,"Dominican Republic","Proyecto Hidroelectrico Artibonito","Pedro Santana, Elias Pina",null,"Hydro",1,"Utility/IPP","Planned","EGEHID",null,50000,null,null,130000,null,130000,177828,0.40600000000000003,"NA",null,{"$f":"IF(OR(J140=\"Under development\",J140=\"Planned\"),VLOOKUP(G140,'Capex by RE tech'!$A$4:$D$18,4,TRUE),IF(AND(J140=\"Operational\",G140=\"Solar PV\"),VLOOKUP(AF140,'Capex by RE tech'!$C$11:$D$13,2,TRUE),IF(AND(J140=\"Operational\",G140=\"Wind\"),VLOOKUP(AF140,'Capex by RE tech'!$C$17:$D$19,2,TRUE),IF(AND(J140=\"Operational\",G140=\"Biomass\"),VLOOKUP(AF140,'Capex by RE tech'!$C$2:$D$4,2,TRUE),IF(AND(J140=\"Operational\",G140=\"Geothermal\"),VLOOKUP(AF140,'Capex by RE tech'!$C$2:$D$4,2,TRUE),IF(AND(J140=\"Operational\",G140=\"Hydro\"),VLOOKUP(AF140,'Capex by RE tech'!$C$8:$D$10,2,TRUE),IF(AND(J140=\"Operational\",G140=\"Waste-to-Energy\"),VLOOKUP(AF140,'Capex by RE tech'!$C$14:$D$16,2,TRUE),IF(AND(J140=\"Operational\",AF140<2010),VLOOKUP(G140,'Capex by RE tech'!$A$2:$D$19,4,FALSE),NA))))))))","v":0.40600000000000003},140650000,null,null,{"$f":"AB140*M140","v":140650000},{"$f":"VLOOKUP(G140,'Capex by RE tech'!$A$2:$F$19,6,TRUE)","v":2813},null,null,null,null,"CDEEE Strategic Plan 2017-2020. Site was visited by engineer corps in September 2020 for assessment. Studies will last up to ten months and construction another 4 years.","2019-09-16","Confident"]
[{"$f":"H141","v":26},"P0092","Dominican Republic",null,null,"Various","Hydro",26,"Utility/IPP","Operational","Various","Various",613000,null,null,231263.84232120006,null,231263.84232120006,4564398,0.85,{"$f":"IF(OR(ISBLANK(M141),ISBLANK(Q141)),\"NA\",(Q141*1000)/(M141*8760))","v":"NA"},null,0.85,1885588000,null,null,1885588000,{"$f":" IF(AND(ISNUMBER(M141), ISNUMBER(X141)),X141/M141,\"NA\")","v":3076},null,{"$f":"SUM(AC141:AC141)","v":0},{"$f":"IF(ISNUMBER(AF141),AF141,IF(ISNUMBER(AG141),AG141,\"NA\"))","v":"NA"},null,null,"2018-07-18","Confident"]
[1,"P0096","Dominican Republic","Parque Montecristi Solar Phase I","Monte Cristi Province","Montecristi Solar FV SAS (F&S Solar)","Solar PV",1,"Utility/IPP","Operational","Montecristi Solar FV SAS (F&S Solar)","Corporación Dominicana de Empresas Eléctricas Estatales",57960,null,null,90122,null,90122,90122,0.17749999212179082,"NA",{"$f":" R142 * 1000/(M142 * 8760)","v":0.17749999212179082},0.254,100000000,null,100000000,149420880,1725.327812284334,null,0,2018,2018,"CDEEE Strategic Plan 2017-2020 pg. 37. Will add additional another 58 MW of capacity in Phase II","2019-09-16","Confident"]
[0,null,"Dominican Republic","Parque Montecristi Solar Phase II","Monte Cristi Province","F&S Solar","Solar PV",null,"Utility/IPP","Under development","F&S Solar","Corporación Dominicana de Empresas Eléctricas Estatales",57960,null,null,116777.808,null,null,116777.808,0.23,"NA",null,{"$f":"IF(OR(J143=\"Under development\",J143=\"Planned\"),VLOOKUP(G143,'Capex by RE tech'!$A$4:$D$18,4,TRUE),IF(AND(J143=\"Operational\",G143=\"Solar PV\"),VLOOKUP(AF143,'Capex by RE tech'!$C$11:$D$13,2,TRUE),IF(AND(J143=\"Operational\",G143=\"Wind\"),VLOOKUP(AF143,'Capex by RE tech'!$C$17:$D$19,2,TRUE),IF(AND(J143=\"Operational\",G143=\"Biomass\"),VLOOKUP(AF143,'Capex by RE tech'!$C$2:$D$4,2,TRUE),IF(AND(J143=\"Operational\",G143=\"Geothermal\"),VLOOKUP(AF143,'Capex by RE tech'!$C$2:$D$4,2,TRUE),IF(AND(J143=\"Operational\",G143=\"Hydro\"),VLOOKUP(AF143,'Capex by RE tech'!$C$8:$D$10,2,TRUE),IF(AND(J143=\"Operational\",G143=\"Waste-to-Energy\"),VLOOKUP(AF143,'Capex by RE tech'!$C$14:$D$16,2,TRUE),IF(AND(J143=\"Operational\",AF143<2010),VLOOKUP(G143,'Capex by RE tech'!$A$2:$D$19,4,FALSE),NA))))))))","v":0.23},150000000,null,150000000,null,2587.9917184265009,null,0,"NA",null,"Provisional CNE concession","2019-08-06","Confident"]
[1,"P0097","Dominican Republic","Parque Fotovoltaico WCG","Mata de Palma, San Antonio de Guerra","WCG Energy Ltd.","Solar PV",1,"Utility/IPP","Under development","WCG Energy Ltd.","Corporación Dominicana de Empresas Eléctricas Estatales",50000,null,null,110000,null,110000,110000,0.25114155251141551,"NA",0.25114155251141551,0.254,78000000,null,78000000,128900000,1560,null,0,"NA",null,"CDEEE Strategic Plan 2017-2020 pg. 37. Broke ground February 2019. Developed by WCG Energy LTD. One of eight renewable energy projects announced by the Dominican Corporation of State Electric Companies in April 2017, projects will add a combined capacity of 361.2 MW by 2018.","2019-08-12","Confident"]
[1,"P0098","Dominican Republic","Parque Éolico Agua Clara","Monte Cristi Province","IC Power DR Operations, S.A.S","Wind",1,"Utility/IPP","Operational","IC Power DR Operations, S.A.S","Corporación Dominicana de Empresas Eléctricas Estatales",50000,null,null,170000,null,170000,170000,0.38812785388127852,"NA",0.38812785388127852,0.46,90000000,null,90000000,78783333.333333343,1800,null,0,2019,2019,"CDEEE Strategic Plan 2017-2020 pg. 37. Began operations April 2019. Developed by ICC Power DR Operations. One of eight renewable energy projects announced by the Dominican Corporation of State Electric Companies in April 2017, projects will add a combined capacity of 361.2 MW by 2018.","2019-08-06","Confident"]
[1,"P0099","Dominican Republic","Parque Éolico Guanillo","Monte Cristi Province","Parques Eolicos del Caribe (PECASA S.A.)","Wind",1,"Utility/IPP","Operational","Parques Eolicos del Caribe (PECASA S.A.)","Corporación Dominicana de Empresas Eléctricas Estatales",50000,null,null,144540,null,144540,144540,0.33,"NA",0.33,0.46,144450000,null,144450000,78783333.333333343,2889,null,0,"NA",null,"CDEEE Strategic Plan 2017-2020 pg. 37. Inaugurated June 2019. Developed by Parques Eolicos del Caribe (PECASA S.A.). One of eight renewable energy projects announced by the Dominican Corporation of State Electric Companies in April 2017, projects will add a combined capacity of 361.2 MW by 2018. PPA : 115 USD","2019-09-16","Confident"]
[1,"P0101","Dominican Republic","Parque Éolico Puerto Plata-Imbert","Puerto Plata","Jasper Caribbean Wind Power LLC","Wind",1,"Utility/IPP","Under development","Jasper Caribbean Wind Power LLC","Corporación Dominicana de Empresas Eléctricas Estatales",46000,8,{"$f":"M147/N147","v":5750},132976,null,132976,132976,0.32999801469128448,"NA",0.32999801469128448,0.46,100800000,null,100800000,72480666.666666672,2191.304347826087,null,0,"NA",null,"CDEEE Strategic Plan 2017-2020 pg. 37. Set to be completed 2020. This would be the first of three phases bringing on a total of 115MW. Alberto:Developed by Jasper Caribbean Wind Power LLC. One of eight renewable energy projects announced by the Dominican Corporation of State Electric Companies in April 2017, projects will add a combined capacity of 361.2 MW by 2018.","2019-08-06","Confident"]
[0,null,"Dominican Republic","Parque Eolico Puerto Plata-Imbert Phase II & III","Puerto Plata","Jasper Caribbean Wind Power LLC","Wind",null,"Utility/IPP","Under development","Jasper Caribbean Wind Power LLC","Corporación Dominicana de Empresas Eléctricas Estatales",69000,null,null,0,null,null,0,0,"NA",0,{"$f":"IF(OR(J148=\"Under development\",J148=\"Planned\"),VLOOKUP(G148,'Capex by RE tech'!$A$4:$D$18,4,TRUE),IF(AND(J148=\"Operational\",G148=\"Solar PV\"),VLOOKUP(AF148,'Capex by RE tech'!$C$11:$D$13,2,TRUE),IF(AND(J148=\"Operational\",G148=\"Wind\"),VLOOKUP(AF148,'Capex by RE tech'!$C$17:$D$19,2,TRUE),IF(AND(J148=\"Operational\",G148=\"Biomass\"),VLOOKUP(AF148,'Capex by RE tech'!$C$2:$D$4,2,TRUE),IF(AND(J148=\"Operational\",G148=\"Geothermal\"),VLOOKUP(AF148,'Capex by RE tech'!$C$2:$D$4,2,TRUE),IF(AND(J148=\"Operational\",G148=\"Hydro\"),VLOOKUP(AF148,'Capex by RE tech'!$C$8:$D$10,2,TRUE),IF(AND(J148=\"Operational\",G148=\"Waste-to-Energy\"),VLOOKUP(AF148,'Capex by RE tech'!$C$14:$D$16,2,TRUE),IF(AND(J148=\"Operational\",AF148<2010),VLOOKUP(G148,'Capex by RE tech'!$A$2:$D$19,4,FALSE),NA))))))))","v":0.315},140000000,null,140000000,null,2028.9855072463768,null,0,"NA",null,null,"2019-08-06"]
[1,"P0102","Dominican Republic","Parque Éolico Los Guzmancito","Villa Vázquez","Poseidon Renewable Energy","Wind",1,"Utility/IPP","Operational","Poseidon Renewable Energy","Corporación Dominicana de Empresas Eléctricas Estatales",{"$f":"N149*O149","v":57600},16,3600,139625,null,139625,139625,0.27671748160832066,"NA",0.27671748160832066,0.46,139625600,null,139625600,76104700,2424.0555555555557,null,0,43800,"2019-12-01","CDEEE Strategic Plan 2017-2020 pg. 37. Operational as of December 2019.","2019-08-06","Confident"]
[1,"P0103","Dominican Republic","Parque Monte Plata Solar I","Monte Plata Province","Phanes Group, General Energy Solutions, and Soventix ","Solar PV",1,"Utility/IPP","Operational","Phanes Group, General Energy Solutions, and Soventix ","Corporación Dominicana de Empresas Eléctricas Estatales",33400,null,null,50000,null,50000,50000.000000000007,0.17089109452328222,"NA",0.17089109452328222,0.254,60000000,null,60000000,86105200,1796.4071856287426,null,0,2016,2016,"CDEEE Strategic Plan 2017-2020 pg. 37. Got financing in April 2018","2019-08-07","Confident"]
[1,"P0104","Dominican Republic","Parque Éolico Matafongo","Baní","Grupo Eolico Dominicano, SA (GEDEOM)","Wind",1,"Utility/IPP","Operational","Grupo Eolico Dominicano, SA (GEDEOM)","Corporación Dominicana de Empresas Eléctricas Estatales",34000,null,null,98287,null,98287,98287,0.3299993284985227,"NA",0.3299993284985227,0.46,98287200,null,98287200,53572666.666666672,2890.8,null,0,2019,2019,"CDEEE Strategic Plan 2017-2020 pg. 37. Became operational September 2019.  Developed by Grupo Eolico Dominicano, SA (GEDEOM). One of eight renewable energy projects announced by the Dominican Corporation of State Electric Companies in April 2017, projects will add a combined capacity of 361.2 MW by 2018.","2019-08-06","Confident"]
[0,"P0105","Dominican Republic","Parque Monte Plata Solar II","Monte Plata Province","General Energy Solutions and Phanes Group","Solar PV",null,"Utility/IPP","Under development","General Energy Solutions and Phanes Group","Corporación Dominicana de Empresas Eléctricas Estatales",30000,null,null,46647,null,46647,46647,0.17749999999999999,"NA",0.17749999999999999,0.254,55000000,null,55000000,77340000,1833.3333333333333,null,0,"NA",null,"CDEEE Strategic Plan 2017-2020 pg. 37.. First phase completed/inaugurated 2016. Second phase underway - altogether the park will total 68-69MW. Previous: Expansion to bring it to From 2007 - 2013, over 60 customers connected to the RE Interconnection Programme to generate 352.97 kW. After achieving full subscription, GRENLEC has increased the cap to 500 kW in the second phase of the project.","2019-08-07","Confident"]
[1,"P0106","Dominican Republic","Central de Biomasa San Pedro BioEnergy","San Pedro de Macoris","Grupo Inicia","Biomass",1,"Utility/IPP","Operational","Grupo Inicia","Corporación Dominicana de Empresas Eléctricas Estatales",30000,null,null,236520,null,236520,236520,0.9,"NA",0.9,0.69633333333333336,90000000,null,90000000,106850000,3000,null,0,2015,2015,"CDEEE Strategic Plan 2017-2020 pg. 37. ","2018-07-18","Confident"]
[1,"P0108","Dominican Republic","Parque Solar Canoa","Barahona Province","Emerald Solar Energy","Solar PV",1,"Utility/IPP","Operational","Emerald Solar Energy","Corporación Dominicana de Empresas Eléctricas Estatales",25000,null,null,38872.5,null,38872.5,38872.5,0.17749999999999999,"NA",0.17749999999999999,0.254,41200000,null,41200000,64450000,1648,null,0,2020,2020,"CDEEE Strategic Plan 2017-2020 pg. 37.  Operational as of January 2020. Developed by Emerald Solar Energy. One of eight renewable energy projects announced by the Dominican Corporation of State Electric Companies in April 2017","2019-08-06","Confident"]
[1,"P0111","Dominican Republic","Parque Quisqueya Solar Fotovoltaico",null,"EGE Haina","Solar PV",1,"Utility/IPP","Operational",null,null,1500,null,null,2332.35,null,null,2332.35,0.17749999999999999,"NA",null,{"$f":" V154","v":0.17749999999999999},3200000,null,3200000,3867000,2133.3333333333335,null,0,"NA",null,"Located next to Quisqueya II fuel plant.","2018-07-18","Confident"]
[1,"P0295","Dominican Republic","Quilvio Cabrera",null,"CEPM","Wind",1,"Utility/IPP","Operational","CEPM","Corporación Dominicana de Empresas Eléctricas Estatales",8250,null,null,33244.199999999997,null,null,33244.199999999997,0.46,"NA",null,0.46,275000000,null,{"$f":" 100000000 * M156/(M$132+M$133)","v":275000000},12999250,33333.333333333336,null,null,2011,2011,"CDEEE Strategic Plan 2017-2020 pg. 37. ","2019-09-16","Confident"]
[1,"P0093","Dominican Republic","Los Cocos I","Pedernales","EGE Haina","Wind",1,"Utility/IPP","Operational","Empresa Generadora de Electridicad Haina (EGE Haina)","Empresas Distribuidoras de Electricidad (EdeSur, EdeEste, EdeNorte)",25200,14,{"$f":"M157/N157","v":1800},3311950.4333948744,null,{"$f":" 420000 * M157/SUM($M$133:$M$135)","v":3311950.4333948744},101545.92,0.46,"NA",null,0.46,840000000,null,{"$f":" 100000000 * M157/(M$132+M$133)","v":840000000},39391666.666666672,33333.333333333336,null,{"$f":"SUM(AC157:AC157)","v":0},2011,2011,"CDEEE Strategic Plan 2017-2020 pg. 37. ","2019-09-16","Confident"]
[1,"P0094","Dominican Republic","Los Cocos II","Pedernales","EGE Haina","Wind",1,"Utility/IPP","Operational","Empresa Generadora de Electricidad Haina (EGE Haina)","Empresas Distribuidoras de Electricidad (EdeSur, EdeEste, EdeNorte)",52000,null,null,6834183.4339894233,null,{"$f":" 420000 * M158/SUM($M$133:$M$135)","v":6834183.4339894233},209539.20000000001,0.46,"NA",null,0.46,1733333333.3333335,null,null,{"$f":" M158 * AB157","v":1733333333.3333335},33333.333333333336,null,{"$f":"SUM(AC158:AC158)","v":0},2013,2013," CDEEE Strategic Plan 2017-2020 pg. 37. An additional 52MW in installed capacity entered operation in January 2013, which increased generation at the site to about 220,000MWh.","2019-09-16","Confident"]
[1,"P0100","Dominican Republic","Larimar I","Larimar","EGE Haina","Wind",1,"Utility/IPP","Operational","Empresa Generadora de Electridicad Haina (EGE Haina)","Corporación Dominicana de Empresas Eléctricas Estatales",49500,null,null,6505616.9227399323,null,{"$f":" 420000 * M159/SUM($M$133:$M$135)","v":6505616.9227399323},199465.2,0.46,"NA",null,0.46,120000000,120000000,null,77995500,2424.242424242424,null,{"$f":"SUM(AC159:AC159)","v":0},2016,2016,"CDEEE Strategic Plan 2017-2020 pg. 37. ","2019-09-16","Confident"]
[660,"P0109","Dominican Republic",null,null,null,"Solar PV",660,"Distributed","Operational",null,null,15477,null,null,34436.944080000001,null,null,34436.944080000001,0.254,"NA",null,0.254,39899706,null,null,39899706,2578,null,{"$f":"SUM(AC160:AC160)","v":0},"NA",null,"Aggregate sum of various local projects in different regions of the Dominican Republican.","2017-08-03"]
[1,"P0110","Dominican Republic",null,null,"Banco Popular Dominicano","Solar PV",1,"Distributed","Operational","Banco Popular Dominicano","Banco Popular Dominicano",1900,null,null,4227.576,null,null,4227.576,0.254,"NA",null,0.254,4898200,null,null,4898200,2578,null,{"$f":"SUM(AC161:AC161)","v":0},"NA",null,"40 of the bank's office utilize solar pv energy, and bank plans to add 32 offices (1.9 MW to 3.4 MW).","2017-08-03"]
[1,"P0270","Dominican Republic","Larimar II","Larimar","EGE Haina","Wind",1,"Utility/IPP","Operational","Empresa Generadora de Electridicad Haina (EGE Haina)","Corporación Dominicana de Empresas Eléctricas Estatales",48300,null,null,169243.2,null,169243.2,194629.68,0.46,"NA",null,0.46,117090909.09090908,null,null,{"$f":" AB159 * M162","v":117090909.09090908},2424.242424242424,null,null,2018,2018,"CDEEE Strategic Plan 2017-2020 pg. 37. ","2019-09-16","Confident"]
[1,"P0112","Dominican Republic",null,"Santiago de los Caballeros","Trace Solar RL ","Solar PV",1,"Distributed","Operational","Trace Solar RL ","Empresas Distribuidoras de Electricidad (EdeSur, EdeEste, EdeNorte)",1500,5880,{"$f":"M163/N163","v":0.25510204081632654},3337.56,null,null,3337.56,0.254,"NA",null,0.254,3867000,null,null,3867000,2578,null,{"$f":"SUM(AC163:AC163)","v":0},2013,2013,null,"2017-08-03"]
[1,"P0113","Dominican Republic",null,"Santiago de los Caballeros","CEMEX and Empresa Generadora de Electridicad Haina (EGE Haina)\n","Solar PV",1,"Distributed","Operational","CEMEX and Empresa Generadora de Electridicad Haina (EGE Haina)\n",null,1500,5040,{"$f":"M164/N164","v":0.29761904761904762},3337.56,null,null,3337.56,0.254,"NA",null,0.254,3867000,null,null,3867000,2578,null,0,2016,2016,null,"2017-08-03"]
[1,"P0114","Dominican Republic",null,null,null,"Biomass",1,"Distributed","Operational",null,null,200,null,null,157.68,null,null,157.68,{"$f":"IF(AND(U165=\"NA\",ISBLANK(V165)),W165,IF(U165<>\"NA\",U165,IF(ISNUMBER(V165),V165,W165)))","v":0.09},"NA",0.09,0.69633333333333336,712333.33333333326,null,null,712333.33333333326,3561.6666666666661,null,0,"NA",null,null,"2017-08-03"]
[1,"P0115","Dominican Republic",null,null,null,"Solar PV",1,"Distributed","Operational",null,null,72,null,null,160.20287999999999,null,null,160.20287999999999,0.254,"NA",null,0.254,185616,null,null,185616,2578,null,0,"NA",null,"Grid-connected solar array at solar developer's headquarters. ","2017-08-03"]
[1,"P0116","Dominican Republic",null,null,null,"Wind",1,"Distributed","Operational",null,null,70,null,null,282.072,null,null,282.072,0.46,"NA",null,0.46,110296.66666666667,null,null,110296.66666666667,1575.6666666666667,null,0,"NA",null,"Provides energy to about 1,160 families in the area. ","2017-08-03"]
[1,"P0117","Dominican Republic",null,null,null,"Wind",1,"Distributed","Operational",null,null,50,null,null,201.48,null,null,201.48,0.46,"NA",null,0.46,78783.333333333343,null,null,78783.333333333343,1575.666666666667,null,0,"NA",null,null,"2017-08-03"]
[1,null,"Dominican Republic","Villarpando Solar Park","Villarpando, Azua","Natural World Energy Corporation (NWEC)","Solar PV",1,"Utility/IPP","Planned","Natural World Energy Corporation (NWEC)","Empresas Distribuidoras de Electricidad (EdeSur, EdeEste, EdeNorte)",100000,null,null,201480,null,null,201480,0.23,"NA",null,{"$f":"IF(OR(J169=\"Under development\",J169=\"Planned\"),VLOOKUP(G169,'Capex by RE tech'!$A$4:$D$18,4,TRUE),IF(AND(J169=\"Operational\",G169=\"Solar PV\"),VLOOKUP(AF169,'Capex by RE tech'!$C$11:$D$13,2,TRUE),IF(AND(J169=\"Operational\",G169=\"Wind\"),VLOOKUP(AF169,'Capex by RE tech'!$C$17:$D$19,2,TRUE),IF(AND(J169=\"Operational\",G169=\"Biomass\"),VLOOKUP(AF169,'Capex by RE tech'!$C$2:$D$4,2,TRUE),IF(AND(J169=\"Operational\",G169=\"Geothermal\"),VLOOKUP(AF169,'Capex by RE tech'!$C$2:$D$4,2,TRUE),IF(AND(J169=\"Operational\",G169=\"Hydro\"),VLOOKUP(AF169,'Capex by RE tech'!$C$8:$D$10,2,TRUE),IF(AND(J169=\"Operational\",G169=\"Waste-to-Energy\"),VLOOKUP(AF169,'Capex by RE tech'!$C$14:$D$16,2,TRUE),IF(AND(J169=\"Operational\",AF169<2010),VLOOKUP(G169,'Capex by RE tech'!$A$2:$D$19,4,FALSE),NA))))))))","v":0.23},110000000,null,110000000,null,1100,null,0,"NA",null,"Approved by regulator in June 2019","2019-08-07","Confident"]
[1,null,"Dominican Republic","Proyecto Energy Solar del Este Cabreto I","Santo Domingo","Energy Solar del Este Cabreto I","Solar PV",1,"Utility/IPP","Planned","Energy Solar del Este Cabreto I",null,55400,null,null,111619.92,null,null,111619.92,0.23,"NA",null,{"$f":"IF(OR(J170=\"Under development\",J170=\"Planned\"),VLOOKUP(G170,'Capex by RE tech'!$A$4:$D$18,4,TRUE),IF(AND(J170=\"Operational\",G170=\"Solar PV\"),VLOOKUP(AF170,'Capex by RE tech'!$C$11:$D$13,2,TRUE),IF(AND(J170=\"Operational\",G170=\"Wind\"),VLOOKUP(AF170,'Capex by RE tech'!$C$17:$D$19,2,TRUE),IF(AND(J170=\"Operational\",G170=\"Biomass\"),VLOOKUP(AF170,'Capex by RE tech'!$C$2:$D$4,2,TRUE),IF(AND(J170=\"Operational\",G170=\"Geothermal\"),VLOOKUP(AF170,'Capex by RE tech'!$C$2:$D$4,2,TRUE),IF(AND(J170=\"Operational\",G170=\"Hydro\"),VLOOKUP(AF170,'Capex by RE tech'!$C$8:$D$10,2,TRUE),IF(AND(J170=\"Operational\",G170=\"Waste-to-Energy\"),VLOOKUP(AF170,'Capex by RE tech'!$C$14:$D$16,2,TRUE),IF(AND(J170=\"Operational\",AF170<2010),VLOOKUP(G170,'Capex by RE tech'!$A$2:$D$19,4,FALSE),NA))))))))","v":0.23},80330000,null,null,{"$f":"AB170*M170","v":80330000},{"$f":"VLOOKUP(G170,'Capex by RE tech'!$A$2:$F$19,6,TRUE)","v":1450},null,0,"NA",null,"Received provisional concession from CNE in May","2019-08-07","Confident"]
[1,null,"Dominican Republic","EDP-Bani Solar","Fundacion, Peravia (near Bani)","Energias Renovables Dominicana (EDP)","Solar PV",1,"Utility/IPP","Planned","Energias Renovables Dominicana (EDP)","Empresas Distribuidoras de Electricidad (EdeSur, EdeEste, EdeNorte)",200000,null,null,402960,null,null,402960,0.23,"NA",null,{"$f":"IF(OR(J171=\"Under development\",J171=\"Planned\"),VLOOKUP(G171,'Capex by RE tech'!$A$4:$D$18,4,TRUE),IF(AND(J171=\"Operational\",G171=\"Solar PV\"),VLOOKUP(AF171,'Capex by RE tech'!$C$11:$D$13,2,TRUE),IF(AND(J171=\"Operational\",G171=\"Wind\"),VLOOKUP(AF171,'Capex by RE tech'!$C$17:$D$19,2,TRUE),IF(AND(J171=\"Operational\",G171=\"Biomass\"),VLOOKUP(AF171,'Capex by RE tech'!$C$2:$D$4,2,TRUE),IF(AND(J171=\"Operational\",G171=\"Geothermal\"),VLOOKUP(AF171,'Capex by RE tech'!$C$2:$D$4,2,TRUE),IF(AND(J171=\"Operational\",G171=\"Hydro\"),VLOOKUP(AF171,'Capex by RE tech'!$C$8:$D$10,2,TRUE),IF(AND(J171=\"Operational\",G171=\"Waste-to-Energy\"),VLOOKUP(AF171,'Capex by RE tech'!$C$14:$D$16,2,TRUE),IF(AND(J171=\"Operational\",AF171<2010),VLOOKUP(G171,'Capex by RE tech'!$A$2:$D$19,4,FALSE),NA))))))))","v":0.23},200000000,null,200000000,null,{"$f":" IF(AND(ISNUMBER(M171), ISNUMBER(X171)),X171/M171,\"NA\")","v":1000},null,0,"NA",null,"Received provisional concession from CNE in May","2019-08-08","Confident"]
[1,null,"Dominican Republic","Parque Eolico Sajoma","Santiago","Empresa Generadora de Electricidad de Haina, S.A. (EGE-HAINA)","Wind",1,"Utility/IPP","Planned","Empresa Generadora de Electricidad de Haina, S.A. (EGE-HAINA)",null,50000,null,null,137970,null,null,137970,0.315,"NA",null,{"$f":"IF(OR(J172=\"Under development\",J172=\"Planned\"),VLOOKUP(G172,'Capex by RE tech'!$A$4:$D$18,4,TRUE),IF(AND(J172=\"Operational\",G172=\"Solar PV\"),VLOOKUP(AF172,'Capex by RE tech'!$C$11:$D$13,2,TRUE),IF(AND(J172=\"Operational\",G172=\"Wind\"),VLOOKUP(AF172,'Capex by RE tech'!$C$17:$D$19,2,TRUE),IF(AND(J172=\"Operational\",G172=\"Biomass\"),VLOOKUP(AF172,'Capex by RE tech'!$C$2:$D$4,2,TRUE),IF(AND(J172=\"Operational\",G172=\"Geothermal\"),VLOOKUP(AF172,'Capex by RE tech'!$C$2:$D$4,2,TRUE),IF(AND(J172=\"Operational\",G172=\"Hydro\"),VLOOKUP(AF172,'Capex by RE tech'!$C$8:$D$10,2,TRUE),IF(AND(J172=\"Operational\",G172=\"Waste-to-Energy\"),VLOOKUP(AF172,'Capex by RE tech'!$C$14:$D$16,2,TRUE),IF(AND(J172=\"Operational\",AF172<2010),VLOOKUP(G172,'Capex by RE tech'!$A$2:$D$19,4,FALSE),NA))))))))","v":0.315},73750000,null,null,{"$f":"AB172*M172","v":73750000},{"$f":"VLOOKUP(G172,'Capex by RE tech'!$A$2:$F$19,6,TRUE)","v":1475},null,0,"NA",null,"Received provisional concession from CNE in May","2019-08-12","Confident"]
[1,null,"Dominican Republic","Parque Eolico Esperanza","Valverde","Empresa Generadora de Electricidad de Haina, S.A. (EGE-HAINA)","Wind",1,"Utility/IPP","Planned","Empresa Generadora de Electricidad de Haina, S.A. (EGE-HAINA)",null,50000,null,null,137970,null,null,137970,0.315,"NA",null,{"$f":"IF(OR(J173=\"Under development\",J173=\"Planned\"),VLOOKUP(G173,'Capex by RE tech'!$A$4:$D$18,4,TRUE),IF(AND(J173=\"Operational\",G173=\"Solar PV\"),VLOOKUP(AF173,'Capex by RE tech'!$C$11:$D$13,2,TRUE),IF(AND(J173=\"Operational\",G173=\"Wind\"),VLOOKUP(AF173,'Capex by RE tech'!$C$17:$D$19,2,TRUE),IF(AND(J173=\"Operational\",G173=\"Biomass\"),VLOOKUP(AF173,'Capex by RE tech'!$C$2:$D$4,2,TRUE),IF(AND(J173=\"Operational\",G173=\"Geothermal\"),VLOOKUP(AF173,'Capex by RE tech'!$C$2:$D$4,2,TRUE),IF(AND(J173=\"Operational\",G173=\"Hydro\"),VLOOKUP(AF173,'Capex by RE tech'!$C$8:$D$10,2,TRUE),IF(AND(J173=\"Operational\",G173=\"Waste-to-Energy\"),VLOOKUP(AF173,'Capex by RE tech'!$C$14:$D$16,2,TRUE),IF(AND(J173=\"Operational\",AF173<2010),VLOOKUP(G173,'Capex by RE tech'!$A$2:$D$19,4,FALSE),NA))))))))","v":0.315},73750000,null,null,73750000,{"$f":"VLOOKUP(G173,'Capex by RE tech'!$A$2:$F$19,6,TRUE)","v":1475},null,0,{"$f":"IF(ISNUMBER(AF173),AF173,IF(ISNUMBER(AG173),AG173,\"NA\"))","v":"NA"},null,"Received provisional concession from CNE in May","2019-08-12","Confident"]
[1,null,"Dominican Republic","Planta Solar Pizarrete","Peravia","AES Andres DR, S.A.","Solar PV",1,"Utility/IPP","Planned","AES Andres DR, S.A.",null,65250,null,null,131465.70000000001,null,null,131465.70000000001,0.23,"NA",null,{"$f":"IF(OR(J174=\"Under development\",J174=\"Planned\"),VLOOKUP(G174,'Capex by RE tech'!$A$4:$D$18,4,TRUE),IF(AND(J174=\"Operational\",G174=\"Solar PV\"),VLOOKUP(AF174,'Capex by RE tech'!$C$11:$D$13,2,TRUE),IF(AND(J174=\"Operational\",G174=\"Wind\"),VLOOKUP(AF174,'Capex by RE tech'!$C$17:$D$19,2,TRUE),IF(AND(J174=\"Operational\",G174=\"Biomass\"),VLOOKUP(AF174,'Capex by RE tech'!$C$2:$D$4,2,TRUE),IF(AND(J174=\"Operational\",G174=\"Geothermal\"),VLOOKUP(AF174,'Capex by RE tech'!$C$2:$D$4,2,TRUE),IF(AND(J174=\"Operational\",G174=\"Hydro\"),VLOOKUP(AF174,'Capex by RE tech'!$C$8:$D$10,2,TRUE),IF(AND(J174=\"Operational\",G174=\"Waste-to-Energy\"),VLOOKUP(AF174,'Capex by RE tech'!$C$14:$D$16,2,TRUE),IF(AND(J174=\"Operational\",AF174<2010),VLOOKUP(G174,'Capex by RE tech'!$A$2:$D$19,4,FALSE),NA))))))))","v":0.23},94612500,null,null,94612500,{"$f":"VLOOKUP(G174,'Capex by RE tech'!$A$2:$F$19,6,TRUE)","v":1450},null,0,"NA",null,"Received provisional concession from CNE in May","2019-08-12","Confident"]
[1,null,"Dominican Republic","Proyecto Peravia Solar I","Peravia","I.E. DR Projects I, SRL","Solar PV",1,"Utility/IPP","Planned","I.E. DR Projects I, SRL",null,70000,null,null,141036,null,null,141036,0.23,"NA",null,{"$f":"IF(OR(J175=\"Under development\",J175=\"Planned\"),VLOOKUP(G175,'Capex by RE tech'!$A$4:$D$18,4,TRUE),IF(AND(J175=\"Operational\",G175=\"Solar PV\"),VLOOKUP(AF175,'Capex by RE tech'!$C$11:$D$13,2,TRUE),IF(AND(J175=\"Operational\",G175=\"Wind\"),VLOOKUP(AF175,'Capex by RE tech'!$C$17:$D$19,2,TRUE),IF(AND(J175=\"Operational\",G175=\"Biomass\"),VLOOKUP(AF175,'Capex by RE tech'!$C$2:$D$4,2,TRUE),IF(AND(J175=\"Operational\",G175=\"Geothermal\"),VLOOKUP(AF175,'Capex by RE tech'!$C$2:$D$4,2,TRUE),IF(AND(J175=\"Operational\",G175=\"Hydro\"),VLOOKUP(AF175,'Capex by RE tech'!$C$8:$D$10,2,TRUE),IF(AND(J175=\"Operational\",G175=\"Waste-to-Energy\"),VLOOKUP(AF175,'Capex by RE tech'!$C$14:$D$16,2,TRUE),IF(AND(J175=\"Operational\",AF175<2010),VLOOKUP(G175,'Capex by RE tech'!$A$2:$D$19,4,FALSE),NA))))))))","v":0.23},101500000,null,null,101500000,{"$f":"VLOOKUP(G175,'Capex by RE tech'!$A$2:$F$19,6,TRUE)","v":1450},null,0,"NA",null,"Received provisional concession from CNE in May","2019-08-12","Confident"]
[1,null,"Dominican Republic","Proyecto Peravia Solar II","Peravia","I.E. DR Projects I, SRL","Solar PV",1,"Utility/IPP","Planned","I.E. DR Projects I, SRL",null,70000,null,null,141036,null,null,141036,0.23,"NA",null,{"$f":"IF(OR(J176=\"Under development\",J176=\"Planned\"),VLOOKUP(G176,'Capex by RE tech'!$A$4:$D$18,4,TRUE),IF(AND(J176=\"Operational\",G176=\"Solar PV\"),VLOOKUP(AF176,'Capex by RE tech'!$C$11:$D$13,2,TRUE),IF(AND(J176=\"Operational\",G176=\"Wind\"),VLOOKUP(AF176,'Capex by RE tech'!$C$17:$D$19,2,TRUE),IF(AND(J176=\"Operational\",G176=\"Biomass\"),VLOOKUP(AF176,'Capex by RE tech'!$C$2:$D$4,2,TRUE),IF(AND(J176=\"Operational\",G176=\"Geothermal\"),VLOOKUP(AF176,'Capex by RE tech'!$C$2:$D$4,2,TRUE),IF(AND(J176=\"Operational\",G176=\"Hydro\"),VLOOKUP(AF176,'Capex by RE tech'!$C$8:$D$10,2,TRUE),IF(AND(J176=\"Operational\",G176=\"Waste-to-Energy\"),VLOOKUP(AF176,'Capex by RE tech'!$C$14:$D$16,2,TRUE),IF(AND(J176=\"Operational\",AF176<2010),VLOOKUP(G176,'Capex by RE tech'!$A$2:$D$19,4,FALSE),NA))))))))","v":0.23},101500000,null,null,101500000,{"$f":"VLOOKUP(G176,'Capex by RE tech'!$A$2:$F$19,6,TRUE)","v":1450},null,0,"NA",null,"Received provisional concession from CNE in May","2019-08-12","Confident"]
[1,null,"Dominican Republic","Planta Solar Noroeste","Montecristi","AES Renewable Power Group","Solar PV",1,"Utility/IPP","Planned","AES Renewable Power Group",null,136800,null,null,275624.64,null,null,275624.64,0.23,"NA",null,{"$f":"IF(OR(J177=\"Under development\",J177=\"Planned\"),VLOOKUP(G177,'Capex by RE tech'!$A$4:$D$18,4,TRUE),IF(AND(J177=\"Operational\",G177=\"Solar PV\"),VLOOKUP(AF177,'Capex by RE tech'!$C$11:$D$13,2,TRUE),IF(AND(J177=\"Operational\",G177=\"Wind\"),VLOOKUP(AF177,'Capex by RE tech'!$C$17:$D$19,2,TRUE),IF(AND(J177=\"Operational\",G177=\"Biomass\"),VLOOKUP(AF177,'Capex by RE tech'!$C$2:$D$4,2,TRUE),IF(AND(J177=\"Operational\",G177=\"Geothermal\"),VLOOKUP(AF177,'Capex by RE tech'!$C$2:$D$4,2,TRUE),IF(AND(J177=\"Operational\",G177=\"Hydro\"),VLOOKUP(AF177,'Capex by RE tech'!$C$8:$D$10,2,TRUE),IF(AND(J177=\"Operational\",G177=\"Waste-to-Energy\"),VLOOKUP(AF177,'Capex by RE tech'!$C$14:$D$16,2,TRUE),IF(AND(J177=\"Operational\",AF177<2010),VLOOKUP(G177,'Capex by RE tech'!$A$2:$D$19,4,FALSE),NA))))))))","v":0.23},198360000,null,null,198360000,{"$f":"VLOOKUP(G177,'Capex by RE tech'!$A$2:$F$19,6,TRUE)","v":1450},null,0,"NA",null,"Received provisional concession from CNE in May","2019-08-12","Confident"]
[1,null,"Dominican Republic","Planta Solar Marti","Santo Domingo","Tropigas Dominicana","Solar PV",1,"Utility/IPP","Planned","Tropigas Dominicana",null,50320,null,null,101384.736,null,null,101384.736,0.23,"NA",null,{"$f":"IF(OR(J178=\"Under development\",J178=\"Planned\"),VLOOKUP(G178,'Capex by RE tech'!$A$4:$D$18,4,TRUE),IF(AND(J178=\"Operational\",G178=\"Solar PV\"),VLOOKUP(AF178,'Capex by RE tech'!$C$11:$D$13,2,TRUE),IF(AND(J178=\"Operational\",G178=\"Wind\"),VLOOKUP(AF178,'Capex by RE tech'!$C$17:$D$19,2,TRUE),IF(AND(J178=\"Operational\",G178=\"Biomass\"),VLOOKUP(AF178,'Capex by RE tech'!$C$2:$D$4,2,TRUE),IF(AND(J178=\"Operational\",G178=\"Geothermal\"),VLOOKUP(AF178,'Capex by RE tech'!$C$2:$D$4,2,TRUE),IF(AND(J178=\"Operational\",G178=\"Hydro\"),VLOOKUP(AF178,'Capex by RE tech'!$C$8:$D$10,2,TRUE),IF(AND(J178=\"Operational\",G178=\"Waste-to-Energy\"),VLOOKUP(AF178,'Capex by RE tech'!$C$14:$D$16,2,TRUE),IF(AND(J178=\"Operational\",AF178<2010),VLOOKUP(G178,'Capex by RE tech'!$A$2:$D$19,4,FALSE),NA))))))))","v":0.23},72964000,null,null,72964000,{"$f":"VLOOKUP(G178,'Capex by RE tech'!$A$2:$F$19,6,TRUE)","v":1450},null,0,"NA",null,"Received provisional concession from CNE in May","2019-08-12","Confident"]
[1,null,"Dominican Republic","Proyecto EDP Energia Renovables Dominicana SA","Peravia","EDP Energias Renovables Dominicana","Solar PV",1,"Utility/IPP","Planned","EDP Energias Renovables Dominicana",null,200200,null,null,403362.96,null,null,403362.96,0.23,"NA",null,{"$f":"IF(OR(J179=\"Under development\",J179=\"Planned\"),VLOOKUP(G179,'Capex by RE tech'!$A$4:$D$18,4,TRUE),IF(AND(J179=\"Operational\",G179=\"Solar PV\"),VLOOKUP(AF179,'Capex by RE tech'!$C$11:$D$13,2,TRUE),IF(AND(J179=\"Operational\",G179=\"Wind\"),VLOOKUP(AF179,'Capex by RE tech'!$C$17:$D$19,2,TRUE),IF(AND(J179=\"Operational\",G179=\"Biomass\"),VLOOKUP(AF179,'Capex by RE tech'!$C$2:$D$4,2,TRUE),IF(AND(J179=\"Operational\",G179=\"Geothermal\"),VLOOKUP(AF179,'Capex by RE tech'!$C$2:$D$4,2,TRUE),IF(AND(J179=\"Operational\",G179=\"Hydro\"),VLOOKUP(AF179,'Capex by RE tech'!$C$8:$D$10,2,TRUE),IF(AND(J179=\"Operational\",G179=\"Waste-to-Energy\"),VLOOKUP(AF179,'Capex by RE tech'!$C$14:$D$16,2,TRUE),IF(AND(J179=\"Operational\",AF179<2010),VLOOKUP(G179,'Capex by RE tech'!$A$2:$D$19,4,FALSE),NA))))))))","v":0.23},290290000,null,null,290290000,{"$f":"VLOOKUP(G179,'Capex by RE tech'!$A$2:$F$19,6,TRUE)","v":1450},null,0,"NA",null,"Received provisional concession from CNE in May","2019-08-12","Confident"]
[1,null,"Dominican Republic","Parque Solar Girasol","San Cristobal","Empresa Generadora de Electricidad de Haina, S.A. (EGE-HAINA)","Solar PV",1,"Utility/IPP","Planned","Empresa Generadora de Electricidad de Haina, S.A. (EGE-HAINA)",null,120000,null,null,241776,null,null,241776,0.23,"NA",null,{"$f":"IF(OR(J180=\"Under development\",J180=\"Planned\"),VLOOKUP(G180,'Capex by RE tech'!$A$4:$D$18,4,TRUE),IF(AND(J180=\"Operational\",G180=\"Solar PV\"),VLOOKUP(AF180,'Capex by RE tech'!$C$11:$D$13,2,TRUE),IF(AND(J180=\"Operational\",G180=\"Wind\"),VLOOKUP(AF180,'Capex by RE tech'!$C$17:$D$19,2,TRUE),IF(AND(J180=\"Operational\",G180=\"Biomass\"),VLOOKUP(AF180,'Capex by RE tech'!$C$2:$D$4,2,TRUE),IF(AND(J180=\"Operational\",G180=\"Geothermal\"),VLOOKUP(AF180,'Capex by RE tech'!$C$2:$D$4,2,TRUE),IF(AND(J180=\"Operational\",G180=\"Hydro\"),VLOOKUP(AF180,'Capex by RE tech'!$C$8:$D$10,2,TRUE),IF(AND(J180=\"Operational\",G180=\"Waste-to-Energy\"),VLOOKUP(AF180,'Capex by RE tech'!$C$14:$D$16,2,TRUE),IF(AND(J180=\"Operational\",AF180<2010),VLOOKUP(G180,'Capex by RE tech'!$A$2:$D$19,4,FALSE),NA))))))))","v":0.23},174000000,null,null,174000000,{"$f":"VLOOKUP(G180,'Capex by RE tech'!$A$2:$F$19,6,TRUE)","v":1450},null,0,"NA",null,"Received provisional concession from CNE in May. PPP between EGE Haina and Elecnor, Spanish company, signed in March 2020. Construction set to start Q1 2021.","2019-08-12","Confident"]
[1,null,"Dominican Republic","Proyecto Esperanza Solar","Valverde","Empresa Generadora de Electricidad de Haina, S.A. (EGE-HAINA)","Solar PV",1,"Utility/IPP","Planned","Empresa Generadora de Electricidad de Haina, S.A. (EGE-HAINA)",null,61000,null,null,122902.8,null,null,122902.8,0.23,"NA",null,{"$f":"IF(OR(J181=\"Under development\",J181=\"Planned\"),VLOOKUP(G181,'Capex by RE tech'!$A$4:$D$18,4,TRUE),IF(AND(J181=\"Operational\",G181=\"Solar PV\"),VLOOKUP(AF181,'Capex by RE tech'!$C$11:$D$13,2,TRUE),IF(AND(J181=\"Operational\",G181=\"Wind\"),VLOOKUP(AF181,'Capex by RE tech'!$C$17:$D$19,2,TRUE),IF(AND(J181=\"Operational\",G181=\"Biomass\"),VLOOKUP(AF181,'Capex by RE tech'!$C$2:$D$4,2,TRUE),IF(AND(J181=\"Operational\",G181=\"Geothermal\"),VLOOKUP(AF181,'Capex by RE tech'!$C$2:$D$4,2,TRUE),IF(AND(J181=\"Operational\",G181=\"Hydro\"),VLOOKUP(AF181,'Capex by RE tech'!$C$8:$D$10,2,TRUE),IF(AND(J181=\"Operational\",G181=\"Waste-to-Energy\"),VLOOKUP(AF181,'Capex by RE tech'!$C$14:$D$16,2,TRUE),IF(AND(J181=\"Operational\",AF181<2010),VLOOKUP(G181,'Capex by RE tech'!$A$2:$D$19,4,FALSE),NA))))))))","v":0.23},88450000,null,null,88450000,{"$f":"VLOOKUP(G181,'Capex by RE tech'!$A$2:$F$19,6,TRUE)","v":1450},null,0,"NA",null,"Received provisional concession from CNE in May","2019-08-12","Confident"]
[1,null,"Dominican Republic","Montecristi Solar Domita","Montecristi","Domita Group SRL","Solar PV",1,"Utility/IPP","Planned","Domita Group SRL",null,50000,null,null,100740,null,null,100740,0.23,"NA",null,{"$f":"IF(OR(J182=\"Under development\",J182=\"Planned\"),VLOOKUP(G182,'Capex by RE tech'!$A$4:$D$18,4,TRUE),IF(AND(J182=\"Operational\",G182=\"Solar PV\"),VLOOKUP(AF182,'Capex by RE tech'!$C$11:$D$13,2,TRUE),IF(AND(J182=\"Operational\",G182=\"Wind\"),VLOOKUP(AF182,'Capex by RE tech'!$C$17:$D$19,2,TRUE),IF(AND(J182=\"Operational\",G182=\"Biomass\"),VLOOKUP(AF182,'Capex by RE tech'!$C$2:$D$4,2,TRUE),IF(AND(J182=\"Operational\",G182=\"Geothermal\"),VLOOKUP(AF182,'Capex by RE tech'!$C$2:$D$4,2,TRUE),IF(AND(J182=\"Operational\",G182=\"Hydro\"),VLOOKUP(AF182,'Capex by RE tech'!$C$8:$D$10,2,TRUE),IF(AND(J182=\"Operational\",G182=\"Waste-to-Energy\"),VLOOKUP(AF182,'Capex by RE tech'!$C$14:$D$16,2,TRUE),IF(AND(J182=\"Operational\",AF182<2010),VLOOKUP(G182,'Capex by RE tech'!$A$2:$D$19,4,FALSE),NA))))))))","v":0.23},72500000,null,null,72500000,{"$f":"VLOOKUP(G182,'Capex by RE tech'!$A$2:$F$19,6,TRUE)","v":1450},null,0,"NA",null,"Received provisional concession from CNE in May","2019-08-12","Confident"]
[1,null,"Dominican Republic","Proyecto Grupo Energetico del Este SRL (GEDE)","La Altagracia","Grupo Energetico del Este SRL (GEDE)","Biomass",1,"Utility/IPP","Planned","Grupo Energetico del Este SRL (GEDE)",null,26450,null,null,208531.8,null,null,208531.8,0.9,"NA",null,{"$f":"IF(OR(J183=\"Under development\",J183=\"Planned\"),VLOOKUP(G183,'Capex by RE tech'!$A$4:$D$18,4,TRUE),IF(AND(J183=\"Operational\",G183=\"Solar PV\"),VLOOKUP(AF183,'Capex by RE tech'!$C$11:$D$13,2,TRUE),IF(AND(J183=\"Operational\",G183=\"Wind\"),VLOOKUP(AF183,'Capex by RE tech'!$C$17:$D$19,2,TRUE),IF(AND(J183=\"Operational\",G183=\"Biomass\"),VLOOKUP(AF183,'Capex by RE tech'!$C$2:$D$4,2,TRUE),IF(AND(J183=\"Operational\",G183=\"Geothermal\"),VLOOKUP(AF183,'Capex by RE tech'!$C$2:$D$4,2,TRUE),IF(AND(J183=\"Operational\",G183=\"Hydro\"),VLOOKUP(AF183,'Capex by RE tech'!$C$8:$D$10,2,TRUE),IF(AND(J183=\"Operational\",G183=\"Waste-to-Energy\"),VLOOKUP(AF183,'Capex by RE tech'!$C$14:$D$16,2,TRUE),IF(AND(J183=\"Operational\",AF183<2010),VLOOKUP(G183,'Capex by RE tech'!$A$2:$D$19,4,FALSE),NA))))))))","v":0.9},79350000,null,null,79350000,{"$f":"VLOOKUP(G183,'Capex by RE tech'!$A$2:$F$19,6,TRUE)","v":3000},null,0,"NA",null,"Provisional CNE concession","2019-08-12","Confident"]
[1,null,"Dominican Republic","Proyecto Ridge Partners Linea Noreste SRL","Valverde","Ridge Partners Linea Noreste SRL","Biomass",1,"Utility/IPP","Planned","Ridge Partners Linea Noreste SRL",null,null,null,null,0,null,null,0,0.9,"NA",null,{"$f":"IF(OR(J184=\"Under development\",J184=\"Planned\"),VLOOKUP(G184,'Capex by RE tech'!$A$4:$D$18,4,TRUE),IF(AND(J184=\"Operational\",G184=\"Solar PV\"),VLOOKUP(AF184,'Capex by RE tech'!$C$11:$D$13,2,TRUE),IF(AND(J184=\"Operational\",G184=\"Wind\"),VLOOKUP(AF184,'Capex by RE tech'!$C$17:$D$19,2,TRUE),IF(AND(J184=\"Operational\",G184=\"Biomass\"),VLOOKUP(AF184,'Capex by RE tech'!$C$2:$D$4,2,TRUE),IF(AND(J184=\"Operational\",G184=\"Geothermal\"),VLOOKUP(AF184,'Capex by RE tech'!$C$2:$D$4,2,TRUE),IF(AND(J184=\"Operational\",G184=\"Hydro\"),VLOOKUP(AF184,'Capex by RE tech'!$C$8:$D$10,2,TRUE),IF(AND(J184=\"Operational\",G184=\"Waste-to-Energy\"),VLOOKUP(AF184,'Capex by RE tech'!$C$14:$D$16,2,TRUE),IF(AND(J184=\"Operational\",AF184<2010),VLOOKUP(G184,'Capex by RE tech'!$A$2:$D$19,4,FALSE),NA))))))))","v":0.9},0,null,null,0,{"$f":"VLOOKUP(G184,'Capex by RE tech'!$A$2:$F$19,6,TRUE)","v":3000},null,0,"NA",null,"Provisional CNE concession","2019-08-12","Confident"]
[1,null,"Dominican Republic","Phase I of Solar PV plant in Sabana Grande de Palenque","San Cristobal","Escala Solar, Consorcio Ecoterra","Solar PV",1,"Utility/IPP","Operational","Escala Solar, Consorcio Ecoterra",null,1500,null,null,3022.2,null,null,3022.2,0.23,"NA",null,{"$f":"IF(OR(J185=\"Under development\",J185=\"Planned\"),VLOOKUP(G185,'Capex by RE tech'!$A$4:$D$18,4,TRUE),IF(AND(J185=\"Operational\",G185=\"Solar PV\"),VLOOKUP(AF185,'Capex by RE tech'!$C$11:$D$13,2,TRUE),IF(AND(J185=\"Operational\",G185=\"Wind\"),VLOOKUP(AF185,'Capex by RE tech'!$C$17:$D$19,2,TRUE),IF(AND(J185=\"Operational\",G185=\"Biomass\"),VLOOKUP(AF185,'Capex by RE tech'!$C$2:$D$4,2,TRUE),IF(AND(J185=\"Operational\",G185=\"Geothermal\"),VLOOKUP(AF185,'Capex by RE tech'!$C$2:$D$4,2,TRUE),IF(AND(J185=\"Operational\",G185=\"Hydro\"),VLOOKUP(AF185,'Capex by RE tech'!$C$8:$D$10,2,TRUE),IF(AND(J185=\"Operational\",G185=\"Waste-to-Energy\"),VLOOKUP(AF185,'Capex by RE tech'!$C$14:$D$16,2,TRUE),IF(AND(J185=\"Operational\",AF185<2010),VLOOKUP(G185,'Capex by RE tech'!$A$2:$D$19,4,FALSE),NA))))))))","v":0.23},2175000,null,null,2175000,{"$f":"VLOOKUP(G185,'Capex by RE tech'!$A$2:$F$19,6,TRUE)","v":1450},null,0,2018,2018,"Inaugurated December 2018","2019-08-12","Confident"]
[1,null,"Dominican Republic","Phase II of Solar PV plant in Sabana Grande de Palenque",null,"Escala Solar, Consorcio Ecoterra","Solar PV",1,"Utility/IPP","Under development","Escala Solar, Consorcio Ecoterra",null,4500,null,null,9066.6,null,null,9066.6,0.23,"NA",null,{"$f":"IF(OR(J186=\"Under development\",J186=\"Planned\"),VLOOKUP(G186,'Capex by RE tech'!$A$4:$D$18,4,TRUE),IF(AND(J186=\"Operational\",G186=\"Solar PV\"),VLOOKUP(AF186,'Capex by RE tech'!$C$11:$D$13,2,TRUE),IF(AND(J186=\"Operational\",G186=\"Wind\"),VLOOKUP(AF186,'Capex by RE tech'!$C$17:$D$19,2,TRUE),IF(AND(J186=\"Operational\",G186=\"Biomass\"),VLOOKUP(AF186,'Capex by RE tech'!$C$2:$D$4,2,TRUE),IF(AND(J186=\"Operational\",G186=\"Geothermal\"),VLOOKUP(AF186,'Capex by RE tech'!$C$2:$D$4,2,TRUE),IF(AND(J186=\"Operational\",G186=\"Hydro\"),VLOOKUP(AF186,'Capex by RE tech'!$C$8:$D$10,2,TRUE),IF(AND(J186=\"Operational\",G186=\"Waste-to-Energy\"),VLOOKUP(AF186,'Capex by RE tech'!$C$14:$D$16,2,TRUE),IF(AND(J186=\"Operational\",AF186<2010),VLOOKUP(G186,'Capex by RE tech'!$A$2:$D$19,4,FALSE),NA))))))))","v":0.23},6525000,null,null,6525000,{"$f":"VLOOKUP(G186,'Capex by RE tech'!$A$2:$F$19,6,TRUE)","v":1450},null,0,"NA",null,"Construction began December 2018","2019-08-12","Confident"]
[null,null,"Dominican Republic","Parque Solar Bayahonda","Bayahonda",null,"Solar PV",null,null,"Planned",null,null,50000,null,null,null,null,null,null,null,null,null,null,null,null,null,null,null,null,null,{"$f":"IF(ISNUMBER(AF187),AF187,IF(ISNUMBER(AG187),AG187,\"NA\"))","v":"NA"},null,"Concession approved, construction approved. Local company Parque Eolico Beata SRL will invest roughly USD 60 million"]
[null,null,"Dominican Republic","San Pedro de Macoris WTE","San Pedro de Macoris",null,"Waste-to-Energy",null,null,"Planned",null,null,50000,null,null,null,null,null,null,null,null,null,null,null,null,null,null,null,null,null,{"$f":"IF(ISNUMBER(AF188),AF188,IF(ISNUMBER(AG188),AG188,\"NA\"))","v":"NA"},null,"Concession approved, construction approved. Streamline Integrated Energy Corp (SIE) is the company behind the development."]
[null,"P0118","Grenada",null,null,null,"Solar PV","Various","Distributed","Operational",null,null,1066.43,null,null,2372.8494072000003,null,null,2372.8494072000003,0.254,{"$f":"IF(OR(ISBLANK(M189),ISBLANK(Q189)),\"NA\",(Q189*1000)/(M189*8760))","v":"NA"},null,0.254,2749256.54,null,null,2749256.54,{"$f":" IF(AND(ISNUMBER(M189), ISNUMBER(X189)),X189/M189,\"NA\")","v":2578},null,0,2013,2013,"From 2007 - 2013, over 60 customers connected to the RE Interconnection Programme to generate 352.97 kW. After achieving full subscription, GRENLEC has increased the cap to 500 kW in the second phase of the project.","2017-08-03"]
[{"$f":"H190","v":1},"P0119","Grenada",null,null,null,"Solar PV",1,"Distributed","Operational",null,null,300,null,null,667.51199999999994,null,null,667.51199999999994,0.254,"NA",null,0.254,2100000,null,2100000,773400,{"$f":" IF(AND(ISNUMBER(M190), ISNUMBER(X190)),X190/M190,\"NA\")","v":7000},null,0,2014,2014,"Grenada completed PV system to power reverse osmosis plant in June 2014.","2018-07-18","Confident"]
[1,"P0120","Grenada",null,null,null,"Solar PV",1,"Distributed","Operational",null,null,263.38,null,null,586.03103519999991,null,null,586.03103519999991,0.254,"NA",null,0.254,678993.64,null,null,678993.64,{"$f":" IF(AND(ISNUMBER(M191), ISNUMBER(X191)),X191/M191,\"NA\")","v":2578},null,0,2016,2016,"Commissioned in August 2016.","2017-08-03"]
[1,"P0121","Grenada",null,null,null,"Solar PV",1,"Distributed","Operational",null,null,201.4,null,null,448.12305599999996,null,null,448.12305599999996,0.254,"NA",null,0.254,519209.2,null,null,519209.2,{"$f":" IF(AND(ISNUMBER(M192), ISNUMBER(X192)),X192/M192,\"NA\")","v":2578},null,0,2016,2016,"148.48 kW commissioned in September 2013. An additional 52.92 kW installed in June 2016. ","2018-08-03","Confident"]
[1,"P0297","Grenada",null,null,"GRENLEC","Solar PV",1,"Utility/IPP","Operational","GRENLEC","GRENLEC",400,null,null,700.8,null,null,700.8,0.2,"NA",null,0.2,800000,null,null,{"$f":" M193 * AB193","v":800000},2000,null,null,2016,2016,null,"2018-07-18","Confident"]
[1,"P0122","Grenada",null,null,null,"Solar PV",1,"Distributed","Operational",null,null,148.5,null,null,330.41843999999998,null,null,330.41843999999998,0.254,"NA",null,0.254,382833,null,null,382833,{"$f":" IF(AND(ISNUMBER(M194), ISNUMBER(X194)),X194/M194,\"NA\")","v":2578},null,{"$f":"SUM(AC194:AC194)","v":0},2013,2013,null,"2018-08-03","Confident"]
[1,"P0271","Grenada",null,null,null,"Geothermal",1,"Utility/IPP","Planned",null,null,15000,null,null,111690,null,null,111690,0.85,"NA",null,null,63750000,null,null,{"$f":"AB195*M195","v":63750000},{"$f":"VLOOKUP(G195,'Capex by RE tech'!$A$2:$F$19,6,TRUE)","v":4250},null,null,"NA",null,"Commissioning expected 2022/2023. ","2019-08-12","Confident"]
[1,"P0123","Grenada",null,null,"GRENLEC","Solar PV",1,"Distributed","Operational","GRENLEC",null,{"$f":" 149 + 53 + 144","v":346},null,null,769.86383999999998,null,null,769.86383999999998,{"$f":"IF(AND(U196=\"NA\",ISBLANK(V196)),W196,IF(U196<>\"NA\",U196,IF(ISNUMBER(V196),V196,W196)))","v":0.254},"NA",null,0.254,891988,null,null,891988,{"$f":" IF(AND(ISNUMBER(M196), ISNUMBER(X196)),X196/M196,\"NA\")","v":2578},null,{"$f":"SUM(AC196:AC196)","v":0},2013,2013,"Commissioned in August 2016.","2017-08-03"]
[1,"P0124","Grenada",null,null,null,"Wind",1,"Distributed","Operational",null,null,80,null,null,322.36799999999999,null,null,322.36799999999999,0.46,"NA",null,0.46,126053.33333333334,null,null,126053.33333333334,1575.6666666666667,null,0,2007,2007,"One of first installations in the world in which energy is generated almost completely by wind.","2017-08-03"]
[1,"P0125","Grenada",null,null,null,"Solar PV",1,"Distributed","Operational",null,null,31.59,null,null,70.289013600000004,null,null,70.289013600000004,0.254,"NA",null,0.254,81439.02,null,null,81439.02,2578,null,0,2013,2013,"Commissioned in October 2013.","2017-08-03"]
[1,"P0126","Grenada",null,null,"GRENLEC","Solar PV",1,"Distributed","Operational","GRENLEC",null,{"$f":" 102 + 30 + 268","v":400},null,null,890.01599999999996,null,null,890.01599999999996,0.254,"NA",null,0.254,1031200,null,null,1031200,2578,null,0,2016,2016,"Commissioned in June 2016.","2017-08-03"]
[1,"P0127","Grenada",null,null,null,"Solar PV",1,"Distributed","Operational",null,null,13.9,null,null,30.928056000000002,null,null,30.928056000000002,0.254,"NA",null,0.254,35834.200000000004,null,null,35834.200000000004,2578.0000000000005,null,0,2014,2014,"Commissioned in May 2014.","2017-08-03"]
[1,"P0128","Grenada",null,null,null,"Solar PV",1,"Distributed","Operational",null,null,10,null,null,{"$f":"IF(ISNUMBER(Q201),Q201,IF(ISNUMBER(R201),R201, IF(ISNUMBER(S201), S201,\"NA\")))","v":22.250400000000003},null,null,{"$f":" (M201 * 8760 * T201)/1000","v":22.250400000000003},0.254,"NA",null,0.254,{"$f":" IF(ISNUMBER(Y201), Y201,IF(ISNUMBER(Z201),Z201,IF(ISNUMBER(AA201), AA201, \"NA\")))","v":25780},null,null,25780,2578,null,0,2009,2009,"111 solar photovoltaic panels.","2017-08-03"]
[1,"P0129","Grenada",null,null,null,"Solar PV",1,"Distributed","Operational",null,null,1.84,null,null,4.0940736000000006,null,null,4.0940736000000006,0.254,"NA",null,0.254,4743.5200000000004,null,null,4743.5200000000004,2578,null,0,2012,2012,"Commissioned in October 2012.","2017-08-03"]
[1,"P0130","Grenada",null,null,null,"Wind",1,"Distributed","Operational",null,null,1,null,null,4.0296000000000003,null,null,4.0296000000000003,0.46,"NA",null,0.46,1575.6666666666667,null,null,1575.6666666666667,1575.6666666666667,null,0,2012,2012,"Commissioned in October 2012.","2017-08-03"]
["Multiple",null,"Grenada",null,null,null,"Solar PV","Multiple","Distributed","Operational",null,null,300,null,null,0,null,null,0,0,null,null,{"$f":"IF(OR(J204=\"Under development\",J204=\"Planned\"),VLOOKUP(G204,'Capex by RE tech'!$A$4:$D$18,4,TRUE),IF(AND(J204=\"Operational\",G204=\"Solar PV\"),VLOOKUP(AF204,'Capex by RE tech'!$C$11:$D$13,2,TRUE),IF(AND(J204=\"Operational\",G204=\"Wind\"),VLOOKUP(AF204,'Capex by RE tech'!$C$17:$D$19,2,TRUE),IF(AND(J204=\"Operational\",G204=\"Biomass\"),VLOOKUP(AF204,'Capex by RE tech'!$C$2:$D$4,2,TRUE),IF(AND(J204=\"Operational\",G204=\"Geothermal\"),VLOOKUP(AF204,'Capex by RE tech'!$C$2:$D$4,2,TRUE),IF(AND(J204=\"Operational\",G204=\"Hydro\"),VLOOKUP(AF204,'Capex by RE tech'!$C$8:$D$10,2,TRUE),IF(AND(J204=\"Operational\",G204=\"Waste-to-Energy\"),VLOOKUP(AF204,'Capex by RE tech'!$C$14:$D$16,2,TRUE),IF(AND(J204=\"Operational\",AF204<2010),VLOOKUP(G204,'Capex by RE tech'!$A$2:$D$19,4,FALSE),NA))))))))","v":{"$error":"#N/A"}},435000,null,null,{"$f":"AB204*M204","v":435000},{"$f":"VLOOKUP(G204,'Capex by RE tech'!$A$2:$F$19,6,TRUE)","v":1450}]
["Multiple",null,"Grenada",null,null,null,"Wind","Multiple","Distributed","Operational",null,null,80,null,null,0,null,null,0,0,null,null,{"$f":"IF(OR(J205=\"Under development\",J205=\"Planned\"),VLOOKUP(G205,'Capex by RE tech'!$A$4:$D$18,4,TRUE),IF(AND(J205=\"Operational\",G205=\"Solar PV\"),VLOOKUP(AF205,'Capex by RE tech'!$C$11:$D$13,2,TRUE),IF(AND(J205=\"Operational\",G205=\"Wind\"),VLOOKUP(AF205,'Capex by RE tech'!$C$17:$D$19,2,TRUE),IF(AND(J205=\"Operational\",G205=\"Biomass\"),VLOOKUP(AF205,'Capex by RE tech'!$C$2:$D$4,2,TRUE),IF(AND(J205=\"Operational\",G205=\"Geothermal\"),VLOOKUP(AF205,'Capex by RE tech'!$C$2:$D$4,2,TRUE),IF(AND(J205=\"Operational\",G205=\"Hydro\"),VLOOKUP(AF205,'Capex by RE tech'!$C$8:$D$10,2,TRUE),IF(AND(J205=\"Operational\",G205=\"Waste-to-Energy\"),VLOOKUP(AF205,'Capex by RE tech'!$C$14:$D$16,2,TRUE),IF(AND(J205=\"Operational\",AF205<2010),VLOOKUP(G205,'Capex by RE tech'!$A$2:$D$19,4,FALSE),NA))))))))","v":{"$error":"#N/A"}},118000,null,null,{"$f":"AB205*M205","v":118000},{"$f":"VLOOKUP(G205,'Capex by RE tech'!$A$2:$F$19,6,TRUE)","v":1475}]
[70,"P0131","Guadeloupe",null,"Various","Various","Solar PV",70,"Distributed","Operational","Various","Various",65410,null,null,93794,null,93794,145539.8664,0.254,{"$f":"IF(OR(ISBLANK(M206),ISBLANK(Q206)),\"NA\",(Q206*1000)/(M206*8760))","v":"NA"},null,0.254,168626980,null,null,168626980,{"$f":" IF(AND(ISNUMBER(M206), ISNUMBER(X206)),X206/M206,\"NA\")","v":2578},null,{"$f":"SUM(AC206:AC206)","v":0},{"$f":"IF(ISNUMBER(AF206),AF206,IF(ISNUMBER(AG206),AG206,\"NA\"))","v":2016},2016,null,"2017-08-03"]
[{"$f":"H207","v":1},"P0146","Guadeloupe",null,"Petit-Canal","Quadran Caraïbes\n","Wind",1,"Utility/IPP","Operational","Quadran Caraïbes\n","EDF Énergies Nouvelles S.A.",1440,24,{"$f":"M207/N207","v":60},2720,null,null,2720,0.21562658548959918,"NA",{"$f":" 51000/(27 * 8760)","v":0.21562658548959918},0.46,2268960,null,null,2268960,1575.6666666666667,null,0,1999,1999,null,"2018-08-20","Confident"]
[1,"P0147","Guadeloupe",null,"Capesterre-de-Marie-Galante","Quadran Caraïbes\n","Wind",1,"Utility/IPP","Operational","Quadran Caraïbes\n","Électricité de France S.A. (EDF)",1380,23,60,2606.6666666666665,null,null,2606.6666666666665,0.21562658548959918,"NA",0.21562658548959918,0.46,2174420,null,null,2174420,1575.6666666666667,null,0,2000,2000,null,"2018-08-20","Confident"]
[1,"P0138","Guadeloupe",null,"Petit-Canal","EDF Énergies Nouvelles S.A.","Wind",1,"Utility/IPP","Operational","EDF Énergies Nouvelles S.A.",null,3300,15,220,6233.333333333333,null,null,6233.333333333333,0.21562658548959918,"NA",0.21562658548959918,0.46,5199700,null,null,5199700,1575.6666666666667,null,0,2001,2001,null,"2018-08-20","Confident"]
[1,"P0141","Guadeloupe",null,"Petit-Canal","EDF Énergies Nouvelles S.A.","Wind",1,"Utility/IPP","Operational","EDF Énergies Nouvelles S.A.","Électricité de France S.A. (EDF)",2200,10,220,4155.5555555555557,null,null,4155.5555555555557,0.21562658548959918,"NA",0.21562658548959918,0.46,3466466.666666667,null,null,3466466.666666667,1575.6666666666667,null,0,2002,2002,null,"2018-08-20","Confident"]
[1,"P0145","Guadeloupe",null,"Petit-Canal","EDF Énergies Nouvelles S.A.","Wind",1,"Utility/IPP","Operational","EDF Énergies Nouvelles S.A.",null,1540,7,220,2908.8888888888887,null,null,2908.8888888888887,0.21562658548959918,"NA",0.21562658548959918,0.46,2426526.666666667,null,null,2426526.666666667,1575.666666666667,null,0,2002,2002,null,"2018-08-20","Confident"]
[1,"P0136","Guadeloupe",null,"Saint-François","Quadran Caraïbes\n","Wind",1,"Utility/IPP","Operational","Quadran Caraïbes\n","Électricité de France S.A. (EDF)",4400,20,220,8311.1111111111113,null,null,8311.1111111111113,0.21562658548959918,"NA",0.21562658548959918,0.46,6932933.333333334,null,null,6932933.333333334,1575.6666666666667,null,0,2003,2003,null,"2018-08-03","Confident"]
[1,"P0139","Guadeloupe",null,"Anse-Bertrand","Société Eolienne Caribéenne","Wind",1,"Utility/IPP","Operational","Société Eolienne Caribéenne","Électricité de France S.A. (EDF)",3025,11,275,5713.8888888888887,null,null,5713.8888888888887,0.21562658548959918,"NA",0.21562658548959918,0.46,4766391.666666667,null,null,4766391.666666667,1575.6666666666667,null,0,2006,2006,null,"2018-08-20","Confident"]
[1,"P0143","Guadeloupe",null,"Les Saintes","Quadran Caraïbes\n","Wind",1,"Utility/IPP","Operational","Quadran Caraïbes\n","Électricité de France S.A. (EDF)",1925,7,275,3636.1111111111109,null,null,3636.1111111111109,0.21562658548959918,"NA",0.21562658548959918,0.46,3033158.3333333335,null,null,3033158.3333333335,1575.6666666666667,null,0,2006,2006,null,"2018-08-20","Confident"]
[1,"P0148","Guadeloupe",null,"Petit-Canal","Quadran Caraïbes\n","Wind",1,"Utility/IPP","Operational","Quadran Caraïbes\n","Électricité de France S.A. (EDF)",1375,5,275,2597.2222222222222,null,null,2597.2222222222222,0.21562658548959918,"NA",0.21562658548959918,0.46,2166541.666666667,null,null,2166541.666666667,1575.666666666667,null,0,2007,2007,null,"2018-08-20","Confident"]
[1,"P0132","Guadeloupe","Centrale Thermique du Moule","Le Moule","Albioma Caraïbes","Biomass",1,"Utility/IPP","Operational","Albioma Caraïbes","Électricité de France S.A. (EDF)",6900,null,null,66300,66300,null,66300.000000000015,1.0968830653166568,1.0968830653166568,null,0.69633333333333336,20700000,null,null,{"$f":" 3000 * M216","v":20700000},3000,null,0,1998,1998,null,"2018-08-03","Confident"]
[1,"P0133","Guadeloupe","Albioma Caraibes Plant Conversion","Marie-Galante Island ","Albioma Caraïbes","Biomass",1,"Utility/IPP","Under development","Albioma Caraïbes","Électricité de France S.A. (EDF)",34000,null,null,207395.92,null,null,207395.92,0.69633333333333336,"NA",null,0.69633333333333336,92444800,null,92444800,42740000,2718.964705882353,null,0,"NA",null,"Conversion from coal to biomass to begin 2019, plant set to operate 100% biomass before 2020. Albioma secured loan in March 2019 for 76.8 million USD","2019-08-07","Confident"]
[1,"P0134","Guadeloupe",null,"Bouillante","Bureau de Recherches Géologiques et Minières (BRGM)","Geothermal",1,"Utility/IPP","Operational","Bureau de Recherches Géologiques et Minières (BRGM)","Électricité de France S.A. (EDF)",14700,null,null,112000,112000,null,112000,0.86975429441182861,0.86975429441182861,null,0.81833333333333336,70000000,null,null,{"$f":" 70000000","v":70000000},4761.9047619047615,null,0,2005,2005,"Ormat Technologies purchased 85% stake in Geothermie Bouillante SA on July 5, 2016, plan to expand plant from 15 MW to 20 MW by end of 2017. ","2018-08-03","Confident"]
[16,"P0135","Guadeloupe",null,"Various","Various","Hydro",16,"Utility/IPP","Operational","Various","Various",9610,null,null,38000,38000,null,38000,0.45139433333808487,0.45139433333808487,null,0.85,29560360,null,null,29560360,3076,null,0,2008,2008,"Guadeloupe's hydroelectric power is produced by 14 mini-hydro power stations owned by the EDF: Carbet (4.5 MW), Bananier Amont (1.2 MW), Bananier Aval (1.8 MW), Partiteur I and II (0.5 MW), Gaschet (0.2 MW), Letaye (0.2 MW), Bellevue (0.1 MW), Clairefontaine (0.2 MW), Saint Sauveur (0.07 MW), Schoelecher (0.07 MW), Le Bouchu (0.2 MW), Dolé (0.2 MW), Valeau (0.2), Bovis (0.25).","2018-08-03","Confident"]
[1,"P0142","Guadeloupe","Désirade III Montagne","La Désirade\n","Quadran Caraïbes\n","Wind",1,"Utility/IPP","Operational","Quadran Caraïbes\n","Électricité de France S.A. (EDF)",2100,35,{"$f":"M220/N220","v":60},3966.6666666666665,null,null,3966.6666666666665,0.21562658548959918,"NA",{"$f":" 51000/(27 * 8760)","v":0.21562658548959918},0.46,3308900,null,null,3308900,1575.6666666666667,null,0,2010,2010,null,"2018-08-20","Confident"]
[1,"P0144","Guadeloupe","Désirade IV Souffleur","La Désirade\n","Quadran Caraïbes\n","Wind",1,"Utility/IPP","Operational","Quadran Caraïbes\n","Électricité de France S.A. (EDF)",1650,6,{"$f":"M221/N221","v":275},3116.6666666666665,null,null,3116.6666666666665,0.21562658548959918,"NA",{"$f":" 51000/(27 * 8760)","v":0.21562658548959918},0.46,2599850,null,null,2599850,1575.6666666666667,null,0,2010,2010,null,"2018-08-20","Confident"]
[1,null,"Guadeloupe",null,"Sainte-Rose","Albioma Energipole Solaire","Solar PV",1,"Utility/IPP","Operational","Albioma Energipole Solaire","Électricité de France S.A. (EDF)",3300,null,null,4530,null,4530,6233.333333333333,0.21562658548959918,"NA",{"$f":" 51000/(27 * 8760)","v":0.21562658548959918},null,4785000,null,null,{"$f":"AB222*M222","v":4785000},{"$f":"VLOOKUP(G222,'Capex by RE tech'!$A$2:$F$19,6,TRUE)","v":1450},null,0,null,2019,"Industrial commissioning began June 2019, tender won in 2015","2019-08-07","Confident"]
[1,"P0140","Guadeloupe",null,"Capesterre-de-Marie-Galante","Quadran Caraïbes and Vergnet","Wind",1,"Utility/IPP","Operational","Quadran Caraïbes and Vergnet","Électricité de France S.A. (EDF)",2475,9,{"$f":"M223/N223","v":275},4675,null,null,4675,0.21562658548959918,"NA",{"$f":" 51000/(27 * 8760)","v":0.21562658548959918},0.46,11900000,null,11900000,3899775,{"$f":" IF(AND(ISNUMBER(M223), ISNUMBER(X223)),X223/M223,\"NA\")","v":4808.0808080808083},null,0,{"$f":"IF(ISNUMBER(AF223),AF223,IF(ISNUMBER(AG223),AG223,\"NA\"))","v":2016},2016,"Vergnet recommissioned plant in 2016 to provide an additional 975 kW.","2018-08-20","Confident"]
[1,"P0149","Guyana",null,"Kuribong River","TBD","Hydro",1,"Utility/IPP","Out","TBD","Guyana Power and Light Inc. (GLP)",165000,null,null,1228590,null,null,1228590,0.85,"NA",null,0.85,1000000000,null,1000000000,507540000,{"$f":" IF(AND(ISNUMBER(M224), ISNUMBER(X224)),X224/M224,\"NA\")","v":6060.606060606061},null,0,"NA",null,"NorConsult confirmed Amalia Falls Hydropower station is most efficient method of achieving 100% RE in Guyana. If political consensus regarding the project is reached, then NorConsult estimates a 3.5 year construction period until commercial operation of the project. As of June 2017, Amalia Falls project's outlook is poor as there are growing concerns over securing the necessary capital to finance the hydro-power development.","2018-07-18","Not confident"]
[1,"P0152","Guyana",null,null,null,"Solar PV",1,"Distributed","Operational",null,null,43,null,null,95.676720000000003,null,null,95.676720000000003,0.254,"NA",null,0.254,70000,null,70000,110854,{"$f":" IF(AND(ISNUMBER(M225), ISNUMBER(X225)),X225/M225,\"NA\")","v":1627.9069767441861},null,0,"NA",null,"Government of the Co-operative Republic of Guyana awarded The meeco Group a tender to install a solar PV system at the Ministry of the Presidency building. Joint venture company oursun Guyanaa will oversee the development of the project. ","2017-08-03"]
[1,"P0153","Guyana",null,null,null,"Solar PV",1,"Distributed","Operational",null,null,8.4600000000000009,null,null,18.8238384,null,null,18.8238384,0.254,"NA",null,0.254,21809.88,null,null,21809.88,{"$f":" IF(AND(ISNUMBER(M226), ISNUMBER(X226)),X226/M226,\"NA\")","v":2578},null,0,"NA",null,null,"2018-07-19"]
["Multiple",null,"Guyana","Various Solar PV + storage projects in cooperation with Norway","Bartica, Lethem, Mabaruma, Mahdia, and others",null,"Solar PV","Multiple","Utility/IPP","Planned",null,null,30000,null,null,60444,null,null,60444,0.23,"NA",null,{"$f":"IF(OR(J227=\"Under development\",J227=\"Planned\"),VLOOKUP(G227,'Capex by RE tech'!$A$4:$D$18,4,TRUE),IF(AND(J227=\"Operational\",G227=\"Solar PV\"),VLOOKUP(AF227,'Capex by RE tech'!$C$11:$D$13,2,TRUE),IF(AND(J227=\"Operational\",G227=\"Wind\"),VLOOKUP(AF227,'Capex by RE tech'!$C$17:$D$19,2,TRUE),IF(AND(J227=\"Operational\",G227=\"Biomass\"),VLOOKUP(AF227,'Capex by RE tech'!$C$2:$D$4,2,TRUE),IF(AND(J227=\"Operational\",G227=\"Geothermal\"),VLOOKUP(AF227,'Capex by RE tech'!$C$2:$D$4,2,TRUE),IF(AND(J227=\"Operational\",G227=\"Hydro\"),VLOOKUP(AF227,'Capex by RE tech'!$C$8:$D$10,2,TRUE),IF(AND(J227=\"Operational\",G227=\"Waste-to-Energy\"),VLOOKUP(AF227,'Capex by RE tech'!$C$14:$D$16,2,TRUE),IF(AND(J227=\"Operational\",AF227<2010),VLOOKUP(G227,'Capex by RE tech'!$A$2:$D$19,4,FALSE),NA))))))))","v":0.23},43500000,null,null,{"$f":"AB227*M227","v":43500000},{"$f":"VLOOKUP(G227,'Capex by RE tech'!$A$2:$F$19,6,TRUE)","v":1450},null,0,"NA",null,"Funding from Norway secured (US$77 million)","2019-08-12","Confident"]
[null,null,"Guyana",null,"Lethem",null,"Solar PV",null,"Utility/IPP","Planned",null,null,1000,null,null,2014.8,null,null,2014.8,{"$f":"IF(AND(U228=\"NA\",ISBLANK(V228)),W228,IF(U228<>\"NA\",U228,IF(ISNUMBER(V228),V228,W228)))","v":0.23},"NA",null,{"$f":"IF(OR(J228=\"Under development\",J228=\"Planned\"),VLOOKUP(G228,'Capex by RE tech'!$A$4:$D$18,4,TRUE),IF(AND(J228=\"Operational\",G228=\"Solar PV\"),VLOOKUP(AF228,'Capex by RE tech'!$C$11:$D$13,2,TRUE),IF(AND(J228=\"Operational\",G228=\"Wind\"),VLOOKUP(AF228,'Capex by RE tech'!$C$17:$D$19,2,TRUE),IF(AND(J228=\"Operational\",G228=\"Biomass\"),VLOOKUP(AF228,'Capex by RE tech'!$C$2:$D$4,2,TRUE),IF(AND(J228=\"Operational\",G228=\"Geothermal\"),VLOOKUP(AF228,'Capex by RE tech'!$C$2:$D$4,2,TRUE),IF(AND(J228=\"Operational\",G228=\"Hydro\"),VLOOKUP(AF228,'Capex by RE tech'!$C$8:$D$10,2,TRUE),IF(AND(J228=\"Operational\",G228=\"Waste-to-Energy\"),VLOOKUP(AF228,'Capex by RE tech'!$C$14:$D$16,2,TRUE),IF(AND(J228=\"Operational\",AF228<2010),VLOOKUP(G228,'Capex by RE tech'!$A$2:$D$19,4,FALSE),NA))))))))","v":0.23},564000000,null,564000000,null,{"$f":" IF(AND(ISNUMBER(M228), ISNUMBER(X228)),X228/M228,\"NA\")","v":564000},null,0,"NA",null,"Call for tenders April 2019","2019-08-12","Confident"]
[{"$f":"H229","v":1},null,"Guyana","Marabuma Solar Farm","Mabaruma",null,"Solar PV",1,"Utility/IPP","Under development",null,null,400,null,null,805.92,null,null,805.92,0.23,"NA",null,{"$f":"IF(OR(J229=\"Under development\",J229=\"Planned\"),VLOOKUP(G229,'Capex by RE tech'!$A$4:$D$18,4,TRUE),IF(AND(J229=\"Operational\",G229=\"Solar PV\"),VLOOKUP(AF229,'Capex by RE tech'!$C$11:$D$13,2,TRUE),IF(AND(J229=\"Operational\",G229=\"Wind\"),VLOOKUP(AF229,'Capex by RE tech'!$C$17:$D$19,2,TRUE),IF(AND(J229=\"Operational\",G229=\"Biomass\"),VLOOKUP(AF229,'Capex by RE tech'!$C$2:$D$4,2,TRUE),IF(AND(J229=\"Operational\",G229=\"Geothermal\"),VLOOKUP(AF229,'Capex by RE tech'!$C$2:$D$4,2,TRUE),IF(AND(J229=\"Operational\",G229=\"Hydro\"),VLOOKUP(AF229,'Capex by RE tech'!$C$8:$D$10,2,TRUE),IF(AND(J229=\"Operational\",G229=\"Waste-to-Energy\"),VLOOKUP(AF229,'Capex by RE tech'!$C$14:$D$16,2,TRUE),IF(AND(J229=\"Operational\",AF229<2010),VLOOKUP(G229,'Capex by RE tech'!$A$2:$D$19,4,FALSE),NA))))))))","v":0.23},564000000,null,564000000,null,1410000,null,0,"NA",null,null,"2019-08-12","Not confident"]
[1,"P0150","Guyana ","Hope Beach Windfarm","Hope Beach","Guyana Windfarm Inc.","Wind",1,"Utility/IPP","Planned","Guyana Windfarm Inc.","Guyana Power and Light Inc. (GLP)",13000,null,null,52384.800000000003,null,null,52384.800000000003,0.46,"NA",null,0.46,50000000,null,50000000,20483666.666666668,3846.1538461538462,null,0,"NA",null,"Environmental application submitted May 2019. As of January 2020, all studies have been completed. Developer still needs to conduct E-S assessment and secure financing.","2019-10-09","Confident"]
[1,"P0151","Guyana ",null,"Berbice","Guyana Sugar Corporation (GUYSUCO)","Biomass",1,"Utility/IPP","Operational","Guyana Sugar Corporation (GUYSUCO)","Guyana Power and Light Inc. (GLP)",13000,null,null,79298.44,null,null,79298.44,0.69633333333333336,"NA",null,0.69633333333333336,32200000,32200000,null,46301666.666666664,2476.9230769230771,null,0,{"$f":"IF(ISNUMBER(AF231),AF231,IF(ISNUMBER(AG231),AG231,\"NA\"))","v":2008},2008,"\"The Skeldon Co-generation Plant is a ‘ticking time bomb’ that currently requires US$2.5 million in immediate expenditure as a stop gap measure in order to restart the 30MW bagasse fueled component of the facility and an additional US$17 million in order to fix the deficiencies identified a few months after the generators were turned on\".","2018-07-18","Confident"]
[null,null,"Guyana","CARICOM Headquarters Solar PV Project","Georgetown ",null,"Solar PV",null,"Distributed","Planned",null,null,400,null,null,null,null,null,null,null,{"$f":"IF(OR(ISBLANK(M232),ISBLANK(Q232)),\"NA\",(Q232*1000)/(M232*8760))","v":"NA"},null,null,null,null,null,null,null,null,null,null,null,"Financed by JICA;  CARICOM Secretariat expected to meet close to all its energy needs through solar"]
[1,"P0154","Haiti",null,"Artibonite Valley","Alstom and Compagnie de Montages Electriques a l'Exportation","Hydro",1,"Utility/IPP","Operational","Alstom and Compagnie de Montages Electriques a l'Exportation","Electricite d’Haiti",54000,3,{"$f":"M233/N233","v":18000},402084,null,null,402084,0.85,"NA",null,0.85,48800000,null,48800000,166104000,903.7037037037037,null,0,2017,2017,"Commissioning of the 3rd turbine of the Péligre hydroelectric plant","2018-07-19","Confident"]
[1,"P0155","Haiti",null,"Artibonite Valley","SINOHYDRO","Hydro",1,"Utility/IPP","Operational","SINOHYDRO","Electricite d’Haiti",32000,null,null,238272,null,null,238272,0.85,"NA",null,0.85,192000000,null,192000000,98432000,6000,null,0,"NA",null,"Secured loans from IDB, government of Brazil, and Chinese investors. Project is currently awaiting construction decision.","2018-07-19","Not confident"]
[1,"P0156","Haiti",null,null,null,"Hydro",1,"Utility/IPP","Operational",null,null,2650,5,{"$f":"M235/N235","v":530},19731.900000000001,null,null,19731.900000000001,0.85,"NA",null,0.85,8151400,null,null,8151400,3076,null,0,"NA",null,null,"2018-07-19","Confident"]
[1,"P0157","Haiti",null,null,null,"Hydro",1,"Utility/IPP","Operational",null,null,2400,2,{"$f":"M236/N236","v":1200},8000,null,8000,21024,1,"NA",null,1,7382400,null,null,7382400,3076,null,0,"NA",null,null,"2018-07-19","Confident"]
[1,"P0158","Haiti",null,null,null,"Hydro",1,"Utility/IPP","Operational",null,null,1100,null,null,1425,null,1425,1425,0.1478829389788294,"NA",0.1478829389788294,0.85,3383600,null,null,3383600,3076,null,0,"NA",null,"One of the four oldest micro-hydropower projects in Haiti.","2018-08-20","Confident"]
[1,"P0159","Haiti",null,null,null,"Hydro",1,"Utility/IPP","Planned",null,null,null,null,null,0,null,null,0,0.85,"NA",null,0.85,0,null,null,0,{"$f":"VLOOKUP(G238,'Capex by RE tech'!$A$2:$F$19,6,TRUE)","v":2813},null,0,"NA",null,null,"2018-07-11","Not confident"]
[1,"P0160","Haiti",null,null,null,"Hydro",1,"Utility/IPP","Operational",null,null,850,null,null,410.5500000918102,null,410.5500000918102,410.55000009181026,5.5136986313700002E-2,"NA",5.5136986313700002E-2,0.85,2780000,null,2780000,2614600,{"$f":" IF(AND(ISNUMBER(M239), ISNUMBER(X239)),X239/M239,\"NA\")","v":3270.5882352941176},null,0,"NA",null,"One of the four oldest micro-hydropower projects in Haiti.","2018-07-10","Confident"]
[1,"P0161","Haiti",null,null,null,"Hydro",1,"Utility/IPP","Operational",null,null,520,null,null,3428.0064002246645,null,3428.0064002246645,3428.0064002246645,0.75254794525479995,"NA",0.75254794525479995,0.85,1599520,null,null,1599520,3076,null,0,"NA",null,"One of the four oldest micro-hydropower projects in Haiti.","2018-08-20","Confident"]
[1,"P0162","Haiti",null,null,null,"Solar PV",1,"Distributed","Operational",null,null,400,null,null,700.80000000000007,null,700.80000000000007,890.01599999999996,0.254,"NA",null,0.254,1031200,null,null,1031200,2578,null,0,"NA",null,"Constructed as part of Clinton Global Initiative.","2017-08-03"]
[1,"P0163","Haiti",null,null,null,"Hydro",1,"Distributed","Operational",null,null,300,null,null,675.75007559999915,null,675.75007559999915,675.75007559999904,0.25713473196346998,"NA",0.25713473196346998,0.85,922800,null,null,922800,3076,null,0,"NA",null,null,"2018-08-20","Confident"]
[1,"P0164","Haiti",null,null,null,"Solar PV",1,"Distributed","Operational",null,null,100,null,null,177,null,177,222.50399999999999,0.254,"NA",null,0.254,257800,null,null,257800,2578,null,0,"NA",null,"Project completed by Sunora Solar Energy.","2017-08-03"]
[1,"P0165","Haiti",null,null,null,"Solar PV",1,"Distributed","Operational",null,null,52,null,null,91.103999999999999,null,91.103999999999999,115.70208,0.254,"NA",null,0.254,134056,null,null,134056,2578,null,0,"NA",null,"Constructed through an NRG volunteer program.","2017-08-03"]
[1,"P0166","Haiti",null,null,null,"Solar PV",1,"Distributed","Operational",null,null,15,null,null,26.28,null,26.28,33.375599999999999,0.254,"NA",null,0.254,38670,null,null,38670,2578,null,0,"NA",null,"Utilizes 63 solar PV panels, funded through NRG's $1 million commitment to Clinton Global Initiative.","2017-08-03"]
[1,"P0167","Haiti",null,null,null,"Solar PV",1,"Distributed","Operational",null,null,7.2,null,null,12.6144,null,12.6144,16.020288000000001,0.254,"NA",null,0.254,18561.600000000002,null,null,18561.600000000002,2578.0000000000005,null,0,"NA",null,"First large solar powered school in Haiti.","2017-08-03"]
[1,"P0168","Haiti",null,null,null,"Solar PV",1,"Distributed","Operational",null,null,2.76,null,null,4.8355199999999998,null,4.8355199999999998,6.1411103999999996,0.254,"NA",null,0.254,7115.28,null,null,7115.28,2578,null,0,"NA",null,"Utilizes 12 solar PV panels, funded through NRG's $1 million commitment to Clinton Global Initiative.","2017-08-03"]
[1,"P0169","Haiti",null,null,null,"Solar PV",1,"Distributed","Operational",null,null,1.2,null,null,2.1023999999999998,null,2.1023999999999998,2.6700480000000004,0.254,"NA",null,0.254,3093.6,null,null,3093.6,2578,null,0,"NA",null,"Off grid system in the town of Bony. ","2017-08-03"]
[1,"P0285","Haiti",null,null,null,"Hydro",1,"Utility/IPP","Operational",null,null,650,null,null,"NA",null,null,{"$error":"#N/A"},{"$error":"#N/A"},"NA",null,{"$f":"IF(OR(J249=\"Under development\",J249=\"Planned\"),VLOOKUP(G249,'Capex by RE tech'!$A$4:$D$18,4,TRUE),IF(AND(J249=\"Operational\",G249=\"Solar PV\"),VLOOKUP(AF249,'Capex by RE tech'!$C$11:$D$13,2,TRUE),IF(AND(J249=\"Operational\",G249=\"Wind\"),VLOOKUP(AF249,'Capex by RE tech'!$C$17:$D$19,2,TRUE),IF(AND(J249=\"Operational\",G249=\"Biomass\"),VLOOKUP(AF249,'Capex by RE tech'!$C$2:$D$4,2,TRUE),IF(AND(J249=\"Operational\",G249=\"Geothermal\"),VLOOKUP(AF249,'Capex by RE tech'!$C$2:$D$4,2,TRUE),IF(AND(J249=\"Operational\",G249=\"Hydro\"),VLOOKUP(AF249,'Capex by RE tech'!$C$8:$D$10,2,TRUE),IF(AND(J249=\"Operational\",G249=\"Waste-to-Energy\"),VLOOKUP(AF249,'Capex by RE tech'!$C$14:$D$16,2,TRUE),IF(AND(J249=\"Operational\",AF249<2010),VLOOKUP(G249,'Capex by RE tech'!$A$2:$D$19,4,FALSE),NA))))))))","v":{"$error":"#N/A"}},0,null,null,{"$f":"AB249*M249","v":0},null,null,null,null,null,null,"2018-08-20","Not confident"]
[null,null,"Haiti",null,null,null,"Solar PV",null,null,"Under development",null,null,8000,null,null,null,null,null,null,null,"NA"]
[null,null,"Haiti",null,null,null,"Solar PV",null,null,"Under development",null,null,4000,null,null,null,null,null,null,null,"NA"]
[1,"P0174-1","Jamaica","Wigton Windfarm Phase I","Manchester ","Wigton Windfarm Ltd","Wind",1,"Utility/IPP","Operational","Wigton Windfarm Ltd","Jamaica Public Service Company (JPS)",{"$f":" 20700","v":20700},null,null,54399.6,null,null,54399.6,0.3,"NA",0.3,0.46,32616300,null,null,32616300,{"$f":" IF(AND(ISNUMBER(M252), ISNUMBER(X252)),X252/M252,\"NA\")","v":1575.6666666666667},null,{"$f":"SUM(AC252:AC252)","v":0},{"$f":"IF(ISNUMBER(AF252),AF252,IF(ISNUMBER(AG252),AG252,\"NA\"))","v":2004},2004,null,"2019-09-17","Confident"]
[1,"P0181","Jamaica","Munro Wind Farm","Munro ","UNISON Co., Ltd.","Wind",1,"Utility/IPP","Operational","UNISON Co., Ltd.","Jamaica Public Service Company (JPS)",3200,4,{"$f":"M253/N253","v":800},4204.8,null,null,4204.8,0.15,"NA",0.15,0.46,9300000,9300000,null,4727000,2906.25,null,0,2009,2009,null,"2019-09-17","Confident"]
[1,"P0174-2","Jamaica","Wigton Windfarm Phase II","Manchester ","Wigton Windfarm Ltd","Wind",1,"Utility/IPP","Operational","Wigton Windfarm Ltd","Jamaica Public Service Company (JPS)",{"$f":" 18000","v":18000},null,null,55188,null,null,55188,0.35,"NA",0.35,0.46,28362000,null,null,28362000,1575.6666666666667,null,0,2010,2010,null,"2019-09-17","Confident"]
[1,"P0170","Jamaica","Paradise Park ","Paradise Park, Westmoreland Parish","Eight Rivers Energy Company","Solar PV",1,"Utility/IPP","Operational","Eight Rivers Energy Company","Jamaica Public Service Company (JPS)",37000,null,null,97236,null,null,97236,0.3,0.3,null,0.254,95386000,null,null,95386000,2578,null,0,2019,2019,"Began operations 2019. ","2019-09-17","Confident"]
[1,"P0172","Jamaica",null,"Riverton City ","TBD","Waste-to-Energy",1,"Utility/IPP","Planned","TBD","TBD",35000,null,null,215641.99999999997,null,null,215641.99999999997,0.70333333333333325,{"$f":"IF(OR(ISBLANK(M256),ISBLANK(Q256)),\"NA\",(Q256*1000)/(M256*8760))","v":"NA"},null,0.70333333333333325,143000000,null,143000000,{"$error":"#DIV/0!"},4085.7142857142858,null,0,"NA",null,"No new developments as of last update. Several firms have expressed interest in integrating a waste-to-energy system at the landfill. October 31, 2016, Prime Minister Holness appointed a nine-man enterprise team to evaluate proposals for the dump.","2019-08-12","Not confident"]
[1,"P0173","Jamaica","Content Solar PV Plant","Clarendon Parish ","WRB Enterprises","Solar PV",1,"Utility/IPP","Operational","WRB Enterprises","Jamaica Public Service Company (JPS)",20000,97000,{"$f":"M257/N257","v":0.20618556701030927},44000,{"$f":" 44 * 1000","v":44000},null,40296,0.23,0.23,null,0.254,63000000,63000000,null,51560000,3150,null,0,2016,2016,"WRB Energy’s Content Solar in Jamaica: Resiliency","2018-08-20","Confident"]
[8,"P0175","Jamaica",null,"Various","Jamaica Public Service Company (JPS)","Hydro",8,"Utility/IPP","Operational","Jamaica Public Service Company (JPS)",null,{"$f":"29000-7200","v":21800},null,null,162322.79999999999,null,null,162322.79999999999,0.85,{"$f":"IF(OR(ISBLANK(M258),ISBLANK(Q258)),\"NA\",(Q258*1000)/(M258*8760))","v":"NA"},null,0.85,67056800,null,null,67056800,3076,null,0,"NA",null,"Maggotty accounts for about 30% of total hydroelectric generation, capacity factor calculated by averaging capacity factors of nine JPS hydroelectric plants.","2019-09-17","Not confident"]
[382,"P0178","Jamaica",null,null,null,"Solar PV",382,"Distributed","Operational",null,null,11350,null,null,25254.204000000002,null,null,25254.204000000002,0.254,"NA",null,0.254,29260300,null,null,29260300,2578,null,0,"NA",null,"Customer-owned renewable energy systems interconnected with the grid. ","2017-08-03"]
[1,null,"Jamaica","Upper White River","St. Ann","Jamaica Public Service Company (JPS)","Hydro",1,"Utility/IPP","Operational","Jamaica Public Service Company (JPS)",null,3200,null,null,13819.776,null,null,13819.776,0.49299999999999999,"NA",0.49299999999999999,null,9843200,null,null,{"$f":"AB260*M260","v":9843200},{"$f":"'Capex by RE tech'!$F$8","v":3076},null,null,null,1945,"Energy Division CREF 2019 Survey response","2019-09-17","Confident"]
[1,null,"Jamaica","Lower White River","St. Ann","Jamaica Public Service Company (JPS)","Hydro",1,"Utility/IPP","Operational","Jamaica Public Service Company (JPS)",null,4750,null,null,17351.37,null,null,17351.37,0.41699999999999998,"NA",0.41699999999999998,null,14611000,null,null,{"$f":"AB261*M261","v":14611000},{"$f":"'Capex by RE tech'!$F$8","v":3076},null,null,null,1952,"Energy Division CREF 2019 Survey response","2019-09-17","Confident"]
[1,null,"Jamaica","Roaring River","St. Ann","Jamaica Public Service Company (JPS)","Hydro",1,"Utility/IPP","Operational","Jamaica Public Service Company (JPS)",null,4050,null,null,30404.646000000001,null,null,30404.646000000001,0.85699999999999998,"NA",0.85699999999999998,null,12457800,null,null,{"$f":"AB262*M262","v":12457800},{"$f":"'Capex by RE tech'!$F$8","v":3076},null,null,null,1949,"Energy Division CREF 2019 Survey response","2019-09-17","Confident"]
[1,null,"Jamaica","Rio Bueno A&B","Trelawny","Jamaica Public Service Company (JPS)","Hydro",1,"Utility/IPP","Operational","Jamaica Public Service Company (JPS)",null,3600,null,null,18227.808000000001,null,null,18227.808000000001,{"$f":"IF(AND(U263=\"NA\",ISBLANK(V263)),W263,IF(U263<>\"NA\",U263,IF(ISNUMBER(V263),V263,W263)))","v":0.57799999999999996},"NA",0.57799999999999996,null,11073600,null,null,{"$f":"AB263*M263","v":11073600},{"$f":"'Capex by RE tech'!$F$8","v":3076},null,null,null,1966,"Energy Division CREF 2019 Survey response","2019-09-17","Confident"]
[{"$f":"H264","v":1},null,"Jamaica","Constant Spring","St. Andrew","Jamaica Public Service Company (JPS)","Hydro",1,"Utility/IPP","Operational","Jamaica Public Service Company (JPS)",null,770,null,null,3325.3836000000001,null,null,3325.3836000000001,0.49299999999999999,"NA",0.49299999999999999,null,2368520,null,null,{"$f":"AB264*M264","v":2368520},{"$f":"'Capex by RE tech'!$F$8","v":3076},null,null,null,1988,"Energy Division CREF 2019 Survey response","2019-09-17","Confident"]
[1,"P0179","Jamaica","JPS Maggotty Falls","St. Elizabeth ","Jamaica Public Service Company (JPS)","Hydro",1,"Utility/IPP","Operational","Jamaica Public Service Company (JPS)",null,7200,2,{"$f":"M265/N265","v":3600},30274.559999999998,null,30274.559999999998,47871.648000000001,0.75900000000000001,"NA",0.75900000000000001,0.85,36000000,null,36000000,19378800,{"$f":" IF(AND(ISNUMBER(M265), ISNUMBER(X265)),X265/M265,\"NA\")","v":5000},null,{"$f":"SUM(AC265:AC265)","v":0},{"$f":"IF(ISNUMBER(AF265),AF265,IF(ISNUMBER(AG265),AG265,\"NA\"))","v":2014},2014,null,"2019-09-17","Confident",null,null," "]
[67,"P0180","Jamaica",null,"Various Texaco Jamaica Sites","Texaco Jamaica ","Solar PV",67,"Distributed","Operational","Texaco Jamaica ",null,3350,null,null,5869.2000000000007,null,5869.2000000000007,7453.884,0.254,"NA",null,0.254,2613000,null,{"$f":"39000*67","v":2613000},8636300,780,null,0,2014,2014,"Operational in 2015. Castalia estimated capacity based on the assumption of 50kW per gas station on all 67 service stations.","2017-08-03"]
[1,"P0171","Jamaica","BMR Energy Jamaica Wind Project","Malvern","BMR Energy LLC","Wind",1,"Utility/IPP","Operational","BMR Energy LLC","Jamaica Public Service Company (JPS)",36300,11,{"$f":"M267/N267","v":3300},120000,null,{"$f":" 120000","v":120000},81086.94,0.255,"NA",0.255,0.46,89600000,null,{"$f":" (62.7 + 26.9) * 10^6","v":89600000},57196700,2468.3195592286502,null,0,2016,2016,null,"2019-09-17","Confident"]
[1,"P0182","Jamaica",null,null,null,"Solar PV",1,"Distributed","Operational",null,null,1600,null,null,{"$f":"IF(ISNUMBER(Q268),Q268,IF(ISNUMBER(R268),R268, IF(ISNUMBER(S268), S268,\"NA\")))","v":3560.0639999999999},null,null,{"$f":" (M268 * 8760 * T268)/1000","v":3560.0639999999999},0.254,"NA",null,0.254,{"$f":" IF(ISNUMBER(Y268), Y268,IF(ISNUMBER(Z268),Z268,IF(ISNUMBER(AA268), AA268, \"NA\")))","v":3400000},null,3400000,4124800,2125,null,0,2014,2014,"Largest solar PV roof plant in Jamaica.","2017-08-03"]
[1,"P0183","Jamaica",null,"St. Catherine","Wisynco Group ","Solar PV",1,"Distributed","Operational","Wisynco Group ",null,1000,null,null,2225.04,null,null,2225.04,0.254,"NA",null,0.254,2578000,null,null,2578000,2578,null,0,2015,2015,"Commissioned in September 2015, Jamaica's largest ground mounted system.","2017-08-03"]
[1,"P0185","Jamaica",null,null,null,"Solar PV",1,"Distributed","Operational",null,null,600,null,null,1335.0239999999999,null,null,1335.0239999999999,0.254,"NA",null,0.254,10000000,null,10000000,1546800,16666.666666666668,null,0,2014,2014,"Operational in March 2014, 15 kW systems installed in 40 chicken houses.","2017-08-03"]
[1,"P0186","Jamaica",null,null,null,"Solar PV",1,"Distributed","Operational",null,null,500,null,null,1112.52,null,null,1112.52,0.254,"NA",null,0.254,1000000,null,1000000,1289000,2000,null,0,2015,2015,"Operational in December 2015. ","2017-08-03"]
[1,"P0187","Jamaica",null,null,null,"Solar PV",1,"Distributed","Operational",null,null,460,null,null,1023.5184,null,null,1023.5184,0.254,"NA",null,0.254,1000000,null,1000000,1185880,2173.913043478261,null,0,2015,2015,"Commissioned in May 2015.","2017-08-03"]
[1,"P0188","Jamaica",null,null,null,"Solar PV",1,"Distributed","Operational",null,null,450,null,null,1001.268,null,null,1001.268,0.254,"NA",null,0.254,1160100,null,null,1160100,2578,null,0,2015,2015,"Commissioned in October 2015. ","2017-08-03"]
[1,"P0189","Jamaica",null,null,null,"Solar PV",1,"Distributed","Operational",null,null,330,null,null,734.26319999999998,null,null,734.26319999999998,0.254,"NA",null,0.254,500000,null,500000,850740,1515.1515151515152,null,0,2017,2017,"Commissioned in April 2017. ","2017-08-03"]
[1,"P0190","Jamaica",null,null,null,"Solar PV",1,"Distributed","Operational",null,null,300,null,null,667.51199999999994,null,null,667.51199999999994,0.254,"NA",null,0.254,773400,null,null,773400,2578,null,0,2015,2015,"Commissioned in 2015.","2017-08-03"]
[18,"P0191","Jamaica",null,null,null,"Solar PV",18,"Distributed","Operational",null,null,232,null,null,516.20928000000004,null,null,516.20928000000004,0.254,"NA",null,0.254,598096,null,null,598096,2578,null,0,"NA",null,"Solar systems will be provided to 15 schools and three government institutions.","2017-08-03"]
[1,"P0192","Jamaica",null,null,null,"Wind",1,"Distributed","Operational",null,null,225,null,null,906.66,null,null,906.66,0.46,"NA",null,0.46,354525,null,null,354525,1575.6666666666667,null,0,1996,1996,"Commissioned in 1996, first grid-connected wind energy source in English-speaking Caribbean.","2017-08-03"]
[1,"P0193","Jamaica",null,null,null,"Solar PV",1,"Distributed","Operational",null,null,200,null,null,445.00799999999998,null,null,445.00799999999998,0.254,"NA",null,0.254,515600,null,null,515600,2578,null,0,2012,2012,"Developed by Element Solar. Sites in Seawad Drive and Rio Bueno commissioned in 2012.","2017-08-03"]
[1,"P0194","Jamaica",null,null,null,"Solar PV",1,"Distributed","Operational",null,null,170,null,null,378.2568,null,null,378.2568,0.254,"NA",null,0.254,438260,null,null,438260,2578,null,0,"NA",null,"Building is 100% solar powered during daytime operations. ","2017-08-03"]
[1,"P0195","Jamaica",null,null,null,"Solar PV",1,"Distributed","Operational",null,null,143,null,null,318.18072000000001,null,null,318.18072000000001,0.254,"NA",null,0.254,368654,null,null,368654,2578,null,0,2015,2015,"Operational in 2015.","2017-08-03"]
[1,"P0196","Jamaica",null,null,null,"Solar PV",1,"Distributed","Operational",null,null,125,null,null,278.13,null,null,278.13,0.254,"NA",null,0.254,1240000,null,1240000,322250,9920,null,0,2015,2015,"Commissioned in June 2015.","2017-08-03"]
[1,"P0197","Jamaica",null,null,null,"Solar PV",1,"Distributed","Operational",null,null,100,null,null,222.50399999999999,null,null,222.50399999999999,0.254,"NA",null,0.254,257800,null,null,257800,2578,null,0,2013,2013,"Commissioned in June 2013.","2017-08-03"]
[1,"P0198","Jamaica",null,null,null,"Solar PV",1,"Distributed","Operational",null,null,100,null,null,222.50399999999999,null,null,222.50399999999999,0.254,"NA",null,0.254,257800,null,null,257800,2578,null,0,"NA",null,"Villas Keela Wee and Whispering Waters are 100% solar powered.","2017-08-03"]
[1,"P0199","Jamaica",null,null,null,"Solar PV",1,"Distributed","Operational",null,null,100,null,null,222.50399999999999,null,null,222.50399999999999,0.254,"NA",null,0.254,257800,null,null,257800,2578,null,0,2015,2015,"Developed by Solaris Energy, commissioned in April 2015. System comprised of 384 x 260 W ReneSola solar panels.","2017-08-03"]
[1,"P0200","Jamaica",null,null,null,"Solar PV",1,"Distributed","Operational",null,null,100,null,null,222.50399999999999,null,null,222.50399999999999,0.254,"NA",null,0.254,257800,null,null,257800,2578,null,0,2015,2015,"Developed by Isratech Energy Solutions, commissioned in 2015.","2017-08-03"]
[1,"P0201","Jamaica",null,null,null,"Solar PV",1,"Distributed","Operational",null,null,100,null,null,222.50399999999999,null,null,222.50399999999999,0.254,"NA",null,0.254,310000,null,310000,257800,3100,null,0,2014,2014,"Commissioned in July 2014, partnership between Utech and JPS.","2017-08-03"]
[1,"P0202","Jamaica",null,null,null,"Solar PV",1,"Distributed","Operational",null,null,80,null,null,178.00320000000002,null,null,178.00320000000002,0.254,"NA",null,0.254,206240,null,null,206240,2578,null,0,2016,2016,"First townhouse in Jamaica running completely off JPS.","2017-08-03"]
[1,"P0203","Jamaica",null,null,null,"Solar PV",1,"Distributed","Operational",null,null,75,null,null,166.87799999999999,null,null,166.87799999999999,0.254,"NA",null,0.254,193350,null,null,193350,2578,null,0,2014,2014,"Commissioned in December 2014. System comprised of 292 x 255 W solar panels. ","2017-08-03"]
[1,"P0204","Jamaica",null,null,null,"Solar PV",1,"Distributed","Operational",null,null,60,null,null,133.50239999999999,null,null,133.50239999999999,0.254,"NA",null,0.254,50000,null,50000,154680,833.33333333333337,null,0,2013,2013,"Commissioned in 2013. System comprised of 288 x 210 W solar panels.","2017-08-03"]
[1,"P0205","Jamaica",null,null,null,"Solar PV",1,"Distributed","Operational",null,null,60,null,null,133.50239999999999,null,null,133.50239999999999,0.254,"NA",null,0.254,154680,null,null,154680,2578,null,0,2014,2014,"Commissioned in May 2013, developed by Alternative Power Sources (Jamaica) Ltd. ","2017-08-03"]
[1,"P0206","Jamaica",null,null,null,"Solar PV",1,"Distributed","Operational",null,null,58.8,null,null,130.83235199999999,null,null,130.83235199999999,0.254,"NA",null,0.254,190000,null,190000,151586.4,3231.2925170068029,null,0,2014,2014,"Commissioned in June 2014, developed by Panasonic Latin America. ","2017-08-03"]
[1,"P0207","Jamaica",null,null,null,"Solar PV",1,"Distributed","Operational",null,null,25,null,null,55.625999999999998,null,null,55.625999999999998,0.254,"NA",null,0.254,64450,null,null,64450,2578,null,0,2015,2015,"Commissioned in October 2015. ","2017-08-03"]
[3,"P0208","Jamaica",null,null,null,"Wind",3,"Distributed","Operational",null,null,22.4,null,null,90.263040000000004,null,null,90.263040000000004,0.46,"NA",null,0.46,35294.933333333334,null,null,35294.933333333334,1575.6666666666667,null,0,"NA",null,"Customer-owned renewable energy systems interconnected with the grid. ","2017-08-03"]
[1,"P0209","Jamaica",null,null,null,"Solar PV",1,"Distributed","Operational",null,null,13.7,null,null,30.483048,null,null,30.483048,0.254,"NA",null,0.254,200000,null,200000,35318.6,14598.540145985402,null,0,2012,2012,"Commissioned in 2012.","2017-08-03"]
[1,"P0210","Jamaica",null,null,null,"Solar PV",1,"Distributed","Operational",null,null,10,null,null,22.250400000000003,null,null,22.250400000000003,{"$f":"IF(AND(U295=\"NA\",ISBLANK(V295)),W295,IF(U295<>\"NA\",U295,IF(ISNUMBER(V295),V295,W295)))","v":0.254},"NA",null,0.254,20000,null,20000,25780,2000,null,0,2013,2013,"Commissioned in August 2013.","2017-08-03"]
[{"$f":"H296","v":1},"P0174-3","Jamaica","Wigton Windfarm Phase III","Manchester ","Petroleum Corporation of Jamaica","Wind",1,"Utility/IPP","Operational","Petroleum Corporation of Jamaica","Jamaica Public Service Company (JPS)",{"$f":"24000","v":24000},null,null,50457.599999999999,null,null,50457.599999999999,0.24,"NA",0.24,0.46,37816000,null,null,37816000,1575.6666666666667,null,0,2016,2016,null,"2019-09-17","Confident"]
[957,"P0211","Martinique",null,null,null,"Solar PV",957,"Distributed","Operational",null,null,62000,null,null,76036.800000000003,null,76036.800000000003,76036.800000000003,0.14000000000000001,"NA",0.14000000000000001,0.254,159836000,null,null,159836000,2578,null,0,"NA",null,null,"2017-08-03"]
[1,"P0214","Martinique",null,"Le Vauclin","Quadran ","Wind",1,"Utility/IPP","Operational","Quadran ","Électricité de France S.A. (EDF)",1100,4,{"$f":"M298/N298","v":275},2400,null,2400,2400,0.24906600249066002,"NA",{"$f":" R298 * 1000/(M298 * 8760)","v":0.24906600249066002},0.46,1733233.3333333335,null,null,1733233.3333333335,1575.6666666666667,null,0,2004,2004,null,"2018-07-19","Confident"]
[1,"P0212","Martinique","Albioma Bagass/Biomass Plant","La Trinité","Albioma Galion and COFEPP","Biomass",1,"Utility/IPP","Operational","Albioma Galion and COFEPP","Électricité de France S.A. (EDF)",40000,null,null,285000,285000,null,285000,0.81335616438356162,0.81335616438356162,null,0.69633333333333336,211000000,null,211000000,142466666.66666666,5275,null,0,2018,2018,"Commissioned January 2018. April 13, 2017, Administrative Court of Appeal of Bordeaux overturned previous ruling regarding operation of Gailon 2, confirming Albioma's authorization to operate the plant. Work on the plant continues unabated, plant scheduled to be completed in Q4 2017. ","2019-10-09","Confident"]
[1,"P0213","Martinique",null,"Martiniquaise de Valorisation","Communaute d'Agglomeration du Centre de la Martinique","Waste-to-Energy",1,"Utility/IPP","Operational","Communaute d'Agglomeration du Centre de la Martinique","Électricité de France S.A. (EDF)",7000,null,null,40500,40500,23000,40500,0.66046966731898238,0.66046966731898238,null,0.70333333333333325,45000000,null,45000000,{"$error":"#DIV/0!"},6428.5714285714284,null,0,2002,2002,"Sole source of non-intermittent renewable energy on the island.","2018-07-19","Confident"]
[1,null,"Martinique","Grand-Riviere Wind Park",null,null,"Wind",1,"Utility/IPP","Operational",null,null,14000,null,null,42924,null,null,42924,0.35,"NA",null,{"$f":"IF(OR(J301=\"Under development\",J301=\"Planned\"),VLOOKUP(G301,'Capex by RE tech'!$A$4:$D$18,4,TRUE),IF(AND(J301=\"Operational\",G301=\"Solar PV\"),VLOOKUP(AF301,'Capex by RE tech'!$C$11:$D$13,2,TRUE),IF(AND(J301=\"Operational\",G301=\"Wind\"),VLOOKUP(AF301,'Capex by RE tech'!$C$17:$D$19,2,TRUE),IF(AND(J301=\"Operational\",G301=\"Biomass\"),VLOOKUP(AF301,'Capex by RE tech'!$C$2:$D$4,2,TRUE),IF(AND(J301=\"Operational\",G301=\"Geothermal\"),VLOOKUP(AF301,'Capex by RE tech'!$C$2:$D$4,2,TRUE),IF(AND(J301=\"Operational\",G301=\"Hydro\"),VLOOKUP(AF301,'Capex by RE tech'!$C$8:$D$10,2,TRUE),IF(AND(J301=\"Operational\",G301=\"Waste-to-Energy\"),VLOOKUP(AF301,'Capex by RE tech'!$C$14:$D$16,2,TRUE),IF(AND(J301=\"Operational\",AF301<2010),VLOOKUP(G301,'Capex by RE tech'!$A$2:$D$19,4,FALSE),NA))))))))","v":0.35},20650000,null,null,{"$f":"AB301*M301","v":20650000},{"$f":"VLOOKUP(G301,'Capex by RE tech'!$A$2:$F$19,6,TRUE)","v":1475},null,0,2019,2019,"Inaugurated February 2019","2019-08-12","Confident"]
[2,null,"Martinique",null,"Macouba and Ajoupa Boullon",null,"Wind",2,"Utility/IPP","Planned",null,null,22000,null,null,0,null,null,0,0,null,null,{"$f":"IF(OR(J302=\"Under development\",J302=\"Planned\"),VLOOKUP(G302,'Capex by RE tech'!$A$4:$D$18,4,TRUE),IF(AND(J302=\"Operational\",G302=\"Solar PV\"),VLOOKUP(AF302,'Capex by RE tech'!$C$11:$D$13,2,TRUE),IF(AND(J302=\"Operational\",G302=\"Wind\"),VLOOKUP(AF302,'Capex by RE tech'!$C$17:$D$19,2,TRUE),IF(AND(J302=\"Operational\",G302=\"Biomass\"),VLOOKUP(AF302,'Capex by RE tech'!$C$2:$D$4,2,TRUE),IF(AND(J302=\"Operational\",G302=\"Geothermal\"),VLOOKUP(AF302,'Capex by RE tech'!$C$2:$D$4,2,TRUE),IF(AND(J302=\"Operational\",G302=\"Hydro\"),VLOOKUP(AF302,'Capex by RE tech'!$C$8:$D$10,2,TRUE),IF(AND(J302=\"Operational\",G302=\"Waste-to-Energy\"),VLOOKUP(AF302,'Capex by RE tech'!$C$14:$D$16,2,TRUE),IF(AND(J302=\"Operational\",AF302<2010),VLOOKUP(G302,'Capex by RE tech'!$A$2:$D$19,4,FALSE),NA))))))))","v":0.315},32450000,null,null,{"$f":"AB302*M302","v":32450000},{"$f":"VLOOKUP(G302,'Capex by RE tech'!$A$2:$F$19,6,TRUE)","v":1475}]
[1,"P0277","Montserrat",null,null,null,"Solar PV",1,"Utility/IPP","Operational",null,"Montserrat Utilities Limited (MUL)",250,null,null,438,null,null,438,0.2,{"$f":"IF(OR(ISBLANK(M303),ISBLANK(Q303)),\"NA\",(Q303*1000)/(M303*8760))","v":"NA"},null,0.2,362500,null,null,{"$f":"AB303*M303","v":362500},{"$f":"VLOOKUP(G303,'Capex by RE tech'!$A$2:$F$19,6,TRUE)","v":1450},null,null,{"$f":"IF(ISNUMBER(AF303),AF303,IF(ISNUMBER(AG303),AG303,\"NA\"))","v":2019},2019,"OECD Platts","2019-08-07","Confident"]
[1,null,"Montserrat",null,"Brades",null,"Solar PV",1,"Utility/IPP","Under development",null,"Montserrat Utilities Limited (MUL)",750,null,null,1511.1,null,null,1511.1,0.23,{"$f":"IF(OR(ISBLANK(M304),ISBLANK(Q304)),\"NA\",(Q304*1000)/(M304*8760))","v":"NA"},null,{"$f":"IF(OR(J304=\"Under development\",J304=\"Planned\"),VLOOKUP(G304,'Capex by RE tech'!$A$4:$D$18,4,TRUE),IF(AND(J304=\"Operational\",G304=\"Solar PV\"),VLOOKUP(AF304,'Capex by RE tech'!$C$11:$D$13,2,TRUE),IF(AND(J304=\"Operational\",G304=\"Wind\"),VLOOKUP(AF304,'Capex by RE tech'!$C$17:$D$19,2,TRUE),IF(AND(J304=\"Operational\",G304=\"Biomass\"),VLOOKUP(AF304,'Capex by RE tech'!$C$2:$D$4,2,TRUE),IF(AND(J304=\"Operational\",G304=\"Geothermal\"),VLOOKUP(AF304,'Capex by RE tech'!$C$2:$D$4,2,TRUE),IF(AND(J304=\"Operational\",G304=\"Hydro\"),VLOOKUP(AF304,'Capex by RE tech'!$C$8:$D$10,2,TRUE),IF(AND(J304=\"Operational\",G304=\"Waste-to-Energy\"),VLOOKUP(AF304,'Capex by RE tech'!$C$14:$D$16,2,TRUE),IF(AND(J304=\"Operational\",AF304<2010),VLOOKUP(G304,'Capex by RE tech'!$A$2:$D$19,4,FALSE),NA))))))))","v":0.23},1087500,null,null,{"$f":"AB304*M304","v":1087500},{"$f":"VLOOKUP(G304,'Capex by RE tech'!$A$2:$F$19,6,TRUE)","v":1450},null,null,{"$f":"IF(ISNUMBER(AF304),AF304,IF(ISNUMBER(AG304),AG304,\"NA\"))","v":"NA"},null,"Second phase of solar PV in different location, considering airport. Will also have battery storage; according to 2019 survey respondent, COD is March 2021","2019-08-07","Confident"]
[1,"P0215","Montserrat",null,"TBD","Department for International Development (DFID)","Geothermal",1,"Utility/IPP","Planned","Department for International Development (DFID)","Montserrat Utilities Limited (MUL)",3300,null,null,23656.38,null,null,23656.38,0.81833333333333336,{"$f":"IF(OR(ISBLANK(M305),ISBLANK(Q305)),\"NA\",(Q305*1000)/(M305*8760))","v":"NA"},null,0.81833333333333336,13500000,null,13500000,15995100,{"$f":" IF(AND(ISNUMBER(M305), ISNUMBER(X305)),X305/M305,\"NA\")","v":4090.909090909091},null,{"$f":"SUM(AC305:AC305)","v":0},{"$f":"IF(ISNUMBER(AF305),AF305,IF(ISNUMBER(AG305),AG305,\"NA\"))","v":"NA"},null,"Initial source well drilling has taken four years. 2 wells confirmed capacity, drilling on third well has stored. DFID Oct. 2018 agreed to finance next phase. ","2019-10-09","Confident"]
[{"$f":"H306","v":1},"P0217","Nevis ","WindWatt Wind Farm","Marsabit","WINDWATT","Wind",1,"Utility/IPP","Operational","WINDWATT","Nevis Electricity Company (NEVLEC)",2200,8,{"$f":"M306/N306","v":275},{"$f":"IF(ISNUMBER(Q306),Q306,IF(ISNUMBER(R306),R306, IF(ISNUMBER(S306), S306,\"NA\")))","v":8865.1200000000008},null,null,{"$f":" (M306 * 8760 * T306)/1000","v":8865.1200000000008},{"$f":"IF(AND(U306=\"NA\",ISBLANK(V306)),W306,IF(U306<>\"NA\",U306,IF(ISNUMBER(V306),V306,W306)))","v":0.46},{"$f":"IF(OR(ISBLANK(M306),ISBLANK(Q306)),\"NA\",(Q306*1000)/(M306*8760))","v":"NA"},null,0.46,{"$f":" IF(ISNUMBER(Y306), Y306,IF(ISNUMBER(Z306),Z306,IF(ISNUMBER(AA306), AA306, \"NA\")))","v":3700000},null,3700000,3466466.666666667,{"$f":" IF(AND(ISNUMBER(M306), ISNUMBER(X306)),X306/M306,\"NA\")","v":1681.8181818181818},null,{"$f":"SUM(AC306:AC306)","v":0},{"$f":"IF(ISNUMBER(AF306),AF306,IF(ISNUMBER(AG306),AG306,\"NA\"))","v":2010},2010,null,"2019-09-16","Confident"]
[{"$f":"H307","v":1},"P0216","Nevis ",null,"Hamilton","Nevis Renewable Energy Int'l","Geothermal",1,"Utility/IPP","Under development",null,"Nevis Electricity Company (NEVLEC)",10000,null,null,71686,null,null,71686,{"$f":"IF(AND(U307=\"NA\",ISBLANK(V307)),W307,IF(U307<>\"NA\",U307,IF(ISNUMBER(V307),V307,W307)))","v":0.81833333333333336},"NA",null,0.81833333333333336,43623000,null,null,43623000,4362.3,null,0,"NA",null,"Drilling contractor selected August 2019. Developer team assembled (https://www.thinkgeoenergy.com/nevis-geothermal-project-moves-forward-with-choice-of-construction-and-operations-team/).","2019-08-07","Confident"]
[{"$f":"H308","v":1},"P0218","Puerto Rico","Santa Isabel Wind Farm","Santa Isabel ","Pattern Energy ","Wind",1,"Utility/IPP","Operational","Pattern Energy ","Puerto Rico Electric Power Authority (PREPA)",95,44,{"$f":"M308/N308","v":2.1590909090909092},151049.60999999999,null,151049.60999999999,158.95020000000002,{"$f":"IF(AND(U308=\"NA\",ISBLANK(#REF!)),V308,IF(U308<>\"NA\",U308,IF(ISNUMBER(#REF!),#REF!,V308)))","v":0.191},"NA",0.191,null,250000000,null,250000000,159457466.66666669,2631578.9473684211,null,0,2012,2012,"PPOA under commercial operation","2019-08-13","Confident"]
[{"$f":"H309","v":1},"P0227","Puerto Rico","Punta Lima Wind Farm","Naguabo ","Gestamp Wind ","Wind",1,"Utility/IPP","Operational","Gestamp Wind ","Puerto Rico Electric Power Authority (PREPA)",26000,13,{"$f":"M309/N309","v":2000},52301,null,52301,55555.555555555555,{"$f":"IF(AND(U309=\"NA\",ISBLANK(V309)),W309,IF(U309<>\"NA\",U309,IF(ISNUMBER(V309),V309,W309)))","v":0.24392147679818912},"NA",0.24392147679818912,0.23,82000000,null,82000000,36870600,3153.8461538461538,null,0,2013,2013,"Almost every turbine damaged by Maria, will require reconstruction","2019-08-13","Confident"]
[{"$f":"H310","v":1},"P0219","Puerto Rico","Montalva Solar Power Project","Guanica and Lajas","Greenbriar Capital Corp. and Atherton Pacific Green (APG) ","Solar PV",1,"Utility/IPP","Planned","Greenbriar Capital Corp. and Atherton Pacific Green (APG) ","Puerto Rico Electric Power Authority (PREPA)",100000,null,null,237000,null,237000,0,0,"NA",{"$f":"Q310/876000","v":0},1,331400000,null,331400000,257800000,3314,null,0,"NA",null,"Includes 30 MW battery. Financing secured mid-2019. As of May 2020, PPOA signed. Awaiting final approval from government bodies.","2019-10-11","Confident"]
[11,"P0220","Puerto Rico",null,"Various ","Various","Hydro",11,"Utility/IPP","Operational","Various","Various",100000,null,null,22167.577370286173,null,22167.577370286173,0,0,"NA",{"$f":"Q311/876000","v":0},1,307600000,null,null,307600000,3076,null,0,"NA",null,"The 100 MW of hydroelectric capacity comprises of 21 generating units at 11 sites around the island, the largest unit being Yauco I at 25 MW.","2018-07-19","Confident"]
[{"$f":"H312","v":1},"P0223","Puerto Rico",null,null,null,"Solar PV",1,"Distributed","Operational",null,null,39100,null,null,86999.063999999998,null,null,86999.063999999998,0.254,"NA",null,0.254,100799800,null,null,100799800,2578,null,0,"NA",null,null,"2017-08-03"]
[1,"P0221","Puerto Rico",null,"Arecibo ","Energy Answers Arecibo, LLC","Waste-to-Energy",1,"Utility/IPP","Planned","Energy Answers Arecibo, LLC","TBD",79000,null,null,486734.79999999993,null,null,486734.79999999993,0.70333333333333325,"NA",null,0.70333333333333325,800000000,null,800000000,{"$error":"#DIV/0!"},10126.582278481013,null,0,"NA",null,"Energy Answers now in process of obtaining environmental permits. Company estimates the cost of the three-year project to be $750 million. No news to report","2019-08-13","Not confident"]
[1,"P0222","Puerto Rico","Oriana Solar Farm","Isabela","Oriana Energy LLC. And Yarotek","Solar PV",1,"Utility/IPP","Operational","Oriana Energy LLC. And Yarotek","Puerto Rico Electric Power Authority (PREPA)",45000,null,null,84742,null,84742,94213.8,0.23899999999999999,"NA",0.23899999999999999,0.254,160000000,null,160000000,148235000,3555.5555555555557,null,0,2016,2016,"PPOA under commercial operation","2019-08-13","Confident"]
[1,"P0224","Puerto Rico",null,"Fajardo","Sonnedix Solar PR","Solar PV",1,"Utility/IPP","Planned","Sonnedix Solar PR","TBD",26000,null,null,57851.040000000001,null,null,57851.040000000001,0.254,"NA",null,0.254,67028000,null,null,67028000,2578,null,0,"NA",null,"Documentation phase","2019-08-13","Confident"]
[1,"P0225","Puerto Rico","San Fermin Solar Farm","Loiza","Canadian Solar Inc., Uriel Renewables Inc., and Coqui ","Solar PV",1,"Utility/IPP","Operational","Canadian Solar Inc., Uriel Renewables Inc., and Coqui ","Puerto Rico Electric Power Authority (PREPA)",20000,null,null,29960.81,null,29960.81,36792,0.21,"NA",0.21,0.20399999999999999,67028000,null,null,67028000,3351.4,null,0,2015,2015,"PPOA under commercial operation","2019-08-13","Confident"]
[1,"P0226","Puerto Rico","AES Illumina Solar Farm","Guayama","AES Ilumina","Solar PV",1,"Utility/IPP","Operational","AES Ilumina","Puerto Rico Electric Power Authority (PREPA)",20000,null,null,38727.47,null,38727.47,36792,0.21,"NA",0.21,0.221,61872000,null,null,61872000,3093.6,null,0,2012,2012,"PPOA under commercial operation. Damaged by Maria","2019-08-13","Confident"]
[1,"P0229","Puerto Rico",null,null,null,"Solar PV",1,"Distributed","Operational",null,null,5000,null,null,8000.0007199999918,null,8000.0007199999918,8000.0007199999909,0.18264841826483999,"NA",0.18264841826483999,0.254,20000000,null,20000000,12890000,4000,null,0,2013,2013,"Operational in December of 2013. ","2017-08-03"]
[1,"P0230","Puerto Rico",null,null,null,"Solar PV",1,"Distributed","Operational",null,null,4721,null,null,7778.5804816223063,null,7778.5804816223063,7778.5804816223063,0.18808849997974431,"NA",0.18808849997974431,0.254,12170738,null,null,12170738,2578,null,0,2013,2013,"Operational in 2013.","2017-08-03"]
[1,"P0228","Puerto Rico","Horizon Energy Solar Farm","Salinas ","Horizon Energy LLC and Yarotek","Solar PV",1,"Utility/IPP","Operational","Horizon Energy LLC and Yarotek","Puerto Rico Electric Power Authority (PREPA)",10000,167392,{"$f":"M320/N320","v":5.9740011470082205E-2},22655,null,22655,22688.400000000001,0.25900000000000001,"NA",null,0.25900000000000001,40000000,null,40000000,40010560,4000,null,0,2015,2015,"PPOA under commercial operation","2019-08-13","Confident"]
[13,"P0232","Puerto Rico",null,null,null,"Solar PV",13,"Distributed","Operational",null,null,2900,null,null,6452.616,null,null,6452.616,0.254,"NA",null,0.254,7476200,null,null,7476200,2578,null,0,2013,2013,"Operational in 2013.","2017-08-03"]
[1,"P0231","Puerto Rico",null,"Ponce","Windmar Renewable Energy, Inc. ","Solar PV",1,"Utility/IPP","Operational","Windmar Renewable Energy, Inc. ","Puerto Rico Electric Power Authority (PREPA)",2100,null,null,4748.34,null,4748.34,4746.1679999999997,{"$f":"IF(AND(U322=\"NA\",ISBLANK(#REF!)),V322,IF(U322<>\"NA\",U322,IF(ISNUMBER(#REF!),#REF!,V322)))","v":0.25800000000000001},"NA",0.25800000000000001,null,9858272,null,null,9858272,4694.4152380952382,null,0,2012,2012,"PPOA under commercial operation","2019-08-13","Confident"]
["Multiple",null,"Puerto Rico",null,"Multiple",null,"Solar PV","Multiple","Utility/IPP","Planned","TBD","Puerto Rico Electric Power Authority (PREPA)",1800000,null,null,3626640,null,null,3626640,{"$f":"IF(AND(U323=\"NA\",ISBLANK(V323)),W323,IF(U323<>\"NA\",U323,IF(ISNUMBER(V323),V323,W323)))","v":0.23},"NA",null,{"$f":"IF(OR(J323=\"Under development\",J323=\"Planned\"),VLOOKUP(G323,'Capex by RE tech'!$A$4:$D$18,4,TRUE),IF(AND(J323=\"Operational\",G323=\"Solar PV\"),VLOOKUP(AF323,'Capex by RE tech'!$C$11:$D$13,2,TRUE),IF(AND(J323=\"Operational\",G323=\"Wind\"),VLOOKUP(AF323,'Capex by RE tech'!$C$17:$D$19,2,TRUE),IF(AND(J323=\"Operational\",G323=\"Biomass\"),VLOOKUP(AF323,'Capex by RE tech'!$C$2:$D$4,2,TRUE),IF(AND(J323=\"Operational\",G323=\"Geothermal\"),VLOOKUP(AF323,'Capex by RE tech'!$C$2:$D$4,2,TRUE),IF(AND(J323=\"Operational\",G323=\"Hydro\"),VLOOKUP(AF323,'Capex by RE tech'!$C$8:$D$10,2,TRUE),IF(AND(J323=\"Operational\",G323=\"Waste-to-Energy\"),VLOOKUP(AF323,'Capex by RE tech'!$C$14:$D$16,2,TRUE),IF(AND(J323=\"Operational\",AF323<2010),VLOOKUP(G323,'Capex by RE tech'!$A$2:$D$19,4,FALSE),NA))))))))","v":0.23},2610000000,null,null,{"$f":"AB323*M323","v":2610000000},{"$f":"VLOOKUP(G323,'Capex by RE tech'!$A$2:$F$19,6,TRUE)","v":1450},null,0,"NA",null,"PREPA plans to install up to 1800 MW of solar PV 2019-2023 as part of IRP","2019-08-12","Confident"]
["Multiple",null,"Puerto Rico",null,"Multiple",null,"Solar PV","Multiple","Utility/IPP","Planned","TBD","Puerto Rico Electric Power Authority (PREPA)",920000,null,null,1853616,null,null,1853616,0.23,"NA",null,{"$f":"IF(OR(J324=\"Under development\",J324=\"Planned\"),VLOOKUP(G324,'Capex by RE tech'!$A$4:$D$18,4,TRUE),IF(AND(J324=\"Operational\",G324=\"Solar PV\"),VLOOKUP(AF324,'Capex by RE tech'!$C$11:$D$13,2,TRUE),IF(AND(J324=\"Operational\",G324=\"Wind\"),VLOOKUP(AF324,'Capex by RE tech'!$C$17:$D$19,2,TRUE),IF(AND(J324=\"Operational\",G324=\"Biomass\"),VLOOKUP(AF324,'Capex by RE tech'!$C$2:$D$4,2,TRUE),IF(AND(J324=\"Operational\",G324=\"Geothermal\"),VLOOKUP(AF324,'Capex by RE tech'!$C$2:$D$4,2,TRUE),IF(AND(J324=\"Operational\",G324=\"Hydro\"),VLOOKUP(AF324,'Capex by RE tech'!$C$8:$D$10,2,TRUE),IF(AND(J324=\"Operational\",G324=\"Waste-to-Energy\"),VLOOKUP(AF324,'Capex by RE tech'!$C$14:$D$16,2,TRUE),IF(AND(J324=\"Operational\",AF324<2010),VLOOKUP(G324,'Capex by RE tech'!$A$2:$D$19,4,FALSE),NA))))))))","v":0.23},1334000000,null,null,1334000000,{"$f":"VLOOKUP(G324,'Capex by RE tech'!$A$2:$F$19,6,TRUE)","v":1450},null,0,"NA",null,"PREPA plans to install 920 MW of storage 2019-2023 as part of IRP","2019-08-12","Confident"]
[1,null,"Puerto Rico",null,"La Misericordia",null,"Solar PV",1,"Distributed","Operational",null,"Nursing home in La Misericordia",16,null,null,32.236800000000002,null,null,32.236800000000002,0.23,"NA",null,0.23,23200,null,null,23200,{"$f":"VLOOKUP(G325,'Capex by RE tech'!$A$2:$F$19,6,TRUE)","v":1450},null,0,"NA",null,null,"2019-08-12","Confident"]
[0,null,"Puerto Rico","Adjuntas Community Solar Grid","Adjuntas",null,"Solar PV",null,"Distributed","Planned",null,null,null,null,null,0,null,null,0,0.23,"NA",null,{"$f":"IF(OR(J326=\"Under development\",J326=\"Planned\"),VLOOKUP(G326,'Capex by RE tech'!$A$4:$D$18,4,TRUE),IF(AND(J326=\"Operational\",G326=\"Solar PV\"),VLOOKUP(AF326,'Capex by RE tech'!$C$11:$D$13,2,TRUE),IF(AND(J326=\"Operational\",G326=\"Wind\"),VLOOKUP(AF326,'Capex by RE tech'!$C$17:$D$19,2,TRUE),IF(AND(J326=\"Operational\",G326=\"Biomass\"),VLOOKUP(AF326,'Capex by RE tech'!$C$2:$D$4,2,TRUE),IF(AND(J326=\"Operational\",G326=\"Geothermal\"),VLOOKUP(AF326,'Capex by RE tech'!$C$2:$D$4,2,TRUE),IF(AND(J326=\"Operational\",G326=\"Hydro\"),VLOOKUP(AF326,'Capex by RE tech'!$C$8:$D$10,2,TRUE),IF(AND(J326=\"Operational\",G326=\"Waste-to-Energy\"),VLOOKUP(AF326,'Capex by RE tech'!$C$14:$D$16,2,TRUE),IF(AND(J326=\"Operational\",AF326<2010),VLOOKUP(G326,'Capex by RE tech'!$A$2:$D$19,4,FALSE),NA))))))))","v":0.23},0,null,null,0,{"$f":"VLOOKUP(G326,'Capex by RE tech'!$A$2:$F$19,6,TRUE)","v":1450},null,0,"NA"]
[1,null,"Puerto Rico","Fajardo Landfill Gas","Fajardo",null,"Waste-to-Energy",1,"Utility/IPP","Operational",null,"Puerto Rico Electric Power Authority (PREPA)",2400,null,null,7947.0720000000001,null,null,7947.0720000000001,0.378,"NA",0.378,null,19852800,null,null,19852800,{"$f":"VLOOKUP(G327,'Capex by RE tech'!$A$2:$F$19,6,TRUE)","v":8272},null,0,2016,2016,"PPOA under commercial operation","2019-08-13","Confident"]
[1,null,"Puerto Rico","Coto Laurel Solar Farm ","Ponce","Windmar","Solar PV",1,"Utility/IPP","Under development","Windmar","Puerto Rico Electric Power Authority (PREPA)",10000,null,null,19272,null,19272,19272,0.22,"NA",0.22,null,14500000,null,null,14500000,{"$f":"VLOOKUP(G328,'Capex by RE tech'!$A$2:$F$19,6,TRUE)","v":1450},null,0,"NA",null,"Initial interconnection November 2016. PPOA under pre-operation","2019-08-13","Confident"]
[1,null,"Puerto Rico","Humacao Solar Farm","Humacao","Fonroche Energy America","Solar PV",1,"Utility/IPP","Operational","Fonroche Energy America","Puerto Rico Electric Power Authority (PREPA)",40000,null,null,77088,null,77088,77088,0.22,"NA",0.22,null,58000000,null,null,58000000,{"$f":"VLOOKUP(G329,'Capex by RE tech'!$A$2:$F$19,6,TRUE)","v":1450},null,0,"NA",null,"Currently operational based on most recent stakeholder presentation by PREPA, given in May 2020.","2019-08-13","Confident"]
[1,null,"Puerto Rico","Toa Baja Landfill","Toa Baja","Landfill Gas Technologies of Fajardo ","Waste-to-Energy",1,"Utility/IPP","Under development",null,"Puerto Rico Electric Power Authority (PREPA)",2400,null,null,7947,null,7947,7947.0720000000001,0.378,"NA",0.378,null,19852800,null,null,19852800,{"$f":"VLOOKUP(G330,'Capex by RE tech'!$A$2:$F$19,6,TRUE)","v":8272},null,0,"NA",null,"Facility completed testing July 2017, in process of achieving commercial operation when hurricanes Irma and Maria struck in September 2017. ","2019-08-13","Confident"]
[1,null,"Puerto Rico","Atenas Solar Farm","Manati",null,"Solar PV",1,"Utility/IPP","Planned",null,"Puerto Rico Electric Power Authority (PREPA)",20000,null,null,38544,null,38544,38544,0.22,"NA",0.22,null,29000000,null,null,29000000,{"$f":"VLOOKUP(G331,'Capex by RE tech'!$A$2:$F$19,6,TRUE)","v":1450},null,0,"NA",null,"Estimated commercial operation date is July 2019. As of June 2019, PPOA under re-negotiation.","2019-08-13","Confident"]
[1,null,"Puerto Rico","Resun","Barceloneta",null,"Solar PV",1,"Utility/IPP","Planned",null,"Puerto Rico Electric Power Authority (PREPA)",20000,null,null,38544,null,38544,38544,0.22,"NA",0.22,null,29000000,null,null,29000000,{"$f":"VLOOKUP(G332,'Capex by RE tech'!$A$2:$F$19,6,TRUE)","v":1450},null,0,"NA",null,"Estimated commercial operation date is July 2019. As of June 2019, PPOA under re-negotiation.","2019-08-13","Confident"]
[1,null,"Puerto Rico","CIRO Solar Plant","Salinas ","AZTEC Engineering Group, Inc. ","Solar PV",1,"Utility/IPP","Planned","AZTEC Engineering Group, Inc. ","Puerto Rico Electric Power Authority (PREPA)",57000,null,null,109850,null,109850,109850.4,0.22,"NA",0.22,null,82650000,null,null,82650000,{"$f":"VLOOKUP(G333,'Capex by RE tech'!$A$2:$F$19,6,TRUE)","v":1450},null,0,"NA",null,"Estimated commercial operation date is July 2019","2019-08-13","Confident"]
[1,null,"Puerto Rico","Guayama Solar Plant","Guayama","AZTEC Engineering Group, Inc. ","Solar PV",1,"Utility/IPP","Planned","AZTEC Engineering Group, Inc. ","Puerto Rico Electric Power Authority (PREPA)",17800,null,null,34304,null,34304,34304.160000000003,0.22,"NA",0.22,null,25810000,null,null,25810000,{"$f":"VLOOKUP(G334,'Capex by RE tech'!$A$2:$F$19,6,TRUE)","v":1450},null,0,"NA",null,"Estimated commercial operation date is July 2019","2019-08-13","Confident"]
[1,null,"Puerto Rico",null,"Hatillo","Grupotec USA","Solar PV",1,"Utility/IPP","Planned","Grupotec USA","Puerto Rico Electric Power Authority (PREPA)",20000,null,null,38544,null,38544,38544,0.22,"NA",0.22,null,29000000,null,null,29000000,{"$f":"VLOOKUP(G335,'Capex by RE tech'!$A$2:$F$19,6,TRUE)","v":1450},null,0,"NA",null,"Estimated commercial operation date is July 2019","2019-08-13","Confident"]
[1,null,"Puerto Rico",null,"Morovis","Irradia Energy USA","Solar PV",1,"Utility/IPP","Planned",null,"Puerto Rico Electric Power Authority (PREPA)",33500,null,null,64561,null,64561,64561.2,0.22,"NA",0.22,null,48575000,null,null,48575000,{"$f":"VLOOKUP(G336,'Capex by RE tech'!$A$2:$F$19,6,TRUE)","v":1450},null,0,"NA",null,"Estimated commercial operation date is July 2019","2019-08-13","Confident"]
[1,null,"Puerto Rico","Moca Solar Farm","Moca",null,"Solar PV",1,"Utility/IPP","Planned",null,"Puerto Rico Electric Power Authority (PREPA)",20000,null,null,38544,null,38544,38544,0.22,"NA",0.22,null,29000000,null,null,29000000,{"$f":"VLOOKUP(G337,'Capex by RE tech'!$A$2:$F$19,6,TRUE)","v":1450},null,0,"NA",null,"Estimated commercial operation date is July 2019","2019-08-13","Confident"]
[1,null,"Puerto Rico",null,"Quebradillas",null,"Solar PV",1,"Utility/IPP","Planned",null,"Puerto Rico Electric Power Authority (PREPA)",20000,null,null,{"$f":"IF(ISNUMBER(Q338),Q338,IF(ISNUMBER(R338),R338, IF(ISNUMBER(S338), S338,\"NA\")))","v":38544},null,38544,{"$f":" (M338 * 8760 * T338)/1000","v":38544},0.22,{"$f":"IF(OR(ISBLANK(M338),ISBLANK(Q338)),\"NA\",(Q338*1000)/(M338*8760))","v":"NA"},0.22,null,{"$f":" IF(ISNUMBER(Y338), Y338,IF(ISNUMBER(Z338),Z338,IF(ISNUMBER(AA338), AA338, \"NA\")))","v":29000000},null,null,29000000,{"$f":"VLOOKUP(G338,'Capex by RE tech'!$A$2:$F$19,6,TRUE)","v":1450},null,{"$f":"SUM(AC338:AC338)","v":0},{"$f":"IF(ISNUMBER(AF338),AF338,IF(ISNUMBER(AG338),AG338,\"NA\"))","v":"NA"},null,"Estimated commercial operation date is July 2019","2019-08-13","Confident"]
[1,null,"Puerto Rico",null,"Vega Baja",null,"Solar PV",1,"Utility/IPP","Planned",null,"Puerto Rico Electric Power Authority (PREPA)",20000,null,null,38544,null,38544,38544,0.22,"NA",0.22,null,29000000,null,null,29000000,{"$f":"VLOOKUP(G339,'Capex by RE tech'!$A$2:$F$19,6,TRUE)","v":1450},null,0,"NA",null,"Estimated commercial operation date is July 2019","2019-08-13","Confident"]
[1,null,"Puerto Rico",null,"San German",null,"Solar PV",1,"Utility/IPP","Planned",null,"Puerto Rico Electric Power Authority (PREPA)",25000,null,null,48180,null,48180,48180,0.22,"NA",0.22,null,36250000,null,null,36250000,{"$f":"VLOOKUP(G340,'Capex by RE tech'!$A$2:$F$19,6,TRUE)","v":1450},null,0,"NA",null,"Estimated commercial operation date is July 2019","2019-08-13","Confident"]
[1,null,"Puerto Rico","SolarBlue Begoma Project","Dorado",null,"Solar PV",1,"Utility/IPP","Planned",null,"Puerto Rico Electric Power Authority (PREPA)",20000,null,null,38544,null,38544,38544,0.22,"NA",0.22,null,29000000,null,null,29000000,{"$f":"VLOOKUP(G341,'Capex by RE tech'!$A$2:$F$19,6,TRUE)","v":1450},null,0,"NA",null,"Estimated commercial operation date is July 2019","2019-08-13","Confident"]
[1,null,"Puerto Rico",null,"Yauco-Guayanilla","Windmar Renewable Energy, Inc. ","Solar PV",1,"Utility/IPP","Planned","Windmar Renewable Energy, Inc. ","Puerto Rico Electric Power Authority (PREPA)",20000,null,null,38544,null,38544,38544,0.22,"NA",0.22,null,29000000,null,null,29000000,{"$f":"VLOOKUP(G342,'Capex by RE tech'!$A$2:$F$19,6,TRUE)","v":1450},null,0,"NA",null,"Estimated commercial operation date is July 2019","2019-08-13","Confident"]
[{"$f":"H343","v":1},null,"Puerto Rico",null,"Yabucoa","Sonnedix Solar PR","Solar PV",1,"Utility/IPP","Planned",null,"Puerto Rico Electric Power Authority (PREPA)",20000,null,null,38544,null,38544,38544,0.22,"NA",0.22,null,29000000,null,null,29000000,{"$f":"VLOOKUP(G343,'Capex by RE tech'!$A$2:$F$19,6,TRUE)","v":1450},null,0,"NA",null,"Estimated commercial operation date is July 2019","2019-08-13","Confident"]
[1,null,"Puerto Rico",null,"Santa Isabel ",null,"Wind",1,"Utility/IPP","Planned",null,"Puerto Rico Electric Power Authority (PREPA)",10000,null,null,19272,null,19272,19272,0.22,"NA",0.22,null,14750000,null,null,14750000,{"$f":"VLOOKUP(G344,'Capex by RE tech'!$A$2:$F$19,6,TRUE)","v":1475},null,0,"NA",null,null,"2019-08-13","Confident"]
[1,null,"Puerto Rico","Lajas Solar Project","Lajas","Fonroche Energy America","Solar PV",1,"Utility/IPP","Planned","Fonroche Energy America","Puerto Rico Electric Power Authority (PREPA)",10000,null,null,19272,null,19272,19272,0.22,"NA",0.22,null,14500000,null,null,14500000,{"$f":"VLOOKUP(G345,'Capex by RE tech'!$A$2:$F$19,6,TRUE)","v":1450},null,0,"NA",null,null,"2019-08-13","Confident"]
[1,null,"Puerto Rico","Solar Project Ponce","Naguabo ","Fonroche Energy America","Solar PV",1,"Utility/IPP","Planned","Fonroche Energy America","Puerto Rico Electric Power Authority (PREPA)",30000,null,null,57816,null,57816,57816,0.22,"NA",0.22,null,43500000,null,null,43500000,{"$f":"VLOOKUP(G346,'Capex by RE tech'!$A$2:$F$19,6,TRUE)","v":1450},null,0,"NA",null,null,"2019-08-13","Confident"]
[1,null,"Puerto Rico","Solar Projec San Juan","San Lorenzo","Fonroche Energy America","Solar PV",1,"Utility/IPP","Planned","Fonroche Energy America","Puerto Rico Electric Power Authority (PREPA)",15000,null,null,28908,null,28908,28908,0.22,"NA",0.22,null,21750000,null,null,21750000,{"$f":"VLOOKUP(G347,'Capex by RE tech'!$A$2:$F$19,6,TRUE)","v":1450},null,0,"NA",null,null,"2019-08-13","Confident"]
[1,null,"Puerto Rico",null,"Cajo Rojo","Fonroche Energy America","Solar PV",1,"Utility/IPP","Planned","Fonroche Energy America","Puerto Rico Electric Power Authority (PREPA)",30000,null,null,57816,null,57816,57816,0.22,"NA",0.22,null,43500000,null,null,43500000,{"$f":"VLOOKUP(G348,'Capex by RE tech'!$A$2:$F$19,6,TRUE)","v":1450},null,0,"NA",null,null,"2019-08-13","Confident"]
[1,null,"Puerto Rico","Vega Baja Solar Project","Naguabo ","Fonroche Energy America","Solar PV",1,"Utility/IPP","Planned","Fonroche Energy America","Puerto Rico Electric Power Authority (PREPA)",15000,null,null,28908,null,28908,28908,0.22,"NA",0.22,null,21750000,null,null,21750000,{"$f":"VLOOKUP(G349,'Capex by RE tech'!$A$2:$F$19,6,TRUE)","v":1450},null,0,"NA",null,null,"2019-08-13","Confident"]
[1,null,"Puerto Rico",null,"Fajardo","GG Alternative Energy Corporation","Solar PV",1,"Utility/IPP","Planned","GG Alternative Energy Corporation","Puerto Rico Electric Power Authority (PREPA)",20000,null,null,38544,null,38544,38544,0.22,"NA",0.22,null,29000000,null,null,29000000,{"$f":"VLOOKUP(G350,'Capex by RE tech'!$A$2:$F$19,6,TRUE)","v":1450},null,0,"NA",null,null,"2019-08-13","Confident"]
[1,null,"Puerto Rico",null,"Fajardo","GG Alternative Energy Corporation","Wind",1,"Utility/IPP","Planned","GG Alternative Energy Corporation","Puerto Rico Electric Power Authority (PREPA)",10000,null,null,19272,null,19272,19272,0.22,"NA",0.22,null,14750000,null,null,14750000,{"$f":"VLOOKUP(G351,'Capex by RE tech'!$A$2:$F$19,6,TRUE)","v":1475},null,0,"NA",null,null,"2019-08-13","Confident"]
[1,null,"Puerto Rico",null,"Hatillo",null,"Solar PV",1,"Utility/IPP","Planned",null,"Puerto Rico Electric Power Authority (PREPA)",30000,null,null,57816,null,57816,57816,0.22,"NA",0.22,null,43500000,null,null,43500000,{"$f":"VLOOKUP(G352,'Capex by RE tech'!$A$2:$F$19,6,TRUE)","v":1450},null,0,"NA",null,null,"2019-08-13","Confident"]
[1,null,"Puerto Rico",null,"Carolina",null,"Solar PV",1,"Utility/IPP","Planned",null,"Puerto Rico Electric Power Authority (PREPA)",40000,null,null,77088,null,77088,77088,0.22,"NA",0.22,null,58000000,null,null,58000000,{"$f":"VLOOKUP(G353,'Capex by RE tech'!$A$2:$F$19,6,TRUE)","v":1450},null,0,"NA",null,null,"2019-08-13","Confident"]
[1,null,"Puerto Rico",null,"Guayanilla","Jonas Solar Energy, LLC","Solar PV",1,"Utility/IPP","Planned","Jonas Solar Energy, LLC","Puerto Rico Electric Power Authority (PREPA)",40000,null,null,77088,null,77088,77088,{"$f":"IF(AND(U354=\"NA\",ISBLANK(V354)),W354,IF(U354<>\"NA\",U354,IF(ISNUMBER(V354),V354,W354)))","v":0.22},"NA",0.22,null,58000000,null,null,{"$f":"AB354*M354","v":58000000},{"$f":"VLOOKUP(G354,'Capex by RE tech'!$A$2:$F$19,6,TRUE)","v":1450},null,0,"NA",null,null,"2019-08-13","Confident"]
[1,null,"Puerto Rico",null,"Juncos",null,"Solar PV",1,"Utility/IPP","Planned",null,"Puerto Rico Electric Power Authority (PREPA)",20000,null,null,38544,null,38544,38544,0.22,"NA",0.22,null,29000000,null,null,29000000,{"$f":"VLOOKUP(G355,'Capex by RE tech'!$A$2:$F$19,6,TRUE)","v":1450},null,0,"NA",null,null,"2019-08-13","Confident"]
[1,null,"Puerto Rico","Luquillo Solar Plant","Rio Grande","Renewable Energy Authority","Solar PV",1,"Utility/IPP","Planned","Renewable Energy Authority","Puerto Rico Electric Power Authority (PREPA)",20000,null,null,38544,null,38544,38544,0.22,"NA",0.22,null,29000000,null,null,29000000,{"$f":"VLOOKUP(G356,'Capex by RE tech'!$A$2:$F$19,6,TRUE)","v":1450},null,0,"NA",null,null,"2019-08-13","Confident"]
[1,null,"Puerto Rico",null,"Manati",null,"Solar PV",1,"Utility/IPP","Planned",null,"Puerto Rico Electric Power Authority (PREPA)",50000,null,null,96360,null,96360,96360,0.22,"NA",0.22,null,72500000,null,null,72500000,{"$f":"VLOOKUP(G357,'Capex by RE tech'!$A$2:$F$19,6,TRUE)","v":1450},null,0,"NA",null,null,"2019-08-13","Confident"]
[1,null,"Puerto Rico",null,"Ceiba","Renewable Energy Authority","Solar PV",1,"Utility/IPP","Planned","Renewable Energy Authority","Puerto Rico Electric Power Authority (PREPA)",20000,null,null,38544,null,38544,38544,0.22,"NA",0.22,null,29000000,null,null,29000000,{"$f":"VLOOKUP(G358,'Capex by RE tech'!$A$2:$F$19,6,TRUE)","v":1450},null,0,"NA",null,null,"2019-08-13","Confident"]
[1,null,"Puerto Rico",null,"Hatillo","Renewable Energy Authority","Solar PV",1,"Utility/IPP","Planned","Renewable Energy Authority","Puerto Rico Electric Power Authority (PREPA)",20000,null,null,38544,null,38544,38544,0.22,"NA",0.22,null,29000000,null,null,29000000,{"$f":"VLOOKUP(G359,'Capex by RE tech'!$A$2:$F$19,6,TRUE)","v":1450},null,0,"NA",null,null,"2019-08-13","Confident"]
[1,null,"Puerto Rico",null,"Canovanas","Renewable Power Group, Inc.","Waste-to-Energy",1,"Utility/IPP","Planned","Renewable Power Group, Inc.","Puerto Rico Electric Power Authority (PREPA)",2000,null,null,14016,null,14016,14016,0.8,"NA",0.8,null,16544000,null,null,16544000,{"$f":"VLOOKUP(G360,'Capex by RE tech'!$A$2:$F$19,6,TRUE)","v":8272},null,0,"NA",null,"Bio-digestor","2019-08-13","Confident"]
[1,null,"Puerto Rico",null,"Moca","Renewable Power Group, Inc.","Waste-to-Energy",1,"Utility/IPP","Planned","Renewable Power Group, Inc.","Puerto Rico Electric Power Authority (PREPA)",1500,null,null,10512,null,10512,10512,0.8,"NA",0.8,null,12408000,null,null,12408000,{"$f":"VLOOKUP(G361,'Capex by RE tech'!$A$2:$F$19,6,TRUE)","v":8272},null,0,"NA",null,"Landfill gas","2019-08-13","Confident"]
[1,null,"Puerto Rico","Cabo Solar Farm","Cabo Rojo","Roma Solar, LLC","Solar PV",1,"Utility/IPP","Planned","Roma Solar, LLC","Puerto Rico Electric Power Authority (PREPA)",20000,null,null,38544,null,38544,38544,0.22,"NA",0.22,null,29000000,null,null,29000000,{"$f":"VLOOKUP(G362,'Capex by RE tech'!$A$2:$F$19,6,TRUE)","v":1450},null,0,"NA",null,null,"2019-08-13","Confident"]
[1,null,"Puerto Rico",null,"Anasco","Roma Solar, LLC","Solar PV",1,"Utility/IPP","Planned","Roma Solar, LLC","Puerto Rico Electric Power Authority (PREPA)",20000,null,null,38544,null,38544,38544,0.22,"NA",0.22,null,29000000,null,null,29000000,{"$f":"VLOOKUP(G363,'Capex by RE tech'!$A$2:$F$19,6,TRUE)","v":1450},null,0,"NA",null,null,"2019-08-13","Confident"]
[1,null,"Puerto Rico","Sierra Solar Farm","Arecibo ","Roma Solar, LLC","Solar PV",1,"Utility/IPP","Planned","Roma Solar, LLC","Puerto Rico Electric Power Authority (PREPA)",20000,null,null,38544,null,38544,38544,0.22,"NA",0.22,null,29000000,null,null,29000000,{"$f":"VLOOKUP(G364,'Capex by RE tech'!$A$2:$F$19,6,TRUE)","v":1450},null,0,"NA",null,null,"2019-08-13","Confident"]
[1,null,"Puerto Rico",null,"Barceloneta",null,"Waste-to-Energy",1,"Utility/IPP","Planned",null,"Puerto Rico Electric Power Authority (PREPA)",10000,null,null,70080,null,70080,70080,0.8,"NA",0.8,null,82720000,null,null,82720000,{"$f":"VLOOKUP(G365,'Capex by RE tech'!$A$2:$F$19,6,TRUE)","v":8272},null,0,"NA",null,null,"2019-08-13","Confident"]
[1,null,"Puerto Rico",null,"Barceloneta","Tradewinds Energy","Wind",1,"Utility/IPP","Planned","Tradewinds Energy","Puerto Rico Electric Power Authority (PREPA)",75000,null,null,144540,null,144540,144540,0.22,"NA",0.22,null,110625000,null,null,110625000,{"$f":"VLOOKUP(G366,'Capex by RE tech'!$A$2:$F$19,6,TRUE)","v":1475},null,0,"NA",null,null,"2019-08-13","Confident"]
[1,null,"Puerto Rico",null,"Manati/Vega Baja","Tradewinds Energy","Wind",1,"Utility/IPP","Planned","Tradewinds Energy","Puerto Rico Electric Power Authority (PREPA)",50000,null,null,96360,null,96360,96360,0.22,"NA",0.22,null,73750000,null,null,73750000,{"$f":"VLOOKUP(G367,'Capex by RE tech'!$A$2:$F$19,6,TRUE)","v":1475},null,0,"NA",null,null,"2019-08-13","Confident"]
[1,null,"Puerto Rico","Carolina Solar Farm","Carolina",null,"Solar PV",1,"Utility/IPP","Planned",null,"Puerto Rico Electric Power Authority (PREPA)",20000,null,null,38544,null,38544,38544,0.22,"NA",0.22,null,29000000,null,null,29000000,{"$f":"VLOOKUP(G368,'Capex by RE tech'!$A$2:$F$19,6,TRUE)","v":1450},null,0,"NA",null,null,"2019-08-13","Confident"]
[1,null,"Puerto Rico",null,"Vega Baja","One Planet Caribbean","Solar PV",1,"Utility/IPP","Planned","One Planet Caribbean","Puerto Rico Electric Power Authority (PREPA)",30000,null,null,{"$f":"IF(ISNUMBER(Q369),Q369,IF(ISNUMBER(R369),R369, IF(ISNUMBER(S369), S369,\"NA\")))","v":57816},null,57816,{"$f":" (M369 * 8760 * T369)/1000","v":57816},0.22,{"$f":"IF(OR(ISBLANK(M369),ISBLANK(Q369)),\"NA\",(Q369*1000)/(M369*8760))","v":"NA"},0.22,null,{"$f":" IF(ISNUMBER(Y369), Y369,IF(ISNUMBER(Z369),Z369,IF(ISNUMBER(AA369), AA369, \"NA\")))","v":43500000},null,null,43500000,{"$f":"VLOOKUP(G369,'Capex by RE tech'!$A$2:$F$19,6,TRUE)","v":1450},null,{"$f":"SUM(AC369:AC369)","v":0},{"$f":"IF(ISNUMBER(AF369),AF369,IF(ISNUMBER(AG369),AG369,\"NA\"))","v":"NA"},null,null,"2019-08-13","Confident"]
[1,null,"Puerto Rico",null,"Yabucoa","Western Wind Puero Rico Corp./Brookfield","Solar PV",1,"Utility/IPP","Planned","Western Wind Puero Rico Corp./Brookfield","Puerto Rico Electric Power Authority (PREPA)",30000,null,null,57816,null,57816,57816,0.22,"NA",0.22,null,43500000,null,null,43500000,{"$f":"VLOOKUP(G370,'Capex by RE tech'!$A$2:$F$19,6,TRUE)","v":1450},null,0,"NA",null,null,"2019-08-13","Confident"]
[1,null,"Puerto Rico",null,"Vieques",null,"Wind",1,"Utility/IPP","Planned",null,"Puerto Rico Electric Power Authority (PREPA)",20000,null,null,38544,null,38544,38544,0.22,"NA",0.22,null,29500000,null,null,29500000,{"$f":"VLOOKUP(G371,'Capex by RE tech'!$A$2:$F$19,6,TRUE)","v":1475},null,0,"NA",null,null,"2019-08-13","Confident"]
[1,null,"Puerto Rico",null,"Dorado/Toa Baja","Windmar Renewable Energy, Inc. ","Wind",1,"Utility/IPP","Planned","Windmar Renewable Energy, Inc. ","Puerto Rico Electric Power Authority (PREPA)",44000,null,null,84797,null,84797,84796.800000000003,0.22,"NA",0.22,null,64900000,null,null,64900000,{"$f":"VLOOKUP(G372,'Capex by RE tech'!$A$2:$F$19,6,TRUE)","v":1475},null,0,"NA",null,null,"2019-08-13","Confident"]
[1,null,"Puerto Rico",null,"Dorado/Toa Baja","Windmar Renewable Energy, Inc. ","Solar PV",1,"Utility/IPP","Planned","Windmar Renewable Energy, Inc. ","Puerto Rico Electric Power Authority (PREPA)",20000,null,null,38544,null,38544,38544,0.22,"NA",0.22,null,29000000,null,null,29000000,{"$f":"VLOOKUP(G373,'Capex by RE tech'!$A$2:$F$19,6,TRUE)","v":1450},null,0,"NA",null,null,"2019-08-13","Confident"]
[1,null,"Puerto Rico",null,"Guayanilla","Windmar Renewable Energy, Inc. ","Wind",1,"Utility/IPP","Planned","Windmar Renewable Energy, Inc. ","Puerto Rico Electric Power Authority (PREPA)",18400,null,null,35460,null,35460,35460.480000000003,0.22,"NA",0.22,null,27140000,null,null,27140000,{"$f":"VLOOKUP(G374,'Capex by RE tech'!$A$2:$F$19,6,TRUE)","v":1475},null,0,"NA",null,null,"2019-08-13","Confident"]
[{"$f":"H375","v":1},null,"Puerto Rico",null,"Guayanilla","Windmar Renewable Energy, Inc. ","Wind",1,"Utility/IPP","Planned","Windmar Renewable Energy, Inc. ","Puerto Rico Electric Power Authority (PREPA)",34500,null,null,66488,null,66488,66488.399999999994,0.22,"NA",0.22,null,50887500,null,null,50887500,{"$f":"VLOOKUP(G375,'Capex by RE tech'!$A$2:$F$19,6,TRUE)","v":1475},null,0,"NA",null,null,"2019-08-13","Confident"]
[1,"P0234","Saint-Martin",null,null,null,"Solar PV",1,"Distributed","Operational",null,null,543.20000000000005,null,null,1208.6417280000001,null,null,1208.6417280000001,0.254,"NA",null,0.254,1400369.6,null,null,1400369.6,{"$f":" IF(AND(ISNUMBER(M376), ISNUMBER(X376)),X376/M376,\"NA\")","v":2578},null,0,"NA",null,"SXM solar installations in St. Martin/St. Maarten.","2017-08-03"]
[46,"P0233","Saint-Martin",null,null,null,"Solar PV",46,"Utility/IPP","Operational",null,null,1440,null,null,3204.0576000000001,null,null,3204.0576000000001,0.254,"NA",null,0.254,3712320,null,null,3712320,{"$f":" IF(AND(ISNUMBER(M377), ISNUMBER(X377)),X377/M377,\"NA\")","v":2578},null,0,"NA",null,null,"2018-07-19","Not confident"]
[1,"P0236","Sint Maarten",null,null,null,"Solar PV",1,"Distributed","Operational",null,null,755,null,null,1223,null,1223,1223,0.18491638694850163,"NA",0.18491638694850163,0.254,1946390,null,null,1946390,{"$f":" IF(AND(ISNUMBER(M378), ISNUMBER(X378)),X378/M378,\"NA\")","v":2578},null,0,"NA",null,"Project completed in 2014.","2017-08-03"]
[1,"P0235","Sint Maarten",null,null,null,"Waste-to-Energy",1,"Utility/IPP","Planned",null,null,9000,null,null,55450.799999999996,null,null,55450.799999999996,0.70333333333333325,"NA",null,0.70333333333333325,74448000,null,null,{"$f":"AB379*M379","v":74448000},{"$f":"VLOOKUP(G379,'Capex by RE tech'!$A$2:$F$19,6,TRUE)","v":8272},null,0,"NA",null,"Agreement with bid-winner Synergy has been annulled, Minister Emmanuel has chosen to sign new MOU with Enviro-green.","2018-07-10","Not confident"]
[1,null,"Sint Maarten",null,null,"CMEC Dutch Caribbean","Solar PV",1,"Distributed","Under development","CMEC Dutch Caribbean",null,1150,null,null,2317.02,null,null,2317.02,0.23,"NA",null,{"$f":"IF(OR(J380=\"Under development\",J380=\"Planned\"),VLOOKUP(G380,'Capex by RE tech'!$A$4:$D$18,4,TRUE),IF(AND(J380=\"Operational\",G380=\"Solar PV\"),VLOOKUP(AF380,'Capex by RE tech'!$C$11:$D$13,2,TRUE),IF(AND(J380=\"Operational\",G380=\"Wind\"),VLOOKUP(AF380,'Capex by RE tech'!$C$17:$D$19,2,TRUE),IF(AND(J380=\"Operational\",G380=\"Biomass\"),VLOOKUP(AF380,'Capex by RE tech'!$C$2:$D$4,2,TRUE),IF(AND(J380=\"Operational\",G380=\"Geothermal\"),VLOOKUP(AF380,'Capex by RE tech'!$C$2:$D$4,2,TRUE),IF(AND(J380=\"Operational\",G380=\"Hydro\"),VLOOKUP(AF380,'Capex by RE tech'!$C$8:$D$10,2,TRUE),IF(AND(J380=\"Operational\",G380=\"Waste-to-Energy\"),VLOOKUP(AF380,'Capex by RE tech'!$C$14:$D$16,2,TRUE),IF(AND(J380=\"Operational\",AF380<2010),VLOOKUP(G380,'Capex by RE tech'!$A$2:$D$19,4,FALSE),NA))))))))","v":0.23},1667500,null,null,{"$f":"AB380*M380","v":1667500},{"$f":"VLOOKUP(G380,'Capex by RE tech'!$A$2:$F$19,6,TRUE)","v":1450},null,0,"NA",null,"Expected to be inaugurated June 2019","2019-08-13","Confident"]
[3,"P0237","St. Barthelemy",null,null,null,"Solar PV",3,"Distributed","Operational",null,null,24,null,null,53.400959999999998,null,null,53.400959999999998,0.254,"NA",null,0.254,61872,null,null,61872,{"$f":" IF(AND(ISNUMBER(M381), ISNUMBER(X381)),X381/M381,\"NA\")","v":2578},null,0,"NA",null,null,"2017-08-03"]
[1,"P0238","St. Kitts","Robert L. Bradshaw International Airport Solar Farm","Basseterre","Government and St. Kitts and Nevis and Government of the Republic of China","Solar PV",1,"Utility/IPP","Operational","Government and St. Kitts and Nevis and Government of the Republic of China","St. Christopher Air and Sea Ports  Authority (SCASPA)",750,null,null,1314,null,null,1314,0.2,"NA",null,0.2,2500000,null,2500000,2578000,{"$f":" IF(AND(ISNUMBER(M382), ISNUMBER(X382)),X382/M382,\"NA\")","v":3333.3333333333335},null,0,2013,2013,"New Solar en Kitts. Confirmed by 2019 Survey response","2019-09-16","Confident"]
[1,"P0239","St. Kitts",null,null,null,"Solar PV",1,"Distributed","Operational",null,null,600,null,null,1051.2,null,null,1051.2,0.2,"NA",null,0.2,1500000,null,null,{"$f":" 2500 * M383","v":1500000},{"$f":" IF(AND(ISNUMBER(M383), ISNUMBER(X383)),X383/M383,\"NA\")","v":2500},null,0,2013,2013,"Operational since 2013","2019-09-16","Confident"]
[1,"P0240","St. Kitts",null,null,null,"Solar PV",1,"Distributed","Operational",null,null,72,null,null,160.20287999999999,null,null,160.20287999999999,0.254,"NA",null,0.254,185616,null,null,185616,{"$f":" IF(AND(ISNUMBER(M384), ISNUMBER(X384)),X384/M384,\"NA\")","v":2578},null,0,2013,2013,"Project completed in 2013 by Solaris Energy. ","2017-08-03"]
[1,null,"St. Kitts","North Star Wind Farm",null,null,"Wind",1,"Utility/IPP","Under development",null,null,5000,null,null,13797,null,null,13797,0.315,"NA",null,{"$f":"IF(OR(J385=\"Under development\",J385=\"Planned\"),VLOOKUP(G385,'Capex by RE tech'!$A$4:$D$18,4,TRUE),IF(AND(J385=\"Operational\",G385=\"Solar PV\"),VLOOKUP(AF385,'Capex by RE tech'!$C$11:$D$13,2,TRUE),IF(AND(J385=\"Operational\",G385=\"Wind\"),VLOOKUP(AF385,'Capex by RE tech'!$C$17:$D$19,2,TRUE),IF(AND(J385=\"Operational\",G385=\"Biomass\"),VLOOKUP(AF385,'Capex by RE tech'!$C$2:$D$4,2,TRUE),IF(AND(J385=\"Operational\",G385=\"Geothermal\"),VLOOKUP(AF385,'Capex by RE tech'!$C$2:$D$4,2,TRUE),IF(AND(J385=\"Operational\",G385=\"Hydro\"),VLOOKUP(AF385,'Capex by RE tech'!$C$8:$D$10,2,TRUE),IF(AND(J385=\"Operational\",G385=\"Waste-to-Energy\"),VLOOKUP(AF385,'Capex by RE tech'!$C$14:$D$16,2,TRUE),IF(AND(J385=\"Operational\",AF385<2010),VLOOKUP(G385,'Capex by RE tech'!$A$2:$D$19,4,FALSE),NA))))))))","v":0.315},7375000,null,null,{"$f":"AB385*M385","v":7375000},{"$f":"VLOOKUP(G385,'Capex by RE tech'!$A$2:$F$19,6,TRUE)","v":1475},null,null,null,null,"Survey response from St. Kitts and Nevis Energy Unit indicates PPA is being negotiated, but no news on it since 2011","2019-09-16","Not confident"]
[1,"P0279","St. Kitts and Nevis",null,null,"NRE International Inc","Geothermal",1,"Utility/IPP","Planned","NRE International Inc","SKELEC",18000,null,null,129297.59999999999,null,null,129297.59999999999,0.82,"NA",null,null,76500000,null,null,{"$f":"AB386*M386","v":76500000},{"$f":"VLOOKUP(G386,'Capex by RE tech'!$A$2:$F$19,6,TRUE)","v":4250},null,null,null,null,"Geothermal potential proven in feasibility study, but has stalled waiting for financing. As of 2020, roster of developers has been completed.","2019-09-16","Confident"]
[1,null,"St. Kitts","SKELEC Solar Farm",null,null,"Solar PV",1,"Utility/IPP","Operational",null,"SKELEC",500,null,null,571.42857142857144,null,null,{"$f":"2000/3.5","v":571.42857142857144},null,"NA",null,null,1550000,null,1550000,null,null,null,null,null,2015,"From survey response (St. Kitts and Nevis Energy Unit)","2019-09-16","Confident"]
[1,null,"St. Kitts and Nevis","Leclanche Solar Farm","Basseterre","Leclanche ","Solar PV",1,"Utility/IPP","Planned","Leclanche ",null,35600,null,null,71726.880000000005,null,null,{"$f":" (M388 * 8760 * T388)/1000","v":71726.880000000005},{"$f":"IF(AND(U388=\"NA\",ISBLANK(V388)),W388,IF(U388<>\"NA\",U388,IF(ISNUMBER(V388),V388,W388)))","v":0.23},"NA",null,{"$f":"IF(OR(J388=\"Under development\",J388=\"Planned\"),VLOOKUP(G388,'Capex by RE tech'!$A$4:$D$18,4,TRUE),IF(AND(J388=\"Operational\",G388=\"Solar PV\"),VLOOKUP(AF388,'Capex by RE tech'!$C$11:$D$13,2,TRUE),IF(AND(J388=\"Operational\",G388=\"Wind\"),VLOOKUP(AF388,'Capex by RE tech'!$C$17:$D$19,2,TRUE),IF(AND(J388=\"Operational\",G388=\"Biomass\"),VLOOKUP(AF388,'Capex by RE tech'!$C$2:$D$4,2,TRUE),IF(AND(J388=\"Operational\",G388=\"Geothermal\"),VLOOKUP(AF388,'Capex by RE tech'!$C$2:$D$4,2,TRUE),IF(AND(J388=\"Operational\",G388=\"Hydro\"),VLOOKUP(AF388,'Capex by RE tech'!$C$8:$D$10,2,TRUE),IF(AND(J388=\"Operational\",G388=\"Waste-to-Energy\"),VLOOKUP(AF388,'Capex by RE tech'!$C$14:$D$16,2,TRUE),IF(AND(J388=\"Operational\",AF388<2010),VLOOKUP(G388,'Capex by RE tech'!$A$2:$D$19,4,FALSE),NA))))))))","v":0.23},51620000,null,null,{"$f":"AB388*M388","v":51620000},{"$f":"VLOOKUP(G388,'Capex by RE tech'!$A$2:$F$19,6,TRUE)","v":1450},null,null,null,null,"PPA signed, according to survey response from Energy Unit. 20 year PPA awarded. Willl also include storage (44.2 MWh). Completion set for September 2020","2019-09-16","Confident"]
[7,"P0242","St. Lucia",null,null,null,"Solar PV",7,"Distributed","Operational",null,null,46,null,null,102.35184,null,null,102.35184,0.254,"NA",null,0.254,118588,null,null,118588,{"$f":" IF(AND(ISNUMBER(M389), ISNUMBER(X389)),X389/M389,\"NA\")","v":2578},null,{"$f":"SUM(AC389:AC389)","v":0},{"$f":"IF(ISNUMBER(AF389),AF389,IF(ISNUMBER(AG389),AG389,\"NA\"))","v":"NA"},null,null,"2017-08-03"]
[1,"P0241","St. Lucia ",null,"La Tourney, Vieux Fort","GRUPOTEC","Solar PV",1,"Utility/IPP","Operational","GRUPOTEC","St. Lucia Electricity Services Limited (LUCELEC)",3000,14900,{"$f":"M390/N390","v":0.20134228187919462},7000,null,{"$f":" 7000000/1000","v":7000},7000,0.26636225266362251,"NA",{"$f":" R390 * 1000/(M390 * 8760)","v":0.26636225266362251},0.254,20000000,null,{"$f":" 20 * 10^6","v":20000000},7734000,{"$f":" IF(AND(ISNUMBER(M390), ISNUMBER(X390)),X390/M390,\"NA\")","v":6666.666666666667},null,{"$f":"SUM(AC390:AC390)","v":0},{"$f":"IF(ISNUMBER(AF390),AF390,IF(ISNUMBER(AG390),AG390,\"NA\"))","v":2018},2018,"The project is currently generating about four percent of the grid’s total output, or approximately 10 percent of the 35 percent renewable energy 2025 target total.","2018-07-19","Confident"]
[null,null,"St. Lucia ","Solar Demo PV Project",null,"FDL - High Peaks","Solar PV",1,"Utility/IPP","Operational","FDL - High Peaks","St. Lucia Electricity Services Limited (LUCELEC)",200,null,null,398,null,398,398,0.2271689497716895,"NA",{"$f":" R391 * 1000/(M391 * 8760)","v":0.2271689497716895},null,290000,null,null,{"$f":"AB391*M391","v":290000},{"$f":"VLOOKUP(G391,'Capex by RE tech'!$A$2:$F$19,6,TRUE)","v":1450},null,{"$f":"SUM(AC391:AC391)","v":0},{"$f":"IF(ISNUMBER(AF391),AF391,IF(ISNUMBER(AG391),AG391,\"NA\"))","v":2019},2019,"Details from CREF 2019 Survey Response from Dept. of Infrastructure, Ports and Energy","2019-09-17","Confident"]
[{"$f":"H392","v":1},"P0258","St. Lucia ",null,"Soufrière, Choiseul, and Laborie ",null,"Geothermal",1,"Utility/IPP","Planned",null,"St. Lucia Electricity Services Limited (LUCELEC)",30000,null,null,215058,null,null,215058,0.81833333333333336,"NA","NA",0.81833333333333336,145410000,null,null,145410000,{"$f":" IF(AND(ISNUMBER(M392), ISNUMBER(X392)),X392/M392,\"NA\")","v":4847},null,{"$f":"SUM(AC392:AC392)","v":0},{"$f":"IF(ISNUMBER(AF392),AF392,IF(ISNUMBER(AG392),AG392,\"NA\"))","v":"NA"},null,"Expected to enter operations 2025 according to CREF 2019 Survey Response","2019-09-17","Confident"]
[null,null,"St. Lucia ","Solar Carport Project",null,null,"Solar PV",null,null,"Operational","Gearing Up Limited (GUL)","St. Lucia Electricity Services Limited (LUCELEC)",58,null,null,116.8584,null,null,116.8584,0.23,"NA",null,{"$f":"IF(OR(J393=\"Under development\",J393=\"Planned\"),VLOOKUP(G393,'Capex by RE tech'!$A$4:$D$18,4,TRUE),IF(AND(J393=\"Operational\",G393=\"Solar PV\"),VLOOKUP(AF393,'Capex by RE tech'!$C$11:$D$13,2,TRUE),IF(AND(J393=\"Operational\",G393=\"Wind\"),VLOOKUP(AF393,'Capex by RE tech'!$C$17:$D$19,2,TRUE),IF(AND(J393=\"Operational\",G393=\"Biomass\"),VLOOKUP(AF393,'Capex by RE tech'!$C$2:$D$4,2,TRUE),IF(AND(J393=\"Operational\",G393=\"Geothermal\"),VLOOKUP(AF393,'Capex by RE tech'!$C$2:$D$4,2,TRUE),IF(AND(J393=\"Operational\",G393=\"Hydro\"),VLOOKUP(AF393,'Capex by RE tech'!$C$8:$D$10,2,TRUE),IF(AND(J393=\"Operational\",G393=\"Waste-to-Energy\"),VLOOKUP(AF393,'Capex by RE tech'!$C$14:$D$16,2,TRUE),IF(AND(J393=\"Operational\",AF393<2010),VLOOKUP(G393,'Capex by RE tech'!$A$2:$D$19,4,FALSE),NA))))))))","v":0.23},84100,null,null,{"$f":"AB393*M393","v":84100},{"$f":"VLOOKUP(G393,'Capex by RE tech'!$A$2:$F$19,6,TRUE)","v":1450},null,null,null,2019,"EV charging station. Details from CREF 2019 Survey Response","2019-09-17","Confident"]
[{"$f":"H394","v":1},"P0286","St. Lucia ",null,"Dennery area","LUCELEC","Wind",1,"Utility/IPP","Planned","LUCELEC","St. Lucia Electricity Services Limited (LUCELEC)",12000,null,null,48355.199999999997,null,null,48355.199999999997,0.46,{"$f":"IF(OR(ISBLANK(M394),ISBLANK(Q394)),\"NA\",(Q394*1000)/(M394*8760))","v":"NA"},null,0.46,18908000,null,null,18908000,{"$f":" IF(AND(ISNUMBER(M394), ISNUMBER(X394)),X394/M394,\"NA\")","v":1575.6666666666667},null,{"$f":"SUM(AC394:AC394)","v":0},{"$f":"IF(ISNUMBER(AF394),AF394,IF(ISNUMBER(AG394),AG394,\"NA\"))","v":"NA"},null,"Setbacks with land acquisition cited in 2018 Annual Report (2019 Annual Report still unavailable)","2019-08-13","Confident"]
[101,null,"St. Lucia ",null,null,null,"Solar PV",101,"Distributed","Operational",null,null,800,null,null,1611.84,null,null,1611.84,0.23,"NA",null,0.23,1160000,null,null,{"$f":"AB395*M395","v":1160000},{"$f":"VLOOKUP(G395,'Capex by RE tech'!$A$2:$F$19,6,TRUE)","v":1450},null,0,"NA",null," LUCELEC 2018 Annual Report","2019-08-13","Confident"]
[1,"P0243","St. Vincent and the Grenadines","La Soufriere Geothermal Project","Le Soufriere Volcano",null,"Geothermal",1,"Utility/IPP","Under development",null,"VINLEC",10000,null,null,71686,null,null,71686,0.81833333333333336,"NA",null,0.81833333333333336,48470000,null,null,48470000,{"$f":" IF(AND(ISNUMBER(M396), ISNUMBER(X396)),X396/M396,\"NA\")","v":4847},null,0,"NA",null,"Drilling began mid-2019, geothermal energy potential confirmed. 2018 update: Project being structured ; PPA is expected to be signed shortly; recent setback due to lack of permeability","2019-08-07","Confident"]
[3,"P0244","St. Vincent and the Grenadines",null,null,"Various","Hydro",3,"Utility/IPP","Operational","Various","Various",1100,null,null,30928.828000000172,null,30928.828000000172,5968.7211929824889,0.61941896979892996,"NA",0.61941896979892996,0.85,3383600,null,null,3383600,3076,null,0,"NA",null,"Richmond, South Rivers, and Cumberland hydroelectric plants; constitute about 7.7% of St. Vincent's electricity input.","2018-07-19","Confident"]
[1,"P0245","St. Vincent and the Grenadines",null,null,null,"Hydro",1,"Utility/IPP","Operational",null,null,870,null,null,6478.02,null,null,6478.02,0.85,"NA",null,0.85,2676120,null,null,2676120,3076,null,0,"NA",null,null,"2018-07-11","Confident"]
[1,"P0246","St. Vincent and the Grenadines",null,null,null,"Hydro",1,"Utility/IPP","Operational",null,null,3700,null,null,27550.2,null,null,27550.2,0.85,"NA",null,0.85,11381200,null,null,11381200,3076,null,0,"NA",null,null,"2018-07-11","Confident"]
[1,"P0281","St. Vincent and the Grenadines",null,null,null,"Solar PV",1,"Utility/IPP","Planned",null,null,150,null,null,{"$f":"IF(ISNUMBER(Q400),Q400,IF(ISNUMBER(R400),R400, IF(ISNUMBER(S400), S400,\"NA\")))","v":333.75599999999997},null,null,333.75599999999997,0.254,"NA",null,0.254,{"$f":" IF(ISNUMBER(Y400), Y400,IF(ISNUMBER(Z400),Z400,IF(ISNUMBER(AA400), AA400, \"NA\")))","v":1220000},null,1220000,null,8133.333333333333,null,null,null,null,"3.3 M EC$","2018-07-18","Confident"]
[40,"P0248","St. Vincent and the Grenadines",null,null,null,"Solar PV",40,"Distributed","Operational",null,null,200,null,null,445.00799999999998,null,null,445.00799999999998,0.254,"NA",null,0.254,515600,null,null,515600,2578,null,{"$f":"SUM(AC401:AC401)","v":0},{"$f":"IF(ISNUMBER(AF401),AF401,IF(ISNUMBER(AG401),AG401,\"NA\"))","v":"NA"},null,"Estimated based on past average size of installations (secondary source) and current number of installations.","2017-08-03"]
[1,"P0249","St. Vincent and the Grenadines",null,null,null,"Solar PV",1,"Distributed","Operational",null,null,177,null,null,393.83208000000002,null,null,393.83208000000002,0.254,"NA",null,0.254,456306,null,null,456306,2578,null,{"$f":"SUM(AC402:AC402)","v":0},{"$f":"IF(ISNUMBER(AF402),AF402,IF(ISNUMBER(AG402),AG402,\"NA\"))","v":"NA"},null,null,"2017-08-03"]
[1,"P0250","St. Vincent and the Grenadines",null,null,null,"Solar PV",1,"Distributed","Operational",null,null,76,null,null,169.10304000000002,null,null,169.10304000000002,0.254,"NA",null,0.254,195928,null,null,195928,2578,null,{"$f":"SUM(AC403:AC403)","v":0},{"$f":"IF(ISNUMBER(AF403),AF403,IF(ISNUMBER(AG403),AG403,\"NA\"))","v":2011},2011,"Project funded by the World Bank. ","2017-08-03"]
[1,"P0282","St. Vincent and the Grenadines",null,null,null,"Solar PV",1,"Utility/IPP","Operational",null,null,800,null,null,1780.0319999999999,null,null,1780.0319999999999,0.254,"NA",null,0.254,3520000,null,3520000,null,4400,null,null,null,null,"Inaugurated on Union Island March 2019. 9.5 M EC$","2018-07-18","Confident"]
[1,"P0283","St. Vincent and the Grenadines",null,null,null,"Solar PV",1,"Utility/IPP","Planned",null,null,581,null,null,1292.7482399999999,null,null,1292.7482399999999,0.254,"NA",null,0.254,1220000,null,1220000,null,2099.8278829604133,null,null,null,null,"3.3 M EC$","2018-07-18","Confident"]
[1,"P0247","St. Vincent and the Grenadines",null,null,null,"Solar PV",1,"Utility/IPP","Operational",null,null,350,null,null,778.76400000000001,null,null,778.76400000000001,0.254,"NA",null,0.254,902300,null,null,902300,2578,null,{"$f":"SUM(AC406:AC406)","v":0},{"$f":"IF(ISNUMBER(AF406),AF406,IF(ISNUMBER(AG406),AG406,\"NA\"))","v":2015},2015,"Operational since 2015 ","2018-07-19","Confident"]
[1,"P0251","Suriname",null,"Afobaka","Suralco","Hydro",1,"Utility/IPP","Operational","Suralco","The Government of Suriname",189000,null,null,857400.04168800591,null,null,857400.04168800591,0.51786622797710002,"NA",0.51786622797710002,0.85,581364000,null,null,581364000,3076,null,{"$f":"SUM(AC407:AC407)","v":0},{"$f":"IF(ISNUMBER(AF407),AF407,IF(ISNUMBER(AG407),AG407,\"NA\"))","v":1963},1963,"Built in 1963, one of world's most inefficient hydro dams (subject to heavy public criticism).","2018-07-18","Confident"]
[1,"P0252","Suriname",null,"Brokopondo District","Rosebel Gold Mines N.V.","Solar PV",1,"Utility/IPP","Operational","Rosebel Gold Mines N.V.",null,5000,null,null,11125.2,null,null,11125.2,0.254,"NA",null,0.254,13000000,null,13000000,12890000,2600,null,{"$f":"SUM(AC408:AC408)","v":0},{"$f":"IF(ISNUMBER(AF408),AF408,IF(ISNUMBER(AG408),AG408,\"NA\"))","v":2013},2013,"Installed since 2014","2018-07-18","Confident"]
[3,null,"Suriname",null,null,"N.V. Energie Bedrijven Suriname (EBS) ","Solar PV",3,"Utility/IPP","Planned","N.V. Energie Bedrijven Suriname (EBS) ",null,null,null,null,0,null,null,0,0,null,null,{"$f":"IF(OR(J409=\"Under development\",J409=\"Planned\"),VLOOKUP(G409,'Capex by RE tech'!$A$4:$D$18,4,TRUE),IF(AND(J409=\"Operational\",G409=\"Solar PV\"),VLOOKUP(AF409,'Capex by RE tech'!$C$11:$D$13,2,TRUE),IF(AND(J409=\"Operational\",G409=\"Wind\"),VLOOKUP(AF409,'Capex by RE tech'!$C$17:$D$19,2,TRUE),IF(AND(J409=\"Operational\",G409=\"Biomass\"),VLOOKUP(AF409,'Capex by RE tech'!$C$2:$D$4,2,TRUE),IF(AND(J409=\"Operational\",G409=\"Geothermal\"),VLOOKUP(AF409,'Capex by RE tech'!$C$2:$D$4,2,TRUE),IF(AND(J409=\"Operational\",G409=\"Hydro\"),VLOOKUP(AF409,'Capex by RE tech'!$C$8:$D$10,2,TRUE),IF(AND(J409=\"Operational\",G409=\"Waste-to-Energy\"),VLOOKUP(AF409,'Capex by RE tech'!$C$14:$D$16,2,TRUE),IF(AND(J409=\"Operational\",AF409<2010),VLOOKUP(G409,'Capex by RE tech'!$A$2:$D$19,4,FALSE),NA))))))))","v":0.23},98000000,null,98000000,null,null,null,null,null,null,"Gov't was planning on having 3 solar PV plants by 2021. Support from Caribbean Development Bank, tender process has started","2019-08-13","Not confident"]
[1,null,"Suriname","Suriname Solar Energie Project",null,"Solarreserve","Solar PV",1,"Utility/IPP","Planned","Solarreserve",null,10000,null,null,20148,null,null,20148,0.23,"NA",null,{"$f":"IF(OR(J410=\"Under development\",J410=\"Planned\"),VLOOKUP(G410,'Capex by RE tech'!$A$4:$D$18,4,TRUE),IF(AND(J410=\"Operational\",G410=\"Solar PV\"),VLOOKUP(AF410,'Capex by RE tech'!$C$11:$D$13,2,TRUE),IF(AND(J410=\"Operational\",G410=\"Wind\"),VLOOKUP(AF410,'Capex by RE tech'!$C$17:$D$19,2,TRUE),IF(AND(J410=\"Operational\",G410=\"Biomass\"),VLOOKUP(AF410,'Capex by RE tech'!$C$2:$D$4,2,TRUE),IF(AND(J410=\"Operational\",G410=\"Geothermal\"),VLOOKUP(AF410,'Capex by RE tech'!$C$2:$D$4,2,TRUE),IF(AND(J410=\"Operational\",G410=\"Hydro\"),VLOOKUP(AF410,'Capex by RE tech'!$C$8:$D$10,2,TRUE),IF(AND(J410=\"Operational\",G410=\"Waste-to-Energy\"),VLOOKUP(AF410,'Capex by RE tech'!$C$14:$D$16,2,TRUE),IF(AND(J410=\"Operational\",AF410<2010),VLOOKUP(G410,'Capex by RE tech'!$A$2:$D$19,4,FALSE),NA))))))))","v":0.23},175000000,null,175000000,null,null,null,null,null,null,null,"2019-08-13","Confident"]
[1,"P0013","The Bahamas",null,"New Providence","Project Cancelled","Waste-to-Energy",1,"Utility/IPP","Out","Project Cancelled","Project Cancelled",105000,null,null,646925.99999999988,null,null,646925.99999999988,0.70333333333333325,{"$f":"IF(OR(ISBLANK(M411),ISBLANK(Q411)),\"NA\",(Q411*1000)/(M411*8760))","v":"NA"},null,0.70333333333333325,350000000,null,350000000,null,{"$f":" IF(AND(ISNUMBER(M411), ISNUMBER(X411)),X411/M411,\"NA\")","v":3333.3333333333335},null,{"$f":"SUM(AC411:AC411)","v":0},{"$f":"IF(ISNUMBER(AF411),AF411,IF(ISNUMBER(AG411),AG411,\"NA\"))","v":"NA"},null,"Stellar Energy Closed its doors","2018-07-10","Confident"]
[1,"2018-11-06","The Bahamas",null,"Andros Island","PNE Corp.& Vergnet","Wind",1,"Distributed","Operational","PNE Corp.& Vergnet","AUTEC U.S. Navy Base",1000,1,{"$f":"M412/N412","v":1000},4029.6,null,null,4029.6,0.46,{"$f":"IF(OR(ISBLANK(M412),ISBLANK(Q412)),\"NA\",(Q412*1000)/(M412*8760))","v":"NA"},null,0.46,1575666.6666666667,null,null,1575666.6666666667,{"$f":" IF(AND(ISNUMBER(M412), ISNUMBER(X412)),X412/M412,\"NA\")","v":1575.6666666666667},null,{"$f":"SUM(AC412:AC412)","v":0},{"$f":"IF(ISNUMBER(AF412),AF412,IF(ISNUMBER(AG412),AG412,\"NA\"))","v":2014},2014,null,"2017-08-03"]
[1,"P0015","The Bahamas",null,null,"Hurricane Hill Development Corp.","Wind",1,"Distributed","Operational","Hurricane Hill Development Corp.","Dr. Ed Bosarge",300,3,{"$f":"M413/N413","v":100},1208.8800000000001,null,null,1208.8800000000001,0.46,{"$f":"IF(OR(ISBLANK(M413),ISBLANK(Q413)),\"NA\",(Q413*1000)/(M413*8760))","v":"NA"},null,0.46,472700,null,null,472700,{"$f":" IF(AND(ISNUMBER(M413), ISNUMBER(X413)),X413/M413,\"NA\")","v":1575.6666666666667},null,{"$f":"SUM(AC413:AC413)","v":0},{"$f":"IF(ISNUMBER(AF413),AF413,IF(ISNUMBER(AG413),AG413,\"NA\"))","v":2014},2014,"\"Hybrid power\" island utilizes both solar and wind energy.","2017-08-03"]
[{"$f":"H413","v":1},null,"The Bahamas",null,null,"Hurricane Hill Development Corp.","Solar PV",1,"Distributed","Operational","Hurricane Hill Development Corp.","Dr. Ed Bosarge",720,1400,{"$f":"M414/N414","v":0.51428571428571423},1602.0288,null,null,1602.0288,0.254,{"$f":"IF(OR(ISBLANK(M414),ISBLANK(Q414)),\"NA\",(Q414*1000)/(M414*8760))","v":"NA"},null,0.254,1856160,null,null,1856160,{"$f":" IF(AND(ISNUMBER(M414), ISNUMBER(X414)),X414/M414,\"NA\")","v":2578},null,{"$f":"SUM(AC414:AC414)","v":0},{"$f":"IF(ISNUMBER(AF414),AF414,IF(ISNUMBER(AG414),AG414,\"NA\"))","v":2014},2014,"\"Hybrid power\" island utilizes both solar and wind energy.","2017-08-03"]
[{"$f":"H415","v":1},null,"The Bahamas",null,"North Andros",null,"Biomass",1,"Utility/IPP","Planned",null,null,15000,null,null,118260,null,null,118260,0.9,"NA",null,{"$f":"IF(OR(J415=\"Under development\",J415=\"Planned\"),VLOOKUP(G415,'Capex by RE tech'!$A$4:$D$18,4,TRUE),IF(AND(J415=\"Operational\",G415=\"Solar PV\"),VLOOKUP(AF415,'Capex by RE tech'!$C$11:$D$13,2,TRUE),IF(AND(J415=\"Operational\",G415=\"Wind\"),VLOOKUP(AF415,'Capex by RE tech'!$C$17:$D$19,2,TRUE),IF(AND(J415=\"Operational\",G415=\"Biomass\"),VLOOKUP(AF415,'Capex by RE tech'!$C$2:$D$4,2,TRUE),IF(AND(J415=\"Operational\",G415=\"Geothermal\"),VLOOKUP(AF415,'Capex by RE tech'!$C$2:$D$4,2,TRUE),IF(AND(J415=\"Operational\",G415=\"Hydro\"),VLOOKUP(AF415,'Capex by RE tech'!$C$8:$D$10,2,TRUE),IF(AND(J415=\"Operational\",G415=\"Waste-to-Energy\"),VLOOKUP(AF415,'Capex by RE tech'!$C$14:$D$16,2,TRUE),IF(AND(J415=\"Operational\",AF415<2010),VLOOKUP(G415,'Capex by RE tech'!$A$2:$D$19,4,FALSE),NA))))))))","v":0.9},40000000,null,40000000,null,null,null,null,null,null,"Bahamas Power and Light considering proposal from a consortium","2019-08-13","Confident"]
[null,null,"The Bahamas",null,"Chub Cay",null,"Solar PV",null,null,"Under development",null,null,4000,null,null,null,null,null,null,null,null,null,null,null,null,null,null,null,null,null,null,null,"Private 4MW solar PV project being constructed."]
[21,"P0253","Trinidad & Tobago",null,null,null,"Solar PV",21,"Distributed","Operational",null,null,21,null,null,46.725840000000005,null,null,46.725840000000005,0.254,{"$f":"IF(OR(ISBLANK(M417),ISBLANK(Q417)),\"NA\",(Q417*1000)/(M417*8760))","v":"NA"},null,0.254,54138,null,null,54138,{"$f":" IF(AND(ISNUMBER(M417), ISNUMBER(X417)),X417/M417,\"NA\")","v":2578},null,{"$f":"SUM(AC417:AC417)","v":0},{"$f":"IF(ISNUMBER(AF417),AF417,IF(ISNUMBER(AG417),AG417,\"NA\"))","v":"NA"},null,"Various projects implemented in schools around the country.","2017-08-03"]
[1,"P0254","Trinidad & Tobago",null,null,null,"Solar PV",1,"Distributed","Operational",null,null,2,null,null,4.4500799999999998,null,null,4.4500799999999998,0.254,"NA",null,0.254,5156,null,null,5156,2578,null,0,"NA",null,"One of two pilot solar projects for Trinidad and Tobago's college campuses.","2017-08-03"]
[1,"P0255","Trinidad & Tobago",null,null,null,"Solar PV",1,"Distributed","Operational",null,null,2,null,null,4.4500799999999998,null,null,4.4500799999999998,0.254,"NA",null,0.254,5156,null,null,5156,2578,null,0,"NA",null,"One of two pilot solar projects for Trinidad and Tobago's college campuses.","2017-08-03"]
[null,null,"Trinidad & Tobago","Couva Solar Power Project",null,null,"Solar PV",null,"Utility/IPP","Planned",null,null,92200,null,null,null,null,null,null,null,{"$f":"IF(OR(ISBLANK(M420),ISBLANK(Q420)),\"NA\",(Q420*1000)/(M420*8760))","v":"NA"},null,null,null,null,null,null,null,null,null,{"$f":"IF(ISNUMBER(AF420),AF420,IF(ISNUMBER(AG420),AG420,\"NA\"))","v":"NA"},null,"Government recently secured two bidders through a competitive procurement process; power generated is exptected to be delivered to the grid; Lightsource BP, Shell Trinidad and Tobago Limited and BP Alternative Energy Trinidad and Tobago Limited proposal was accepted (as consortium)"]
[null,null,"Trinidad & Tobago","Trincity Solar Power Project",null,null,"Solar PV",null,"Utility/IPP","Planned",null,null,20000,null,null,null,null,null,null,null,{"$f":"IF(OR(ISBLANK(M421),ISBLANK(Q421)),\"NA\",(Q421*1000)/(M421*8760))","v":"NA"},null,null,null,null,null,null,null,null,null,{"$f":"IF(ISNUMBER(AF421),AF421,IF(ISNUMBER(AG421),AG421,\"NA\"))","v":"NA"},null,"Government recently secured two bidders through a competitive procurement process; power generated is exptected to be delivered to the grid; Lightsource BP, Shell Trinidad and Tobago Limited and BP Alternative Energy Trinidad and Tobago Limited proposal was accepted (as consortium)"]
[null,null,"Trinidad & Tobago","Piarco Airport Solar Park",null,null,"Solar PV",null,"Distributed","Planned",null,null,null,null,null,null,null,null,null,null,null,null,null,null,null,null,null,null,null,null,{"$f":"IF(ISNUMBER(AF422),AF422,IF(ISNUMBER(AG422),AG422,\"NA\"))","v":"NA"},null,"Expected to provide a minimum annual generation capacity of 1,443,830 kWh; feasibility study conducted by Airport Authority, the International Civil Aviation Organisation (ICAO) and European Union; "]
[1,"P0256","Turks and Caicos Islands",null,"Various","FortisTCI ","Solar PV",1,"Utility/IPP","Planned","FortisTCI ",null,1000,null,null,2225.04,null,null,2225.04,0.254,"NA",null,0.254,2578000,null,null,2578000,2578,null,0,"NA",null,"CREF Survey Response 2019 from FortisTCI indictaes still awaiting gov't approval. MOU signed in 2016 with the Rocky-Mountain Institute-Carbon War Room (RMI-CWR).","2019-09-17","Confident"]
[null,null,"Turks and Caicos Islands","Ritz Carlton Solar PV",null,null,"Solar PV",null,"Distributed","Planned",null,null,210.6,null,null,null,null,null,null,null,{"$f":"IF(OR(ISBLANK(M424),ISBLANK(Q424)),\"NA\",(Q424*1000)/(M424*8760))","v":"NA"},null,null,null,null,null,null,null,null,null,null,null,"Ritz Carlton signed on to participate in the government's Utility Owned Renewable Energy (UORE) Programme; 210.6kW rooftop solar PV system will be installed on casino and restaurant rooftop; will generate 310MWh annually; resort currently under construction and set to open in 2021"]
[438,"P0258","U.S. Virgin Islands",null,null,null,"Solar PV",438,"Distributed","Operational",null,null,5000,null,null,11125.2,null,null,11125.2,0.254,"NA",null,0.254,12890000,null,null,12890000,2578,null,0,"NA",null,"Number of installations estimated assuming 10kW average size of installation","2017-08-03"]
[420,"P0259","U.S. Virgin Islands",null,null,null,"Solar PV",420,"Distributed","Operational",null,null,4200,null,null,9345.1679999999997,null,null,9345.1679999999997,0.254,"NA",null,0.254,10827600,null,null,10827600,2578,null,0,"NA",null,"Feed-in tariff implemented to provide economic sustainability for WAPA.","2017-08-03"]
[1,"P0262","U.S. Virgin Islands",null,null,null,"Solar PV",1,"Distributed","Operational",null,null,1072,null,null,2385.2428799999998,null,null,2385.2428799999998,0.254,"NA",null,0.254,2763616,null,null,2763616,2578,null,0,"NA",null,"One of three phases of project between Starwood Hotels and NRG Renew.","2017-08-03"]
[1,"P0263","U.S. Virgin Islands",null,null,null,"Solar PV",1,"Distributed","Operational",null,null,450,null,null,1001.268,null,null,1001.268,0.254,"NA",null,0.254,1900000,null,1900000,1160100,4222.2222222222226,null,0,"NA",null,"Funded by the American Recovery and Reinvestment Act. ","2017-08-03"]
[1,"P0264","U.S. Virgin Islands",null,null,null,"Solar PV",1,"Distributed","Operational",null,null,360,null,null,801.01440000000002,null,null,801.01440000000002,0.254,"NA",null,0.254,928080,null,null,928080,2578,null,0,"NA",null,null,"2017-08-03"]
[1,"P0265","U.S. Virgin Islands",null,null,null,"Solar PV",1,"Distributed","Operational",null,null,79,null,null,175.77816000000001,null,null,175.77816000000001,0.254,"NA",null,0.254,203662,null,null,203662,2578,null,0,"NA",null,"Panels were removed in 2014 to prepare for upgrades to the federal buiding's solar energy system.","2017-08-03"]
[1,"P0266","U.S. Virgin Islands",null,null,null,"Solar PV",1,"Distributed","Operational",null,null,16,null,null,35.600639999999999,null,null,35.600639999999999,0.254,"NA",null,0.254,41248,null,null,41248,2578,null,0,"NA",null,"16 kW installation at an eco-villa resort.","2017-08-03"]
[1,"P0267","U.S. Virgin Islands",null,null,null,"Solar PV",1,"Distributed","Operational",null,null,8,null,null,17.800319999999999,null,null,17.800319999999999,0.254,"NA",null,0.254,20624,null,null,20624,2578,null,0,"NA",null,null,"2017-08-03"]
[1,"P0257","U.S. Virgin Islands",null,"TBD","TBD","Wind",1,"Utility/IPP","Planned","TBD","TBD",5000,null,null,20148,null,null,20148,0.46,"NA",null,0.46,7878333.333333334,null,null,7878333.333333334,1575.6666666666667,null,0,"NA",null,"National Renewable Energy Laboratory has compiled enough data to begin constructing commercial wind farm.","2018-07-10","Confident"]
[1,"P0260","U.S. Virgin Islands","Estate Donoe (St. Thomas)","St. Thomas","U.S. Virgin Islands Water and Power Authority (WAPA)","Solar PV",1,"Utility/IPP","Operational","U.S. Virgin Islands Water and Power Authority (WAPA)",null,4200,null,null,6636,null,6636,6636,0.18036529680365296,"NA",{"$f":" R434 * 1000/(M434 * 8760)","v":0.18036529680365296},null,10500000,null,null,{"$f":" 2500 * M434","v":10500000},2500,null,0,2015,2015,"Public Works applies short-term fixes to notorious North Side road ","2018-07-19","Confident"]
[1,"P0261","U.S. Virgin Islands",null,"St. Croix","NRG Renew and Toshiba International Corporation","Solar PV",1,"Utility/IPP","Operational","NRG Renew and Toshiba International Corporation","U.S. Virgin Islands Water and Power Authority (WAPA)",4000,19500,{"$f":"M435/N435","v":0.20512820512820512},8000,null,8000,8000,0.22831050228310501,"NA",0.22831050228310501,0.254,10312000,null,null,10312000,2578,null,0,2014,2014,null,"2018-07-19","Confident"]

{"sheet":"Market. | Juris capex&capacity","index":43,"n_rows":39,"n_cols":15,"rows_kept":39,"cut":false,"hidden":true,"merged":[[3,0,3,6],[3,8,3,13]]}
[]
[]
[]
["Capacity",null,null,null,null,null,null,"Total Capacity ","Capex",null,null,null,null,null,"Total CAPEX"]
[]
["Total",{"$f":"SUM(B8:B39)","v":646585},{"$f":"SUM(C8:C39)","v":323365},871220,14700,14000,231900,null,{"$f":"SUM(I8:I39)","v":4419498419.545455},{"$f":"SUM(J8:J39)","v":778157521.29473996},2616420920,70000000,121000000,721400000]
[null,"Wind","Solar PV","Hydro","Geothermal","Waste-to-Energy","Biomass",null,"Wind","Solar PV","Hydro","Geothermal","Waste-to-Energy","Biomass"]
["Anguilla",{"$f":"SUM(IF($A8=Marketplace!$C$3:$C$318,IF(B$7=Marketplace!$G$3:$G$318,IF(Marketplace!$I$3:$I$318=\"Utility/IPP\",IF(Marketplace!$J$3:$J$318=\"Operational\",IF(Marketplace!$AI$3:$AI$318= \"Confident\",Marketplace!$M$3:$M$318))))))","v":0},{"$f":"SUM(IF($A8=Marketplace!$C$3:$C$318,IF(C$7=Marketplace!$G$3:$G$318,IF(Marketplace!$I$3:$I$318=\"Utility/IPP\",IF(Marketplace!$J$3:$J$318=\"Operational\",IF(Marketplace!$AI$3:$AI$318= \"Confident\",Marketplace!$M$3:$M$318))))))","v":0},{"$f":"SUM(IF($A8=Marketplace!$C$3:$C$318,IF(D$7=Marketplace!$G$3:$G$318,IF(Marketplace!$I$3:$I$318=\"Utility/IPP\",IF(Marketplace!$J$3:$J$318=\"Operational\",IF(Marketplace!$AI$3:$AI$318= \"Confident\",Marketplace!$M$3:$M$318))))))","v":0},{"$f":"SUM(IF($A8=Marketplace!$C$3:$C$318,IF(E$7=Marketplace!$G$3:$G$318,IF(Marketplace!$I$3:$I$318=\"Utility/IPP\",IF(Marketplace!$J$3:$J$318=\"Operational\",IF(Marketplace!$AI$3:$AI$318= \"Confident\",Marketplace!$M$3:$M$318))))))","v":0},{"$f":"SUM(IF($A8=Marketplace!$C$3:$C$318,IF(F$7=Marketplace!$G$3:$G$318,IF(Marketplace!$I$3:$I$318=\"Utility/IPP\",IF(Marketplace!$J$3:$J$318=\"Operational\",IF(Marketplace!$AI$3:$AI$318= \"Confident\",Marketplace!$M$3:$M$318))))))","v":0},{"$f":"SUM(IF($A8=Marketplace!$C$3:$C$318,IF(G$7=Marketplace!$G$3:$G$318,IF(Marketplace!$I$3:$I$318=\"Utility/IPP\",IF(Marketplace!$J$3:$J$318=\"Operational\",IF(Marketplace!$AI$3:$AI$318= \"Confident\",Marketplace!$M$3:$M$318))))))","v":0},{"$f":"SUM(B8:G8)","v":0},{"$f":"SUM(IF($A8=Marketplace!$C$3:$C$318,IF(I$7=Marketplace!$G$3:$G$318,IF(Marketplace!$I$3:$I$318=\"Utility/IPP\",IF(Marketplace!$J$3:$J$318=\"Operational\",IF(Marketplace!$AI$3:$AI$318= \"Confident\",Marketplace!$X$3:$X$318))))))","v":0},{"$f":"SUM(IF($A8=Marketplace!$C$3:$C$318,IF(J$7=Marketplace!$G$3:$G$318,IF(Marketplace!$I$3:$I$318=\"Utility/IPP\",IF(Marketplace!$J$3:$J$318=\"Operational\",IF(Marketplace!$AI$3:$AI$318= \"Confident\",Marketplace!$X$3:$X$318))))))","v":0},{"$f":"SUM(IF($A8=Marketplace!$C$3:$C$318,IF(K$7=Marketplace!$G$3:$G$318,IF(Marketplace!$I$3:$I$318=\"Utility/IPP\",IF(Marketplace!$J$3:$J$318=\"Operational\",IF(Marketplace!$AI$3:$AI$318= \"Confident\",Marketplace!$X$3:$X$318))))))","v":0},{"$f":"SUM(IF($A8=Marketplace!$C$3:$C$318,IF(L$7=Marketplace!$G$3:$G$318,IF(Marketplace!$I$3:$I$318=\"Utility/IPP\",IF(Marketplace!$J$3:$J$318=\"Operational\",IF(Marketplace!$AI$3:$AI$318= \"Confident\",Marketplace!$X$3:$X$318))))))","v":0},{"$f":"SUM(IF($A8=Marketplace!$C$3:$C$318,IF(M$7=Marketplace!$G$3:$G$318,IF(Marketplace!$I$3:$I$318=\"Utility/IPP\",IF(Marketplace!$J$3:$J$318=\"Operational\",IF(Marketplace!$AI$3:$AI$318= \"Confident\",Marketplace!$X$3:$X$318))))))","v":0},{"$f":"SUM(IF($A8=Marketplace!$C$3:$C$318,IF(N$7=Marketplace!$G$3:$G$318,IF(Marketplace!$I$3:$I$318=\"Utility/IPP\",IF(Marketplace!$J$3:$J$318=\"Operational\",IF(Marketplace!$AI$3:$AI$318= \"Confident\",Marketplace!$X$3:$X$318))))))","v":0},{"$f":"SUM(I8:N8)","v":0}]
["Antigua & Barbuda",{"$f":"SUM(IF($A9=Marketplace!$C$3:$C$318,IF(B$7=Marketplace!$G$3:$G$318,IF(Marketplace!$I$3:$I$318=\"Utility/IPP\",IF(Marketplace!$J$3:$J$318=\"Operational\",IF(Marketplace!$AI$3:$AI$318= \"Confident\",Marketplace!$M$3:$M$318))))))","v":0},{"$f":"SUM(IF($A9=Marketplace!$C$3:$C$318,IF(C$7=Marketplace!$G$3:$G$318,IF(Marketplace!$I$3:$I$318=\"Utility/IPP\",IF(Marketplace!$J$3:$J$318=\"Operational\",IF(Marketplace!$AI$3:$AI$318= \"Confident\",Marketplace!$M$3:$M$318))))))","v":3019},{"$f":"SUM(IF($A9=Marketplace!$C$3:$C$318,IF(D$7=Marketplace!$G$3:$G$318,IF(Marketplace!$I$3:$I$318=\"Utility/IPP\",IF(Marketplace!$J$3:$J$318=\"Operational\",IF(Marketplace!$AI$3:$AI$318= \"Confident\",Marketplace!$M$3:$M$318))))))","v":0},{"$f":"SUM(IF($A9=Marketplace!$C$3:$C$318,IF(E$7=Marketplace!$G$3:$G$318,IF(Marketplace!$I$3:$I$318=\"Utility/IPP\",IF(Marketplace!$J$3:$J$318=\"Operational\",IF(Marketplace!$AI$3:$AI$318= \"Confident\",Marketplace!$M$3:$M$318))))))","v":0},{"$f":"SUM(IF($A9=Marketplace!$C$3:$C$318,IF(F$7=Marketplace!$G$3:$G$318,IF(Marketplace!$I$3:$I$318=\"Utility/IPP\",IF(Marketplace!$J$3:$J$318=\"Operational\",IF(Marketplace!$AI$3:$AI$318= \"Confident\",Marketplace!$M$3:$M$318))))))","v":0},{"$f":"SUM(IF($A9=Marketplace!$C$3:$C$318,IF(G$7=Marketplace!$G$3:$G$318,IF(Marketplace!$I$3:$I$318=\"Utility/IPP\",IF(Marketplace!$J$3:$J$318=\"Operational\",IF(Marketplace!$AI$3:$AI$318= \"Confident\",Marketplace!$M$3:$M$318))))))","v":0},{"$f":"SUM(B9:G9)","v":3019},{"$f":"SUM(IF($A9=Marketplace!$C$3:$C$318,IF(I$7=Marketplace!$G$3:$G$318,IF(Marketplace!$I$3:$I$318=\"Utility/IPP\",IF(Marketplace!$J$3:$J$318=\"Operational\",IF(Marketplace!$AI$3:$AI$318= \"Confident\",Marketplace!$X$3:$X$318))))))","v":0},{"$f":"SUM(IF($A9=Marketplace!$C$3:$C$318,IF(J$7=Marketplace!$G$3:$G$318,IF(Marketplace!$I$3:$I$318=\"Utility/IPP\",IF(Marketplace!$J$3:$J$318=\"Operational\",IF(Marketplace!$AI$3:$AI$318= \"Confident\",Marketplace!$X$3:$X$318))))))","v":6177213.2947399942},{"$f":"SUM(IF($A9=Marketplace!$C$3:$C$318,IF(K$7=Marketplace!$G$3:$G$318,IF(Marketplace!$I$3:$I$318=\"Utility/IPP\",IF(Marketplace!$J$3:$J$318=\"Operational\",IF(Marketplace!$AI$3:$AI$318= \"Confident\",Marketplace!$X$3:$X$318))))))","v":0},{"$f":"SUM(IF($A9=Marketplace!$C$3:$C$318,IF(L$7=Marketplace!$G$3:$G$318,IF(Marketplace!$I$3:$I$318=\"Utility/IPP\",IF(Marketplace!$J$3:$J$318=\"Operational\",IF(Marketplace!$AI$3:$AI$318= \"Confident\",Marketplace!$X$3:$X$318))))))","v":0},{"$f":"SUM(IF($A9=Marketplace!$C$3:$C$318,IF(M$7=Marketplace!$G$3:$G$318,IF(Marketplace!$I$3:$I$318=\"Utility/IPP\",IF(Marketplace!$J$3:$J$318=\"Operational\",IF(Marketplace!$AI$3:$AI$318= \"Confident\",Marketplace!$X$3:$X$318))))))","v":0},{"$f":"SUM(IF($A9=Marketplace!$C$3:$C$318,IF(N$7=Marketplace!$G$3:$G$318,IF(Marketplace!$I$3:$I$318=\"Utility/IPP\",IF(Marketplace!$J$3:$J$318=\"Operational\",IF(Marketplace!$AI$3:$AI$318= \"Confident\",Marketplace!$X$3:$X$318))))))","v":0},{"$f":"SUM(I9:N9)","v":6177213.2947399942}]
["Aruba",{"$f":"SUM(IF($A10=Marketplace!$C$3:$C$318,IF(B$7=Marketplace!$G$3:$G$318,IF(Marketplace!$I$3:$I$318=\"Utility/IPP\",IF(Marketplace!$J$3:$J$318=\"Operational\",IF(Marketplace!$AI$3:$AI$318= \"Confident\",Marketplace!$M$3:$M$318))))))","v":30000},{"$f":"SUM(IF($A10=Marketplace!$C$3:$C$318,IF(C$7=Marketplace!$G$3:$G$318,IF(Marketplace!$I$3:$I$318=\"Utility/IPP\",IF(Marketplace!$J$3:$J$318=\"Operational\",IF(Marketplace!$AI$3:$AI$318= \"Confident\",Marketplace!$M$3:$M$318))))))","v":3474},{"$f":"SUM(IF($A10=Marketplace!$C$3:$C$318,IF(D$7=Marketplace!$G$3:$G$318,IF(Marketplace!$I$3:$I$318=\"Utility/IPP\",IF(Marketplace!$J$3:$J$318=\"Operational\",IF(Marketplace!$AI$3:$AI$318= \"Confident\",Marketplace!$M$3:$M$318))))))","v":0},{"$f":"SUM(IF($A10=Marketplace!$C$3:$C$318,IF(E$7=Marketplace!$G$3:$G$318,IF(Marketplace!$I$3:$I$318=\"Utility/IPP\",IF(Marketplace!$J$3:$J$318=\"Operational\",IF(Marketplace!$AI$3:$AI$318= \"Confident\",Marketplace!$M$3:$M$318))))))","v":0},{"$f":"SUM(IF($A10=Marketplace!$C$3:$C$318,IF(F$7=Marketplace!$G$3:$G$318,IF(Marketplace!$I$3:$I$318=\"Utility/IPP\",IF(Marketplace!$J$3:$J$318=\"Operational\",IF(Marketplace!$AI$3:$AI$318= \"Confident\",Marketplace!$M$3:$M$318))))))","v":2000},{"$f":"SUM(IF($A10=Marketplace!$C$3:$C$318,IF(G$7=Marketplace!$G$3:$G$318,IF(Marketplace!$I$3:$I$318=\"Utility/IPP\",IF(Marketplace!$J$3:$J$318=\"Operational\",IF(Marketplace!$AI$3:$AI$318= \"Confident\",Marketplace!$M$3:$M$318))))))","v":0},35474,{"$f":"SUM(IF($A10=Marketplace!$C$3:$C$318,IF(I$7=Marketplace!$G$3:$G$318,IF(Marketplace!$I$3:$I$318=\"Utility/IPP\",IF(Marketplace!$J$3:$J$318=\"Operational\",IF(Marketplace!$AI$3:$AI$318= \"Confident\",Marketplace!$X$3:$X$318))))))","v":75000000},{"$f":"SUM(IF($A10=Marketplace!$C$3:$C$318,IF(J$7=Marketplace!$G$3:$G$318,IF(Marketplace!$I$3:$I$318=\"Utility/IPP\",IF(Marketplace!$J$3:$J$318=\"Operational\",IF(Marketplace!$AI$3:$AI$318= \"Confident\",Marketplace!$X$3:$X$318))))))","v":8955972},{"$f":"SUM(IF($A10=Marketplace!$C$3:$C$318,IF(K$7=Marketplace!$G$3:$G$318,IF(Marketplace!$I$3:$I$318=\"Utility/IPP\",IF(Marketplace!$J$3:$J$318=\"Operational\",IF(Marketplace!$AI$3:$AI$318= \"Confident\",Marketplace!$X$3:$X$318))))))","v":0},{"$f":"SUM(IF($A10=Marketplace!$C$3:$C$318,IF(L$7=Marketplace!$G$3:$G$318,IF(Marketplace!$I$3:$I$318=\"Utility/IPP\",IF(Marketplace!$J$3:$J$318=\"Operational\",IF(Marketplace!$AI$3:$AI$318= \"Confident\",Marketplace!$X$3:$X$318))))))","v":0},{"$f":"SUM(IF($A10=Marketplace!$C$3:$C$318,IF(M$7=Marketplace!$G$3:$G$318,IF(Marketplace!$I$3:$I$318=\"Utility/IPP\",IF(Marketplace!$J$3:$J$318=\"Operational\",IF(Marketplace!$AI$3:$AI$318= \"Confident\",Marketplace!$X$3:$X$318))))))","v":6000000},{"$f":"SUM(IF($A10=Marketplace!$C$3:$C$318,IF(N$7=Marketplace!$G$3:$G$318,IF(Marketplace!$I$3:$I$318=\"Utility/IPP\",IF(Marketplace!$J$3:$J$318=\"Operational\",IF(Marketplace!$AI$3:$AI$318= \"Confident\",Marketplace!$X$3:$X$318))))))","v":0},89955972]
["Barbados",{"$f":"SUM(IF($A11=Marketplace!$C$3:$C$318,IF(B$7=Marketplace!$G$3:$G$318,IF(Marketplace!$I$3:$I$318=\"Utility/IPP\",IF(Marketplace!$J$3:$J$318=\"Operational\",IF(Marketplace!$AI$3:$AI$318= \"Confident\",Marketplace!$M$3:$M$318))))))","v":0},{"$f":"SUM(IF($A11=Marketplace!$C$3:$C$318,IF(C$7=Marketplace!$G$3:$G$318,IF(Marketplace!$I$3:$I$318=\"Utility/IPP\",IF(Marketplace!$J$3:$J$318=\"Operational\",IF(Marketplace!$AI$3:$AI$318= \"Confident\",Marketplace!$M$3:$M$318))))))","v":10000},{"$f":"SUM(IF($A11=Marketplace!$C$3:$C$318,IF(D$7=Marketplace!$G$3:$G$318,IF(Marketplace!$I$3:$I$318=\"Utility/IPP\",IF(Marketplace!$J$3:$J$318=\"Operational\",IF(Marketplace!$AI$3:$AI$318= \"Confident\",Marketplace!$M$3:$M$318))))))","v":0},{"$f":"SUM(IF($A11=Marketplace!$C$3:$C$318,IF(E$7=Marketplace!$G$3:$G$318,IF(Marketplace!$I$3:$I$318=\"Utility/IPP\",IF(Marketplace!$J$3:$J$318=\"Operational\",IF(Marketplace!$AI$3:$AI$318= \"Confident\",Marketplace!$M$3:$M$318))))))","v":0},{"$f":"SUM(IF($A11=Marketplace!$C$3:$C$318,IF(F$7=Marketplace!$G$3:$G$318,IF(Marketplace!$I$3:$I$318=\"Utility/IPP\",IF(Marketplace!$J$3:$J$318=\"Operational\",IF(Marketplace!$AI$3:$AI$318= \"Confident\",Marketplace!$M$3:$M$318))))))","v":0},{"$f":"SUM(IF($A11=Marketplace!$C$3:$C$318,IF(G$7=Marketplace!$G$3:$G$318,IF(Marketplace!$I$3:$I$318=\"Utility/IPP\",IF(Marketplace!$J$3:$J$318=\"Operational\",IF(Marketplace!$AI$3:$AI$318= \"Confident\",Marketplace!$M$3:$M$318))))))","v":0},10000,{"$f":"SUM(IF($A11=Marketplace!$C$3:$C$318,IF(I$7=Marketplace!$G$3:$G$318,IF(Marketplace!$I$3:$I$318=\"Utility/IPP\",IF(Marketplace!$J$3:$J$318=\"Operational\",IF(Marketplace!$AI$3:$AI$318= \"Confident\",Marketplace!$X$3:$X$318))))))","v":0},{"$f":"SUM(IF($A11=Marketplace!$C$3:$C$318,IF(J$7=Marketplace!$G$3:$G$318,IF(Marketplace!$I$3:$I$318=\"Utility/IPP\",IF(Marketplace!$J$3:$J$318=\"Operational\",IF(Marketplace!$AI$3:$AI$318= \"Confident\",Marketplace!$X$3:$X$318))))))","v":21500000},{"$f":"SUM(IF($A11=Marketplace!$C$3:$C$318,IF(K$7=Marketplace!$G$3:$G$318,IF(Marketplace!$I$3:$I$318=\"Utility/IPP\",IF(Marketplace!$J$3:$J$318=\"Operational\",IF(Marketplace!$AI$3:$AI$318= \"Confident\",Marketplace!$X$3:$X$318))))))","v":0},{"$f":"SUM(IF($A11=Marketplace!$C$3:$C$318,IF(L$7=Marketplace!$G$3:$G$318,IF(Marketplace!$I$3:$I$318=\"Utility/IPP\",IF(Marketplace!$J$3:$J$318=\"Operational\",IF(Marketplace!$AI$3:$AI$318= \"Confident\",Marketplace!$X$3:$X$318))))))","v":0},{"$f":"SUM(IF($A11=Marketplace!$C$3:$C$318,IF(M$7=Marketplace!$G$3:$G$318,IF(Marketplace!$I$3:$I$318=\"Utility/IPP\",IF(Marketplace!$J$3:$J$318=\"Operational\",IF(Marketplace!$AI$3:$AI$318= \"Confident\",Marketplace!$X$3:$X$318))))))","v":0},{"$f":"SUM(IF($A11=Marketplace!$C$3:$C$318,IF(N$7=Marketplace!$G$3:$G$318,IF(Marketplace!$I$3:$I$318=\"Utility/IPP\",IF(Marketplace!$J$3:$J$318=\"Operational\",IF(Marketplace!$AI$3:$AI$318= \"Confident\",Marketplace!$X$3:$X$318))))))","v":0},21500000]
["Belize",{"$f":"SUM(IF($A12=Marketplace!$C$3:$C$318,IF(B$7=Marketplace!$G$3:$G$318,IF(Marketplace!$I$3:$I$318=\"Utility/IPP\",IF(Marketplace!$J$3:$J$318=\"Operational\",IF(Marketplace!$AI$3:$AI$318= \"Confident\",Marketplace!$M$3:$M$318))))))","v":0},{"$f":"SUM(IF($A12=Marketplace!$C$3:$C$318,IF(C$7=Marketplace!$G$3:$G$318,IF(Marketplace!$I$3:$I$318=\"Utility/IPP\",IF(Marketplace!$J$3:$J$318=\"Operational\",IF(Marketplace!$AI$3:$AI$318= \"Confident\",Marketplace!$M$3:$M$318))))))","v":0},{"$f":"SUM(IF($A12=Marketplace!$C$3:$C$318,IF(D$7=Marketplace!$G$3:$G$318,IF(Marketplace!$I$3:$I$318=\"Utility/IPP\",IF(Marketplace!$J$3:$J$318=\"Operational\",IF(Marketplace!$AI$3:$AI$318= \"Confident\",Marketplace!$M$3:$M$318))))))","v":54900},{"$f":"SUM(IF($A12=Marketplace!$C$3:$C$318,IF(E$7=Marketplace!$G$3:$G$318,IF(Marketplace!$I$3:$I$318=\"Utility/IPP\",IF(Marketplace!$J$3:$J$318=\"Operational\",IF(Marketplace!$AI$3:$AI$318= \"Confident\",Marketplace!$M$3:$M$318))))))","v":0},{"$f":"SUM(IF($A12=Marketplace!$C$3:$C$318,IF(F$7=Marketplace!$G$3:$G$318,IF(Marketplace!$I$3:$I$318=\"Utility/IPP\",IF(Marketplace!$J$3:$J$318=\"Operational\",IF(Marketplace!$AI$3:$AI$318= \"Confident\",Marketplace!$M$3:$M$318))))))","v":0},{"$f":"SUM(IF($A12=Marketplace!$C$3:$C$318,IF(G$7=Marketplace!$G$3:$G$318,IF(Marketplace!$I$3:$I$318=\"Utility/IPP\",IF(Marketplace!$J$3:$J$318=\"Operational\",IF(Marketplace!$AI$3:$AI$318= \"Confident\",Marketplace!$M$3:$M$318))))))","v":80000},134900,{"$f":"SUM(IF($A12=Marketplace!$C$3:$C$318,IF(I$7=Marketplace!$G$3:$G$318,IF(Marketplace!$I$3:$I$318=\"Utility/IPP\",IF(Marketplace!$J$3:$J$318=\"Operational\",IF(Marketplace!$AI$3:$AI$318= \"Confident\",Marketplace!$X$3:$X$318))))))","v":0},{"$f":"SUM(IF($A12=Marketplace!$C$3:$C$318,IF(J$7=Marketplace!$G$3:$G$318,IF(Marketplace!$I$3:$I$318=\"Utility/IPP\",IF(Marketplace!$J$3:$J$318=\"Operational\",IF(Marketplace!$AI$3:$AI$318= \"Confident\",Marketplace!$X$3:$X$318))))))","v":0},{"$f":"SUM(IF($A12=Marketplace!$C$3:$C$318,IF(K$7=Marketplace!$G$3:$G$318,IF(Marketplace!$I$3:$I$318=\"Utility/IPP\",IF(Marketplace!$J$3:$J$318=\"Operational\",IF(Marketplace!$AI$3:$AI$318= \"Confident\",Marketplace!$X$3:$X$318))))))","v":208458400},{"$f":"SUM(IF($A12=Marketplace!$C$3:$C$318,IF(L$7=Marketplace!$G$3:$G$318,IF(Marketplace!$I$3:$I$318=\"Utility/IPP\",IF(Marketplace!$J$3:$J$318=\"Operational\",IF(Marketplace!$AI$3:$AI$318= \"Confident\",Marketplace!$X$3:$X$318))))))","v":0},{"$f":"SUM(IF($A12=Marketplace!$C$3:$C$318,IF(M$7=Marketplace!$G$3:$G$318,IF(Marketplace!$I$3:$I$318=\"Utility/IPP\",IF(Marketplace!$J$3:$J$318=\"Operational\",IF(Marketplace!$AI$3:$AI$318= \"Confident\",Marketplace!$X$3:$X$318))))))","v":0},{"$f":"SUM(IF($A12=Marketplace!$C$3:$C$318,IF(N$7=Marketplace!$G$3:$G$318,IF(Marketplace!$I$3:$I$318=\"Utility/IPP\",IF(Marketplace!$J$3:$J$318=\"Operational\",IF(Marketplace!$AI$3:$AI$318= \"Confident\",Marketplace!$X$3:$X$318))))))","v":181500000},389958400]
["Bermuda",{"$f":"SUM(IF($A13=Marketplace!$C$3:$C$318,IF(B$7=Marketplace!$G$3:$G$318,IF(Marketplace!$I$3:$I$318=\"Utility/IPP\",IF(Marketplace!$J$3:$J$318=\"Operational\",IF(Marketplace!$AI$3:$AI$318= \"Confident\",Marketplace!$M$3:$M$318))))))","v":0},{"$f":"SUM(IF($A13=Marketplace!$C$3:$C$318,IF(C$7=Marketplace!$G$3:$G$318,IF(Marketplace!$I$3:$I$318=\"Utility/IPP\",IF(Marketplace!$J$3:$J$318=\"Operational\",IF(Marketplace!$AI$3:$AI$318= \"Confident\",Marketplace!$M$3:$M$318))))))","v":6000},{"$f":"SUM(IF($A13=Marketplace!$C$3:$C$318,IF(D$7=Marketplace!$G$3:$G$318,IF(Marketplace!$I$3:$I$318=\"Utility/IPP\",IF(Marketplace!$J$3:$J$318=\"Operational\",IF(Marketplace!$AI$3:$AI$318= \"Confident\",Marketplace!$M$3:$M$318))))))","v":0},{"$f":"SUM(IF($A13=Marketplace!$C$3:$C$318,IF(E$7=Marketplace!$G$3:$G$318,IF(Marketplace!$I$3:$I$318=\"Utility/IPP\",IF(Marketplace!$J$3:$J$318=\"Operational\",IF(Marketplace!$AI$3:$AI$318= \"Confident\",Marketplace!$M$3:$M$318))))))","v":0},{"$f":"SUM(IF($A13=Marketplace!$C$3:$C$318,IF(F$7=Marketplace!$G$3:$G$318,IF(Marketplace!$I$3:$I$318=\"Utility/IPP\",IF(Marketplace!$J$3:$J$318=\"Operational\",IF(Marketplace!$AI$3:$AI$318= \"Confident\",Marketplace!$M$3:$M$318))))))","v":5000},{"$f":"SUM(IF($A13=Marketplace!$C$3:$C$318,IF(G$7=Marketplace!$G$3:$G$318,IF(Marketplace!$I$3:$I$318=\"Utility/IPP\",IF(Marketplace!$J$3:$J$318=\"Operational\",IF(Marketplace!$AI$3:$AI$318= \"Confident\",Marketplace!$M$3:$M$318))))))","v":0},11000,{"$f":"SUM(IF($A13=Marketplace!$C$3:$C$318,IF(I$7=Marketplace!$G$3:$G$318,IF(Marketplace!$I$3:$I$318=\"Utility/IPP\",IF(Marketplace!$J$3:$J$318=\"Operational\",IF(Marketplace!$AI$3:$AI$318= \"Confident\",Marketplace!$X$3:$X$318))))))","v":0},{"$f":"SUM(IF($A13=Marketplace!$C$3:$C$318,IF(J$7=Marketplace!$G$3:$G$318,IF(Marketplace!$I$3:$I$318=\"Utility/IPP\",IF(Marketplace!$J$3:$J$318=\"Operational\",IF(Marketplace!$AI$3:$AI$318= \"Confident\",Marketplace!$X$3:$X$318))))))","v":15468000},{"$f":"SUM(IF($A13=Marketplace!$C$3:$C$318,IF(K$7=Marketplace!$G$3:$G$318,IF(Marketplace!$I$3:$I$318=\"Utility/IPP\",IF(Marketplace!$J$3:$J$318=\"Operational\",IF(Marketplace!$AI$3:$AI$318= \"Confident\",Marketplace!$X$3:$X$318))))))","v":0},{"$f":"SUM(IF($A13=Marketplace!$C$3:$C$318,IF(L$7=Marketplace!$G$3:$G$318,IF(Marketplace!$I$3:$I$318=\"Utility/IPP\",IF(Marketplace!$J$3:$J$318=\"Operational\",IF(Marketplace!$AI$3:$AI$318= \"Confident\",Marketplace!$X$3:$X$318))))))","v":0},{"$f":"SUM(IF($A13=Marketplace!$C$3:$C$318,IF(M$7=Marketplace!$G$3:$G$318,IF(Marketplace!$I$3:$I$318=\"Utility/IPP\",IF(Marketplace!$J$3:$J$318=\"Operational\",IF(Marketplace!$AI$3:$AI$318= \"Confident\",Marketplace!$X$3:$X$318))))))","v":70000000},{"$f":"SUM(IF($A13=Marketplace!$C$3:$C$318,IF(N$7=Marketplace!$G$3:$G$318,IF(Marketplace!$I$3:$I$318=\"Utility/IPP\",IF(Marketplace!$J$3:$J$318=\"Operational\",IF(Marketplace!$AI$3:$AI$318= \"Confident\",Marketplace!$X$3:$X$318))))))","v":0},85468000]
["Bonaire",{"$f":"SUM(IF($A14=Marketplace!$C$3:$C$318,IF(B$7=Marketplace!$G$3:$G$318,IF(Marketplace!$I$3:$I$318=\"Utility/IPP\",IF(Marketplace!$J$3:$J$318=\"Operational\",IF(Marketplace!$AI$3:$AI$318= \"Confident\",Marketplace!$M$3:$M$318))))))","v":11130},{"$f":"SUM(IF($A14=Marketplace!$C$3:$C$318,IF(C$7=Marketplace!$G$3:$G$318,IF(Marketplace!$I$3:$I$318=\"Utility/IPP\",IF(Marketplace!$J$3:$J$318=\"Operational\",IF(Marketplace!$AI$3:$AI$318= \"Confident\",Marketplace!$M$3:$M$318))))))","v":0},{"$f":"SUM(IF($A14=Marketplace!$C$3:$C$318,IF(D$7=Marketplace!$G$3:$G$318,IF(Marketplace!$I$3:$I$318=\"Utility/IPP\",IF(Marketplace!$J$3:$J$318=\"Operational\",IF(Marketplace!$AI$3:$AI$318= \"Confident\",Marketplace!$M$3:$M$318))))))","v":0},{"$f":"SUM(IF($A14=Marketplace!$C$3:$C$318,IF(E$7=Marketplace!$G$3:$G$318,IF(Marketplace!$I$3:$I$318=\"Utility/IPP\",IF(Marketplace!$J$3:$J$318=\"Operational\",IF(Marketplace!$AI$3:$AI$318= \"Confident\",Marketplace!$M$3:$M$318))))))","v":0},{"$f":"SUM(IF($A14=Marketplace!$C$3:$C$318,IF(F$7=Marketplace!$G$3:$G$318,IF(Marketplace!$I$3:$I$318=\"Utility/IPP\",IF(Marketplace!$J$3:$J$318=\"Operational\",IF(Marketplace!$AI$3:$AI$318= \"Confident\",Marketplace!$M$3:$M$318))))))","v":0},{"$f":"SUM(IF($A14=Marketplace!$C$3:$C$318,IF(G$7=Marketplace!$G$3:$G$318,IF(Marketplace!$I$3:$I$318=\"Utility/IPP\",IF(Marketplace!$J$3:$J$318=\"Operational\",IF(Marketplace!$AI$3:$AI$318= \"Confident\",Marketplace!$M$3:$M$318))))))","v":0},11130,{"$f":"SUM(IF($A14=Marketplace!$C$3:$C$318,IF(I$7=Marketplace!$G$3:$G$318,IF(Marketplace!$I$3:$I$318=\"Utility/IPP\",IF(Marketplace!$J$3:$J$318=\"Operational\",IF(Marketplace!$AI$3:$AI$318= \"Confident\",Marketplace!$X$3:$X$318))))))","v":60000000},{"$f":"SUM(IF($A14=Marketplace!$C$3:$C$318,IF(J$7=Marketplace!$G$3:$G$318,IF(Marketplace!$I$3:$I$318=\"Utility/IPP\",IF(Marketplace!$J$3:$J$318=\"Operational\",IF(Marketplace!$AI$3:$AI$318= \"Confident\",Marketplace!$X$3:$X$318))))))","v":0},{"$f":"SUM(IF($A14=Marketplace!$C$3:$C$318,IF(K$7=Marketplace!$G$3:$G$318,IF(Marketplace!$I$3:$I$318=\"Utility/IPP\",IF(Marketplace!$J$3:$J$318=\"Operational\",IF(Marketplace!$AI$3:$AI$318= \"Confident\",Marketplace!$X$3:$X$318))))))","v":0},{"$f":"SUM(IF($A14=Marketplace!$C$3:$C$318,IF(L$7=Marketplace!$G$3:$G$318,IF(Marketplace!$I$3:$I$318=\"Utility/IPP\",IF(Marketplace!$J$3:$J$318=\"Operational\",IF(Marketplace!$AI$3:$AI$318= \"Confident\",Marketplace!$X$3:$X$318))))))","v":0},{"$f":"SUM(IF($A14=Marketplace!$C$3:$C$318,IF(M$7=Marketplace!$G$3:$G$318,IF(Marketplace!$I$3:$I$318=\"Utility/IPP\",IF(Marketplace!$J$3:$J$318=\"Operational\",IF(Marketplace!$AI$3:$AI$318= \"Confident\",Marketplace!$X$3:$X$318))))))","v":0},{"$f":"SUM(IF($A14=Marketplace!$C$3:$C$318,IF(N$7=Marketplace!$G$3:$G$318,IF(Marketplace!$I$3:$I$318=\"Utility/IPP\",IF(Marketplace!$J$3:$J$318=\"Operational\",IF(Marketplace!$AI$3:$AI$318= \"Confident\",Marketplace!$X$3:$X$318))))))","v":0},60000000]
["British Virgin Islands",{"$f":"SUM(IF($A15=Marketplace!$C$3:$C$318,IF(B$7=Marketplace!$G$3:$G$318,IF(Marketplace!$I$3:$I$318=\"Utility/IPP\",IF(Marketplace!$J$3:$J$318=\"Operational\",IF(Marketplace!$AI$3:$AI$318= \"Confident\",Marketplace!$M$3:$M$318))))))","v":0},{"$f":"SUM(IF($A15=Marketplace!$C$3:$C$318,IF(C$7=Marketplace!$G$3:$G$318,IF(Marketplace!$I$3:$I$318=\"Utility/IPP\",IF(Marketplace!$J$3:$J$318=\"Operational\",IF(Marketplace!$AI$3:$AI$318= \"Confident\",Marketplace!$M$3:$M$318))))))","v":0},{"$f":"SUM(IF($A15=Marketplace!$C$3:$C$318,IF(D$7=Marketplace!$G$3:$G$318,IF(Marketplace!$I$3:$I$318=\"Utility/IPP\",IF(Marketplace!$J$3:$J$318=\"Operational\",IF(Marketplace!$AI$3:$AI$318= \"Confident\",Marketplace!$M$3:$M$318))))))","v":0},{"$f":"SUM(IF($A15=Marketplace!$C$3:$C$318,IF(E$7=Marketplace!$G$3:$G$318,IF(Marketplace!$I$3:$I$318=\"Utility/IPP\",IF(Marketplace!$J$3:$J$318=\"Operational\",IF(Marketplace!$AI$3:$AI$318= \"Confident\",Marketplace!$M$3:$M$318))))))","v":0},{"$f":"SUM(IF($A15=Marketplace!$C$3:$C$318,IF(F$7=Marketplace!$G$3:$G$318,IF(Marketplace!$I$3:$I$318=\"Utility/IPP\",IF(Marketplace!$J$3:$J$318=\"Operational\",IF(Marketplace!$AI$3:$AI$318= \"Confident\",Marketplace!$M$3:$M$318))))))","v":0},{"$f":"SUM(IF($A15=Marketplace!$C$3:$C$318,IF(G$7=Marketplace!$G$3:$G$318,IF(Marketplace!$I$3:$I$318=\"Utility/IPP\",IF(Marketplace!$J$3:$J$318=\"Operational\",IF(Marketplace!$AI$3:$AI$318= \"Confident\",Marketplace!$M$3:$M$318))))))","v":0},0,{"$f":"SUM(IF($A15=Marketplace!$C$3:$C$318,IF(I$7=Marketplace!$G$3:$G$318,IF(Marketplace!$I$3:$I$318=\"Utility/IPP\",IF(Marketplace!$J$3:$J$318=\"Operational\",IF(Marketplace!$AI$3:$AI$318= \"Confident\",Marketplace!$X$3:$X$318))))))","v":0},{"$f":"SUM(IF($A15=Marketplace!$C$3:$C$318,IF(J$7=Marketplace!$G$3:$G$318,IF(Marketplace!$I$3:$I$318=\"Utility/IPP\",IF(Marketplace!$J$3:$J$318=\"Operational\",IF(Marketplace!$AI$3:$AI$318= \"Confident\",Marketplace!$X$3:$X$318))))))","v":0},{"$f":"SUM(IF($A15=Marketplace!$C$3:$C$318,IF(K$7=Marketplace!$G$3:$G$318,IF(Marketplace!$I$3:$I$318=\"Utility/IPP\",IF(Marketplace!$J$3:$J$318=\"Operational\",IF(Marketplace!$AI$3:$AI$318= \"Confident\",Marketplace!$X$3:$X$318))))))","v":0},{"$f":"SUM(IF($A15=Marketplace!$C$3:$C$318,IF(L$7=Marketplace!$G$3:$G$318,IF(Marketplace!$I$3:$I$318=\"Utility/IPP\",IF(Marketplace!$J$3:$J$318=\"Operational\",IF(Marketplace!$AI$3:$AI$318= \"Confident\",Marketplace!$X$3:$X$318))))))","v":0},{"$f":"SUM(IF($A15=Marketplace!$C$3:$C$318,IF(M$7=Marketplace!$G$3:$G$318,IF(Marketplace!$I$3:$I$318=\"Utility/IPP\",IF(Marketplace!$J$3:$J$318=\"Operational\",IF(Marketplace!$AI$3:$AI$318= \"Confident\",Marketplace!$X$3:$X$318))))))","v":0},{"$f":"SUM(IF($A15=Marketplace!$C$3:$C$318,IF(N$7=Marketplace!$G$3:$G$318,IF(Marketplace!$I$3:$I$318=\"Utility/IPP\",IF(Marketplace!$J$3:$J$318=\"Operational\",IF(Marketplace!$AI$3:$AI$318= \"Confident\",Marketplace!$X$3:$X$318))))))","v":0},0]
["Cayman Islands",{"$f":"SUM(IF($A16=Marketplace!$C$3:$C$318,IF(B$7=Marketplace!$G$3:$G$318,IF(Marketplace!$I$3:$I$318=\"Utility/IPP\",IF(Marketplace!$J$3:$J$318=\"Operational\",IF(Marketplace!$AI$3:$AI$318= \"Confident\",Marketplace!$M$3:$M$318))))))","v":0},{"$f":"SUM(IF($A16=Marketplace!$C$3:$C$318,IF(C$7=Marketplace!$G$3:$G$318,IF(Marketplace!$I$3:$I$318=\"Utility/IPP\",IF(Marketplace!$J$3:$J$318=\"Operational\",IF(Marketplace!$AI$3:$AI$318= \"Confident\",Marketplace!$M$3:$M$318))))))","v":5000},{"$f":"SUM(IF($A16=Marketplace!$C$3:$C$318,IF(D$7=Marketplace!$G$3:$G$318,IF(Marketplace!$I$3:$I$318=\"Utility/IPP\",IF(Marketplace!$J$3:$J$318=\"Operational\",IF(Marketplace!$AI$3:$AI$318= \"Confident\",Marketplace!$M$3:$M$318))))))","v":0},{"$f":"SUM(IF($A16=Marketplace!$C$3:$C$318,IF(E$7=Marketplace!$G$3:$G$318,IF(Marketplace!$I$3:$I$318=\"Utility/IPP\",IF(Marketplace!$J$3:$J$318=\"Operational\",IF(Marketplace!$AI$3:$AI$318= \"Confident\",Marketplace!$M$3:$M$318))))))","v":0},{"$f":"SUM(IF($A16=Marketplace!$C$3:$C$318,IF(F$7=Marketplace!$G$3:$G$318,IF(Marketplace!$I$3:$I$318=\"Utility/IPP\",IF(Marketplace!$J$3:$J$318=\"Operational\",IF(Marketplace!$AI$3:$AI$318= \"Confident\",Marketplace!$M$3:$M$318))))))","v":0},{"$f":"SUM(IF($A16=Marketplace!$C$3:$C$318,IF(G$7=Marketplace!$G$3:$G$318,IF(Marketplace!$I$3:$I$318=\"Utility/IPP\",IF(Marketplace!$J$3:$J$318=\"Operational\",IF(Marketplace!$AI$3:$AI$318= \"Confident\",Marketplace!$M$3:$M$318))))))","v":0},5000,{"$f":"SUM(IF($A16=Marketplace!$C$3:$C$318,IF(I$7=Marketplace!$G$3:$G$318,IF(Marketplace!$I$3:$I$318=\"Utility/IPP\",IF(Marketplace!$J$3:$J$318=\"Operational\",IF(Marketplace!$AI$3:$AI$318= \"Confident\",Marketplace!$X$3:$X$318))))))","v":0},{"$f":"SUM(IF($A16=Marketplace!$C$3:$C$318,IF(J$7=Marketplace!$G$3:$G$318,IF(Marketplace!$I$3:$I$318=\"Utility/IPP\",IF(Marketplace!$J$3:$J$318=\"Operational\",IF(Marketplace!$AI$3:$AI$318= \"Confident\",Marketplace!$X$3:$X$318))))))","v":12890000},{"$f":"SUM(IF($A16=Marketplace!$C$3:$C$318,IF(K$7=Marketplace!$G$3:$G$318,IF(Marketplace!$I$3:$I$318=\"Utility/IPP\",IF(Marketplace!$J$3:$J$318=\"Operational\",IF(Marketplace!$AI$3:$AI$318= \"Confident\",Marketplace!$X$3:$X$318))))))","v":0},{"$f":"SUM(IF($A16=Marketplace!$C$3:$C$318,IF(L$7=Marketplace!$G$3:$G$318,IF(Marketplace!$I$3:$I$318=\"Utility/IPP\",IF(Marketplace!$J$3:$J$318=\"Operational\",IF(Marketplace!$AI$3:$AI$318= \"Confident\",Marketplace!$X$3:$X$318))))))","v":0},{"$f":"SUM(IF($A16=Marketplace!$C$3:$C$318,IF(M$7=Marketplace!$G$3:$G$318,IF(Marketplace!$I$3:$I$318=\"Utility/IPP\",IF(Marketplace!$J$3:$J$318=\"Operational\",IF(Marketplace!$AI$3:$AI$318= \"Confident\",Marketplace!$X$3:$X$318))))))","v":0},{"$f":"SUM(IF($A16=Marketplace!$C$3:$C$318,IF(N$7=Marketplace!$G$3:$G$318,IF(Marketplace!$I$3:$I$318=\"Utility/IPP\",IF(Marketplace!$J$3:$J$318=\"Operational\",IF(Marketplace!$AI$3:$AI$318= \"Confident\",Marketplace!$X$3:$X$318))))))","v":0},12890000]
["Cuba",{"$f":"SUM(IF($A17=Marketplace!$C$3:$C$318,IF(B$7=Marketplace!$G$3:$G$318,IF(Marketplace!$I$3:$I$318=\"Utility/IPP\",IF(Marketplace!$J$3:$J$318=\"Operational\",IF(Marketplace!$AI$3:$AI$318= \"Confident\",Marketplace!$M$3:$M$318))))))","v":11700},{"$f":"SUM(IF($A17=Marketplace!$C$3:$C$318,IF(C$7=Marketplace!$G$3:$G$318,IF(Marketplace!$I$3:$I$318=\"Utility/IPP\",IF(Marketplace!$J$3:$J$318=\"Operational\",IF(Marketplace!$AI$3:$AI$318= \"Confident\",Marketplace!$M$3:$M$318))))))","v":27562},{"$f":"SUM(IF($A17=Marketplace!$C$3:$C$318,IF(D$7=Marketplace!$G$3:$G$318,IF(Marketplace!$I$3:$I$318=\"Utility/IPP\",IF(Marketplace!$J$3:$J$318=\"Operational\",IF(Marketplace!$AI$3:$AI$318= \"Confident\",Marketplace!$M$3:$M$318))))))","v":2000},{"$f":"SUM(IF($A17=Marketplace!$C$3:$C$318,IF(E$7=Marketplace!$G$3:$G$318,IF(Marketplace!$I$3:$I$318=\"Utility/IPP\",IF(Marketplace!$J$3:$J$318=\"Operational\",IF(Marketplace!$AI$3:$AI$318= \"Confident\",Marketplace!$M$3:$M$318))))))","v":0},{"$f":"SUM(IF($A17=Marketplace!$C$3:$C$318,IF(F$7=Marketplace!$G$3:$G$318,IF(Marketplace!$I$3:$I$318=\"Utility/IPP\",IF(Marketplace!$J$3:$J$318=\"Operational\",IF(Marketplace!$AI$3:$AI$318= \"Confident\",Marketplace!$M$3:$M$318))))))","v":0},{"$f":"SUM(IF($A17=Marketplace!$C$3:$C$318,IF(G$7=Marketplace!$G$3:$G$318,IF(Marketplace!$I$3:$I$318=\"Utility/IPP\",IF(Marketplace!$J$3:$J$318=\"Operational\",IF(Marketplace!$AI$3:$AI$318= \"Confident\",Marketplace!$M$3:$M$318))))))","v":62000},103262,{"$f":"SUM(IF($A17=Marketplace!$C$3:$C$318,IF(I$7=Marketplace!$G$3:$G$318,IF(Marketplace!$I$3:$I$318=\"Utility/IPP\",IF(Marketplace!$J$3:$J$318=\"Operational\",IF(Marketplace!$AI$3:$AI$318= \"Confident\",Marketplace!$X$3:$X$318))))))","v":19235450},{"$f":"SUM(IF($A17=Marketplace!$C$3:$C$318,IF(J$7=Marketplace!$G$3:$G$318,IF(Marketplace!$I$3:$I$318=\"Utility/IPP\",IF(Marketplace!$J$3:$J$318=\"Operational\",IF(Marketplace!$AI$3:$AI$318= \"Confident\",Marketplace!$X$3:$X$318))))))","v":45357836},{"$f":"SUM(IF($A17=Marketplace!$C$3:$C$318,IF(K$7=Marketplace!$G$3:$G$318,IF(Marketplace!$I$3:$I$318=\"Utility/IPP\",IF(Marketplace!$J$3:$J$318=\"Operational\",IF(Marketplace!$AI$3:$AI$318= \"Confident\",Marketplace!$X$3:$X$318))))))","v":6400000},{"$f":"SUM(IF($A17=Marketplace!$C$3:$C$318,IF(L$7=Marketplace!$G$3:$G$318,IF(Marketplace!$I$3:$I$318=\"Utility/IPP\",IF(Marketplace!$J$3:$J$318=\"Operational\",IF(Marketplace!$AI$3:$AI$318= \"Confident\",Marketplace!$X$3:$X$318))))))","v":0},{"$f":"SUM(IF($A17=Marketplace!$C$3:$C$318,IF(M$7=Marketplace!$G$3:$G$318,IF(Marketplace!$I$3:$I$318=\"Utility/IPP\",IF(Marketplace!$J$3:$J$318=\"Operational\",IF(Marketplace!$AI$3:$AI$318= \"Confident\",Marketplace!$X$3:$X$318))))))","v":0},{"$f":"SUM(IF($A17=Marketplace!$C$3:$C$318,IF(N$7=Marketplace!$G$3:$G$318,IF(Marketplace!$I$3:$I$318=\"Utility/IPP\",IF(Marketplace!$J$3:$J$318=\"Operational\",IF(Marketplace!$AI$3:$AI$318= \"Confident\",Marketplace!$X$3:$X$318))))))","v":186000000},256993286]
["Curaҫao",{"$f":"SUM(IF($A18=Marketplace!$C$3:$C$318,IF(B$7=Marketplace!$G$3:$G$318,IF(Marketplace!$I$3:$I$318=\"Utility/IPP\",IF(Marketplace!$J$3:$J$318=\"Operational\",IF(Marketplace!$AI$3:$AI$318= \"Confident\",Marketplace!$M$3:$M$318))))))","v":46500},{"$f":"SUM(IF($A18=Marketplace!$C$3:$C$318,IF(C$7=Marketplace!$G$3:$G$318,IF(Marketplace!$I$3:$I$318=\"Utility/IPP\",IF(Marketplace!$J$3:$J$318=\"Operational\",IF(Marketplace!$AI$3:$AI$318= \"Confident\",Marketplace!$M$3:$M$318))))))","v":0},{"$f":"SUM(IF($A18=Marketplace!$C$3:$C$318,IF(D$7=Marketplace!$G$3:$G$318,IF(Marketplace!$I$3:$I$318=\"Utility/IPP\",IF(Marketplace!$J$3:$J$318=\"Operational\",IF(Marketplace!$AI$3:$AI$318= \"Confident\",Marketplace!$M$3:$M$318))))))","v":0},{"$f":"SUM(IF($A18=Marketplace!$C$3:$C$318,IF(E$7=Marketplace!$G$3:$G$318,IF(Marketplace!$I$3:$I$318=\"Utility/IPP\",IF(Marketplace!$J$3:$J$318=\"Operational\",IF(Marketplace!$AI$3:$AI$318= \"Confident\",Marketplace!$M$3:$M$318))))))","v":0},{"$f":"SUM(IF($A18=Marketplace!$C$3:$C$318,IF(F$7=Marketplace!$G$3:$G$318,IF(Marketplace!$I$3:$I$318=\"Utility/IPP\",IF(Marketplace!$J$3:$J$318=\"Operational\",IF(Marketplace!$AI$3:$AI$318= \"Confident\",Marketplace!$M$3:$M$318))))))","v":0},{"$f":"SUM(IF($A18=Marketplace!$C$3:$C$318,IF(G$7=Marketplace!$G$3:$G$318,IF(Marketplace!$I$3:$I$318=\"Utility/IPP\",IF(Marketplace!$J$3:$J$318=\"Operational\",IF(Marketplace!$AI$3:$AI$318= \"Confident\",Marketplace!$M$3:$M$318))))))","v":0},46500,{"$f":"SUM(IF($A18=Marketplace!$C$3:$C$318,IF(I$7=Marketplace!$G$3:$G$318,IF(Marketplace!$I$3:$I$318=\"Utility/IPP\",IF(Marketplace!$J$3:$J$318=\"Operational\",IF(Marketplace!$AI$3:$AI$318= \"Confident\",Marketplace!$X$3:$X$318))))))","v":101454545.45454547},{"$f":"SUM(IF($A18=Marketplace!$C$3:$C$318,IF(J$7=Marketplace!$G$3:$G$318,IF(Marketplace!$I$3:$I$318=\"Utility/IPP\",IF(Marketplace!$J$3:$J$318=\"Operational\",IF(Marketplace!$AI$3:$AI$318= \"Confident\",Marketplace!$X$3:$X$318))))))","v":0},{"$f":"SUM(IF($A18=Marketplace!$C$3:$C$318,IF(K$7=Marketplace!$G$3:$G$318,IF(Marketplace!$I$3:$I$318=\"Utility/IPP\",IF(Marketplace!$J$3:$J$318=\"Operational\",IF(Marketplace!$AI$3:$AI$318= \"Confident\",Marketplace!$X$3:$X$318))))))","v":0},{"$f":"SUM(IF($A18=Marketplace!$C$3:$C$318,IF(L$7=Marketplace!$G$3:$G$318,IF(Marketplace!$I$3:$I$318=\"Utility/IPP\",IF(Marketplace!$J$3:$J$318=\"Operational\",IF(Marketplace!$AI$3:$AI$318= \"Confident\",Marketplace!$X$3:$X$318))))))","v":0},{"$f":"SUM(IF($A18=Marketplace!$C$3:$C$318,IF(M$7=Marketplace!$G$3:$G$318,IF(Marketplace!$I$3:$I$318=\"Utility/IPP\",IF(Marketplace!$J$3:$J$318=\"Operational\",IF(Marketplace!$AI$3:$AI$318= \"Confident\",Marketplace!$X$3:$X$318))))))","v":0},{"$f":"SUM(IF($A18=Marketplace!$C$3:$C$318,IF(N$7=Marketplace!$G$3:$G$318,IF(Marketplace!$I$3:$I$318=\"Utility/IPP\",IF(Marketplace!$J$3:$J$318=\"Operational\",IF(Marketplace!$AI$3:$AI$318= \"Confident\",Marketplace!$X$3:$X$318))))))","v":0},101454545.45454547]
["Dominica",{"$f":"SUM(IF($A19=Marketplace!$C$3:$C$318,IF(B$7=Marketplace!$G$3:$G$318,IF(Marketplace!$I$3:$I$318=\"Utility/IPP\",IF(Marketplace!$J$3:$J$318=\"Operational\",IF(Marketplace!$AI$3:$AI$318= \"Confident\",Marketplace!$M$3:$M$318))))))","v":0},{"$f":"SUM(IF($A19=Marketplace!$C$3:$C$318,IF(C$7=Marketplace!$G$3:$G$318,IF(Marketplace!$I$3:$I$318=\"Utility/IPP\",IF(Marketplace!$J$3:$J$318=\"Operational\",IF(Marketplace!$AI$3:$AI$318= \"Confident\",Marketplace!$M$3:$M$318))))))","v":3000},{"$f":"SUM(IF($A19=Marketplace!$C$3:$C$318,IF(D$7=Marketplace!$G$3:$G$318,IF(Marketplace!$I$3:$I$318=\"Utility/IPP\",IF(Marketplace!$J$3:$J$318=\"Operational\",IF(Marketplace!$AI$3:$AI$318= \"Confident\",Marketplace!$M$3:$M$318))))))","v":6620},{"$f":"SUM(IF($A19=Marketplace!$C$3:$C$318,IF(E$7=Marketplace!$G$3:$G$318,IF(Marketplace!$I$3:$I$318=\"Utility/IPP\",IF(Marketplace!$J$3:$J$318=\"Operational\",IF(Marketplace!$AI$3:$AI$318= \"Confident\",Marketplace!$M$3:$M$318))))))","v":0},{"$f":"SUM(IF($A19=Marketplace!$C$3:$C$318,IF(F$7=Marketplace!$G$3:$G$318,IF(Marketplace!$I$3:$I$318=\"Utility/IPP\",IF(Marketplace!$J$3:$J$318=\"Operational\",IF(Marketplace!$AI$3:$AI$318= \"Confident\",Marketplace!$M$3:$M$318))))))","v":0},{"$f":"SUM(IF($A19=Marketplace!$C$3:$C$318,IF(G$7=Marketplace!$G$3:$G$318,IF(Marketplace!$I$3:$I$318=\"Utility/IPP\",IF(Marketplace!$J$3:$J$318=\"Operational\",IF(Marketplace!$AI$3:$AI$318= \"Confident\",Marketplace!$M$3:$M$318))))))","v":0},9620,{"$f":"SUM(IF($A19=Marketplace!$C$3:$C$318,IF(I$7=Marketplace!$G$3:$G$318,IF(Marketplace!$I$3:$I$318=\"Utility/IPP\",IF(Marketplace!$J$3:$J$318=\"Operational\",IF(Marketplace!$AI$3:$AI$318= \"Confident\",Marketplace!$X$3:$X$318))))))","v":0},{"$f":"SUM(IF($A19=Marketplace!$C$3:$C$318,IF(J$7=Marketplace!$G$3:$G$318,IF(Marketplace!$I$3:$I$318=\"Utility/IPP\",IF(Marketplace!$J$3:$J$318=\"Operational\",IF(Marketplace!$AI$3:$AI$318= \"Confident\",Marketplace!$X$3:$X$318))))))","v":8000000},{"$f":"SUM(IF($A19=Marketplace!$C$3:$C$318,IF(K$7=Marketplace!$G$3:$G$318,IF(Marketplace!$I$3:$I$318=\"Utility/IPP\",IF(Marketplace!$J$3:$J$318=\"Operational\",IF(Marketplace!$AI$3:$AI$318= \"Confident\",Marketplace!$X$3:$X$318))))))","v":20363120},{"$f":"SUM(IF($A19=Marketplace!$C$3:$C$318,IF(L$7=Marketplace!$G$3:$G$318,IF(Marketplace!$I$3:$I$318=\"Utility/IPP\",IF(Marketplace!$J$3:$J$318=\"Operational\",IF(Marketplace!$AI$3:$AI$318= \"Confident\",Marketplace!$X$3:$X$318))))))","v":0},{"$f":"SUM(IF($A19=Marketplace!$C$3:$C$318,IF(M$7=Marketplace!$G$3:$G$318,IF(Marketplace!$I$3:$I$318=\"Utility/IPP\",IF(Marketplace!$J$3:$J$318=\"Operational\",IF(Marketplace!$AI$3:$AI$318= \"Confident\",Marketplace!$X$3:$X$318))))))","v":0},{"$f":"SUM(IF($A19=Marketplace!$C$3:$C$318,IF(N$7=Marketplace!$G$3:$G$318,IF(Marketplace!$I$3:$I$318=\"Utility/IPP\",IF(Marketplace!$J$3:$J$318=\"Operational\",IF(Marketplace!$AI$3:$AI$318= \"Confident\",Marketplace!$X$3:$X$318))))))","v":0},28363120]
["Dominican Republic",{"$f":"SUM(IF($A20=Marketplace!$C$3:$C$318,IF(B$7=Marketplace!$G$3:$G$318,IF(Marketplace!$I$3:$I$318=\"Utility/IPP\",IF(Marketplace!$J$3:$J$318=\"Operational\",IF(Marketplace!$AI$3:$AI$318= \"Confident\",Marketplace!$M$3:$M$318))))))","v":374850},{"$f":"SUM(IF($A20=Marketplace!$C$3:$C$318,IF(C$7=Marketplace!$G$3:$G$318,IF(Marketplace!$I$3:$I$318=\"Utility/IPP\",IF(Marketplace!$J$3:$J$318=\"Operational\",IF(Marketplace!$AI$3:$AI$318= \"Confident\",Marketplace!$M$3:$M$318))))))","v":119360},{"$f":"SUM(IF($A20=Marketplace!$C$3:$C$318,IF(D$7=Marketplace!$G$3:$G$318,IF(Marketplace!$I$3:$I$318=\"Utility/IPP\",IF(Marketplace!$J$3:$J$318=\"Operational\",IF(Marketplace!$AI$3:$AI$318= \"Confident\",Marketplace!$M$3:$M$318))))))","v":613000},{"$f":"SUM(IF($A20=Marketplace!$C$3:$C$318,IF(E$7=Marketplace!$G$3:$G$318,IF(Marketplace!$I$3:$I$318=\"Utility/IPP\",IF(Marketplace!$J$3:$J$318=\"Operational\",IF(Marketplace!$AI$3:$AI$318= \"Confident\",Marketplace!$M$3:$M$318))))))","v":0},{"$f":"SUM(IF($A20=Marketplace!$C$3:$C$318,IF(F$7=Marketplace!$G$3:$G$318,IF(Marketplace!$I$3:$I$318=\"Utility/IPP\",IF(Marketplace!$J$3:$J$318=\"Operational\",IF(Marketplace!$AI$3:$AI$318= \"Confident\",Marketplace!$M$3:$M$318))))))","v":0},{"$f":"SUM(IF($A20=Marketplace!$C$3:$C$318,IF(G$7=Marketplace!$G$3:$G$318,IF(Marketplace!$I$3:$I$318=\"Utility/IPP\",IF(Marketplace!$J$3:$J$318=\"Operational\",IF(Marketplace!$AI$3:$AI$318= \"Confident\",Marketplace!$M$3:$M$318))))))","v":30000},1137210,{"$f":"SUM(IF($A20=Marketplace!$C$3:$C$318,IF(I$7=Marketplace!$G$3:$G$318,IF(Marketplace!$I$3:$I$318=\"Utility/IPP\",IF(Marketplace!$J$3:$J$318=\"Operational\",IF(Marketplace!$AI$3:$AI$318= \"Confident\",Marketplace!$X$3:$X$318))))))","v":3557787042.4242425},{"$f":"SUM(IF($A20=Marketplace!$C$3:$C$318,IF(J$7=Marketplace!$G$3:$G$318,IF(Marketplace!$I$3:$I$318=\"Utility/IPP\",IF(Marketplace!$J$3:$J$318=\"Operational\",IF(Marketplace!$AI$3:$AI$318= \"Confident\",Marketplace!$X$3:$X$318))))))","v":206575000},{"$f":"SUM(IF($A20=Marketplace!$C$3:$C$318,IF(K$7=Marketplace!$G$3:$G$318,IF(Marketplace!$I$3:$I$318=\"Utility/IPP\",IF(Marketplace!$J$3:$J$318=\"Operational\",IF(Marketplace!$AI$3:$AI$318= \"Confident\",Marketplace!$X$3:$X$318))))))","v":1885588000},{"$f":"SUM(IF($A20=Marketplace!$C$3:$C$318,IF(L$7=Marketplace!$G$3:$G$318,IF(Marketplace!$I$3:$I$318=\"Utility/IPP\",IF(Marketplace!$J$3:$J$318=\"Operational\",IF(Marketplace!$AI$3:$AI$318= \"Confident\",Marketplace!$X$3:$X$318))))))","v":0},{"$f":"SUM(IF($A20=Marketplace!$C$3:$C$318,IF(M$7=Marketplace!$G$3:$G$318,IF(Marketplace!$I$3:$I$318=\"Utility/IPP\",IF(Marketplace!$J$3:$J$318=\"Operational\",IF(Marketplace!$AI$3:$AI$318= \"Confident\",Marketplace!$X$3:$X$318))))))","v":0},{"$f":"SUM(IF($A20=Marketplace!$C$3:$C$318,IF(N$7=Marketplace!$G$3:$G$318,IF(Marketplace!$I$3:$I$318=\"Utility/IPP\",IF(Marketplace!$J$3:$J$318=\"Operational\",IF(Marketplace!$AI$3:$AI$318= \"Confident\",Marketplace!$X$3:$X$318))))))","v":90000000},5739950042.424242]
["Grenada",{"$f":"SUM(IF($A21=Marketplace!$C$3:$C$318,IF(B$7=Marketplace!$G$3:$G$318,IF(Marketplace!$I$3:$I$318=\"Utility/IPP\",IF(Marketplace!$J$3:$J$318=\"Operational\",IF(Marketplace!$AI$3:$AI$318= \"Confident\",Marketplace!$M$3:$M$318))))))","v":0},{"$f":"SUM(IF($A21=Marketplace!$C$3:$C$318,IF(C$7=Marketplace!$G$3:$G$318,IF(Marketplace!$I$3:$I$318=\"Utility/IPP\",IF(Marketplace!$J$3:$J$318=\"Operational\",IF(Marketplace!$AI$3:$AI$318= \"Confident\",Marketplace!$M$3:$M$318))))))","v":400},{"$f":"SUM(IF($A21=Marketplace!$C$3:$C$318,IF(D$7=Marketplace!$G$3:$G$318,IF(Marketplace!$I$3:$I$318=\"Utility/IPP\",IF(Marketplace!$J$3:$J$318=\"Operational\",IF(Marketplace!$AI$3:$AI$318= \"Confident\",Marketplace!$M$3:$M$318))))))","v":0},{"$f":"SUM(IF($A21=Marketplace!$C$3:$C$318,IF(E$7=Marketplace!$G$3:$G$318,IF(Marketplace!$I$3:$I$318=\"Utility/IPP\",IF(Marketplace!$J$3:$J$318=\"Operational\",IF(Marketplace!$AI$3:$AI$318= \"Confident\",Marketplace!$M$3:$M$318))))))","v":0},{"$f":"SUM(IF($A21=Marketplace!$C$3:$C$318,IF(F$7=Marketplace!$G$3:$G$318,IF(Marketplace!$I$3:$I$318=\"Utility/IPP\",IF(Marketplace!$J$3:$J$318=\"Operational\",IF(Marketplace!$AI$3:$AI$318= \"Confident\",Marketplace!$M$3:$M$318))))))","v":0},{"$f":"SUM(IF($A21=Marketplace!$C$3:$C$318,IF(G$7=Marketplace!$G$3:$G$318,IF(Marketplace!$I$3:$I$318=\"Utility/IPP\",IF(Marketplace!$J$3:$J$318=\"Operational\",IF(Marketplace!$AI$3:$AI$318= \"Confident\",Marketplace!$M$3:$M$318))))))","v":0},400,{"$f":"SUM(IF($A21=Marketplace!$C$3:$C$318,IF(I$7=Marketplace!$G$3:$G$318,IF(Marketplace!$I$3:$I$318=\"Utility/IPP\",IF(Marketplace!$J$3:$J$318=\"Operational\",IF(Marketplace!$AI$3:$AI$318= \"Confident\",Marketplace!$X$3:$X$318))))))","v":0},{"$f":"SUM(IF($A21=Marketplace!$C$3:$C$318,IF(J$7=Marketplace!$G$3:$G$318,IF(Marketplace!$I$3:$I$318=\"Utility/IPP\",IF(Marketplace!$J$3:$J$318=\"Operational\",IF(Marketplace!$AI$3:$AI$318= \"Confident\",Marketplace!$X$3:$X$318))))))","v":800000},{"$f":"SUM(IF($A21=Marketplace!$C$3:$C$318,IF(K$7=Marketplace!$G$3:$G$318,IF(Marketplace!$I$3:$I$318=\"Utility/IPP\",IF(Marketplace!$J$3:$J$318=\"Operational\",IF(Marketplace!$AI$3:$AI$318= \"Confident\",Marketplace!$X$3:$X$318))))))","v":0},{"$f":"SUM(IF($A21=Marketplace!$C$3:$C$318,IF(L$7=Marketplace!$G$3:$G$318,IF(Marketplace!$I$3:$I$318=\"Utility/IPP\",IF(Marketplace!$J$3:$J$318=\"Operational\",IF(Marketplace!$AI$3:$AI$318= \"Confident\",Marketplace!$X$3:$X$318))))))","v":0},{"$f":"SUM(IF($A21=Marketplace!$C$3:$C$318,IF(M$7=Marketplace!$G$3:$G$318,IF(Marketplace!$I$3:$I$318=\"Utility/IPP\",IF(Marketplace!$J$3:$J$318=\"Operational\",IF(Marketplace!$AI$3:$AI$318= \"Confident\",Marketplace!$X$3:$X$318))))))","v":0},{"$f":"SUM(IF($A21=Marketplace!$C$3:$C$318,IF(N$7=Marketplace!$G$3:$G$318,IF(Marketplace!$I$3:$I$318=\"Utility/IPP\",IF(Marketplace!$J$3:$J$318=\"Operational\",IF(Marketplace!$AI$3:$AI$318= \"Confident\",Marketplace!$X$3:$X$318))))))","v":0},800000]
["Guadeloupe",{"$f":"SUM(IF($A22=Marketplace!$C$3:$C$318,IF(B$7=Marketplace!$G$3:$G$318,IF(Marketplace!$I$3:$I$318=\"Utility/IPP\",IF(Marketplace!$J$3:$J$318=\"Operational\",IF(Marketplace!$AI$3:$AI$318= \"Confident\",Marketplace!$M$3:$M$318))))))","v":26810},{"$f":"SUM(IF($A22=Marketplace!$C$3:$C$318,IF(C$7=Marketplace!$G$3:$G$318,IF(Marketplace!$I$3:$I$318=\"Utility/IPP\",IF(Marketplace!$J$3:$J$318=\"Operational\",IF(Marketplace!$AI$3:$AI$318= \"Confident\",Marketplace!$M$3:$M$318))))))","v":3300},{"$f":"SUM(IF($A22=Marketplace!$C$3:$C$318,IF(D$7=Marketplace!$G$3:$G$318,IF(Marketplace!$I$3:$I$318=\"Utility/IPP\",IF(Marketplace!$J$3:$J$318=\"Operational\",IF(Marketplace!$AI$3:$AI$318= \"Confident\",Marketplace!$M$3:$M$318))))))","v":9610},{"$f":"SUM(IF($A22=Marketplace!$C$3:$C$318,IF(E$7=Marketplace!$G$3:$G$318,IF(Marketplace!$I$3:$I$318=\"Utility/IPP\",IF(Marketplace!$J$3:$J$318=\"Operational\",IF(Marketplace!$AI$3:$AI$318= \"Confident\",Marketplace!$M$3:$M$318))))))","v":14700},{"$f":"SUM(IF($A22=Marketplace!$C$3:$C$318,IF(F$7=Marketplace!$G$3:$G$318,IF(Marketplace!$I$3:$I$318=\"Utility/IPP\",IF(Marketplace!$J$3:$J$318=\"Operational\",IF(Marketplace!$AI$3:$AI$318= \"Confident\",Marketplace!$M$3:$M$318))))))","v":0},{"$f":"SUM(IF($A22=Marketplace!$C$3:$C$318,IF(G$7=Marketplace!$G$3:$G$318,IF(Marketplace!$I$3:$I$318=\"Utility/IPP\",IF(Marketplace!$J$3:$J$318=\"Operational\",IF(Marketplace!$AI$3:$AI$318= \"Confident\",Marketplace!$M$3:$M$318))))))","v":6900},61320,{"$f":"SUM(IF($A22=Marketplace!$C$3:$C$318,IF(I$7=Marketplace!$G$3:$G$318,IF(Marketplace!$I$3:$I$318=\"Utility/IPP\",IF(Marketplace!$J$3:$J$318=\"Operational\",IF(Marketplace!$AI$3:$AI$318= \"Confident\",Marketplace!$X$3:$X$318))))))","v":50243848.333333343},{"$f":"SUM(IF($A22=Marketplace!$C$3:$C$318,IF(J$7=Marketplace!$G$3:$G$318,IF(Marketplace!$I$3:$I$318=\"Utility/IPP\",IF(Marketplace!$J$3:$J$318=\"Operational\",IF(Marketplace!$AI$3:$AI$318= \"Confident\",Marketplace!$X$3:$X$318))))))","v":4785000},{"$f":"SUM(IF($A22=Marketplace!$C$3:$C$318,IF(K$7=Marketplace!$G$3:$G$318,IF(Marketplace!$I$3:$I$318=\"Utility/IPP\",IF(Marketplace!$J$3:$J$318=\"Operational\",IF(Marketplace!$AI$3:$AI$318= \"Confident\",Marketplace!$X$3:$X$318))))))","v":29560360},{"$f":"SUM(IF($A22=Marketplace!$C$3:$C$318,IF(L$7=Marketplace!$G$3:$G$318,IF(Marketplace!$I$3:$I$318=\"Utility/IPP\",IF(Marketplace!$J$3:$J$318=\"Operational\",IF(Marketplace!$AI$3:$AI$318= \"Confident\",Marketplace!$X$3:$X$318))))))","v":70000000},{"$f":"SUM(IF($A22=Marketplace!$C$3:$C$318,IF(M$7=Marketplace!$G$3:$G$318,IF(Marketplace!$I$3:$I$318=\"Utility/IPP\",IF(Marketplace!$J$3:$J$318=\"Operational\",IF(Marketplace!$AI$3:$AI$318= \"Confident\",Marketplace!$X$3:$X$318))))))","v":0},{"$f":"SUM(IF($A22=Marketplace!$C$3:$C$318,IF(N$7=Marketplace!$G$3:$G$318,IF(Marketplace!$I$3:$I$318=\"Utility/IPP\",IF(Marketplace!$J$3:$J$318=\"Operational\",IF(Marketplace!$AI$3:$AI$318= \"Confident\",Marketplace!$X$3:$X$318))))))","v":20700000},175289208.33333334]
["Guyana ",{"$f":"SUM(IF($A23=Marketplace!$C$3:$C$318,IF(B$7=Marketplace!$G$3:$G$318,IF(Marketplace!$I$3:$I$318=\"Utility/IPP\",IF(Marketplace!$J$3:$J$318=\"Operational\",IF(Marketplace!$AI$3:$AI$318= \"Confident\",Marketplace!$M$3:$M$318))))))","v":0},{"$f":"SUM(IF($A23=Marketplace!$C$3:$C$318,IF(C$7=Marketplace!$G$3:$G$318,IF(Marketplace!$I$3:$I$318=\"Utility/IPP\",IF(Marketplace!$J$3:$J$318=\"Operational\",IF(Marketplace!$AI$3:$AI$318= \"Confident\",Marketplace!$M$3:$M$318))))))","v":0},{"$f":"SUM(IF($A23=Marketplace!$C$3:$C$318,IF(D$7=Marketplace!$G$3:$G$318,IF(Marketplace!$I$3:$I$318=\"Utility/IPP\",IF(Marketplace!$J$3:$J$318=\"Operational\",IF(Marketplace!$AI$3:$AI$318= \"Confident\",Marketplace!$M$3:$M$318))))))","v":0},{"$f":"SUM(IF($A23=Marketplace!$C$3:$C$318,IF(E$7=Marketplace!$G$3:$G$318,IF(Marketplace!$I$3:$I$318=\"Utility/IPP\",IF(Marketplace!$J$3:$J$318=\"Operational\",IF(Marketplace!$AI$3:$AI$318= \"Confident\",Marketplace!$M$3:$M$318))))))","v":0},{"$f":"SUM(IF($A23=Marketplace!$C$3:$C$318,IF(F$7=Marketplace!$G$3:$G$318,IF(Marketplace!$I$3:$I$318=\"Utility/IPP\",IF(Marketplace!$J$3:$J$318=\"Operational\",IF(Marketplace!$AI$3:$AI$318= \"Confident\",Marketplace!$M$3:$M$318))))))","v":0},{"$f":"SUM(IF($A23=Marketplace!$C$3:$C$318,IF(G$7=Marketplace!$G$3:$G$318,IF(Marketplace!$I$3:$I$318=\"Utility/IPP\",IF(Marketplace!$J$3:$J$318=\"Operational\",IF(Marketplace!$AI$3:$AI$318= \"Confident\",Marketplace!$M$3:$M$318))))))","v":13000},13000,{"$f":"SUM(IF($A23=Marketplace!$C$3:$C$318,IF(I$7=Marketplace!$G$3:$G$318,IF(Marketplace!$I$3:$I$318=\"Utility/IPP\",IF(Marketplace!$J$3:$J$318=\"Operational\",IF(Marketplace!$AI$3:$AI$318= \"Confident\",Marketplace!$X$3:$X$318))))))","v":0},{"$f":"SUM(IF($A23=Marketplace!$C$3:$C$318,IF(J$7=Marketplace!$G$3:$G$318,IF(Marketplace!$I$3:$I$318=\"Utility/IPP\",IF(Marketplace!$J$3:$J$318=\"Operational\",IF(Marketplace!$AI$3:$AI$318= \"Confident\",Marketplace!$X$3:$X$318))))))","v":0},{"$f":"SUM(IF($A23=Marketplace!$C$3:$C$318,IF(K$7=Marketplace!$G$3:$G$318,IF(Marketplace!$I$3:$I$318=\"Utility/IPP\",IF(Marketplace!$J$3:$J$318=\"Operational\",IF(Marketplace!$AI$3:$AI$318= \"Confident\",Marketplace!$X$3:$X$318))))))","v":0},{"$f":"SUM(IF($A23=Marketplace!$C$3:$C$318,IF(L$7=Marketplace!$G$3:$G$318,IF(Marketplace!$I$3:$I$318=\"Utility/IPP\",IF(Marketplace!$J$3:$J$318=\"Operational\",IF(Marketplace!$AI$3:$AI$318= \"Confident\",Marketplace!$X$3:$X$318))))))","v":0},{"$f":"SUM(IF($A23=Marketplace!$C$3:$C$318,IF(M$7=Marketplace!$G$3:$G$318,IF(Marketplace!$I$3:$I$318=\"Utility/IPP\",IF(Marketplace!$J$3:$J$318=\"Operational\",IF(Marketplace!$AI$3:$AI$318= \"Confident\",Marketplace!$X$3:$X$318))))))","v":0},{"$f":"SUM(IF($A23=Marketplace!$C$3:$C$318,IF(N$7=Marketplace!$G$3:$G$318,IF(Marketplace!$I$3:$I$318=\"Utility/IPP\",IF(Marketplace!$J$3:$J$318=\"Operational\",IF(Marketplace!$AI$3:$AI$318= \"Confident\",Marketplace!$X$3:$X$318))))))","v":32200000},32200000]
["Haiti",{"$f":"SUM(IF($A24=Marketplace!$C$3:$C$318,IF(B$7=Marketplace!$G$3:$G$318,IF(Marketplace!$I$3:$I$318=\"Utility/IPP\",IF(Marketplace!$J$3:$J$318=\"Operational\",IF(Marketplace!$AI$3:$AI$318= \"Confident\",Marketplace!$M$3:$M$318))))))","v":0},{"$f":"SUM(IF($A24=Marketplace!$C$3:$C$318,IF(C$7=Marketplace!$G$3:$G$318,IF(Marketplace!$I$3:$I$318=\"Utility/IPP\",IF(Marketplace!$J$3:$J$318=\"Operational\",IF(Marketplace!$AI$3:$AI$318= \"Confident\",Marketplace!$M$3:$M$318))))))","v":0},{"$f":"SUM(IF($A24=Marketplace!$C$3:$C$318,IF(D$7=Marketplace!$G$3:$G$318,IF(Marketplace!$I$3:$I$318=\"Utility/IPP\",IF(Marketplace!$J$3:$J$318=\"Operational\",IF(Marketplace!$AI$3:$AI$318= \"Confident\",Marketplace!$M$3:$M$318))))))","v":61520},{"$f":"SUM(IF($A24=Marketplace!$C$3:$C$318,IF(E$7=Marketplace!$G$3:$G$318,IF(Marketplace!$I$3:$I$318=\"Utility/IPP\",IF(Marketplace!$J$3:$J$318=\"Operational\",IF(Marketplace!$AI$3:$AI$318= \"Confident\",Marketplace!$M$3:$M$318))))))","v":0},{"$f":"SUM(IF($A24=Marketplace!$C$3:$C$318,IF(F$7=Marketplace!$G$3:$G$318,IF(Marketplace!$I$3:$I$318=\"Utility/IPP\",IF(Marketplace!$J$3:$J$318=\"Operational\",IF(Marketplace!$AI$3:$AI$318= \"Confident\",Marketplace!$M$3:$M$318))))))","v":0},{"$f":"SUM(IF($A24=Marketplace!$C$3:$C$318,IF(G$7=Marketplace!$G$3:$G$318,IF(Marketplace!$I$3:$I$318=\"Utility/IPP\",IF(Marketplace!$J$3:$J$318=\"Operational\",IF(Marketplace!$AI$3:$AI$318= \"Confident\",Marketplace!$M$3:$M$318))))))","v":0},61520,{"$f":"SUM(IF($A24=Marketplace!$C$3:$C$318,IF(I$7=Marketplace!$G$3:$G$318,IF(Marketplace!$I$3:$I$318=\"Utility/IPP\",IF(Marketplace!$J$3:$J$318=\"Operational\",IF(Marketplace!$AI$3:$AI$318= \"Confident\",Marketplace!$X$3:$X$318))))))","v":0},{"$f":"SUM(IF($A24=Marketplace!$C$3:$C$318,IF(J$7=Marketplace!$G$3:$G$318,IF(Marketplace!$I$3:$I$318=\"Utility/IPP\",IF(Marketplace!$J$3:$J$318=\"Operational\",IF(Marketplace!$AI$3:$AI$318= \"Confident\",Marketplace!$X$3:$X$318))))))","v":0},{"$f":"SUM(IF($A24=Marketplace!$C$3:$C$318,IF(K$7=Marketplace!$G$3:$G$318,IF(Marketplace!$I$3:$I$318=\"Utility/IPP\",IF(Marketplace!$J$3:$J$318=\"Operational\",IF(Marketplace!$AI$3:$AI$318= \"Confident\",Marketplace!$X$3:$X$318))))))","v":72096920},{"$f":"SUM(IF($A24=Marketplace!$C$3:$C$318,IF(L$7=Marketplace!$G$3:$G$318,IF(Marketplace!$I$3:$I$318=\"Utility/IPP\",IF(Marketplace!$J$3:$J$318=\"Operational\",IF(Marketplace!$AI$3:$AI$318= \"Confident\",Marketplace!$X$3:$X$318))))))","v":0},{"$f":"SUM(IF($A24=Marketplace!$C$3:$C$318,IF(M$7=Marketplace!$G$3:$G$318,IF(Marketplace!$I$3:$I$318=\"Utility/IPP\",IF(Marketplace!$J$3:$J$318=\"Operational\",IF(Marketplace!$AI$3:$AI$318= \"Confident\",Marketplace!$X$3:$X$318))))))","v":0},{"$f":"SUM(IF($A24=Marketplace!$C$3:$C$318,IF(N$7=Marketplace!$G$3:$G$318,IF(Marketplace!$I$3:$I$318=\"Utility/IPP\",IF(Marketplace!$J$3:$J$318=\"Operational\",IF(Marketplace!$AI$3:$AI$318= \"Confident\",Marketplace!$X$3:$X$318))))))","v":0},72096920]
["Jamaica",{"$f":"SUM(IF($A25=Marketplace!$C$3:$C$318,IF(B$7=Marketplace!$G$3:$G$318,IF(Marketplace!$I$3:$I$318=\"Utility/IPP\",IF(Marketplace!$J$3:$J$318=\"Operational\",IF(Marketplace!$AI$3:$AI$318= \"Confident\",Marketplace!$M$3:$M$318))))))","v":102200},{"$f":"SUM(IF($A25=Marketplace!$C$3:$C$318,IF(C$7=Marketplace!$G$3:$G$318,IF(Marketplace!$I$3:$I$318=\"Utility/IPP\",IF(Marketplace!$J$3:$J$318=\"Operational\",IF(Marketplace!$AI$3:$AI$318= \"Confident\",Marketplace!$M$3:$M$318))))))","v":57000},{"$f":"SUM(IF($A25=Marketplace!$C$3:$C$318,IF(D$7=Marketplace!$G$3:$G$318,IF(Marketplace!$I$3:$I$318=\"Utility/IPP\",IF(Marketplace!$J$3:$J$318=\"Operational\",IF(Marketplace!$AI$3:$AI$318= \"Confident\",Marketplace!$M$3:$M$318))))))","v":23570},{"$f":"SUM(IF($A25=Marketplace!$C$3:$C$318,IF(E$7=Marketplace!$G$3:$G$318,IF(Marketplace!$I$3:$I$318=\"Utility/IPP\",IF(Marketplace!$J$3:$J$318=\"Operational\",IF(Marketplace!$AI$3:$AI$318= \"Confident\",Marketplace!$M$3:$M$318))))))","v":0},{"$f":"SUM(IF($A25=Marketplace!$C$3:$C$318,IF(F$7=Marketplace!$G$3:$G$318,IF(Marketplace!$I$3:$I$318=\"Utility/IPP\",IF(Marketplace!$J$3:$J$318=\"Operational\",IF(Marketplace!$AI$3:$AI$318= \"Confident\",Marketplace!$M$3:$M$318))))))","v":0},{"$f":"SUM(IF($A25=Marketplace!$C$3:$C$318,IF(G$7=Marketplace!$G$3:$G$318,IF(Marketplace!$I$3:$I$318=\"Utility/IPP\",IF(Marketplace!$J$3:$J$318=\"Operational\",IF(Marketplace!$AI$3:$AI$318= \"Confident\",Marketplace!$M$3:$M$318))))))","v":0},182770,{"$f":"SUM(IF($A25=Marketplace!$C$3:$C$318,IF(I$7=Marketplace!$G$3:$G$318,IF(Marketplace!$I$3:$I$318=\"Utility/IPP\",IF(Marketplace!$J$3:$J$318=\"Operational\",IF(Marketplace!$AI$3:$AI$318= \"Confident\",Marketplace!$X$3:$X$318))))))","v":197694300},{"$f":"SUM(IF($A25=Marketplace!$C$3:$C$318,IF(J$7=Marketplace!$G$3:$G$318,IF(Marketplace!$I$3:$I$318=\"Utility/IPP\",IF(Marketplace!$J$3:$J$318=\"Operational\",IF(Marketplace!$AI$3:$AI$318= \"Confident\",Marketplace!$X$3:$X$318))))))","v":158386000},{"$f":"SUM(IF($A25=Marketplace!$C$3:$C$318,IF(K$7=Marketplace!$G$3:$G$318,IF(Marketplace!$I$3:$I$318=\"Utility/IPP\",IF(Marketplace!$J$3:$J$318=\"Operational\",IF(Marketplace!$AI$3:$AI$318= \"Confident\",Marketplace!$X$3:$X$318))))))","v":86354120},{"$f":"SUM(IF($A25=Marketplace!$C$3:$C$318,IF(L$7=Marketplace!$G$3:$G$318,IF(Marketplace!$I$3:$I$318=\"Utility/IPP\",IF(Marketplace!$J$3:$J$318=\"Operational\",IF(Marketplace!$AI$3:$AI$318= \"Confident\",Marketplace!$X$3:$X$318))))))","v":0},{"$f":"SUM(IF($A25=Marketplace!$C$3:$C$318,IF(M$7=Marketplace!$G$3:$G$318,IF(Marketplace!$I$3:$I$318=\"Utility/IPP\",IF(Marketplace!$J$3:$J$318=\"Operational\",IF(Marketplace!$AI$3:$AI$318= \"Confident\",Marketplace!$X$3:$X$318))))))","v":0},{"$f":"SUM(IF($A25=Marketplace!$C$3:$C$318,IF(N$7=Marketplace!$G$3:$G$318,IF(Marketplace!$I$3:$I$318=\"Utility/IPP\",IF(Marketplace!$J$3:$J$318=\"Operational\",IF(Marketplace!$AI$3:$AI$318= \"Confident\",Marketplace!$X$3:$X$318))))))","v":0},442434420]
["Martinique",{"$f":"SUM(IF($A26=Marketplace!$C$3:$C$318,IF(B$7=Marketplace!$G$3:$G$318,IF(Marketplace!$I$3:$I$318=\"Utility/IPP\",IF(Marketplace!$J$3:$J$318=\"Operational\",IF(Marketplace!$AI$3:$AI$318= \"Confident\",Marketplace!$M$3:$M$318))))))","v":15100},{"$f":"SUM(IF($A26=Marketplace!$C$3:$C$318,IF(C$7=Marketplace!$G$3:$G$318,IF(Marketplace!$I$3:$I$318=\"Utility/IPP\",IF(Marketplace!$J$3:$J$318=\"Operational\",IF(Marketplace!$AI$3:$AI$318= \"Confident\",Marketplace!$M$3:$M$318))))))","v":0},{"$f":"SUM(IF($A26=Marketplace!$C$3:$C$318,IF(D$7=Marketplace!$G$3:$G$318,IF(Marketplace!$I$3:$I$318=\"Utility/IPP\",IF(Marketplace!$J$3:$J$318=\"Operational\",IF(Marketplace!$AI$3:$AI$318= \"Confident\",Marketplace!$M$3:$M$318))))))","v":0},{"$f":"SUM(IF($A26=Marketplace!$C$3:$C$318,IF(E$7=Marketplace!$G$3:$G$318,IF(Marketplace!$I$3:$I$318=\"Utility/IPP\",IF(Marketplace!$J$3:$J$318=\"Operational\",IF(Marketplace!$AI$3:$AI$318= \"Confident\",Marketplace!$M$3:$M$318))))))","v":0},{"$f":"SUM(IF($A26=Marketplace!$C$3:$C$318,IF(F$7=Marketplace!$G$3:$G$318,IF(Marketplace!$I$3:$I$318=\"Utility/IPP\",IF(Marketplace!$J$3:$J$318=\"Operational\",IF(Marketplace!$AI$3:$AI$318= \"Confident\",Marketplace!$M$3:$M$318))))))","v":7000},{"$f":"SUM(IF($A26=Marketplace!$C$3:$C$318,IF(G$7=Marketplace!$G$3:$G$318,IF(Marketplace!$I$3:$I$318=\"Utility/IPP\",IF(Marketplace!$J$3:$J$318=\"Operational\",IF(Marketplace!$AI$3:$AI$318= \"Confident\",Marketplace!$M$3:$M$318))))))","v":40000},62100,{"$f":"SUM(IF($A26=Marketplace!$C$3:$C$318,IF(I$7=Marketplace!$G$3:$G$318,IF(Marketplace!$I$3:$I$318=\"Utility/IPP\",IF(Marketplace!$J$3:$J$318=\"Operational\",IF(Marketplace!$AI$3:$AI$318= \"Confident\",Marketplace!$X$3:$X$318))))))","v":22383233.333333332},{"$f":"SUM(IF($A26=Marketplace!$C$3:$C$318,IF(J$7=Marketplace!$G$3:$G$318,IF(Marketplace!$I$3:$I$318=\"Utility/IPP\",IF(Marketplace!$J$3:$J$318=\"Operational\",IF(Marketplace!$AI$3:$AI$318= \"Confident\",Marketplace!$X$3:$X$318))))))","v":0},{"$f":"SUM(IF($A26=Marketplace!$C$3:$C$318,IF(K$7=Marketplace!$G$3:$G$318,IF(Marketplace!$I$3:$I$318=\"Utility/IPP\",IF(Marketplace!$J$3:$J$318=\"Operational\",IF(Marketplace!$AI$3:$AI$318= \"Confident\",Marketplace!$X$3:$X$318))))))","v":0},{"$f":"SUM(IF($A26=Marketplace!$C$3:$C$318,IF(L$7=Marketplace!$G$3:$G$318,IF(Marketplace!$I$3:$I$318=\"Utility/IPP\",IF(Marketplace!$J$3:$J$318=\"Operational\",IF(Marketplace!$AI$3:$AI$318= \"Confident\",Marketplace!$X$3:$X$318))))))","v":0},{"$f":"SUM(IF($A26=Marketplace!$C$3:$C$318,IF(M$7=Marketplace!$G$3:$G$318,IF(Marketplace!$I$3:$I$318=\"Utility/IPP\",IF(Marketplace!$J$3:$J$318=\"Operational\",IF(Marketplace!$AI$3:$AI$318= \"Confident\",Marketplace!$X$3:$X$318))))))","v":45000000},{"$f":"SUM(IF($A26=Marketplace!$C$3:$C$318,IF(N$7=Marketplace!$G$3:$G$318,IF(Marketplace!$I$3:$I$318=\"Utility/IPP\",IF(Marketplace!$J$3:$J$318=\"Operational\",IF(Marketplace!$AI$3:$AI$318= \"Confident\",Marketplace!$X$3:$X$318))))))","v":211000000},278383233.33333331]
["Montserrat",{"$f":"SUM(IF($A27=Marketplace!$C$3:$C$318,IF(B$7=Marketplace!$G$3:$G$318,IF(Marketplace!$I$3:$I$318=\"Utility/IPP\",IF(Marketplace!$J$3:$J$318=\"Operational\",IF(Marketplace!$AI$3:$AI$318= \"Confident\",Marketplace!$M$3:$M$318))))))","v":0},{"$f":"SUM(IF($A27=Marketplace!$C$3:$C$318,IF(C$7=Marketplace!$G$3:$G$318,IF(Marketplace!$I$3:$I$318=\"Utility/IPP\",IF(Marketplace!$J$3:$J$318=\"Operational\",IF(Marketplace!$AI$3:$AI$318= \"Confident\",Marketplace!$M$3:$M$318))))))","v":250},{"$f":"SUM(IF($A27=Marketplace!$C$3:$C$318,IF(D$7=Marketplace!$G$3:$G$318,IF(Marketplace!$I$3:$I$318=\"Utility/IPP\",IF(Marketplace!$J$3:$J$318=\"Operational\",IF(Marketplace!$AI$3:$AI$318= \"Confident\",Marketplace!$M$3:$M$318))))))","v":0},{"$f":"SUM(IF($A27=Marketplace!$C$3:$C$318,IF(E$7=Marketplace!$G$3:$G$318,IF(Marketplace!$I$3:$I$318=\"Utility/IPP\",IF(Marketplace!$J$3:$J$318=\"Operational\",IF(Marketplace!$AI$3:$AI$318= \"Confident\",Marketplace!$M$3:$M$318))))))","v":0},{"$f":"SUM(IF($A27=Marketplace!$C$3:$C$318,IF(F$7=Marketplace!$G$3:$G$318,IF(Marketplace!$I$3:$I$318=\"Utility/IPP\",IF(Marketplace!$J$3:$J$318=\"Operational\",IF(Marketplace!$AI$3:$AI$318= \"Confident\",Marketplace!$M$3:$M$318))))))","v":0},{"$f":"SUM(IF($A27=Marketplace!$C$3:$C$318,IF(G$7=Marketplace!$G$3:$G$318,IF(Marketplace!$I$3:$I$318=\"Utility/IPP\",IF(Marketplace!$J$3:$J$318=\"Operational\",IF(Marketplace!$AI$3:$AI$318= \"Confident\",Marketplace!$M$3:$M$318))))))","v":0},250,{"$f":"SUM(IF($A27=Marketplace!$C$3:$C$318,IF(I$7=Marketplace!$G$3:$G$318,IF(Marketplace!$I$3:$I$318=\"Utility/IPP\",IF(Marketplace!$J$3:$J$318=\"Operational\",IF(Marketplace!$AI$3:$AI$318= \"Confident\",Marketplace!$X$3:$X$318))))))","v":0},{"$f":"SUM(IF($A27=Marketplace!$C$3:$C$318,IF(J$7=Marketplace!$G$3:$G$318,IF(Marketplace!$I$3:$I$318=\"Utility/IPP\",IF(Marketplace!$J$3:$J$318=\"Operational\",IF(Marketplace!$AI$3:$AI$318= \"Confident\",Marketplace!$X$3:$X$318))))))","v":362500},{"$f":"SUM(IF($A27=Marketplace!$C$3:$C$318,IF(K$7=Marketplace!$G$3:$G$318,IF(Marketplace!$I$3:$I$318=\"Utility/IPP\",IF(Marketplace!$J$3:$J$318=\"Operational\",IF(Marketplace!$AI$3:$AI$318= \"Confident\",Marketplace!$X$3:$X$318))))))","v":0},{"$f":"SUM(IF($A27=Marketplace!$C$3:$C$318,IF(L$7=Marketplace!$G$3:$G$318,IF(Marketplace!$I$3:$I$318=\"Utility/IPP\",IF(Marketplace!$J$3:$J$318=\"Operational\",IF(Marketplace!$AI$3:$AI$318= \"Confident\",Marketplace!$X$3:$X$318))))))","v":0},{"$f":"SUM(IF($A27=Marketplace!$C$3:$C$318,IF(M$7=Marketplace!$G$3:$G$318,IF(Marketplace!$I$3:$I$318=\"Utility/IPP\",IF(Marketplace!$J$3:$J$318=\"Operational\",IF(Marketplace!$AI$3:$AI$318= \"Confident\",Marketplace!$X$3:$X$318))))))","v":0},{"$f":"SUM(IF($A27=Marketplace!$C$3:$C$318,IF(N$7=Marketplace!$G$3:$G$318,IF(Marketplace!$I$3:$I$318=\"Utility/IPP\",IF(Marketplace!$J$3:$J$318=\"Operational\",IF(Marketplace!$AI$3:$AI$318= \"Confident\",Marketplace!$X$3:$X$318))))))","v":0},362500]
["Nevis ",{"$f":"SUM(IF($A28=Marketplace!$C$3:$C$318,IF(B$7=Marketplace!$G$3:$G$318,IF(Marketplace!$I$3:$I$318=\"Utility/IPP\",IF(Marketplace!$J$3:$J$318=\"Operational\",IF(Marketplace!$AI$3:$AI$318= \"Confident\",Marketplace!$M$3:$M$318))))))","v":2200},{"$f":"SUM(IF($A28=Marketplace!$C$3:$C$318,IF(C$7=Marketplace!$G$3:$G$318,IF(Marketplace!$I$3:$I$318=\"Utility/IPP\",IF(Marketplace!$J$3:$J$318=\"Operational\",IF(Marketplace!$AI$3:$AI$318= \"Confident\",Marketplace!$M$3:$M$318))))))","v":0},{"$f":"SUM(IF($A28=Marketplace!$C$3:$C$318,IF(D$7=Marketplace!$G$3:$G$318,IF(Marketplace!$I$3:$I$318=\"Utility/IPP\",IF(Marketplace!$J$3:$J$318=\"Operational\",IF(Marketplace!$AI$3:$AI$318= \"Confident\",Marketplace!$M$3:$M$318))))))","v":0},{"$f":"SUM(IF($A28=Marketplace!$C$3:$C$318,IF(E$7=Marketplace!$G$3:$G$318,IF(Marketplace!$I$3:$I$318=\"Utility/IPP\",IF(Marketplace!$J$3:$J$318=\"Operational\",IF(Marketplace!$AI$3:$AI$318= \"Confident\",Marketplace!$M$3:$M$318))))))","v":0},{"$f":"SUM(IF($A28=Marketplace!$C$3:$C$318,IF(F$7=Marketplace!$G$3:$G$318,IF(Marketplace!$I$3:$I$318=\"Utility/IPP\",IF(Marketplace!$J$3:$J$318=\"Operational\",IF(Marketplace!$AI$3:$AI$318= \"Confident\",Marketplace!$M$3:$M$318))))))","v":0},{"$f":"SUM(IF($A28=Marketplace!$C$3:$C$318,IF(G$7=Marketplace!$G$3:$G$318,IF(Marketplace!$I$3:$I$318=\"Utility/IPP\",IF(Marketplace!$J$3:$J$318=\"Operational\",IF(Marketplace!$AI$3:$AI$318= \"Confident\",Marketplace!$M$3:$M$318))))))","v":0},2200,{"$f":"SUM(IF($A28=Marketplace!$C$3:$C$318,IF(I$7=Marketplace!$G$3:$G$318,IF(Marketplace!$I$3:$I$318=\"Utility/IPP\",IF(Marketplace!$J$3:$J$318=\"Operational\",IF(Marketplace!$AI$3:$AI$318= \"Confident\",Marketplace!$X$3:$X$318))))))","v":3700000},{"$f":"SUM(IF($A28=Marketplace!$C$3:$C$318,IF(J$7=Marketplace!$G$3:$G$318,IF(Marketplace!$I$3:$I$318=\"Utility/IPP\",IF(Marketplace!$J$3:$J$318=\"Operational\",IF(Marketplace!$AI$3:$AI$318= \"Confident\",Marketplace!$X$3:$X$318))))))","v":0},{"$f":"SUM(IF($A28=Marketplace!$C$3:$C$318,IF(K$7=Marketplace!$G$3:$G$318,IF(Marketplace!$I$3:$I$318=\"Utility/IPP\",IF(Marketplace!$J$3:$J$318=\"Operational\",IF(Marketplace!$AI$3:$AI$318= \"Confident\",Marketplace!$X$3:$X$318))))))","v":0},{"$f":"SUM(IF($A28=Marketplace!$C$3:$C$318,IF(L$7=Marketplace!$G$3:$G$318,IF(Marketplace!$I$3:$I$318=\"Utility/IPP\",IF(Marketplace!$J$3:$J$318=\"Operational\",IF(Marketplace!$AI$3:$AI$318= \"Confident\",Marketplace!$X$3:$X$318))))))","v":0},{"$f":"SUM(IF($A28=Marketplace!$C$3:$C$318,IF(M$7=Marketplace!$G$3:$G$318,IF(Marketplace!$I$3:$I$318=\"Utility/IPP\",IF(Marketplace!$J$3:$J$318=\"Operational\",IF(Marketplace!$AI$3:$AI$318= \"Confident\",Marketplace!$X$3:$X$318))))))","v":0},{"$f":"SUM(IF($A28=Marketplace!$C$3:$C$318,IF(N$7=Marketplace!$G$3:$G$318,IF(Marketplace!$I$3:$I$318=\"Utility/IPP\",IF(Marketplace!$J$3:$J$318=\"Operational\",IF(Marketplace!$AI$3:$AI$318= \"Confident\",Marketplace!$X$3:$X$318))))))","v":0},3700000]
["Puerto Rico",{"$f":"SUM(IF($A29=Marketplace!$C$3:$C$318,IF(B$7=Marketplace!$G$3:$G$318,IF(Marketplace!$I$3:$I$318=\"Utility/IPP\",IF(Marketplace!$J$3:$J$318=\"Operational\",IF(Marketplace!$AI$3:$AI$318= \"Confident\",Marketplace!$M$3:$M$318))))))","v":26095},{"$f":"SUM(IF($A29=Marketplace!$C$3:$C$318,IF(C$7=Marketplace!$G$3:$G$318,IF(Marketplace!$I$3:$I$318=\"Utility/IPP\",IF(Marketplace!$J$3:$J$318=\"Operational\",IF(Marketplace!$AI$3:$AI$318= \"Confident\",Marketplace!$M$3:$M$318))))))","v":85000},{"$f":"SUM(IF($A29=Marketplace!$C$3:$C$318,IF(D$7=Marketplace!$G$3:$G$318,IF(Marketplace!$I$3:$I$318=\"Utility/IPP\",IF(Marketplace!$J$3:$J$318=\"Operational\",IF(Marketplace!$AI$3:$AI$318= \"Confident\",Marketplace!$M$3:$M$318))))))","v":100000},{"$f":"SUM(IF($A29=Marketplace!$C$3:$C$318,IF(E$7=Marketplace!$G$3:$G$318,IF(Marketplace!$I$3:$I$318=\"Utility/IPP\",IF(Marketplace!$J$3:$J$318=\"Operational\",IF(Marketplace!$AI$3:$AI$318= \"Confident\",Marketplace!$M$3:$M$318))))))","v":0},{"$f":"SUM(IF($A29=Marketplace!$C$3:$C$318,IF(F$7=Marketplace!$G$3:$G$318,IF(Marketplace!$I$3:$I$318=\"Utility/IPP\",IF(Marketplace!$J$3:$J$318=\"Operational\",IF(Marketplace!$AI$3:$AI$318= \"Confident\",Marketplace!$M$3:$M$318))))))","v":0},{"$f":"SUM(IF($A29=Marketplace!$C$3:$C$318,IF(G$7=Marketplace!$G$3:$G$318,IF(Marketplace!$I$3:$I$318=\"Utility/IPP\",IF(Marketplace!$J$3:$J$318=\"Operational\",IF(Marketplace!$AI$3:$AI$318= \"Confident\",Marketplace!$M$3:$M$318))))))","v":0},211095,{"$f":"SUM(IF($A29=Marketplace!$C$3:$C$318,IF(I$7=Marketplace!$G$3:$G$318,IF(Marketplace!$I$3:$I$318=\"Utility/IPP\",IF(Marketplace!$J$3:$J$318=\"Operational\",IF(Marketplace!$AI$3:$AI$318= \"Confident\",Marketplace!$X$3:$X$318))))))","v":332000000},{"$f":"SUM(IF($A29=Marketplace!$C$3:$C$318,IF(J$7=Marketplace!$G$3:$G$318,IF(Marketplace!$I$3:$I$318=\"Utility/IPP\",IF(Marketplace!$J$3:$J$318=\"Operational\",IF(Marketplace!$AI$3:$AI$318= \"Confident\",Marketplace!$X$3:$X$318))))))","v":288900000},{"$f":"SUM(IF($A29=Marketplace!$C$3:$C$318,IF(K$7=Marketplace!$G$3:$G$318,IF(Marketplace!$I$3:$I$318=\"Utility/IPP\",IF(Marketplace!$J$3:$J$318=\"Operational\",IF(Marketplace!$AI$3:$AI$318= \"Confident\",Marketplace!$X$3:$X$318))))))","v":307600000},{"$f":"SUM(IF($A29=Marketplace!$C$3:$C$318,IF(L$7=Marketplace!$G$3:$G$318,IF(Marketplace!$I$3:$I$318=\"Utility/IPP\",IF(Marketplace!$J$3:$J$318=\"Operational\",IF(Marketplace!$AI$3:$AI$318= \"Confident\",Marketplace!$X$3:$X$318))))))","v":0},{"$f":"SUM(IF($A29=Marketplace!$C$3:$C$318,IF(M$7=Marketplace!$G$3:$G$318,IF(Marketplace!$I$3:$I$318=\"Utility/IPP\",IF(Marketplace!$J$3:$J$318=\"Operational\",IF(Marketplace!$AI$3:$AI$318= \"Confident\",Marketplace!$X$3:$X$318))))))","v":0},{"$f":"SUM(IF($A29=Marketplace!$C$3:$C$318,IF(N$7=Marketplace!$G$3:$G$318,IF(Marketplace!$I$3:$I$318=\"Utility/IPP\",IF(Marketplace!$J$3:$J$318=\"Operational\",IF(Marketplace!$AI$3:$AI$318= \"Confident\",Marketplace!$X$3:$X$318))))))","v":0},928500000]
["Saint-Martin",{"$f":"SUM(IF($A30=Marketplace!$C$3:$C$318,IF(B$7=Marketplace!$G$3:$G$318,IF(Marketplace!$I$3:$I$318=\"Utility/IPP\",IF(Marketplace!$J$3:$J$318=\"Operational\",IF(Marketplace!$AI$3:$AI$318= \"Confident\",Marketplace!$M$3:$M$318))))))","v":0},{"$f":"SUM(IF($A30=Marketplace!$C$3:$C$318,IF(C$7=Marketplace!$G$3:$G$318,IF(Marketplace!$I$3:$I$318=\"Utility/IPP\",IF(Marketplace!$J$3:$J$318=\"Operational\",IF(Marketplace!$AI$3:$AI$318= \"Confident\",Marketplace!$M$3:$M$318))))))","v":0},{"$f":"SUM(IF($A30=Marketplace!$C$3:$C$318,IF(D$7=Marketplace!$G$3:$G$318,IF(Marketplace!$I$3:$I$318=\"Utility/IPP\",IF(Marketplace!$J$3:$J$318=\"Operational\",IF(Marketplace!$AI$3:$AI$318= \"Confident\",Marketplace!$M$3:$M$318))))))","v":0},{"$f":"SUM(IF($A30=Marketplace!$C$3:$C$318,IF(E$7=Marketplace!$G$3:$G$318,IF(Marketplace!$I$3:$I$318=\"Utility/IPP\",IF(Marketplace!$J$3:$J$318=\"Operational\",IF(Marketplace!$AI$3:$AI$318= \"Confident\",Marketplace!$M$3:$M$318))))))","v":0},{"$f":"SUM(IF($A30=Marketplace!$C$3:$C$318,IF(F$7=Marketplace!$G$3:$G$318,IF(Marketplace!$I$3:$I$318=\"Utility/IPP\",IF(Marketplace!$J$3:$J$318=\"Operational\",IF(Marketplace!$AI$3:$AI$318= \"Confident\",Marketplace!$M$3:$M$318))))))","v":0},{"$f":"SUM(IF($A30=Marketplace!$C$3:$C$318,IF(G$7=Marketplace!$G$3:$G$318,IF(Marketplace!$I$3:$I$318=\"Utility/IPP\",IF(Marketplace!$J$3:$J$318=\"Operational\",IF(Marketplace!$AI$3:$AI$318= \"Confident\",Marketplace!$M$3:$M$318))))))","v":0},0,{"$f":"SUM(IF($A30=Marketplace!$C$3:$C$318,IF(I$7=Marketplace!$G$3:$G$318,IF(Marketplace!$I$3:$I$318=\"Utility/IPP\",IF(Marketplace!$J$3:$J$318=\"Operational\",IF(Marketplace!$AI$3:$AI$318= \"Confident\",Marketplace!$X$3:$X$318))))))","v":0},{"$f":"SUM(IF($A30=Marketplace!$C$3:$C$318,IF(J$7=Marketplace!$G$3:$G$318,IF(Marketplace!$I$3:$I$318=\"Utility/IPP\",IF(Marketplace!$J$3:$J$318=\"Operational\",IF(Marketplace!$AI$3:$AI$318= \"Confident\",Marketplace!$X$3:$X$318))))))","v":0},{"$f":"SUM(IF($A30=Marketplace!$C$3:$C$318,IF(K$7=Marketplace!$G$3:$G$318,IF(Marketplace!$I$3:$I$318=\"Utility/IPP\",IF(Marketplace!$J$3:$J$318=\"Operational\",IF(Marketplace!$AI$3:$AI$318= \"Confident\",Marketplace!$X$3:$X$318))))))","v":0},{"$f":"SUM(IF($A30=Marketplace!$C$3:$C$318,IF(L$7=Marketplace!$G$3:$G$318,IF(Marketplace!$I$3:$I$318=\"Utility/IPP\",IF(Marketplace!$J$3:$J$318=\"Operational\",IF(Marketplace!$AI$3:$AI$318= \"Confident\",Marketplace!$X$3:$X$318))))))","v":0},{"$f":"SUM(IF($A30=Marketplace!$C$3:$C$318,IF(M$7=Marketplace!$G$3:$G$318,IF(Marketplace!$I$3:$I$318=\"Utility/IPP\",IF(Marketplace!$J$3:$J$318=\"Operational\",IF(Marketplace!$AI$3:$AI$318= \"Confident\",Marketplace!$X$3:$X$318))))))","v":0},{"$f":"SUM(IF($A30=Marketplace!$C$3:$C$318,IF(N$7=Marketplace!$G$3:$G$318,IF(Marketplace!$I$3:$I$318=\"Utility/IPP\",IF(Marketplace!$J$3:$J$318=\"Operational\",IF(Marketplace!$AI$3:$AI$318= \"Confident\",Marketplace!$X$3:$X$318))))))","v":0},0]
["Sint Maarten",{"$f":"SUM(IF($A31=Marketplace!$C$3:$C$318,IF(B$7=Marketplace!$G$3:$G$318,IF(Marketplace!$I$3:$I$318=\"Utility/IPP\",IF(Marketplace!$J$3:$J$318=\"Operational\",IF(Marketplace!$AI$3:$AI$318= \"Confident\",Marketplace!$M$3:$M$318))))))","v":0},{"$f":"SUM(IF($A31=Marketplace!$C$3:$C$318,IF(C$7=Marketplace!$G$3:$G$318,IF(Marketplace!$I$3:$I$318=\"Utility/IPP\",IF(Marketplace!$J$3:$J$318=\"Operational\",IF(Marketplace!$AI$3:$AI$318= \"Confident\",Marketplace!$M$3:$M$318))))))","v":0},{"$f":"SUM(IF($A31=Marketplace!$C$3:$C$318,IF(D$7=Marketplace!$G$3:$G$318,IF(Marketplace!$I$3:$I$318=\"Utility/IPP\",IF(Marketplace!$J$3:$J$318=\"Operational\",IF(Marketplace!$AI$3:$AI$318= \"Confident\",Marketplace!$M$3:$M$318))))))","v":0},{"$f":"SUM(IF($A31=Marketplace!$C$3:$C$318,IF(E$7=Marketplace!$G$3:$G$318,IF(Marketplace!$I$3:$I$318=\"Utility/IPP\",IF(Marketplace!$J$3:$J$318=\"Operational\",IF(Marketplace!$AI$3:$AI$318= \"Confident\",Marketplace!$M$3:$M$318))))))","v":0},{"$f":"SUM(IF($A31=Marketplace!$C$3:$C$318,IF(F$7=Marketplace!$G$3:$G$318,IF(Marketplace!$I$3:$I$318=\"Utility/IPP\",IF(Marketplace!$J$3:$J$318=\"Operational\",IF(Marketplace!$AI$3:$AI$318= \"Confident\",Marketplace!$M$3:$M$318))))))","v":0},{"$f":"SUM(IF($A31=Marketplace!$C$3:$C$318,IF(G$7=Marketplace!$G$3:$G$318,IF(Marketplace!$I$3:$I$318=\"Utility/IPP\",IF(Marketplace!$J$3:$J$318=\"Operational\",IF(Marketplace!$AI$3:$AI$318= \"Confident\",Marketplace!$M$3:$M$318))))))","v":0},0,{"$f":"SUM(IF($A31=Marketplace!$C$3:$C$318,IF(I$7=Marketplace!$G$3:$G$318,IF(Marketplace!$I$3:$I$318=\"Utility/IPP\",IF(Marketplace!$J$3:$J$318=\"Operational\",IF(Marketplace!$AI$3:$AI$318= \"Confident\",Marketplace!$X$3:$X$318))))))","v":0},{"$f":"SUM(IF($A31=Marketplace!$C$3:$C$318,IF(J$7=Marketplace!$G$3:$G$318,IF(Marketplace!$I$3:$I$318=\"Utility/IPP\",IF(Marketplace!$J$3:$J$318=\"Operational\",IF(Marketplace!$AI$3:$AI$318= \"Confident\",Marketplace!$X$3:$X$318))))))","v":0},{"$f":"SUM(IF($A31=Marketplace!$C$3:$C$318,IF(K$7=Marketplace!$G$3:$G$318,IF(Marketplace!$I$3:$I$318=\"Utility/IPP\",IF(Marketplace!$J$3:$J$318=\"Operational\",IF(Marketplace!$AI$3:$AI$318= \"Confident\",Marketplace!$X$3:$X$318))))))","v":0},{"$f":"SUM(IF($A31=Marketplace!$C$3:$C$318,IF(L$7=Marketplace!$G$3:$G$318,IF(Marketplace!$I$3:$I$318=\"Utility/IPP\",IF(Marketplace!$J$3:$J$318=\"Operational\",IF(Marketplace!$AI$3:$AI$318= \"Confident\",Marketplace!$X$3:$X$318))))))","v":0},{"$f":"SUM(IF($A31=Marketplace!$C$3:$C$318,IF(M$7=Marketplace!$G$3:$G$318,IF(Marketplace!$I$3:$I$318=\"Utility/IPP\",IF(Marketplace!$J$3:$J$318=\"Operational\",IF(Marketplace!$AI$3:$AI$318= \"Confident\",Marketplace!$X$3:$X$318))))))","v":0},{"$f":"SUM(IF($A31=Marketplace!$C$3:$C$318,IF(N$7=Marketplace!$G$3:$G$318,IF(Marketplace!$I$3:$I$318=\"Utility/IPP\",IF(Marketplace!$J$3:$J$318=\"Operational\",IF(Marketplace!$AI$3:$AI$318= \"Confident\",Marketplace!$X$3:$X$318))))))","v":0},0]
["St. Kitts",{"$f":"SUM(IF($A32=Marketplace!$C$3:$C$318,IF(B$7=Marketplace!$G$3:$G$318,IF(Marketplace!$I$3:$I$318=\"Utility/IPP\",IF(Marketplace!$J$3:$J$318=\"Operational\",IF(Marketplace!$AI$3:$AI$318= \"Confident\",Marketplace!$M$3:$M$318))))))","v":0},{"$f":"SUM(IF($A32=Marketplace!$C$3:$C$318,IF(C$7=Marketplace!$G$3:$G$318,IF(Marketplace!$I$3:$I$318=\"Utility/IPP\",IF(Marketplace!$J$3:$J$318=\"Operational\",IF(Marketplace!$AI$3:$AI$318= \"Confident\",Marketplace!$M$3:$M$318))))))","v":0},{"$f":"SUM(IF($A32=Marketplace!$C$3:$C$318,IF(D$7=Marketplace!$G$3:$G$318,IF(Marketplace!$I$3:$I$318=\"Utility/IPP\",IF(Marketplace!$J$3:$J$318=\"Operational\",IF(Marketplace!$AI$3:$AI$318= \"Confident\",Marketplace!$M$3:$M$318))))))","v":0},{"$f":"SUM(IF($A32=Marketplace!$C$3:$C$318,IF(E$7=Marketplace!$G$3:$G$318,IF(Marketplace!$I$3:$I$318=\"Utility/IPP\",IF(Marketplace!$J$3:$J$318=\"Operational\",IF(Marketplace!$AI$3:$AI$318= \"Confident\",Marketplace!$M$3:$M$318))))))","v":0},{"$f":"SUM(IF($A32=Marketplace!$C$3:$C$318,IF(F$7=Marketplace!$G$3:$G$318,IF(Marketplace!$I$3:$I$318=\"Utility/IPP\",IF(Marketplace!$J$3:$J$318=\"Operational\",IF(Marketplace!$AI$3:$AI$318= \"Confident\",Marketplace!$M$3:$M$318))))))","v":0},{"$f":"SUM(IF($A32=Marketplace!$C$3:$C$318,IF(G$7=Marketplace!$G$3:$G$318,IF(Marketplace!$I$3:$I$318=\"Utility/IPP\",IF(Marketplace!$J$3:$J$318=\"Operational\",IF(Marketplace!$AI$3:$AI$318= \"Confident\",Marketplace!$M$3:$M$318))))))","v":0},0,{"$f":"SUM(IF($A32=Marketplace!$C$3:$C$318,IF(I$7=Marketplace!$G$3:$G$318,IF(Marketplace!$I$3:$I$318=\"Utility/IPP\",IF(Marketplace!$J$3:$J$318=\"Operational\",IF(Marketplace!$AI$3:$AI$318= \"Confident\",Marketplace!$X$3:$X$318))))))","v":0},{"$f":"SUM(IF($A32=Marketplace!$C$3:$C$318,IF(J$7=Marketplace!$G$3:$G$318,IF(Marketplace!$I$3:$I$318=\"Utility/IPP\",IF(Marketplace!$J$3:$J$318=\"Operational\",IF(Marketplace!$AI$3:$AI$318= \"Confident\",Marketplace!$X$3:$X$318))))))","v":0},{"$f":"SUM(IF($A32=Marketplace!$C$3:$C$318,IF(K$7=Marketplace!$G$3:$G$318,IF(Marketplace!$I$3:$I$318=\"Utility/IPP\",IF(Marketplace!$J$3:$J$318=\"Operational\",IF(Marketplace!$AI$3:$AI$318= \"Confident\",Marketplace!$X$3:$X$318))))))","v":0},{"$f":"SUM(IF($A32=Marketplace!$C$3:$C$318,IF(L$7=Marketplace!$G$3:$G$318,IF(Marketplace!$I$3:$I$318=\"Utility/IPP\",IF(Marketplace!$J$3:$J$318=\"Operational\",IF(Marketplace!$AI$3:$AI$318= \"Confident\",Marketplace!$X$3:$X$318))))))","v":0},{"$f":"SUM(IF($A32=Marketplace!$C$3:$C$318,IF(M$7=Marketplace!$G$3:$G$318,IF(Marketplace!$I$3:$I$318=\"Utility/IPP\",IF(Marketplace!$J$3:$J$318=\"Operational\",IF(Marketplace!$AI$3:$AI$318= \"Confident\",Marketplace!$X$3:$X$318))))))","v":0},{"$f":"SUM(IF($A32=Marketplace!$C$3:$C$318,IF(N$7=Marketplace!$G$3:$G$318,IF(Marketplace!$I$3:$I$318=\"Utility/IPP\",IF(Marketplace!$J$3:$J$318=\"Operational\",IF(Marketplace!$AI$3:$AI$318= \"Confident\",Marketplace!$X$3:$X$318))))))","v":0},0]
["St. Lucia ",{"$f":"SUM(IF($A33=Marketplace!$C$3:$C$318,IF(B$7=Marketplace!$G$3:$G$318,IF(Marketplace!$I$3:$I$318=\"Utility/IPP\",IF(Marketplace!$J$3:$J$318=\"Operational\",IF(Marketplace!$AI$3:$AI$318= \"Confident\",Marketplace!$M$3:$M$318))))))","v":0},{"$f":"SUM(IF($A33=Marketplace!$C$3:$C$318,IF(C$7=Marketplace!$G$3:$G$318,IF(Marketplace!$I$3:$I$318=\"Utility/IPP\",IF(Marketplace!$J$3:$J$318=\"Operational\",IF(Marketplace!$AI$3:$AI$318= \"Confident\",Marketplace!$M$3:$M$318))))))","v":0},{"$f":"SUM(IF($A33=Marketplace!$C$3:$C$318,IF(D$7=Marketplace!$G$3:$G$318,IF(Marketplace!$I$3:$I$318=\"Utility/IPP\",IF(Marketplace!$J$3:$J$318=\"Operational\",IF(Marketplace!$AI$3:$AI$318= \"Confident\",Marketplace!$M$3:$M$318))))))","v":0},{"$f":"SUM(IF($A33=Marketplace!$C$3:$C$318,IF(E$7=Marketplace!$G$3:$G$318,IF(Marketplace!$I$3:$I$318=\"Utility/IPP\",IF(Marketplace!$J$3:$J$318=\"Operational\",IF(Marketplace!$AI$3:$AI$318= \"Confident\",Marketplace!$M$3:$M$318))))))","v":0},{"$f":"SUM(IF($A33=Marketplace!$C$3:$C$318,IF(F$7=Marketplace!$G$3:$G$318,IF(Marketplace!$I$3:$I$318=\"Utility/IPP\",IF(Marketplace!$J$3:$J$318=\"Operational\",IF(Marketplace!$AI$3:$AI$318= \"Confident\",Marketplace!$M$3:$M$318))))))","v":0},{"$f":"SUM(IF($A33=Marketplace!$C$3:$C$318,IF(G$7=Marketplace!$G$3:$G$318,IF(Marketplace!$I$3:$I$318=\"Utility/IPP\",IF(Marketplace!$J$3:$J$318=\"Operational\",IF(Marketplace!$AI$3:$AI$318= \"Confident\",Marketplace!$M$3:$M$318))))))","v":0},0,{"$f":"SUM(IF($A33=Marketplace!$C$3:$C$318,IF(I$7=Marketplace!$G$3:$G$318,IF(Marketplace!$I$3:$I$318=\"Utility/IPP\",IF(Marketplace!$J$3:$J$318=\"Operational\",IF(Marketplace!$AI$3:$AI$318= \"Confident\",Marketplace!$X$3:$X$318))))))","v":0},{"$f":"SUM(IF($A33=Marketplace!$C$3:$C$318,IF(J$7=Marketplace!$G$3:$G$318,IF(Marketplace!$I$3:$I$318=\"Utility/IPP\",IF(Marketplace!$J$3:$J$318=\"Operational\",IF(Marketplace!$AI$3:$AI$318= \"Confident\",Marketplace!$X$3:$X$318))))))","v":0},{"$f":"SUM(IF($A33=Marketplace!$C$3:$C$318,IF(K$7=Marketplace!$G$3:$G$318,IF(Marketplace!$I$3:$I$318=\"Utility/IPP\",IF(Marketplace!$J$3:$J$318=\"Operational\",IF(Marketplace!$AI$3:$AI$318= \"Confident\",Marketplace!$X$3:$X$318))))))","v":0},{"$f":"SUM(IF($A33=Marketplace!$C$3:$C$318,IF(L$7=Marketplace!$G$3:$G$318,IF(Marketplace!$I$3:$I$318=\"Utility/IPP\",IF(Marketplace!$J$3:$J$318=\"Operational\",IF(Marketplace!$AI$3:$AI$318= \"Confident\",Marketplace!$X$3:$X$318))))))","v":0},{"$f":"SUM(IF($A33=Marketplace!$C$3:$C$318,IF(M$7=Marketplace!$G$3:$G$318,IF(Marketplace!$I$3:$I$318=\"Utility/IPP\",IF(Marketplace!$J$3:$J$318=\"Operational\",IF(Marketplace!$AI$3:$AI$318= \"Confident\",Marketplace!$X$3:$X$318))))))","v":0},{"$f":"SUM(IF($A33=Marketplace!$C$3:$C$318,IF(N$7=Marketplace!$G$3:$G$318,IF(Marketplace!$I$3:$I$318=\"Utility/IPP\",IF(Marketplace!$J$3:$J$318=\"Operational\",IF(Marketplace!$AI$3:$AI$318= \"Confident\",Marketplace!$X$3:$X$318))))))","v":0},0]
["St. Vincent and the Grenadines",{"$f":"SUM(IF($A34=Marketplace!$C$3:$C$318,IF(B$7=Marketplace!$G$3:$G$318,IF(Marketplace!$I$3:$I$318=\"Utility/IPP\",IF(Marketplace!$J$3:$J$318=\"Operational\",IF(Marketplace!$AI$3:$AI$318= \"Confident\",Marketplace!$M$3:$M$318))))))","v":0},{"$f":"SUM(IF($A34=Marketplace!$C$3:$C$318,IF(C$7=Marketplace!$G$3:$G$318,IF(Marketplace!$I$3:$I$318=\"Utility/IPP\",IF(Marketplace!$J$3:$J$318=\"Operational\",IF(Marketplace!$AI$3:$AI$318= \"Confident\",Marketplace!$M$3:$M$318))))))","v":0},{"$f":"SUM(IF($A34=Marketplace!$C$3:$C$318,IF(D$7=Marketplace!$G$3:$G$318,IF(Marketplace!$I$3:$I$318=\"Utility/IPP\",IF(Marketplace!$J$3:$J$318=\"Operational\",IF(Marketplace!$AI$3:$AI$318= \"Confident\",Marketplace!$M$3:$M$318))))))","v":0},{"$f":"SUM(IF($A34=Marketplace!$C$3:$C$318,IF(E$7=Marketplace!$G$3:$G$318,IF(Marketplace!$I$3:$I$318=\"Utility/IPP\",IF(Marketplace!$J$3:$J$318=\"Operational\",IF(Marketplace!$AI$3:$AI$318= \"Confident\",Marketplace!$M$3:$M$318))))))","v":0},{"$f":"SUM(IF($A34=Marketplace!$C$3:$C$318,IF(F$7=Marketplace!$G$3:$G$318,IF(Marketplace!$I$3:$I$318=\"Utility/IPP\",IF(Marketplace!$J$3:$J$318=\"Operational\",IF(Marketplace!$AI$3:$AI$318= \"Confident\",Marketplace!$M$3:$M$318))))))","v":0},{"$f":"SUM(IF($A34=Marketplace!$C$3:$C$318,IF(G$7=Marketplace!$G$3:$G$318,IF(Marketplace!$I$3:$I$318=\"Utility/IPP\",IF(Marketplace!$J$3:$J$318=\"Operational\",IF(Marketplace!$AI$3:$AI$318= \"Confident\",Marketplace!$M$3:$M$318))))))","v":0},0,{"$f":"SUM(IF($A34=Marketplace!$C$3:$C$318,IF(I$7=Marketplace!$G$3:$G$318,IF(Marketplace!$I$3:$I$318=\"Utility/IPP\",IF(Marketplace!$J$3:$J$318=\"Operational\",IF(Marketplace!$AI$3:$AI$318= \"Confident\",Marketplace!$X$3:$X$318))))))","v":0},{"$f":"SUM(IF($A34=Marketplace!$C$3:$C$318,IF(J$7=Marketplace!$G$3:$G$318,IF(Marketplace!$I$3:$I$318=\"Utility/IPP\",IF(Marketplace!$J$3:$J$318=\"Operational\",IF(Marketplace!$AI$3:$AI$318= \"Confident\",Marketplace!$X$3:$X$318))))))","v":0},{"$f":"SUM(IF($A34=Marketplace!$C$3:$C$318,IF(K$7=Marketplace!$G$3:$G$318,IF(Marketplace!$I$3:$I$318=\"Utility/IPP\",IF(Marketplace!$J$3:$J$318=\"Operational\",IF(Marketplace!$AI$3:$AI$318= \"Confident\",Marketplace!$X$3:$X$318))))))","v":0},{"$f":"SUM(IF($A34=Marketplace!$C$3:$C$318,IF(L$7=Marketplace!$G$3:$G$318,IF(Marketplace!$I$3:$I$318=\"Utility/IPP\",IF(Marketplace!$J$3:$J$318=\"Operational\",IF(Marketplace!$AI$3:$AI$318= \"Confident\",Marketplace!$X$3:$X$318))))))","v":0},{"$f":"SUM(IF($A34=Marketplace!$C$3:$C$318,IF(M$7=Marketplace!$G$3:$G$318,IF(Marketplace!$I$3:$I$318=\"Utility/IPP\",IF(Marketplace!$J$3:$J$318=\"Operational\",IF(Marketplace!$AI$3:$AI$318= \"Confident\",Marketplace!$X$3:$X$318))))))","v":0},{"$f":"SUM(IF($A34=Marketplace!$C$3:$C$318,IF(N$7=Marketplace!$G$3:$G$318,IF(Marketplace!$I$3:$I$318=\"Utility/IPP\",IF(Marketplace!$J$3:$J$318=\"Operational\",IF(Marketplace!$AI$3:$AI$318= \"Confident\",Marketplace!$X$3:$X$318))))))","v":0},0]
["Suriname",{"$f":"SUM(IF($A35=Marketplace!$C$3:$C$318,IF(B$7=Marketplace!$G$3:$G$318,IF(Marketplace!$I$3:$I$318=\"Utility/IPP\",IF(Marketplace!$J$3:$J$318=\"Operational\",IF(Marketplace!$AI$3:$AI$318= \"Confident\",Marketplace!$M$3:$M$318))))))","v":0},{"$f":"SUM(IF($A35=Marketplace!$C$3:$C$318,IF(C$7=Marketplace!$G$3:$G$318,IF(Marketplace!$I$3:$I$318=\"Utility/IPP\",IF(Marketplace!$J$3:$J$318=\"Operational\",IF(Marketplace!$AI$3:$AI$318= \"Confident\",Marketplace!$M$3:$M$318))))))","v":0},{"$f":"SUM(IF($A35=Marketplace!$C$3:$C$318,IF(D$7=Marketplace!$G$3:$G$318,IF(Marketplace!$I$3:$I$318=\"Utility/IPP\",IF(Marketplace!$J$3:$J$318=\"Operational\",IF(Marketplace!$AI$3:$AI$318= \"Confident\",Marketplace!$M$3:$M$318))))))","v":0},{"$f":"SUM(IF($A35=Marketplace!$C$3:$C$318,IF(E$7=Marketplace!$G$3:$G$318,IF(Marketplace!$I$3:$I$318=\"Utility/IPP\",IF(Marketplace!$J$3:$J$318=\"Operational\",IF(Marketplace!$AI$3:$AI$318= \"Confident\",Marketplace!$M$3:$M$318))))))","v":0},{"$f":"SUM(IF($A35=Marketplace!$C$3:$C$318,IF(F$7=Marketplace!$G$3:$G$318,IF(Marketplace!$I$3:$I$318=\"Utility/IPP\",IF(Marketplace!$J$3:$J$318=\"Operational\",IF(Marketplace!$AI$3:$AI$318= \"Confident\",Marketplace!$M$3:$M$318))))))","v":0},{"$f":"SUM(IF($A35=Marketplace!$C$3:$C$318,IF(G$7=Marketplace!$G$3:$G$318,IF(Marketplace!$I$3:$I$318=\"Utility/IPP\",IF(Marketplace!$J$3:$J$318=\"Operational\",IF(Marketplace!$AI$3:$AI$318= \"Confident\",Marketplace!$M$3:$M$318))))))","v":0},0,{"$f":"SUM(IF($A35=Marketplace!$C$3:$C$318,IF(I$7=Marketplace!$G$3:$G$318,IF(Marketplace!$I$3:$I$318=\"Utility/IPP\",IF(Marketplace!$J$3:$J$318=\"Operational\",IF(Marketplace!$AI$3:$AI$318= \"Confident\",Marketplace!$X$3:$X$318))))))","v":0},{"$f":"SUM(IF($A35=Marketplace!$C$3:$C$318,IF(J$7=Marketplace!$G$3:$G$318,IF(Marketplace!$I$3:$I$318=\"Utility/IPP\",IF(Marketplace!$J$3:$J$318=\"Operational\",IF(Marketplace!$AI$3:$AI$318= \"Confident\",Marketplace!$X$3:$X$318))))))","v":0},{"$f":"SUM(IF($A35=Marketplace!$C$3:$C$318,IF(K$7=Marketplace!$G$3:$G$318,IF(Marketplace!$I$3:$I$318=\"Utility/IPP\",IF(Marketplace!$J$3:$J$318=\"Operational\",IF(Marketplace!$AI$3:$AI$318= \"Confident\",Marketplace!$X$3:$X$318))))))","v":0},{"$f":"SUM(IF($A35=Marketplace!$C$3:$C$318,IF(L$7=Marketplace!$G$3:$G$318,IF(Marketplace!$I$3:$I$318=\"Utility/IPP\",IF(Marketplace!$J$3:$J$318=\"Operational\",IF(Marketplace!$AI$3:$AI$318= \"Confident\",Marketplace!$X$3:$X$318))))))","v":0},{"$f":"SUM(IF($A35=Marketplace!$C$3:$C$318,IF(M$7=Marketplace!$G$3:$G$318,IF(Marketplace!$I$3:$I$318=\"Utility/IPP\",IF(Marketplace!$J$3:$J$318=\"Operational\",IF(Marketplace!$AI$3:$AI$318= \"Confident\",Marketplace!$X$3:$X$318))))))","v":0},{"$f":"SUM(IF($A35=Marketplace!$C$3:$C$318,IF(N$7=Marketplace!$G$3:$G$318,IF(Marketplace!$I$3:$I$318=\"Utility/IPP\",IF(Marketplace!$J$3:$J$318=\"Operational\",IF(Marketplace!$AI$3:$AI$318= \"Confident\",Marketplace!$X$3:$X$318))))))","v":0},0]
["The Bahamas",{"$f":"SUM(IF($A36=Marketplace!$C$3:$C$318,IF(B$7=Marketplace!$G$3:$G$318,IF(Marketplace!$I$3:$I$318=\"Utility/IPP\",IF(Marketplace!$J$3:$J$318=\"Operational\",IF(Marketplace!$AI$3:$AI$318= \"Confident\",Marketplace!$M$3:$M$318))))))","v":0},{"$f":"SUM(IF($A36=Marketplace!$C$3:$C$318,IF(C$7=Marketplace!$G$3:$G$318,IF(Marketplace!$I$3:$I$318=\"Utility/IPP\",IF(Marketplace!$J$3:$J$318=\"Operational\",IF(Marketplace!$AI$3:$AI$318= \"Confident\",Marketplace!$M$3:$M$318))))))","v":0},{"$f":"SUM(IF($A36=Marketplace!$C$3:$C$318,IF(D$7=Marketplace!$G$3:$G$318,IF(Marketplace!$I$3:$I$318=\"Utility/IPP\",IF(Marketplace!$J$3:$J$318=\"Operational\",IF(Marketplace!$AI$3:$AI$318= \"Confident\",Marketplace!$M$3:$M$318))))))","v":0},{"$f":"SUM(IF($A36=Marketplace!$C$3:$C$318,IF(E$7=Marketplace!$G$3:$G$318,IF(Marketplace!$I$3:$I$318=\"Utility/IPP\",IF(Marketplace!$J$3:$J$318=\"Operational\",IF(Marketplace!$AI$3:$AI$318= \"Confident\",Marketplace!$M$3:$M$318))))))","v":0},{"$f":"SUM(IF($A36=Marketplace!$C$3:$C$318,IF(F$7=Marketplace!$G$3:$G$318,IF(Marketplace!$I$3:$I$318=\"Utility/IPP\",IF(Marketplace!$J$3:$J$318=\"Operational\",IF(Marketplace!$AI$3:$AI$318= \"Confident\",Marketplace!$M$3:$M$318))))))","v":0},{"$f":"SUM(IF($A36=Marketplace!$C$3:$C$318,IF(G$7=Marketplace!$G$3:$G$318,IF(Marketplace!$I$3:$I$318=\"Utility/IPP\",IF(Marketplace!$J$3:$J$318=\"Operational\",IF(Marketplace!$AI$3:$AI$318= \"Confident\",Marketplace!$M$3:$M$318))))))","v":0},0,{"$f":"SUM(IF($A36=Marketplace!$C$3:$C$318,IF(I$7=Marketplace!$G$3:$G$318,IF(Marketplace!$I$3:$I$318=\"Utility/IPP\",IF(Marketplace!$J$3:$J$318=\"Operational\",IF(Marketplace!$AI$3:$AI$318= \"Confident\",Marketplace!$X$3:$X$318))))))","v":0},{"$f":"SUM(IF($A36=Marketplace!$C$3:$C$318,IF(J$7=Marketplace!$G$3:$G$318,IF(Marketplace!$I$3:$I$318=\"Utility/IPP\",IF(Marketplace!$J$3:$J$318=\"Operational\",IF(Marketplace!$AI$3:$AI$318= \"Confident\",Marketplace!$X$3:$X$318))))))","v":0},{"$f":"SUM(IF($A36=Marketplace!$C$3:$C$318,IF(K$7=Marketplace!$G$3:$G$318,IF(Marketplace!$I$3:$I$318=\"Utility/IPP\",IF(Marketplace!$J$3:$J$318=\"Operational\",IF(Marketplace!$AI$3:$AI$318= \"Confident\",Marketplace!$X$3:$X$318))))))","v":0},{"$f":"SUM(IF($A36=Marketplace!$C$3:$C$318,IF(L$7=Marketplace!$G$3:$G$318,IF(Marketplace!$I$3:$I$318=\"Utility/IPP\",IF(Marketplace!$J$3:$J$318=\"Operational\",IF(Marketplace!$AI$3:$AI$318= \"Confident\",Marketplace!$X$3:$X$318))))))","v":0},{"$f":"SUM(IF($A36=Marketplace!$C$3:$C$318,IF(M$7=Marketplace!$G$3:$G$318,IF(Marketplace!$I$3:$I$318=\"Utility/IPP\",IF(Marketplace!$J$3:$J$318=\"Operational\",IF(Marketplace!$AI$3:$AI$318= \"Confident\",Marketplace!$X$3:$X$318))))))","v":0},{"$f":"SUM(IF($A36=Marketplace!$C$3:$C$318,IF(N$7=Marketplace!$G$3:$G$318,IF(Marketplace!$I$3:$I$318=\"Utility/IPP\",IF(Marketplace!$J$3:$J$318=\"Operational\",IF(Marketplace!$AI$3:$AI$318= \"Confident\",Marketplace!$X$3:$X$318))))))","v":0},0]
["Trinidad and Tobago",{"$f":"SUM(IF($A37=Marketplace!$C$3:$C$318,IF(B$7=Marketplace!$G$3:$G$318,IF(Marketplace!$I$3:$I$318=\"Utility/IPP\",IF(Marketplace!$J$3:$J$318=\"Operational\",IF(Marketplace!$AI$3:$AI$318= \"Confident\",Marketplace!$M$3:$M$318))))))","v":0},{"$f":"SUM(IF($A37=Marketplace!$C$3:$C$318,IF(C$7=Marketplace!$G$3:$G$318,IF(Marketplace!$I$3:$I$318=\"Utility/IPP\",IF(Marketplace!$J$3:$J$318=\"Operational\",IF(Marketplace!$AI$3:$AI$318= \"Confident\",Marketplace!$M$3:$M$318))))))","v":0},{"$f":"SUM(IF($A37=Marketplace!$C$3:$C$318,IF(D$7=Marketplace!$G$3:$G$318,IF(Marketplace!$I$3:$I$318=\"Utility/IPP\",IF(Marketplace!$J$3:$J$318=\"Operational\",IF(Marketplace!$AI$3:$AI$318= \"Confident\",Marketplace!$M$3:$M$318))))))","v":0},{"$f":"SUM(IF($A37=Marketplace!$C$3:$C$318,IF(E$7=Marketplace!$G$3:$G$318,IF(Marketplace!$I$3:$I$318=\"Utility/IPP\",IF(Marketplace!$J$3:$J$318=\"Operational\",IF(Marketplace!$AI$3:$AI$318= \"Confident\",Marketplace!$M$3:$M$318))))))","v":0},{"$f":"SUM(IF($A37=Marketplace!$C$3:$C$318,IF(F$7=Marketplace!$G$3:$G$318,IF(Marketplace!$I$3:$I$318=\"Utility/IPP\",IF(Marketplace!$J$3:$J$318=\"Operational\",IF(Marketplace!$AI$3:$AI$318= \"Confident\",Marketplace!$M$3:$M$318))))))","v":0},{"$f":"SUM(IF($A37=Marketplace!$C$3:$C$318,IF(G$7=Marketplace!$G$3:$G$318,IF(Marketplace!$I$3:$I$318=\"Utility/IPP\",IF(Marketplace!$J$3:$J$318=\"Operational\",IF(Marketplace!$AI$3:$AI$318= \"Confident\",Marketplace!$M$3:$M$318))))))","v":0},0,{"$f":"SUM(IF($A37=Marketplace!$C$3:$C$318,IF(I$7=Marketplace!$G$3:$G$318,IF(Marketplace!$I$3:$I$318=\"Utility/IPP\",IF(Marketplace!$J$3:$J$318=\"Operational\",IF(Marketplace!$AI$3:$AI$318= \"Confident\",Marketplace!$X$3:$X$318))))))","v":0},{"$f":"SUM(IF($A37=Marketplace!$C$3:$C$318,IF(J$7=Marketplace!$G$3:$G$318,IF(Marketplace!$I$3:$I$318=\"Utility/IPP\",IF(Marketplace!$J$3:$J$318=\"Operational\",IF(Marketplace!$AI$3:$AI$318= \"Confident\",Marketplace!$X$3:$X$318))))))","v":0},{"$f":"SUM(IF($A37=Marketplace!$C$3:$C$318,IF(K$7=Marketplace!$G$3:$G$318,IF(Marketplace!$I$3:$I$318=\"Utility/IPP\",IF(Marketplace!$J$3:$J$318=\"Operational\",IF(Marketplace!$AI$3:$AI$318= \"Confident\",Marketplace!$X$3:$X$318))))))","v":0},{"$f":"SUM(IF($A37=Marketplace!$C$3:$C$318,IF(L$7=Marketplace!$G$3:$G$318,IF(Marketplace!$I$3:$I$318=\"Utility/IPP\",IF(Marketplace!$J$3:$J$318=\"Operational\",IF(Marketplace!$AI$3:$AI$318= \"Confident\",Marketplace!$X$3:$X$318))))))","v":0},{"$f":"SUM(IF($A37=Marketplace!$C$3:$C$318,IF(M$7=Marketplace!$G$3:$G$318,IF(Marketplace!$I$3:$I$318=\"Utility/IPP\",IF(Marketplace!$J$3:$J$318=\"Operational\",IF(Marketplace!$AI$3:$AI$318= \"Confident\",Marketplace!$X$3:$X$318))))))","v":0},{"$f":"SUM(IF($A37=Marketplace!$C$3:$C$318,IF(N$7=Marketplace!$G$3:$G$318,IF(Marketplace!$I$3:$I$318=\"Utility/IPP\",IF(Marketplace!$J$3:$J$318=\"Operational\",IF(Marketplace!$AI$3:$AI$318= \"Confident\",Marketplace!$X$3:$X$318))))))","v":0},0]
["Turks and Caicos Islands",{"$f":"SUM(IF($A38=Marketplace!$C$3:$C$318,IF(B$7=Marketplace!$G$3:$G$318,IF(Marketplace!$I$3:$I$318=\"Utility/IPP\",IF(Marketplace!$J$3:$J$318=\"Operational\",IF(Marketplace!$AI$3:$AI$318= \"Confident\",Marketplace!$M$3:$M$318))))))","v":0},{"$f":"SUM(IF($A38=Marketplace!$C$3:$C$318,IF(C$7=Marketplace!$G$3:$G$318,IF(Marketplace!$I$3:$I$318=\"Utility/IPP\",IF(Marketplace!$J$3:$J$318=\"Operational\",IF(Marketplace!$AI$3:$AI$318= \"Confident\",Marketplace!$M$3:$M$318))))))","v":0},{"$f":"SUM(IF($A38=Marketplace!$C$3:$C$318,IF(D$7=Marketplace!$G$3:$G$318,IF(Marketplace!$I$3:$I$318=\"Utility/IPP\",IF(Marketplace!$J$3:$J$318=\"Operational\",IF(Marketplace!$AI$3:$AI$318= \"Confident\",Marketplace!$M$3:$M$318))))))","v":0},{"$f":"SUM(IF($A38=Marketplace!$C$3:$C$318,IF(E$7=Marketplace!$G$3:$G$318,IF(Marketplace!$I$3:$I$318=\"Utility/IPP\",IF(Marketplace!$J$3:$J$318=\"Operational\",IF(Marketplace!$AI$3:$AI$318= \"Confident\",Marketplace!$M$3:$M$318))))))","v":0},{"$f":"SUM(IF($A38=Marketplace!$C$3:$C$318,IF(F$7=Marketplace!$G$3:$G$318,IF(Marketplace!$I$3:$I$318=\"Utility/IPP\",IF(Marketplace!$J$3:$J$318=\"Operational\",IF(Marketplace!$AI$3:$AI$318= \"Confident\",Marketplace!$M$3:$M$318))))))","v":0},{"$f":"SUM(IF($A38=Marketplace!$C$3:$C$318,IF(G$7=Marketplace!$G$3:$G$318,IF(Marketplace!$I$3:$I$318=\"Utility/IPP\",IF(Marketplace!$J$3:$J$318=\"Operational\",IF(Marketplace!$AI$3:$AI$318= \"Confident\",Marketplace!$M$3:$M$318))))))","v":0},0,{"$f":"SUM(IF($A38=Marketplace!$C$3:$C$318,IF(I$7=Marketplace!$G$3:$G$318,IF(Marketplace!$I$3:$I$318=\"Utility/IPP\",IF(Marketplace!$J$3:$J$318=\"Operational\",IF(Marketplace!$AI$3:$AI$318= \"Confident\",Marketplace!$X$3:$X$318))))))","v":0},{"$f":"SUM(IF($A38=Marketplace!$C$3:$C$318,IF(J$7=Marketplace!$G$3:$G$318,IF(Marketplace!$I$3:$I$318=\"Utility/IPP\",IF(Marketplace!$J$3:$J$318=\"Operational\",IF(Marketplace!$AI$3:$AI$318= \"Confident\",Marketplace!$X$3:$X$318))))))","v":0},{"$f":"SUM(IF($A38=Marketplace!$C$3:$C$318,IF(K$7=Marketplace!$G$3:$G$318,IF(Marketplace!$I$3:$I$318=\"Utility/IPP\",IF(Marketplace!$J$3:$J$318=\"Operational\",IF(Marketplace!$AI$3:$AI$318= \"Confident\",Marketplace!$X$3:$X$318))))))","v":0},{"$f":"SUM(IF($A38=Marketplace!$C$3:$C$318,IF(L$7=Marketplace!$G$3:$G$318,IF(Marketplace!$I$3:$I$318=\"Utility/IPP\",IF(Marketplace!$J$3:$J$318=\"Operational\",IF(Marketplace!$AI$3:$AI$318= \"Confident\",Marketplace!$X$3:$X$318))))))","v":0},{"$f":"SUM(IF($A38=Marketplace!$C$3:$C$318,IF(M$7=Marketplace!$G$3:$G$318,IF(Marketplace!$I$3:$I$318=\"Utility/IPP\",IF(Marketplace!$J$3:$J$318=\"Operational\",IF(Marketplace!$AI$3:$AI$318= \"Confident\",Marketplace!$X$3:$X$318))))))","v":0},{"$f":"SUM(IF($A38=Marketplace!$C$3:$C$318,IF(N$7=Marketplace!$G$3:$G$318,IF(Marketplace!$I$3:$I$318=\"Utility/IPP\",IF(Marketplace!$J$3:$J$318=\"Operational\",IF(Marketplace!$AI$3:$AI$318= \"Confident\",Marketplace!$X$3:$X$318))))))","v":0},0]
["U.S. Virgin Islands",{"$f":"SUM(IF($A39=Marketplace!$C$3:$C$318,IF(B$7=Marketplace!$G$3:$G$318,IF(Marketplace!$I$3:$I$318=\"Utility/IPP\",IF(Marketplace!$J$3:$J$318=\"Operational\",IF(Marketplace!$AI$3:$AI$318= \"Confident\",Marketplace!$M$3:$M$318))))))","v":0},{"$f":"SUM(IF($A39=Marketplace!$C$3:$C$318,IF(C$7=Marketplace!$G$3:$G$318,IF(Marketplace!$I$3:$I$318=\"Utility/IPP\",IF(Marketplace!$J$3:$J$318=\"Operational\",IF(Marketplace!$AI$3:$AI$318= \"Confident\",Marketplace!$M$3:$M$318))))))","v":0},{"$f":"SUM(IF($A39=Marketplace!$C$3:$C$318,IF(D$7=Marketplace!$G$3:$G$318,IF(Marketplace!$I$3:$I$318=\"Utility/IPP\",IF(Marketplace!$J$3:$J$318=\"Operational\",IF(Marketplace!$AI$3:$AI$318= \"Confident\",Marketplace!$M$3:$M$318))))))","v":0},{"$f":"SUM(IF($A39=Marketplace!$C$3:$C$318,IF(E$7=Marketplace!$G$3:$G$318,IF(Marketplace!$I$3:$I$318=\"Utility/IPP\",IF(Marketplace!$J$3:$J$318=\"Operational\",IF(Marketplace!$AI$3:$AI$318= \"Confident\",Marketplace!$M$3:$M$318))))))","v":0},{"$f":"SUM(IF($A39=Marketplace!$C$3:$C$318,IF(F$7=Marketplace!$G$3:$G$318,IF(Marketplace!$I$3:$I$318=\"Utility/IPP\",IF(Marketplace!$J$3:$J$318=\"Operational\",IF(Marketplace!$AI$3:$AI$318= \"Confident\",Marketplace!$M$3:$M$318))))))","v":0},{"$f":"SUM(IF($A39=Marketplace!$C$3:$C$318,IF(G$7=Marketplace!$G$3:$G$318,IF(Marketplace!$I$3:$I$318=\"Utility/IPP\",IF(Marketplace!$J$3:$J$318=\"Operational\",IF(Marketplace!$AI$3:$AI$318= \"Confident\",Marketplace!$M$3:$M$318))))))","v":0},0,{"$f":"SUM(IF($A39=Marketplace!$C$3:$C$318,IF(I$7=Marketplace!$G$3:$G$318,IF(Marketplace!$I$3:$I$318=\"Utility/IPP\",IF(Marketplace!$J$3:$J$318=\"Operational\",IF(Marketplace!$AI$3:$AI$318= \"Confident\",Marketplace!$X$3:$X$318))))))","v":0},{"$f":"SUM(IF($A39=Marketplace!$C$3:$C$318,IF(J$7=Marketplace!$G$3:$G$318,IF(Marketplace!$I$3:$I$318=\"Utility/IPP\",IF(Marketplace!$J$3:$J$318=\"Operational\",IF(Marketplace!$AI$3:$AI$318= \"Confident\",Marketplace!$X$3:$X$318))))))","v":0},{"$f":"SUM(IF($A39=Marketplace!$C$3:$C$318,IF(K$7=Marketplace!$G$3:$G$318,IF(Marketplace!$I$3:$I$318=\"Utility/IPP\",IF(Marketplace!$J$3:$J$318=\"Operational\",IF(Marketplace!$AI$3:$AI$318= \"Confident\",Marketplace!$X$3:$X$318))))))","v":0},{"$f":"SUM(IF($A39=Marketplace!$C$3:$C$318,IF(L$7=Marketplace!$G$3:$G$318,IF(Marketplace!$I$3:$I$318=\"Utility/IPP\",IF(Marketplace!$J$3:$J$318=\"Operational\",IF(Marketplace!$AI$3:$AI$318= \"Confident\",Marketplace!$X$3:$X$318))))))","v":0},{"$f":"SUM(IF($A39=Marketplace!$C$3:$C$318,IF(M$7=Marketplace!$G$3:$G$318,IF(Marketplace!$I$3:$I$318=\"Utility/IPP\",IF(Marketplace!$J$3:$J$318=\"Operational\",IF(Marketplace!$AI$3:$AI$318= \"Confident\",Marketplace!$X$3:$X$318))))))","v":0},{"$f":"SUM(IF($A39=Marketplace!$C$3:$C$318,IF(N$7=Marketplace!$G$3:$G$318,IF(Marketplace!$I$3:$I$318=\"Utility/IPP\",IF(Marketplace!$J$3:$J$318=\"Operational\",IF(Marketplace!$AI$3:$AI$318= \"Confident\",Marketplace!$X$3:$X$318))))))","v":0},0]

{"sheet":"Capex by RE tech","index":44,"n_rows":19,"n_cols":13,"rows_kept":19,"cut":false,"hidden":true,"merged":[]}
["Technology Type","Version","Version Time Period","Capacity Factor","Lifetime","Overnight Capital Cost (US$/kW)","Fixed              O&M Cost            (US$/kW-yr.)","Variable         O&M Cost (US$/kW)","Total              O&M Cost  (US$/kW)","Fuel Cost    (US$/MMBtu)",null,"Source for Cost Estimates","Source for Capacity Factor"]
["Biomass","1.0",2010,0.85,20,4000,95,15,{"$f":"SUM(G2:H2)","v":110},0.06,null,"https://www.lazard.com/perspective/","https://www.lazard.com/perspective/"]
["Biomass","2.0",2013,{"$f":"AVERAGE(D4,D2)","v":0.875},20,3500,95,15,110,0.06,null,"https://www.lazard.com/perspective/","https://www.lazard.com/perspective/"]
["Biomass","3.0",2016,0.9,25,3000,95,15,110,0.06,null,"https://www.lazard.com/perspective/","https://www.lazard.com/perspective/"]
["Geothermal","1.0",2010,0.8,20,{"$f":"AVERAGE(4600,7250)","v":5925},0,40,40,0,null,"https://www.lazard.com/perspective/","https://www.lazard.com/perspective/"]
["Geothermal","2.0",2013,{"$f":"AVERAGE(D7,D5)","v":0.85000000000000009},20,4600,0,35,35,0,null,"https://www.lazard.com/perspective/","https://www.lazard.com/perspective/"]
["Geothermal","3.0",2016,0.9,25,4250,0,30,30,0,null,"https://www.lazard.com/perspective/","https://www.lazard.com/perspective/"]
["Hydro","1.0",2010,0.376,50,3076,14.31,0,14.31,0,null,"https://www.eia.gov/analysis/studies/powerplants/capitalcost/archive/2010/pdf/updatedplantcosts.pdf","https://www.eia.gov/electricity/monthly/"]
["Hydro","2.0",2013,0.38600000000000001,50,2936,14.31,0,14.31,0,null,"https://www.eia.gov/outlooks/capitalcost/pdf/updated_capcost.pdf","https://www.eia.gov/electricity/monthly/"]
["Hydro","3.0",2016,0.40600000000000003,50,2813,14.31,0,14.31,0,null,"https://www.eia.gov/analysis/studies/powerplants/capitalcost/pdf/capcost_assumption.pdf ","https://www.eia.gov/electricity/monthly/ "]
["Solar PV","1.0",2010,0.2,20,3500,37.5,0,37.5,0,null,"https://www.lazard.com/perspective/","https://www.lazard.com/perspective/"]
["Solar PV","2.0",2013,{"$f":"AVERAGE(D13,D11)","v":0.21500000000000002},20,2000,{"$f":"AVERAGE(13,20)","v":16.5},0,16.5,0,null,"https://www.lazard.com/perspective/","https://www.lazard.com/perspective/"]
["Solar PV","3.0",2016,0.23,25,1450,{"$f":"AVERAGE(9,12)","v":10.5},0,10.5,0,null,"https://www.lazard.com/perspective/","https://www.lazard.com/perspective/"]
["Waste-to-Energy","1.0",2010,0.67800000000000005,25,8232,373.76,8.33,382.09,0,null,"https://www.eia.gov/analysis/studies/powerplants/capitalcost/archive/2010/pdf/updatedplantcosts.pdf","https://www.eia.gov/electricity/monthly/"]
["Waste-to-Energy","2.0",2013,0.68899999999999995,25,8312,392.82,8.75,401.57,0,null,"https://www.eia.gov/analysis/studies/powerplants/capitalcost/archive/2010/pdf/updatedplantcosts.pdf","https://www.eia.gov/electricity/monthly/"]
["Waste-to-Energy","3.0",2016,0.70699999999999996,25,{"$f":"AVERAGE(F14,F15)","v":8272},{"$f":"AVERAGE(G14,G15)","v":383.28999999999996},{"$f":"AVERAGE(H14,H15)","v":8.5399999999999991},391.83,0,null,"https://www.eia.gov/analysis/studies/powerplants/capitalcost/archive/2010/pdf/updatedplantcosts.pdf","https://www.eia.gov/electricity/monthly/"]
["Wind","1.0",2010,0.28000000000000003,20,{"$f":"AVERAGE(2250,2600)","v":2425},{"$f":"AVERAGE(55,60)","v":57.5},0,57.5,0,null,"https://www.lazard.com/perspective/","https://www.lazard.com/perspective/"]
["Wind","2.0",2013,{"$f":"AVERAGE(D17,D19)","v":0.315},20,{"$f":"AVERAGE(1500,2000)","v":1750},{"$f":"AVERAGE(30,60)","v":45},0,45,0,null,"https://www.lazard.com/perspective/","https://www.lazard.com/perspective/"]
["Wind","3.0",2016,0.35,20,{"$f":"AVERAGE(1250,1700)","v":1475},{"$f":"AVERAGE(30,45)","v":37.5},0,37.5,0,null,"https://www.lazard.com/perspective/","https://www.lazard.com/perspective/"]

{"sheet":"Graphics","index":45,"n_rows":64,"n_cols":6,"rows_kept":64,"cut":false,"hidden":true,"merged":[]}
[null,"RE generation","Target","Year"]
["Aruba",{"$f":"'Jurisdictions | RE targets'!D3","v":0.14850747474747475},{"$f":"'Jurisdictions | RE targets'!E3","v":1},{"$f":"RIGHT('Jurisdictions | RE targets'!F3,4)","v":"2020"}]
["Dominica",{"$f":"'Jurisdictions | RE targets'!D5","v":0.21623709680880743},{"$f":"'Jurisdictions | RE targets'!E5","v":1},{"$f":"RIGHT('Jurisdictions | RE targets'!F5,4)","v":"2030"}]
["Martinique",{"$f":"'Jurisdictions | RE targets'!D6","v":7.0000000000000007E-2},{"$f":"'Jurisdictions | RE targets'!E6","v":1},{"$f":"RIGHT('Jurisdictions | RE targets'!F6,4)","v":"2030"}]
["Nevis ",{"$f":"'Jurisdictions | RE targets'!D7","v":0.14968490614047633},{"$f":"'Jurisdictions | RE targets'!E7","v":1},{"$f":"RIGHT('Jurisdictions | RE targets'!F7,4)","v":"2025"}]
["St. Kitts",{"$f":"'Jurisdictions | RE targets'!D8","v":1.256952380952381E-2},{"$f":"'Jurisdictions | RE targets'!E8","v":1},{"$f":"RIGHT('Jurisdictions | RE targets'!F8,4)","v":"2020"}]
["Puerto Rico",{"$f":"'Jurisdictions | RE targets'!D9","v":0.02},{"$f":"'Jurisdictions | RE targets'!E9","v":1},{"$f":"RIGHT('Jurisdictions | RE targets'!F9,4)","v":"2025"}]
["Barbados",{"$f":"'Jurisdictions | RE targets'!D24","v":1.9162553256971297E-2},{"$f":"'Jurisdictions | RE targets'!E24","v":1},{"$f":"RIGHT('Jurisdictions | RE targets'!F24,4)","v":"2030"}]
["Belize",{"$f":"'Jurisdictions | RE targets'!D10","v":0.24976501266465925},{"$f":"'Jurisdictions | RE targets'!E10","v":0.85},{"$f":"RIGHT('Jurisdictions | RE targets'!F10,4)","v":"2030"}]
["Sint Maarten",{"$f":"'Jurisdictions | RE targets'!D11","v":0},{"$f":"'Jurisdictions | RE targets'!E11","v":0.8},{"$f":"RIGHT('Jurisdictions | RE targets'!F11,4)","v":"2020"}]
["Cayman…",{"$f":"'Jurisdictions | RE targets'!D12","v":1.6389510901591044E-2},{"$f":"'Jurisdictions | RE targets'!E12","v":0.7},{"$f":"RIGHT('Jurisdictions | RE targets'!F12,4)","v":"2037"}]
["SVG",{"$f":"'Jurisdictions | RE targets'!D13","v":5.1942185968024863E-3},{"$f":"'Jurisdictions | RE targets'!E13","v":0.6},{"$f":"RIGHT('Jurisdictions | RE targets'!F13,4)","v":"2020"}]
["Bonaire",{"$f":"'Jurisdictions | RE targets'!D4","v":0.31818181818181818},{"$f":"'Jurisdictions | RE targets'!E4","v":0.5},{"$f":"RIGHT('Jurisdictions | RE targets'!F4,4)","v":"2030"}]
["Guadeloupe",{"$f":"'Jurisdictions | RE targets'!D14","v":0.220162224797219},{"$f":"'Jurisdictions | RE targets'!E14","v":0.5},{"$f":"RIGHT('Jurisdictions | RE targets'!F14,4)","v":"2020"}]
["Haiti",{"$f":"'Jurisdictions | RE targets'!D15","v":0.1886903643238729},{"$f":"'Jurisdictions | RE targets'!E15","v":0.5},{"$f":"RIGHT('Jurisdictions | RE targets'!F15,4)","v":"2030"}]
["Jamaica",{"$f":"'Jurisdictions | RE targets'!D16","v":0.10687198259633154},{"$f":"'Jurisdictions | RE targets'!E16","v":0.5},{"$f":"RIGHT('Jurisdictions | RE targets'!F16,4)","v":"2030"}]
["St. Lucia ",{"$f":"'Jurisdictions | RE targets'!D18","v":1.9357175843350671E-2},{"$f":"'Jurisdictions | RE targets'!E18","v":0.35},{"$f":"RIGHT('Jurisdictions | RE targets'!F18,4)","v":"2025"}]
["Bermuda",{"$f":"'Jurisdictions | RE targets'!D17","v":5.6010909090909083E-2},{"$f":"'Jurisdictions | RE targets'!E17","v":0.75},{"$f":"RIGHT('Jurisdictions | RE targets'!F17,4)","v":"2035"}]
["Anguilla",{"$f":"'Jurisdictions | RE targets'!D19","v":0},{"$f":"'Jurisdictions | RE targets'!E19","v":0.3},{"$f":"RIGHT('Jurisdictions | RE targets'!F19,4)","v":"2030"}]
["Bahamas",{"$f":"'Jurisdictions | RE targets'!D20","v":0},{"$f":"'Jurisdictions | RE targets'!E20","v":0.3},{"$f":"RIGHT('Jurisdictions | RE targets'!F20,4)","v":"2030"}]
["BVI",{"$f":"'Jurisdictions | RE targets'!D21","v":0},{"$f":"'Jurisdictions | RE targets'!E21","v":0.3},{"$f":"RIGHT('Jurisdictions | RE targets'!F21,4)","v":"2023"}]
["Curaҫao",{"$f":"'Jurisdictions | RE targets'!D22","v":0.25},{"$f":"'Jurisdictions | RE targets'!E22","v":0.3},{"$f":"RIGHT('Jurisdictions | RE targets'!F22,4)","v":"2020"}]
["USVI",{"$f":"'Jurisdictions | RE targets'!D23","v":1.4636E-2},{"$f":"'Jurisdictions | RE targets'!E23","v":0.3},{"$f":"RIGHT('Jurisdictions | RE targets'!F23,4)","v":"2025"}]
["Guyana ",{"$f":"'Jurisdictions | RE targets'!D25","v":9.7970548954733755E-2},{"$f":"'Jurisdictions | RE targets'!E25","v":0.28000000000000003},{"$f":"RIGHT('Jurisdictions | RE targets'!F25,4)","v":"2022"}]
["Dom. Rep",{"$f":"'Jurisdictions | RE targets'!D26","v":0.87699798896536663},{"$f":"'Jurisdictions | RE targets'!E26","v":0.25},{"$f":"RIGHT('Jurisdictions | RE targets'!F26,4)","v":"2025"}]
["Suriname",{"$f":"'Jurisdictions | RE targets'!D27","v":0.44562608603797121},{"$f":"'Jurisdictions | RE targets'!E27","v":0.25},{"$f":"RIGHT('Jurisdictions | RE targets'!F27,4)","v":"2025"}]
["Cuba",{"$f":"'Jurisdictions | RE targets'!D28","v":4.0813453222632813E-3},{"$f":"'Jurisdictions | RE targets'!E28","v":0.24},{"$f":"RIGHT('Jurisdictions | RE targets'!F28,4)","v":"2030"}]
["Grenada",{"$f":"'Jurisdictions | RE targets'!D29","v":6.492537444056307E-3},{"$f":"'Jurisdictions | RE targets'!E29","v":0.2},{"$f":"RIGHT('Jurisdictions | RE targets'!F29,4)","v":"2030"}]
["Antigua…",{"$f":"'Jurisdictions | RE targets'!D30","v":2.3978770794922895E-2},{"$f":"'Jurisdictions | RE targets'!E30","v":0.2},{"$f":"RIGHT('Jurisdictions | RE targets'!F30,4)","v":"2030"}]
["Trinidad…",{"$f":"'Jurisdictions | RE targets'!D31","v":0},{"$f":"'Jurisdictions | RE targets'!E31","v":0.1},{"$f":"RIGHT('Jurisdictions | RE targets'!F31,4)","v":"2021"}]
[]
[null,"Enabling environment","Existing RE","Planned RE","Electric mobility"]
[{"$f":"'RE Index | Results Summary'!A12","v":"Dominica"},{"$f":"'RE Index | Results Summary'!D12","v":1.5},{"$f":"'RE Index | Results Summary'!G12","v":0.32435564521321114},{"$f":"'RE Index | Results Summary'!J12","v":0.73035460079690395},{"$f":"'RE Index | Results Summary'!M12","v":0.22499999999999998},{"$f":"SUM(B33:E33)","v":2.7797102460101151}]
[{"$f":"'RE Index | Results Summary'!A13","v":"Guadeloupe"},{"$f":"'RE Index | Results Summary'!D13","v":1.3125},{"$f":"'RE Index | Results Summary'!G13","v":0.33024333719582849},{"$f":"'RE Index | Results Summary'!J13","v":0.51062186172267288},{"$f":"'RE Index | Results Summary'!M13","v":0.44999999999999996},2.6033651989185014]
["Dom. Rep.",{"$f":"'RE Index | Results Summary'!D14","v":1.5},{"$f":"'RE Index | Results Summary'!G14","v":0.16030797389449733},{"$f":"'RE Index | Results Summary'!J14","v":0.38974790097377937},{"$f":"'RE Index | Results Summary'!M14","v":0.44999999999999996},2.5000558748682762]
[{"$f":"'RE Index | Results Summary'!A15","v":"Barbados"},{"$f":"'RE Index | Results Summary'!D15","v":1.0874999999999999},{"$f":"'RE Index | Results Summary'!G15","v":2.8743829885456946E-2},{"$f":"'RE Index | Results Summary'!J15","v":0.68414933783892817},{"$f":"'RE Index | Results Summary'!M15","v":0.22499999999999998},2.0253931677243853]
[{"$f":"'RE Index | Results Summary'!A16","v":"Curaҫao"},{"$f":"'RE Index | Results Summary'!D16","v":0.97499999999999998},{"$f":"'RE Index | Results Summary'!G16","v":0.375},{"$f":"'RE Index | Results Summary'!J16","v":0.34328787878787881},{"$f":"'RE Index | Results Summary'!M16","v":0.22499999999999998},1.9182878787878788]
[{"$f":"'RE Index | Results Summary'!A17","v":"The Bahamas"},{"$f":"'RE Index | Results Summary'!D17","v":0.97499999999999998},{"$f":"'RE Index | Results Summary'!G17","v":0},{"$f":"'RE Index | Results Summary'!J17","v":0.61612188322051575},{"$f":"'RE Index | Results Summary'!M17","v":0.22499999999999998},1.8161218832205157]
["Cayman…",{"$f":"'RE Index | Results Summary'!D18","v":1.05},{"$f":"'RE Index | Results Summary'!G18","v":0.37464751899698884},{"$f":"'RE Index | Results Summary'!J18","v":0.33333333333333331},{"$f":"'RE Index | Results Summary'!M18","v":0},1.7579808523303222]
[{"$f":"'RE Index | Results Summary'!A19","v":"Antigua & Barbuda"},{"$f":"'RE Index | Results Summary'!D19","v":1.1624999999999999},{"$f":"'RE Index | Results Summary'!G19","v":3.5968156192384339E-2},{"$f":"'RE Index | Results Summary'!J19","v":0.49233256601266784},{"$f":"'RE Index | Results Summary'!M19","v":0},1.6908007222050521]
[{"$f":"'RE Index | Results Summary'!#REF!","v":{"$error":"#REF!"}},{"$f":"'RE Index | Results Summary'!#REF!","v":{"$error":"#REF!"}},{"$f":"'RE Index | Results Summary'!#REF!","v":{"$error":"#REF!"}},{"$f":"'RE Index | Results Summary'!#REF!","v":{"$error":"#REF!"}},{"$f":"'RE Index | Results Summary'!#REF!","v":{"$error":"#REF!"}},{"$error":"#REF!"}]
[{"$f":"'RE Index | Results Summary'!A20","v":"Bermuda"},{"$f":"'RE Index | Results Summary'!D20","v":1.2375},{"$f":"'RE Index | Results Summary'!G20","v":8.4016363636363625E-2},{"$f":"'RE Index | Results Summary'!J20","v":0.33333333333333331},{"$f":"'RE Index | Results Summary'!M20","v":0},1.6548496969696969]
[{"$f":"'RE Index | Results Summary'!A21","v":"Montserrat"},{"$f":"'RE Index | Results Summary'!D21","v":0.63749999999999996},{"$f":"'RE Index | Results Summary'!G21","v":4.7142857142857139E-2},{"$f":"'RE Index | Results Summary'!J21","v":0.57095238095238088},{"$f":"'RE Index | Results Summary'!M21","v":0.22499999999999998},1.4805952380952379]
[{"$f":"'RE Index | Results Summary'!A22","v":"Puerto Rico"},{"$f":"'RE Index | Results Summary'!D22","v":0.97499999999999998},{"$f":"'RE Index | Results Summary'!G22","v":0.03},{"$f":"'RE Index | Results Summary'!J22","v":0.33333333333333331},{"$f":"'RE Index | Results Summary'!M22","v":0},1.3383333333333332]
[{"$f":"'RE Index | Results Summary'!A23","v":"Nevis "},{"$f":"'RE Index | Results Summary'!D23","v":0.75},{"$f":"'RE Index | Results Summary'!G23","v":0.22452735921071451},{"$f":"'RE Index | Results Summary'!J23","v":0.33333333333333331},{"$f":"'RE Index | Results Summary'!M23","v":0},1.3078606925440479]
["Antigua…",{"$f":"'RE Index | Results Summary'!D24","v":1.05},{"$f":"'RE Index | Results Summary'!G24","v":0},{"$f":"'RE Index | Results Summary'!J24","v":0.16666666666666666},{"$f":"'RE Index | Results Summary'!M24","v":0},1.2166666666666668]
[{"$f":"'RE Index | Results Summary'!A25","v":"Turks and Caicos Islands"},{"$f":"'RE Index | Results Summary'!D25","v":0.75},{"$f":"'RE Index | Results Summary'!G25","v":0},{"$f":"'RE Index | Results Summary'!J25","v":0.34928865842308199},{"$f":"'RE Index | Results Summary'!M25","v":0},1.0992886584230819]
[{"$f":"'RE Index | Results Summary'!#REF!","v":{"$error":"#REF!"}},{"$f":"'RE Index | Results Summary'!#REF!","v":{"$error":"#REF!"}},{"$f":"'RE Index | Results Summary'!#REF!","v":{"$error":"#REF!"}},{"$f":"'RE Index | Results Summary'!#REF!","v":{"$error":"#REF!"}},{"$f":"'RE Index | Results Summary'!#REF!","v":{"$error":"#REF!"}},{"$error":"#REF!"}]
[{"$f":"'RE Index | Results Summary'!#REF!","v":{"$error":"#REF!"}},{"$f":"'RE Index | Results Summary'!#REF!","v":{"$error":"#REF!"}},{"$f":"'RE Index | Results Summary'!#REF!","v":{"$error":"#REF!"}},{"$f":"'RE Index | Results Summary'!#REF!","v":{"$error":"#REF!"}},{"$f":"'RE Index | Results Summary'!#REF!","v":{"$error":"#REF!"}},{"$error":"#REF!"}]
["Bahamas",{"$f":"'RE Index | Results Summary'!#REF!","v":{"$error":"#REF!"}},{"$f":"'RE Index | Results Summary'!#REF!","v":{"$error":"#REF!"}},{"$f":"'RE Index | Results Summary'!#REF!","v":{"$error":"#REF!"}},{"$f":"'RE Index | Results Summary'!#REF!","v":{"$error":"#REF!"}},{"$error":"#REF!"}]
["TCI",{"$f":"'RE Index | Results Summary'!#REF!","v":{"$error":"#REF!"}},{"$f":"'RE Index | Results Summary'!#REF!","v":{"$error":"#REF!"}},{"$f":"'RE Index | Results Summary'!#REF!","v":{"$error":"#REF!"}},{"$f":"'RE Index | Results Summary'!#REF!","v":{"$error":"#REF!"}},{"$error":"#REF!"}]
["USVI",{"$f":"'RE Index | Results Summary'!D26","v":0.52500000000000002},{"$f":"'RE Index | Results Summary'!G26","v":0},{"$f":"'RE Index | Results Summary'!J26","v":0.16666666666666666},{"$f":"'RE Index | Results Summary'!M26","v":0.22499999999999998},0.91666666666666663]
["SVG",{"$f":"'RE Index | Results Summary'!#REF!","v":{"$error":"#REF!"}},{"$f":"'RE Index | Results Summary'!#REF!","v":{"$error":"#REF!"}},{"$f":"'RE Index | Results Summary'!#REF!","v":{"$error":"#REF!"}},{"$f":"'RE Index | Results Summary'!#REF!","v":{"$error":"#REF!"}},{"$error":"#REF!"}]
[{"$f":"'RE Index | Results Summary'!#REF!","v":{"$error":"#REF!"}},{"$f":"'RE Index | Results Summary'!#REF!","v":{"$error":"#REF!"}},{"$f":"'RE Index | Results Summary'!#REF!","v":{"$error":"#REF!"}},{"$f":"'RE Index | Results Summary'!#REF!","v":{"$error":"#REF!"}},{"$f":"'RE Index | Results Summary'!#REF!","v":{"$error":"#REF!"}},{"$error":"#REF!"}]
[{"$f":"'RE Index | Results Summary'!#REF!","v":{"$error":"#REF!"}},{"$f":"'RE Index | Results Summary'!#REF!","v":{"$error":"#REF!"}},{"$f":"'RE Index | Results Summary'!#REF!","v":{"$error":"#REF!"}},{"$f":"'RE Index | Results Summary'!#REF!","v":{"$error":"#REF!"}},{"$f":"'RE Index | Results Summary'!#REF!","v":{"$error":"#REF!"}},{"$f":"SUM(B55:E55)","v":{"$error":"#REF!"}}]
[{"$f":"'RE Index | Results Summary'!#REF!","v":{"$error":"#REF!"}},{"$f":"'RE Index | Results Summary'!#REF!","v":{"$error":"#REF!"}},{"$f":"'RE Index | Results Summary'!#REF!","v":{"$error":"#REF!"}},{"$f":"'RE Index | Results Summary'!#REF!","v":{"$error":"#REF!"}},{"$f":"'RE Index | Results Summary'!#REF!","v":{"$error":"#REF!"}},{"$error":"#REF!"}]
[{"$f":"'RE Index | Results Summary'!#REF!","v":{"$error":"#REF!"}},{"$f":"'RE Index | Results Summary'!#REF!","v":{"$error":"#REF!"}}]
[{"$f":"'RE Index | Results Summary'!#REF!","v":{"$error":"#REF!"}},{"$f":"'RE Index | Results Summary'!#REF!","v":{"$error":"#REF!"}}]
[{"$f":"'RE Index | Results Summary'!#REF!","v":{"$error":"#REF!"}},{"$f":"'RE Index | Results Summary'!#REF!","v":{"$error":"#REF!"}}]
[{"$f":"'RE Index | Results Summary'!#REF!","v":{"$error":"#REF!"}},{"$f":"'RE Index | Results Summary'!#REF!","v":{"$error":"#REF!"}}]
[{"$f":"'RE Index | Results Summary'!#REF!","v":{"$error":"#REF!"}},{"$f":"'RE Index | Results Summary'!#REF!","v":{"$error":"#REF!"}}]
[{"$f":"'RE Index | Results Summary'!#REF!","v":{"$error":"#REF!"}},{"$f":"'RE Index | Results Summary'!#REF!","v":{"$error":"#REF!"}}]
[{"$f":"'RE Index | Results Summary'!#REF!","v":{"$error":"#REF!"}},{"$f":"'RE Index | Results Summary'!#REF!","v":{"$error":"#REF!"}}]
[{"$f":"'RE Index | Results Summary'!#REF!","v":{"$error":"#REF!"}},{"$f":"'RE Index | Results Summary'!#REF!","v":{"$error":"#REF!"}}]